{"text_format":"1","workbook":"xlsx","n_sheets":12,"sheets":["Inicio","Base","CHART-Geral","CHART-NUTIII-DE","CHART-NUTIII-GOP","CHART-OTE-DE","Sheet6","Sheet3","Sheet4","Ajuda","EspecificacoesOTE","ClassesAnimais"],"not_rendered":{"charts":10,"images":18,"macros":1,"external_links":1,"defined_names":20,"comments":0,"pivot_tables":0},"unopened":[],"bounds":{"document_bytes":16777216,"sheet_cells":100000,"rows_first":2000,"rows_last":500,"rows_between":2000,"halvings":0,"cell_chars":16384,"cell_head_chars":4096},"cells_cut":0,"cells_raw":0,"read":"whole","date_system":"1900"}

{"sheet":"Inicio","index":0,"n_rows":21,"n_cols":14,"rows_kept":21,"cut":false,"hidden":false,"merged":[[3,0,3,16]]}
[]
[null,null,null,null,null,null,null,null,null,null,null,null,null,"Fonte: GPP a partir de dados IFAP"]
[]
["Caracterização dos Apoios a Agricultura  relativos ao PEPAC atribuídos no âmbito do Pedido Único de 2023"]
[]
["1. ","Seleccione a variável, o tipo de classes de dimensão e o grupo de produtores a representar:"]
[]
[]
[]
[]
["2. ","Visualize os gráficos respetivos:"]
[]
[]
[]
[]
[null,"Visualize os dados em tabela:"]
[]
[]
[]
[]
[null,"Extração de dados selecionados para um novo ficheiro:"]

{"sheet":"Base","index":1,"n_rows":82,"n_cols":123,"rows_kept":82,"cut":false,"hidden":true,"merged":[[44,117,44,122],[81,0,81,2],[72,0,72,2],[44,3,44,32],[44,33,44,62],[44,68,44,97],[44,98,44,116],[46,121,47,121],[46,122,47,122],[49,0,56,0],[57,0,64,0],[66,0,70,0],[46,116,47,116],[46,117,47,117],[46,118,47,118],[46,119,47,119],[46,120,47,120],[46,111,47,111],[46,112,47,112],[46,113,47,113],[46,114,47,114],[46,115,47,115],[46,105,47,105],[46,106,47,106],[46,48,46,52],[46,107,47,107],[46,108,47,108],[46,109,47,109],[46,100,47,100],[46,101,47,101],[46,102,47,102],[46,103,47,103],[46,104,47,104],[46,83,46,87],[46,88,46,92],[46,93,46,97],[46,98,47,98],[46,99,47,99],[46,63,46,67],[46,13,46,17],[46,18,46,22],[46,23,46,27],[3,3,3,5],[3,15,3,16],[3,13,3,14],[4,98,4,116],[7,58,7,62],[7,33,7,37],[7,38,7,42],[7,48,7,52],[7,18,7,22],[7,23,7,27],[7,28,7,32],[7,112,8,112],[46,53,46,57],[46,58,46,62],[46,68,46,72],[46,73,46,77],[46,78,46,82],[46,28,46,32],[46,33,46,37],[46,38,46,42],[46,43,46,47],[4,117,4,122],[4,3,4,32],[4,68,4,97],[10,0,17,0],[27,0,31,0],[7,122,8,122],[7,102,8,102],[7,103,8,103],[7,104,8,104],[7,105,8,105],[7,121,8,121],[7,117,8,117],[7,118,8,118],[7,101,8,101],[7,115,8,115],[7,116,8,116],[7,73,7,77],[7,78,7,82],[7,83,7,87],[7,53,7,57],[7,93,7,97],[4,33,4,62],[7,68,7,72],[7,88,7,92],[46,110,47,110],[7,120,8,120],[7,113,8,113],[7,114,8,114],[7,108,8,108],[7,109,8,109],[7,119,8,119],[7,111,8,111],[42,0,42,2],[7,99,8,99],[7,100,8,100],[7,98,8,98],[7,106,8,106],[7,107,8,107],[33,0,33,2],[7,3,7,7],[7,43,7,47],[18,0,25,0],[7,8,7,12],[7,13,7,17],[7,63,7,67],[7,110,8,110],[46,3,46,7],[46,8,46,12]]}
[]
[]
[]
[null,null,null,"Tipo de Beneficiário:",null,null,{"$f":"INDEX(Sheet6!$S$1:$S$6,Sheet3!$A$2)","v":"Todos os Produtores do PU"},null,null,null,null,null,null,"Valor total:",null,{"$f":"+Base!$DS$34","v":172464},null,{"$f":"+\"(\" & (INDEX(Sheet6!$G$2:$G$169,Sheet3!$C$1)) & \")\"","v":"(Nº )"}]
[null,null,null,{"$f":"+INDEX(Sheet6!$D$2:$D$169,Sheet3!$C$1)&\" segundo Orientação Técnico Económica e \"&INDEX(Sheet6!$P$3:$P$6,Sheet3!$B$1)&\" e por NUTSIII em \" &Sheet6!$B$1","v":"(1) - Nº de Beneficiários segundo Orientação Técnico Económica e Classes de Superfície Agrícola e por NUTSIII em 2023"},null,null,null,null,null,null,null,null,null,null,null,null,null,null,null,null,null,null,null,null,null,null,null,null,null,null,null,null,null,{"$f":"+D5& \" (cont.)\"","v":"(1) - Nº de Beneficiários segundo Orientação Técnico Económica e Classes de Superfície Agrícola e por NUTSIII em 2023 (cont.)"},null,null,null,null,null,null,null,null,null,null,null,null,null,null,null,null,null,null,null,null,null,null,null,null,null,null,null,null,null,null,null,null,null,null,{"$f":"+AH5","v":"(1) - Nº de Beneficiários segundo Orientação Técnico Económica e Classes de Superfície Agrícola e por NUTSIII em 2023 (cont.)"},null,null,null,null,null,null,null,null,null,null,null,null,null,null,null,null,null,null,null,null,null,null,null,null,null,null,null,null,null,{"$f":"+INDEX(Sheet6!$D$2:$D$169,Sheet3!$C$1)&\" segundo Orientação Técnico Económica por NUTSIII em \" &Sheet6!B1","v":"(1) - Nº de Beneficiários segundo Orientação Técnico Económica por NUTSIII em 2023"},null,null,null,null,null,null,null,null,null,null,null,null,null,null,null,null,null,null,{"$f":"+INDEX(Sheet6!$D$2:$D$169,Sheet3!$C$1)&CHAR(10)& \"segundo \"&INDEX(Sheet6!$P$3:$P$6,Sheet3!$B$1)& \" por NUTSIII em \" &Sheet6!$B$1","v":"(1) - Nº de Beneficiários\nsegundo Classes de Superfície Agrícola por NUTSIII em 2023"}]
[]
[null,null,{"$f":"+\"Unidade: \"&INDEX(Sheet6!$G$2:$G$169,Sheet3!$C$1)","v":"Unidade: Nº "}]
[null,null,"OTE","Não classificadas",null,null,null,null,"Arvenses e Outras Cult pred. Regadio",null,null,null,null,"Arvenses e Outras Cult pred. Sequeiro",null,null,null,null,"Arroz",null,null,null,null,"Horticultura e Industriais",null,null,null,null,"Horticultura e Floricultura",null,null,null,null,"Vinhos",null,null,null,null,"Fruticultura",null,null,null,null,"Olival",null,null,null,null,"Policultura",null,null,null,null,"Bovinos Leite",null,null,null,null,"Bov. Carne semi-int. (>1 < 3CN por ha SF)",null,null,null,null,"Bov. Carne Int (>= 3CN por ha SF)",null,null,null,null,"Bov. Carne Extensivos (<1 CN por ha SF)",null,null,null,null,"Outros Ruminantes",null,null,null,null,"Mistas",null,null,null,null,"Pousio e Pastagem",null,null,null,null,"Tomate Indústria",null,null,null,null,"Plantas tuberosas",null,null,null,null,"Não classificadas","Arvenses e Outras Cult pred. Regadio","Arvenses e Outras Cult pred. Sequeiro","Arroz","Horticultura e Industriais","Horticultura e Floricultura","Vinhos","Fruticultura","Olival","Policultura","Bovinos Leite",{"$f":"+BG8","v":"Bov. Carne semi-int. (>1 < 3CN por ha SF)"},{"$f":"+BL8","v":"Bov. Carne Int (>= 3CN por ha SF)"},{"$f":"+BQ8","v":"Bov. Carne Extensivos (<1 CN por ha SF)"},"Outros Ruminantes","Mistas","Pousio e Pastagem","Tomate Indústria","Plantas tuberosas","MP","P","M","G","MG","Total"]
[null,null,{"$f":"+INDEX(Sheet6!P3:P6,Sheet3!B1)","v":"Classes de Superfície Agrícola"},"MP","P","M","G","MG","MP","P","M","G","MG","MP","P","M","G","MG","MP","P","M","G","MG","MP","P","M","G","MG","MP","P","M","G","MG","MP","P","M","G","MG","MP","P","M","G","MG","MP","P","M","G","MG","MP","P","M","G","MG","MP","P","M","G","MG","MP","P","M","G","MG","MP","P","M","G","MG","MP","P","M","G","MG","MP","P","M","G","MG","MP","P","M","G","MG","MP","P","M","G","MG","MP","P","M","G","MG","MP","P","M","G","MG",null,"Arvenses e Outras Cult pred. Regadio"]
["NUTS II","Cód.","NUTS III",null,null,null,null,null,null,null,null,null,null,null,null,null,null,null,null,null,null,null,null,null,null,null,null,null,null,null,null,null,{"$f":"+\"Unidade: \"&INDEX(Sheet6!$G$2:$G$118,Sheet3!$C$1)","v":"Unidade: Nº "},null,null,null,null,null,null,null,null,null,null,null,null,null,null,null,null,null,null,null,null,null,null,null,null,null,null,null,null,null,{"$f":"+\"Unidade: \"&INDEX(Sheet6!$G$2:$G$169,Sheet3!$C$1)","v":"Unidade: Nº "},null,null,null,null,{"$f":"+\"Unidade: \"&INDEX(Sheet6!$G$2:$G$169,Sheet3!$C$1)","v":"Unidade: Nº "},null,null,null,null,null,null,null,null,null,null,null,null,null,null,null,null,null,null,null,null,null,null,null,null,null,null,null,null,null,{"$f":"+\"Unidade: \"&INDEX(Sheet6!$G$2:$G$169,Sheet3!$C$1)","v":"Unidade: Nº "},null,null,null,null,null,null,null,null,null,null,null,null,null,null,null,null,null,null,null,null,null,null,null,null,{"$f":"+\"Unidade: \"&INDEX(Sheet6!$G$2:$G$169,Sheet3!$C$1)","v":"Unidade: Nº "}]
["Norte ","111","Alto Minho",{"$f":"+Sheet3!D8/Sheet3!$F$1","v":3},{"$f":"+Sheet3!E8/Sheet3!$F$1","v":0},{"$f":"+Sheet3!F8/Sheet3!$F$1","v":0},{"$f":"+Sheet3!G8/Sheet3!$F$1","v":0},{"$f":"+Sheet3!H8/Sheet3!$F$1","v":0},{"$f":"+Sheet3!I8/Sheet3!$F$1","v":273},{"$f":"+Sheet3!J8/Sheet3!$F$1","v":0},{"$f":"+Sheet3!K8/Sheet3!$F$1","v":0},{"$f":"+Sheet3!L8/Sheet3!$F$1","v":0},{"$f":"+Sheet3!M8/Sheet3!$F$1","v":0},{"$f":"+Sheet3!N8/Sheet3!$F$1","v":107},{"$f":"+Sheet3!O8/Sheet3!$F$1","v":3},{"$f":"+Sheet3!P8/Sheet3!$F$1","v":0},{"$f":"+Sheet3!Q8/Sheet3!$F$1","v":0},{"$f":"+Sheet3!R8/Sheet3!$F$1","v":0},{"$f":"+Sheet3!S8/Sheet3!$F$1","v":0},{"$f":"+Sheet3!T8/Sheet3!$F$1","v":0},{"$f":"+Sheet3!U8/Sheet3!$F$1","v":0},{"$f":"+Sheet3!V8/Sheet3!$F$1","v":0},{"$f":"+Sheet3!W8/Sheet3!$F$1","v":0},{"$f":"+Sheet3!X8/Sheet3!$F$1","v":0},{"$f":"+Sheet3!Y8/Sheet3!$F$1","v":0},{"$f":"+Sheet3!Z8/Sheet3!$F$1","v":0},{"$f":"+Sheet3!AA8/Sheet3!$F$1","v":0},{"$f":"+Sheet3!AB8/Sheet3!$F$1","v":0},{"$f":"+Sheet3!AC8/Sheet3!$F$1","v":238},{"$f":"+Sheet3!AD8/Sheet3!$F$1","v":7},{"$f":"+Sheet3!AE8/Sheet3!$F$1","v":0},{"$f":"+Sheet3!AF8/Sheet3!$F$1","v":0},{"$f":"+Sheet3!AG8/Sheet3!$F$1","v":0},{"$f":"+Sheet3!AH8/Sheet3!$F$1","v":712},{"$f":"+Sheet3!AI8/Sheet3!$F$1","v":102},{"$f":"+Sheet3!AJ8/Sheet3!$F$1","v":7},{"$f":"+Sheet3!AK8/Sheet3!$F$1","v":0},{"$f":"+Sheet3!AL8/Sheet3!$F$1","v":0},{"$f":"+Sheet3!AM8/Sheet3!$F$1","v":124},{"$f":"+Sheet3!AN8/Sheet3!$F$1","v":17},{"$f":"+Sheet3!AO8/Sheet3!$F$1","v":4},{"$f":"+Sheet3!AP8/Sheet3!$F$1","v":0},{"$f":"+Sheet3!AQ8/Sheet3!$F$1","v":0},{"$f":"+Sheet3!AR8/Sheet3!$F$1","v":0},{"$f":"+Sheet3!AS8/Sheet3!$F$1","v":0},{"$f":"+Sheet3!AT8/Sheet3!$F$1","v":0},{"$f":"+Sheet3!AU8/Sheet3!$F$1","v":0},{"$f":"+Sheet3!AV8/Sheet3!$F$1","v":0},{"$f":"+Sheet3!AW8/Sheet3!$F$1","v":2151},{"$f":"+Sheet3!AX8/Sheet3!$F$1","v":38},{"$f":"+Sheet3!AY8/Sheet3!$F$1","v":0},{"$f":"+Sheet3!AZ8/Sheet3!$F$1","v":0},{"$f":"+Sheet3!BA8/Sheet3!$F$1","v":0},{"$f":"+Sheet3!BB8/Sheet3!$F$1","v":5},{"$f":"+Sheet3!BC8/Sheet3!$F$1","v":40},{"$f":"+Sheet3!BD8/Sheet3!$F$1","v":9},{"$f":"+Sheet3!BE8/Sheet3!$F$1","v":0},{"$f":"+Sheet3!BF8/Sheet3!$F$1","v":0},{"$f":"+Sheet3!BG8/Sheet3!$F$1","v":332},{"$f":"+Sheet3!BH8/Sheet3!$F$1","v":169},{"$f":"+Sheet3!BI8/Sheet3!$F$1","v":15},{"$f":"+Sheet3!BJ8/Sheet3!$F$1","v":0},{"$f":"+Sheet3!BK8/Sheet3!$F$1","v":0},{"$f":"+Sheet3!BL8/Sheet3!$F$1","v":108},{"$f":"+Sheet3!BM8/Sheet3!$F$1","v":17},{"$f":"+Sheet3!BN8/Sheet3!$F$1","v":0},{"$f":"+Sheet3!BO8/Sheet3!$F$1","v":0},{"$f":"+Sheet3!BP8/Sheet3!$F$1","v":0},{"$f":"+Sheet3!BQ8/Sheet3!$F$1","v":355},{"$f":"+Sheet3!BR8/Sheet3!$F$1","v":267},{"$f":"+Sheet3!BS8/Sheet3!$F$1","v":53},{"$f":"+Sheet3!BT8/Sheet3!$F$1","v":9},{"$f":"+Sheet3!BU8/Sheet3!$F$1","v":0},{"$f":"+Sheet3!BV8/Sheet3!$F$1","v":1017},{"$f":"+Sheet3!BW8/Sheet3!$F$1","v":184},{"$f":"+Sheet3!BX8/Sheet3!$F$1","v":10},{"$f":"+Sheet3!BY8/Sheet3!$F$1","v":0},{"$f":"+Sheet3!BZ8/Sheet3!$F$1","v":0},{"$f":"+Sheet3!CA8/Sheet3!$F$1","v":989},{"$f":"+Sheet3!CB8/Sheet3!$F$1","v":49},{"$f":"+Sheet3!CC8/Sheet3!$F$1","v":0},{"$f":"+Sheet3!CD8/Sheet3!$F$1","v":0},{"$f":"+Sheet3!CE8/Sheet3!$F$1","v":0},{"$f":"+Sheet3!CF8/Sheet3!$F$1","v":314},{"$f":"+Sheet3!CG8/Sheet3!$F$1","v":14},{"$f":"+Sheet3!CH8/Sheet3!$F$1","v":0},{"$f":"+Sheet3!CI8/Sheet3!$F$1","v":0},{"$f":"+Sheet3!CJ8/Sheet3!$F$1","v":0},{"$f":"+Sheet3!CK8/Sheet3!$F$1","v":0},{"$f":"+Sheet3!CL8/Sheet3!$F$1","v":0},{"$f":"+Sheet3!CM8/Sheet3!$F$1","v":0},{"$f":"+Sheet3!CN8/Sheet3!$F$1","v":0},{"$f":"+Sheet3!CO8/Sheet3!$F$1","v":0},{"$f":"+Sheet3!CP8/Sheet3!$F$1","v":0},{"$f":"+Sheet3!CQ8/Sheet3!$F$1","v":0},{"$f":"+Sheet3!CR8/Sheet3!$F$1","v":0},{"$f":"+Sheet3!CS8/Sheet3!$F$1","v":0},{"$f":"+Sheet3!CT8/Sheet3!$F$1","v":0},{"$f":"+Sheet3!CU8/Sheet3!$F$1","v":5},{"$f":"+Sheet3!CV8/Sheet3!$F$1","v":276},{"$f":"+Sheet3!CW8/Sheet3!$F$1","v":112},{"$f":"+Sheet3!CX8/Sheet3!$F$1","v":0},{"$f":"+Sheet3!CY8/Sheet3!$F$1","v":0},{"$f":"+Sheet3!CZ8/Sheet3!$F$1","v":249},{"$f":"+Sheet3!DA8/Sheet3!$F$1","v":824},{"$f":"+Sheet3!DB8/Sheet3!$F$1","v":147},{"$f":"+Sheet3!DC8/Sheet3!$F$1","v":0},{"$f":"+Sheet3!DD8/Sheet3!$F$1","v":2193},{"$f":"+Sheet3!DE8/Sheet3!$F$1","v":57},{"$f":"+Sheet3!DF8/Sheet3!$F$1","v":517},{"$f":"+Sheet3!DG8/Sheet3!$F$1","v":127},{"$f":"+Sheet3!DH8/Sheet3!$F$1","v":685},{"$f":"+Sheet3!DI8/Sheet3!$F$1","v":1214},{"$f":"+Sheet3!DJ8/Sheet3!$F$1","v":1040},{"$f":"+Sheet3!DK8/Sheet3!$F$1","v":331},{"$f":"+Sheet3!DL8/Sheet3!$F$1","v":0},{"$f":"+Sheet3!DM8/Sheet3!$F$1","v":3},{"$f":"+Sheet3!DN8/Sheet3!$F$1","v":6738},{"$f":"+Sheet3!DO8/Sheet3!$F$1","v":924},{"$f":"+Sheet3!DP8/Sheet3!$F$1","v":110},{"$f":"+Sheet3!DQ8/Sheet3!$F$1","v":10},{"$f":"+Sheet3!DR8/Sheet3!$F$1","v":0},{"$f":"SUM(DN11:DR11)","v":7782}]
[null,"112","Cávado",{"$f":"+Sheet3!D9/Sheet3!$F$1","v":0},{"$f":"+Sheet3!E9/Sheet3!$F$1","v":0},{"$f":"+Sheet3!F9/Sheet3!$F$1","v":0},{"$f":"+Sheet3!G9/Sheet3!$F$1","v":0},{"$f":"+Sheet3!H9/Sheet3!$F$1","v":0},{"$f":"+Sheet3!I9/Sheet3!$F$1","v":946},{"$f":"+Sheet3!J9/Sheet3!$F$1","v":19},{"$f":"+Sheet3!K9/Sheet3!$F$1","v":0},{"$f":"+Sheet3!L9/Sheet3!$F$1","v":0},{"$f":"+Sheet3!M9/Sheet3!$F$1","v":0},{"$f":"+Sheet3!N9/Sheet3!$F$1","v":328},{"$f":"+Sheet3!O9/Sheet3!$F$1","v":9},{"$f":"+Sheet3!P9/Sheet3!$F$1","v":0},{"$f":"+Sheet3!Q9/Sheet3!$F$1","v":0},{"$f":"+Sheet3!R9/Sheet3!$F$1","v":0},{"$f":"+Sheet3!S9/Sheet3!$F$1","v":0},{"$f":"+Sheet3!T9/Sheet3!$F$1","v":0},{"$f":"+Sheet3!U9/Sheet3!$F$1","v":0},{"$f":"+Sheet3!V9/Sheet3!$F$1","v":0},{"$f":"+Sheet3!W9/Sheet3!$F$1","v":0},{"$f":"+Sheet3!X9/Sheet3!$F$1","v":0},{"$f":"+Sheet3!Y9/Sheet3!$F$1","v":0},{"$f":"+Sheet3!Z9/Sheet3!$F$1","v":0},{"$f":"+Sheet3!AA9/Sheet3!$F$1","v":0},{"$f":"+Sheet3!AB9/Sheet3!$F$1","v":0},{"$f":"+Sheet3!AC9/Sheet3!$F$1","v":451},{"$f":"+Sheet3!AD9/Sheet3!$F$1","v":7},{"$f":"+Sheet3!AE9/Sheet3!$F$1","v":0},{"$f":"+Sheet3!AF9/Sheet3!$F$1","v":0},{"$f":"+Sheet3!AG9/Sheet3!$F$1","v":0},{"$f":"+Sheet3!AH9/Sheet3!$F$1","v":84},{"$f":"+Sheet3!AI9/Sheet3!$F$1","v":49},{"$f":"+Sheet3!AJ9/Sheet3!$F$1","v":6},{"$f":"+Sheet3!AK9/Sheet3!$F$1","v":0},{"$f":"+Sheet3!AL9/Sheet3!$F$1","v":0},{"$f":"+Sheet3!AM9/Sheet3!$F$1","v":206},{"$f":"+Sheet3!AN9/Sheet3!$F$1","v":28},{"$f":"+Sheet3!AO9/Sheet3!$F$1","v":0},{"$f":"+Sheet3!AP9/Sheet3!$F$1","v":0},{"$f":"+Sheet3!AQ9/Sheet3!$F$1","v":0},{"$f":"+Sheet3!AR9/Sheet3!$F$1","v":3},{"$f":"+Sheet3!AS9/Sheet3!$F$1","v":0},{"$f":"+Sheet3!AT9/Sheet3!$F$1","v":0},{"$f":"+Sheet3!AU9/Sheet3!$F$1","v":0},{"$f":"+Sheet3!AV9/Sheet3!$F$1","v":0},{"$f":"+Sheet3!AW9/Sheet3!$F$1","v":1950},{"$f":"+Sheet3!AX9/Sheet3!$F$1","v":51},{"$f":"+Sheet3!AY9/Sheet3!$F$1","v":0},{"$f":"+Sheet3!AZ9/Sheet3!$F$1","v":0},{"$f":"+Sheet3!BA9/Sheet3!$F$1","v":0},{"$f":"+Sheet3!BB9/Sheet3!$F$1","v":92},{"$f":"+Sheet3!BC9/Sheet3!$F$1","v":274},{"$f":"+Sheet3!BD9/Sheet3!$F$1","v":17},{"$f":"+Sheet3!BE9/Sheet3!$F$1","v":0},{"$f":"+Sheet3!BF9/Sheet3!$F$1","v":0},{"$f":"+Sheet3!BG9/Sheet3!$F$1","v":213},{"$f":"+Sheet3!BH9/Sheet3!$F$1","v":63},{"$f":"+Sheet3!BI9/Sheet3!$F$1","v":3},{"$f":"+Sheet3!BJ9/Sheet3!$F$1","v":0},{"$f":"+Sheet3!BK9/Sheet3!$F$1","v":0},{"$f":"+Sheet3!BL9/Sheet3!$F$1","v":375},{"$f":"+Sheet3!BM9/Sheet3!$F$1","v":52},{"$f":"+Sheet3!BN9/Sheet3!$F$1","v":0},{"$f":"+Sheet3!BO9/Sheet3!$F$1","v":0},{"$f":"+Sheet3!BP9/Sheet3!$F$1","v":0},{"$f":"+Sheet3!BQ9/Sheet3!$F$1","v":114},{"$f":"+Sheet3!BR9/Sheet3!$F$1","v":54},{"$f":"+Sheet3!BS9/Sheet3!$F$1","v":10},{"$f":"+Sheet3!BT9/Sheet3!$F$1","v":0},{"$f":"+Sheet3!BU9/Sheet3!$F$1","v":0},{"$f":"+Sheet3!BV9/Sheet3!$F$1","v":227},{"$f":"+Sheet3!BW9/Sheet3!$F$1","v":51},{"$f":"+Sheet3!BX9/Sheet3!$F$1","v":6},{"$f":"+Sheet3!BY9/Sheet3!$F$1","v":0},{"$f":"+Sheet3!BZ9/Sheet3!$F$1","v":0},{"$f":"+Sheet3!CA9/Sheet3!$F$1","v":538},{"$f":"+Sheet3!CB9/Sheet3!$F$1","v":53},{"$f":"+Sheet3!CC9/Sheet3!$F$1","v":0},{"$f":"+Sheet3!CD9/Sheet3!$F$1","v":0},{"$f":"+Sheet3!CE9/Sheet3!$F$1","v":0},{"$f":"+Sheet3!CF9/Sheet3!$F$1","v":795},{"$f":"+Sheet3!CG9/Sheet3!$F$1","v":68},{"$f":"+Sheet3!CH9/Sheet3!$F$1","v":0},{"$f":"+Sheet3!CI9/Sheet3!$F$1","v":0},{"$f":"+Sheet3!CJ9/Sheet3!$F$1","v":0},{"$f":"+Sheet3!CK9/Sheet3!$F$1","v":0},{"$f":"+Sheet3!CL9/Sheet3!$F$1","v":0},{"$f":"+Sheet3!CM9/Sheet3!$F$1","v":0},{"$f":"+Sheet3!CN9/Sheet3!$F$1","v":0},{"$f":"+Sheet3!CO9/Sheet3!$F$1","v":0},{"$f":"+Sheet3!CP9/Sheet3!$F$1","v":0},{"$f":"+Sheet3!CQ9/Sheet3!$F$1","v":0},{"$f":"+Sheet3!CR9/Sheet3!$F$1","v":0},{"$f":"+Sheet3!CS9/Sheet3!$F$1","v":0},{"$f":"+Sheet3!CT9/Sheet3!$F$1","v":0},{"$f":"+Sheet3!CU9/Sheet3!$F$1","v":4},{"$f":"+Sheet3!CV9/Sheet3!$F$1","v":967},{"$f":"+Sheet3!CW9/Sheet3!$F$1","v":337},{"$f":"+Sheet3!CX9/Sheet3!$F$1","v":0},{"$f":"+Sheet3!CY9/Sheet3!$F$1","v":0},{"$f":"+Sheet3!CZ9/Sheet3!$F$1","v":462},{"$f":"+Sheet3!DA9/Sheet3!$F$1","v":141},{"$f":"+Sheet3!DB9/Sheet3!$F$1","v":239},{"$f":"+Sheet3!DC9/Sheet3!$F$1","v":4},{"$f":"+Sheet3!DD9/Sheet3!$F$1","v":2006},{"$f":"+Sheet3!DE9/Sheet3!$F$1","v":383},{"$f":"+Sheet3!DF9/Sheet3!$F$1","v":279},{"$f":"+Sheet3!DG9/Sheet3!$F$1","v":430},{"$f":"+Sheet3!DH9/Sheet3!$F$1","v":179},{"$f":"+Sheet3!DI9/Sheet3!$F$1","v":290},{"$f":"+Sheet3!DJ9/Sheet3!$F$1","v":596},{"$f":"+Sheet3!DK9/Sheet3!$F$1","v":865},{"$f":"+Sheet3!DL9/Sheet3!$F$1","v":0},{"$f":"+Sheet3!DM9/Sheet3!$F$1","v":0},{"$f":"+Sheet3!DN9/Sheet3!$F$1","v":6332},{"$f":"+Sheet3!DO9/Sheet3!$F$1","v":802},{"$f":"+Sheet3!DP9/Sheet3!$F$1","v":49},{"$f":"+Sheet3!DQ9/Sheet3!$F$1","v":0},{"$f":"+Sheet3!DR9/Sheet3!$F$1","v":0},{"$f":"SUM(DN12:DR12)","v":7183}]
[null,"119","Ave",{"$f":"+Sheet3!D10/Sheet3!$F$1","v":3},{"$f":"+Sheet3!E10/Sheet3!$F$1","v":0},{"$f":"+Sheet3!F10/Sheet3!$F$1","v":0},{"$f":"+Sheet3!G10/Sheet3!$F$1","v":0},{"$f":"+Sheet3!H10/Sheet3!$F$1","v":0},{"$f":"+Sheet3!I10/Sheet3!$F$1","v":390},{"$f":"+Sheet3!J10/Sheet3!$F$1","v":19},{"$f":"+Sheet3!K10/Sheet3!$F$1","v":0},{"$f":"+Sheet3!L10/Sheet3!$F$1","v":0},{"$f":"+Sheet3!M10/Sheet3!$F$1","v":0},{"$f":"+Sheet3!N10/Sheet3!$F$1","v":123},{"$f":"+Sheet3!O10/Sheet3!$F$1","v":4},{"$f":"+Sheet3!P10/Sheet3!$F$1","v":0},{"$f":"+Sheet3!Q10/Sheet3!$F$1","v":0},{"$f":"+Sheet3!R10/Sheet3!$F$1","v":0},{"$f":"+Sheet3!S10/Sheet3!$F$1","v":0},{"$f":"+Sheet3!T10/Sheet3!$F$1","v":0},{"$f":"+Sheet3!U10/Sheet3!$F$1","v":0},{"$f":"+Sheet3!V10/Sheet3!$F$1","v":0},{"$f":"+Sheet3!W10/Sheet3!$F$1","v":0},{"$f":"+Sheet3!X10/Sheet3!$F$1","v":0},{"$f":"+Sheet3!Y10/Sheet3!$F$1","v":0},{"$f":"+Sheet3!Z10/Sheet3!$F$1","v":0},{"$f":"+Sheet3!AA10/Sheet3!$F$1","v":0},{"$f":"+Sheet3!AB10/Sheet3!$F$1","v":0},{"$f":"+Sheet3!AC10/Sheet3!$F$1","v":136},{"$f":"+Sheet3!AD10/Sheet3!$F$1","v":13},{"$f":"+Sheet3!AE10/Sheet3!$F$1","v":0},{"$f":"+Sheet3!AF10/Sheet3!$F$1","v":0},{"$f":"+Sheet3!AG10/Sheet3!$F$1","v":0},{"$f":"+Sheet3!AH10/Sheet3!$F$1","v":215},{"$f":"+Sheet3!AI10/Sheet3!$F$1","v":81},{"$f":"+Sheet3!AJ10/Sheet3!$F$1","v":10},{"$f":"+Sheet3!AK10/Sheet3!$F$1","v":0},{"$f":"+Sheet3!AL10/Sheet3!$F$1","v":0},{"$f":"+Sheet3!AM10/Sheet3!$F$1","v":159},{"$f":"+Sheet3!AN10/Sheet3!$F$1","v":32},{"$f":"+Sheet3!AO10/Sheet3!$F$1","v":3},{"$f":"+Sheet3!AP10/Sheet3!$F$1","v":0},{"$f":"+Sheet3!AQ10/Sheet3!$F$1","v":0},{"$f":"+Sheet3!AR10/Sheet3!$F$1","v":3},{"$f":"+Sheet3!AS10/Sheet3!$F$1","v":0},{"$f":"+Sheet3!AT10/Sheet3!$F$1","v":0},{"$f":"+Sheet3!AU10/Sheet3!$F$1","v":0},{"$f":"+Sheet3!AV10/Sheet3!$F$1","v":0},{"$f":"+Sheet3!AW10/Sheet3!$F$1","v":777},{"$f":"+Sheet3!AX10/Sheet3!$F$1","v":58},{"$f":"+Sheet3!AY10/Sheet3!$F$1","v":4},{"$f":"+Sheet3!AZ10/Sheet3!$F$1","v":0},{"$f":"+Sheet3!BA10/Sheet3!$F$1","v":0},{"$f":"+Sheet3!BB10/Sheet3!$F$1","v":25},{"$f":"+Sheet3!BC10/Sheet3!$F$1","v":95},{"$f":"+Sheet3!BD10/Sheet3!$F$1","v":5},{"$f":"+Sheet3!BE10/Sheet3!$F$1","v":0},{"$f":"+Sheet3!BF10/Sheet3!$F$1","v":0},{"$f":"+Sheet3!BG10/Sheet3!$F$1","v":163},{"$f":"+Sheet3!BH10/Sheet3!$F$1","v":115},{"$f":"+Sheet3!BI10/Sheet3!$F$1","v":0},{"$f":"+Sheet3!BJ10/Sheet3!$F$1","v":0},{"$f":"+Sheet3!BK10/Sheet3!$F$1","v":0},{"$f":"+Sheet3!BL10/Sheet3!$F$1","v":181},{"$f":"+Sheet3!BM10/Sheet3!$F$1","v":26},{"$f":"+Sheet3!BN10/Sheet3!$F$1","v":0},{"$f":"+Sheet3!BO10/Sheet3!$F$1","v":0},{"$f":"+Sheet3!BP10/Sheet3!$F$1","v":0},{"$f":"+Sheet3!BQ10/Sheet3!$F$1","v":246},{"$f":"+Sheet3!BR10/Sheet3!$F$1","v":244},{"$f":"+Sheet3!BS10/Sheet3!$F$1","v":16},{"$f":"+Sheet3!BT10/Sheet3!$F$1","v":0},{"$f":"+Sheet3!BU10/Sheet3!$F$1","v":0},{"$f":"+Sheet3!BV10/Sheet3!$F$1","v":489},{"$f":"+Sheet3!BW10/Sheet3!$F$1","v":210},{"$f":"+Sheet3!BX10/Sheet3!$F$1","v":12},{"$f":"+Sheet3!BY10/Sheet3!$F$1","v":0},{"$f":"+Sheet3!BZ10/Sheet3!$F$1","v":0},{"$f":"+Sheet3!CA10/Sheet3!$F$1","v":392},{"$f":"+Sheet3!CB10/Sheet3!$F$1","v":67},{"$f":"+Sheet3!CC10/Sheet3!$F$1","v":6},{"$f":"+Sheet3!CD10/Sheet3!$F$1","v":0},{"$f":"+Sheet3!CE10/Sheet3!$F$1","v":0},{"$f":"+Sheet3!CF10/Sheet3!$F$1","v":565},{"$f":"+Sheet3!CG10/Sheet3!$F$1","v":51},{"$f":"+Sheet3!CH10/Sheet3!$F$1","v":0},{"$f":"+Sheet3!CI10/Sheet3!$F$1","v":0},{"$f":"+Sheet3!CJ10/Sheet3!$F$1","v":0},{"$f":"+Sheet3!CK10/Sheet3!$F$1","v":0},{"$f":"+Sheet3!CL10/Sheet3!$F$1","v":0},{"$f":"+Sheet3!CM10/Sheet3!$F$1","v":0},{"$f":"+Sheet3!CN10/Sheet3!$F$1","v":0},{"$f":"+Sheet3!CO10/Sheet3!$F$1","v":0},{"$f":"+Sheet3!CP10/Sheet3!$F$1","v":0},{"$f":"+Sheet3!CQ10/Sheet3!$F$1","v":0},{"$f":"+Sheet3!CR10/Sheet3!$F$1","v":0},{"$f":"+Sheet3!CS10/Sheet3!$F$1","v":0},{"$f":"+Sheet3!CT10/Sheet3!$F$1","v":0},{"$f":"+Sheet3!CU10/Sheet3!$F$1","v":8},{"$f":"+Sheet3!CV10/Sheet3!$F$1","v":411},{"$f":"+Sheet3!CW10/Sheet3!$F$1","v":129},{"$f":"+Sheet3!CX10/Sheet3!$F$1","v":0},{"$f":"+Sheet3!CY10/Sheet3!$F$1","v":0},{"$f":"+Sheet3!CZ10/Sheet3!$F$1","v":154},{"$f":"+Sheet3!DA10/Sheet3!$F$1","v":309},{"$f":"+Sheet3!DB10/Sheet3!$F$1","v":197},{"$f":"+Sheet3!DC10/Sheet3!$F$1","v":5},{"$f":"+Sheet3!DD10/Sheet3!$F$1","v":839},{"$f":"+Sheet3!DE10/Sheet3!$F$1","v":126},{"$f":"+Sheet3!DF10/Sheet3!$F$1","v":281},{"$f":"+Sheet3!DG10/Sheet3!$F$1","v":208},{"$f":"+Sheet3!DH10/Sheet3!$F$1","v":507},{"$f":"+Sheet3!DI10/Sheet3!$F$1","v":711},{"$f":"+Sheet3!DJ10/Sheet3!$F$1","v":468},{"$f":"+Sheet3!DK10/Sheet3!$F$1","v":616},{"$f":"+Sheet3!DL10/Sheet3!$F$1","v":0},{"$f":"+Sheet3!DM10/Sheet3!$F$1","v":3},{"$f":"+Sheet3!DN10/Sheet3!$F$1","v":3884},{"$f":"+Sheet3!DO10/Sheet3!$F$1","v":1029},{"$f":"+Sheet3!DP10/Sheet3!$F$1","v":60},{"$f":"+Sheet3!DQ10/Sheet3!$F$1","v":0},{"$f":"+Sheet3!DR10/Sheet3!$F$1","v":0},4973]
[null,"11A","Área Metropolitana do Porto",{"$f":"+Sheet3!D11/Sheet3!$F$1","v":0},{"$f":"+Sheet3!E11/Sheet3!$F$1","v":0},{"$f":"+Sheet3!F11/Sheet3!$F$1","v":0},{"$f":"+Sheet3!G11/Sheet3!$F$1","v":0},{"$f":"+Sheet3!H11/Sheet3!$F$1","v":0},{"$f":"+Sheet3!I11/Sheet3!$F$1","v":588},{"$f":"+Sheet3!J11/Sheet3!$F$1","v":30},{"$f":"+Sheet3!K11/Sheet3!$F$1","v":0},{"$f":"+Sheet3!L11/Sheet3!$F$1","v":0},{"$f":"+Sheet3!M11/Sheet3!$F$1","v":0},{"$f":"+Sheet3!N11/Sheet3!$F$1","v":46},{"$f":"+Sheet3!O11/Sheet3!$F$1","v":0},{"$f":"+Sheet3!P11/Sheet3!$F$1","v":0},{"$f":"+Sheet3!Q11/Sheet3!$F$1","v":0},{"$f":"+Sheet3!R11/Sheet3!$F$1","v":0},{"$f":"+Sheet3!S11/Sheet3!$F$1","v":0},{"$f":"+Sheet3!T11/Sheet3!$F$1","v":0},{"$f":"+Sheet3!U11/Sheet3!$F$1","v":0},{"$f":"+Sheet3!V11/Sheet3!$F$1","v":0},{"$f":"+Sheet3!W11/Sheet3!$F$1","v":0},{"$f":"+Sheet3!X11/Sheet3!$F$1","v":0},{"$f":"+Sheet3!Y11/Sheet3!$F$1","v":0},{"$f":"+Sheet3!Z11/Sheet3!$F$1","v":0},{"$f":"+Sheet3!AA11/Sheet3!$F$1","v":0},{"$f":"+Sheet3!AB11/Sheet3!$F$1","v":0},{"$f":"+Sheet3!AC11/Sheet3!$F$1","v":323},{"$f":"+Sheet3!AD11/Sheet3!$F$1","v":15},{"$f":"+Sheet3!AE11/Sheet3!$F$1","v":0},{"$f":"+Sheet3!AF11/Sheet3!$F$1","v":0},{"$f":"+Sheet3!AG11/Sheet3!$F$1","v":0},{"$f":"+Sheet3!AH11/Sheet3!$F$1","v":78},{"$f":"+Sheet3!AI11/Sheet3!$F$1","v":20},{"$f":"+Sheet3!AJ11/Sheet3!$F$1","v":5},{"$f":"+Sheet3!AK11/Sheet3!$F$1","v":0},{"$f":"+Sheet3!AL11/Sheet3!$F$1","v":0},{"$f":"+Sheet3!AM11/Sheet3!$F$1","v":165},{"$f":"+Sheet3!AN11/Sheet3!$F$1","v":36},{"$f":"+Sheet3!AO11/Sheet3!$F$1","v":0},{"$f":"+Sheet3!AP11/Sheet3!$F$1","v":0},{"$f":"+Sheet3!AQ11/Sheet3!$F$1","v":0},{"$f":"+Sheet3!AR11/Sheet3!$F$1","v":0},{"$f":"+Sheet3!AS11/Sheet3!$F$1","v":0},{"$f":"+Sheet3!AT11/Sheet3!$F$1","v":0},{"$f":"+Sheet3!AU11/Sheet3!$F$1","v":0},{"$f":"+Sheet3!AV11/Sheet3!$F$1","v":0},{"$f":"+Sheet3!AW11/Sheet3!$F$1","v":818},{"$f":"+Sheet3!AX11/Sheet3!$F$1","v":47},{"$f":"+Sheet3!AY11/Sheet3!$F$1","v":0},{"$f":"+Sheet3!AZ11/Sheet3!$F$1","v":0},{"$f":"+Sheet3!BA11/Sheet3!$F$1","v":0},{"$f":"+Sheet3!BB11/Sheet3!$F$1","v":93},{"$f":"+Sheet3!BC11/Sheet3!$F$1","v":418},{"$f":"+Sheet3!BD11/Sheet3!$F$1","v":33},{"$f":"+Sheet3!BE11/Sheet3!$F$1","v":0},{"$f":"+Sheet3!BF11/Sheet3!$F$1","v":0},{"$f":"+Sheet3!BG11/Sheet3!$F$1","v":114},{"$f":"+Sheet3!BH11/Sheet3!$F$1","v":48},{"$f":"+Sheet3!BI11/Sheet3!$F$1","v":0},{"$f":"+Sheet3!BJ11/Sheet3!$F$1","v":0},{"$f":"+Sheet3!BK11/Sheet3!$F$1","v":0},{"$f":"+Sheet3!BL11/Sheet3!$F$1","v":237},{"$f":"+Sheet3!BM11/Sheet3!$F$1","v":58},{"$f":"+Sheet3!BN11/Sheet3!$F$1","v":0},{"$f":"+Sheet3!BO11/Sheet3!$F$1","v":0},{"$f":"+Sheet3!BP11/Sheet3!$F$1","v":0},{"$f":"+Sheet3!BQ11/Sheet3!$F$1","v":68},{"$f":"+Sheet3!BR11/Sheet3!$F$1","v":37},{"$f":"+Sheet3!BS11/Sheet3!$F$1","v":0},{"$f":"+Sheet3!BT11/Sheet3!$F$1","v":0},{"$f":"+Sheet3!BU11/Sheet3!$F$1","v":0},{"$f":"+Sheet3!BV11/Sheet3!$F$1","v":100},{"$f":"+Sheet3!BW11/Sheet3!$F$1","v":39},{"$f":"+Sheet3!BX11/Sheet3!$F$1","v":5},{"$f":"+Sheet3!BY11/Sheet3!$F$1","v":0},{"$f":"+Sheet3!BZ11/Sheet3!$F$1","v":0},{"$f":"+Sheet3!CA11/Sheet3!$F$1","v":307},{"$f":"+Sheet3!CB11/Sheet3!$F$1","v":30},{"$f":"+Sheet3!CC11/Sheet3!$F$1","v":0},{"$f":"+Sheet3!CD11/Sheet3!$F$1","v":0},{"$f":"+Sheet3!CE11/Sheet3!$F$1","v":0},{"$f":"+Sheet3!CF11/Sheet3!$F$1","v":700},{"$f":"+Sheet3!CG11/Sheet3!$F$1","v":137},{"$f":"+Sheet3!CH11/Sheet3!$F$1","v":0},{"$f":"+Sheet3!CI11/Sheet3!$F$1","v":0},{"$f":"+Sheet3!CJ11/Sheet3!$F$1","v":0},{"$f":"+Sheet3!CK11/Sheet3!$F$1","v":0},{"$f":"+Sheet3!CL11/Sheet3!$F$1","v":0},{"$f":"+Sheet3!CM11/Sheet3!$F$1","v":0},{"$f":"+Sheet3!CN11/Sheet3!$F$1","v":0},{"$f":"+Sheet3!CO11/Sheet3!$F$1","v":0},{"$f":"+Sheet3!CP11/Sheet3!$F$1","v":7},{"$f":"+Sheet3!CQ11/Sheet3!$F$1","v":0},{"$f":"+Sheet3!CR11/Sheet3!$F$1","v":0},{"$f":"+Sheet3!CS11/Sheet3!$F$1","v":0},{"$f":"+Sheet3!CT11/Sheet3!$F$1","v":0},{"$f":"+Sheet3!CU11/Sheet3!$F$1","v":0},{"$f":"+Sheet3!CV11/Sheet3!$F$1","v":624},{"$f":"+Sheet3!CW11/Sheet3!$F$1","v":48},{"$f":"+Sheet3!CX11/Sheet3!$F$1","v":0},{"$f":"+Sheet3!CY11/Sheet3!$F$1","v":0},{"$f":"+Sheet3!CZ11/Sheet3!$F$1","v":340},{"$f":"+Sheet3!DA11/Sheet3!$F$1","v":106},{"$f":"+Sheet3!DB11/Sheet3!$F$1","v":204},{"$f":"+Sheet3!DC11/Sheet3!$F$1","v":0},{"$f":"+Sheet3!DD11/Sheet3!$F$1","v":868},{"$f":"+Sheet3!DE11/Sheet3!$F$1","v":546},{"$f":"+Sheet3!DF11/Sheet3!$F$1","v":163},{"$f":"+Sheet3!DG11/Sheet3!$F$1","v":300},{"$f":"+Sheet3!DH11/Sheet3!$F$1","v":107},{"$f":"+Sheet3!DI11/Sheet3!$F$1","v":148},{"$f":"+Sheet3!DJ11/Sheet3!$F$1","v":341},{"$f":"+Sheet3!DK11/Sheet3!$F$1","v":840},{"$f":"+Sheet3!DL11/Sheet3!$F$1","v":0},{"$f":"+Sheet3!DM11/Sheet3!$F$1","v":8},{"$f":"+Sheet3!DN11/Sheet3!$F$1","v":3657},{"$f":"+Sheet3!DO11/Sheet3!$F$1","v":938},{"$f":"+Sheet3!DP11/Sheet3!$F$1","v":52},{"$f":"+Sheet3!DQ11/Sheet3!$F$1","v":0},{"$f":"+Sheet3!DR11/Sheet3!$F$1","v":0},4647]
[null,"11B","Alto Tâmega",{"$f":"+Sheet3!D12/Sheet3!$F$1","v":15},{"$f":"+Sheet3!E12/Sheet3!$F$1","v":10},{"$f":"+Sheet3!F12/Sheet3!$F$1","v":0},{"$f":"+Sheet3!G12/Sheet3!$F$1","v":0},{"$f":"+Sheet3!H12/Sheet3!$F$1","v":0},{"$f":"+Sheet3!I12/Sheet3!$F$1","v":136},{"$f":"+Sheet3!J12/Sheet3!$F$1","v":30},{"$f":"+Sheet3!K12/Sheet3!$F$1","v":0},{"$f":"+Sheet3!L12/Sheet3!$F$1","v":0},{"$f":"+Sheet3!M12/Sheet3!$F$1","v":0},{"$f":"+Sheet3!N12/Sheet3!$F$1","v":440},{"$f":"+Sheet3!O12/Sheet3!$F$1","v":83},{"$f":"+Sheet3!P12/Sheet3!$F$1","v":0},{"$f":"+Sheet3!Q12/Sheet3!$F$1","v":0},{"$f":"+Sheet3!R12/Sheet3!$F$1","v":0},{"$f":"+Sheet3!S12/Sheet3!$F$1","v":0},{"$f":"+Sheet3!T12/Sheet3!$F$1","v":0},{"$f":"+Sheet3!U12/Sheet3!$F$1","v":0},{"$f":"+Sheet3!V12/Sheet3!$F$1","v":0},{"$f":"+Sheet3!W12/Sheet3!$F$1","v":0},{"$f":"+Sheet3!X12/Sheet3!$F$1","v":0},{"$f":"+Sheet3!Y12/Sheet3!$F$1","v":0},{"$f":"+Sheet3!Z12/Sheet3!$F$1","v":0},{"$f":"+Sheet3!AA12/Sheet3!$F$1","v":0},{"$f":"+Sheet3!AB12/Sheet3!$F$1","v":0},{"$f":"+Sheet3!AC12/Sheet3!$F$1","v":1225},{"$f":"+Sheet3!AD12/Sheet3!$F$1","v":121},{"$f":"+Sheet3!AE12/Sheet3!$F$1","v":0},{"$f":"+Sheet3!AF12/Sheet3!$F$1","v":0},{"$f":"+Sheet3!AG12/Sheet3!$F$1","v":0},{"$f":"+Sheet3!AH12/Sheet3!$F$1","v":75},{"$f":"+Sheet3!AI12/Sheet3!$F$1","v":30},{"$f":"+Sheet3!AJ12/Sheet3!$F$1","v":3},{"$f":"+Sheet3!AK12/Sheet3!$F$1","v":0},{"$f":"+Sheet3!AL12/Sheet3!$F$1","v":0},{"$f":"+Sheet3!AM12/Sheet3!$F$1","v":1175},{"$f":"+Sheet3!AN12/Sheet3!$F$1","v":466},{"$f":"+Sheet3!AO12/Sheet3!$F$1","v":18},{"$f":"+Sheet3!AP12/Sheet3!$F$1","v":0},{"$f":"+Sheet3!AQ12/Sheet3!$F$1","v":0},{"$f":"+Sheet3!AR12/Sheet3!$F$1","v":236},{"$f":"+Sheet3!AS12/Sheet3!$F$1","v":37},{"$f":"+Sheet3!AT12/Sheet3!$F$1","v":7},{"$f":"+Sheet3!AU12/Sheet3!$F$1","v":0},{"$f":"+Sheet3!AV12/Sheet3!$F$1","v":0},{"$f":"+Sheet3!AW12/Sheet3!$F$1","v":3217},{"$f":"+Sheet3!AX12/Sheet3!$F$1","v":913},{"$f":"+Sheet3!AY12/Sheet3!$F$1","v":19},{"$f":"+Sheet3!AZ12/Sheet3!$F$1","v":0},{"$f":"+Sheet3!BA12/Sheet3!$F$1","v":0},{"$f":"+Sheet3!BB12/Sheet3!$F$1","v":3},{"$f":"+Sheet3!BC12/Sheet3!$F$1","v":33},{"$f":"+Sheet3!BD12/Sheet3!$F$1","v":5},{"$f":"+Sheet3!BE12/Sheet3!$F$1","v":0},{"$f":"+Sheet3!BF12/Sheet3!$F$1","v":0},{"$f":"+Sheet3!BG12/Sheet3!$F$1","v":112},{"$f":"+Sheet3!BH12/Sheet3!$F$1","v":195},{"$f":"+Sheet3!BI12/Sheet3!$F$1","v":24},{"$f":"+Sheet3!BJ12/Sheet3!$F$1","v":0},{"$f":"+Sheet3!BK12/Sheet3!$F$1","v":0},{"$f":"+Sheet3!BL12/Sheet3!$F$1","v":56},{"$f":"+Sheet3!BM12/Sheet3!$F$1","v":19},{"$f":"+Sheet3!BN12/Sheet3!$F$1","v":3},{"$f":"+Sheet3!BO12/Sheet3!$F$1","v":0},{"$f":"+Sheet3!BP12/Sheet3!$F$1","v":0},{"$f":"+Sheet3!BQ12/Sheet3!$F$1","v":274},{"$f":"+Sheet3!BR12/Sheet3!$F$1","v":1000},{"$f":"+Sheet3!BS12/Sheet3!$F$1","v":169},{"$f":"+Sheet3!BT12/Sheet3!$F$1","v":8},{"$f":"+Sheet3!BU12/Sheet3!$F$1","v":0},{"$f":"+Sheet3!BV12/Sheet3!$F$1","v":859},{"$f":"+Sheet3!BW12/Sheet3!$F$1","v":700},{"$f":"+Sheet3!BX12/Sheet3!$F$1","v":51},{"$f":"+Sheet3!BY12/Sheet3!$F$1","v":4},{"$f":"+Sheet3!BZ12/Sheet3!$F$1","v":0},{"$f":"+Sheet3!CA12/Sheet3!$F$1","v":449},{"$f":"+Sheet3!CB12/Sheet3!$F$1","v":410},{"$f":"+Sheet3!CC12/Sheet3!$F$1","v":14},{"$f":"+Sheet3!CD12/Sheet3!$F$1","v":0},{"$f":"+Sheet3!CE12/Sheet3!$F$1","v":0},{"$f":"+Sheet3!CF12/Sheet3!$F$1","v":400},{"$f":"+Sheet3!CG12/Sheet3!$F$1","v":80},{"$f":"+Sheet3!CH12/Sheet3!$F$1","v":3},{"$f":"+Sheet3!CI12/Sheet3!$F$1","v":0},{"$f":"+Sheet3!CJ12/Sheet3!$F$1","v":0},{"$f":"+Sheet3!CK12/Sheet3!$F$1","v":0},{"$f":"+Sheet3!CL12/Sheet3!$F$1","v":0},{"$f":"+Sheet3!CM12/Sheet3!$F$1","v":0},{"$f":"+Sheet3!CN12/Sheet3!$F$1","v":0},{"$f":"+Sheet3!CO12/Sheet3!$F$1","v":0},{"$f":"+Sheet3!CP12/Sheet3!$F$1","v":46},{"$f":"+Sheet3!CQ12/Sheet3!$F$1","v":0},{"$f":"+Sheet3!CR12/Sheet3!$F$1","v":0},{"$f":"+Sheet3!CS12/Sheet3!$F$1","v":0},{"$f":"+Sheet3!CT12/Sheet3!$F$1","v":0},{"$f":"+Sheet3!CU12/Sheet3!$F$1","v":27},{"$f":"+Sheet3!CV12/Sheet3!$F$1","v":169},{"$f":"+Sheet3!CW12/Sheet3!$F$1","v":524},{"$f":"+Sheet3!CX12/Sheet3!$F$1","v":0},{"$f":"+Sheet3!CY12/Sheet3!$F$1","v":0},{"$f":"+Sheet3!CZ12/Sheet3!$F$1","v":1347},{"$f":"+Sheet3!DA12/Sheet3!$F$1","v":112},{"$f":"+Sheet3!DB12/Sheet3!$F$1","v":1659},{"$f":"+Sheet3!DC12/Sheet3!$F$1","v":284},{"$f":"+Sheet3!DD12/Sheet3!$F$1","v":4149},{"$f":"+Sheet3!DE12/Sheet3!$F$1","v":44},{"$f":"+Sheet3!DF12/Sheet3!$F$1","v":334},{"$f":"+Sheet3!DG12/Sheet3!$F$1","v":81},{"$f":"+Sheet3!DH12/Sheet3!$F$1","v":1451},{"$f":"+Sheet3!DI12/Sheet3!$F$1","v":1614},{"$f":"+Sheet3!DJ12/Sheet3!$F$1","v":874},{"$f":"+Sheet3!DK12/Sheet3!$F$1","v":485},{"$f":"+Sheet3!DL12/Sheet3!$F$1","v":0},{"$f":"+Sheet3!DM12/Sheet3!$F$1","v":51},{"$f":"+Sheet3!DN12/Sheet3!$F$1","v":8728},{"$f":"+Sheet3!DO12/Sheet3!$F$1","v":4143},{"$f":"+Sheet3!DP12/Sheet3!$F$1","v":322},{"$f":"+Sheet3!DQ12/Sheet3!$F$1","v":13},{"$f":"+Sheet3!DR12/Sheet3!$F$1","v":0},13206]
[null,"11C","Tâmega e Sousa",{"$f":"+Sheet3!D13/Sheet3!$F$1","v":3},{"$f":"+Sheet3!E13/Sheet3!$F$1","v":0},{"$f":"+Sheet3!F13/Sheet3!$F$1","v":0},{"$f":"+Sheet3!G13/Sheet3!$F$1","v":0},{"$f":"+Sheet3!H13/Sheet3!$F$1","v":0},{"$f":"+Sheet3!I13/Sheet3!$F$1","v":461},{"$f":"+Sheet3!J13/Sheet3!$F$1","v":12},{"$f":"+Sheet3!K13/Sheet3!$F$1","v":0},{"$f":"+Sheet3!L13/Sheet3!$F$1","v":0},{"$f":"+Sheet3!M13/Sheet3!$F$1","v":0},{"$f":"+Sheet3!N13/Sheet3!$F$1","v":30},{"$f":"+Sheet3!O13/Sheet3!$F$1","v":0},{"$f":"+Sheet3!P13/Sheet3!$F$1","v":0},{"$f":"+Sheet3!Q13/Sheet3!$F$1","v":0},{"$f":"+Sheet3!R13/Sheet3!$F$1","v":0},{"$f":"+Sheet3!S13/Sheet3!$F$1","v":0},{"$f":"+Sheet3!T13/Sheet3!$F$1","v":0},{"$f":"+Sheet3!U13/Sheet3!$F$1","v":0},{"$f":"+Sheet3!V13/Sheet3!$F$1","v":0},{"$f":"+Sheet3!W13/Sheet3!$F$1","v":0},{"$f":"+Sheet3!X13/Sheet3!$F$1","v":0},{"$f":"+Sheet3!Y13/Sheet3!$F$1","v":0},{"$f":"+Sheet3!Z13/Sheet3!$F$1","v":0},{"$f":"+Sheet3!AA13/Sheet3!$F$1","v":0},{"$f":"+Sheet3!AB13/Sheet3!$F$1","v":0},{"$f":"+Sheet3!AC13/Sheet3!$F$1","v":425},{"$f":"+Sheet3!AD13/Sheet3!$F$1","v":14},{"$f":"+Sheet3!AE13/Sheet3!$F$1","v":0},{"$f":"+Sheet3!AF13/Sheet3!$F$1","v":0},{"$f":"+Sheet3!AG13/Sheet3!$F$1","v":0},{"$f":"+Sheet3!AH13/Sheet3!$F$1","v":677},{"$f":"+Sheet3!AI13/Sheet3!$F$1","v":244},{"$f":"+Sheet3!AJ13/Sheet3!$F$1","v":25},{"$f":"+Sheet3!AK13/Sheet3!$F$1","v":0},{"$f":"+Sheet3!AL13/Sheet3!$F$1","v":0},{"$f":"+Sheet3!AM13/Sheet3!$F$1","v":506},{"$f":"+Sheet3!AN13/Sheet3!$F$1","v":148},{"$f":"+Sheet3!AO13/Sheet3!$F$1","v":4},{"$f":"+Sheet3!AP13/Sheet3!$F$1","v":0},{"$f":"+Sheet3!AQ13/Sheet3!$F$1","v":0},{"$f":"+Sheet3!AR13/Sheet3!$F$1","v":13},{"$f":"+Sheet3!AS13/Sheet3!$F$1","v":0},{"$f":"+Sheet3!AT13/Sheet3!$F$1","v":0},{"$f":"+Sheet3!AU13/Sheet3!$F$1","v":0},{"$f":"+Sheet3!AV13/Sheet3!$F$1","v":0},{"$f":"+Sheet3!AW13/Sheet3!$F$1","v":2510},{"$f":"+Sheet3!AX13/Sheet3!$F$1","v":170},{"$f":"+Sheet3!AY13/Sheet3!$F$1","v":4},{"$f":"+Sheet3!AZ13/Sheet3!$F$1","v":0},{"$f":"+Sheet3!BA13/Sheet3!$F$1","v":0},{"$f":"+Sheet3!BB13/Sheet3!$F$1","v":3},{"$f":"+Sheet3!BC13/Sheet3!$F$1","v":20},{"$f":"+Sheet3!BD13/Sheet3!$F$1","v":0},{"$f":"+Sheet3!BE13/Sheet3!$F$1","v":0},{"$f":"+Sheet3!BF13/Sheet3!$F$1","v":0},{"$f":"+Sheet3!BG13/Sheet3!$F$1","v":147},{"$f":"+Sheet3!BH13/Sheet3!$F$1","v":48},{"$f":"+Sheet3!BI13/Sheet3!$F$1","v":4},{"$f":"+Sheet3!BJ13/Sheet3!$F$1","v":0},{"$f":"+Sheet3!BK13/Sheet3!$F$1","v":0},{"$f":"+Sheet3!BL13/Sheet3!$F$1","v":135},{"$f":"+Sheet3!BM13/Sheet3!$F$1","v":21},{"$f":"+Sheet3!BN13/Sheet3!$F$1","v":0},{"$f":"+Sheet3!BO13/Sheet3!$F$1","v":0},{"$f":"+Sheet3!BP13/Sheet3!$F$1","v":0},{"$f":"+Sheet3!BQ13/Sheet3!$F$1","v":54},{"$f":"+Sheet3!BR13/Sheet3!$F$1","v":44},{"$f":"+Sheet3!BS13/Sheet3!$F$1","v":7},{"$f":"+Sheet3!BT13/Sheet3!$F$1","v":0},{"$f":"+Sheet3!BU13/Sheet3!$F$1","v":0},{"$f":"+Sheet3!BV13/Sheet3!$F$1","v":276},{"$f":"+Sheet3!BW13/Sheet3!$F$1","v":44},{"$f":"+Sheet3!BX13/Sheet3!$F$1","v":7},{"$f":"+Sheet3!BY13/Sheet3!$F$1","v":0},{"$f":"+Sheet3!BZ13/Sheet3!$F$1","v":0},{"$f":"+Sheet3!CA13/Sheet3!$F$1","v":613},{"$f":"+Sheet3!CB13/Sheet3!$F$1","v":57},{"$f":"+Sheet3!CC13/Sheet3!$F$1","v":0},{"$f":"+Sheet3!CD13/Sheet3!$F$1","v":0},{"$f":"+Sheet3!CE13/Sheet3!$F$1","v":0},{"$f":"+Sheet3!CF13/Sheet3!$F$1","v":252},{"$f":"+Sheet3!CG13/Sheet3!$F$1","v":24},{"$f":"+Sheet3!CH13/Sheet3!$F$1","v":0},{"$f":"+Sheet3!CI13/Sheet3!$F$1","v":0},{"$f":"+Sheet3!CJ13/Sheet3!$F$1","v":0},{"$f":"+Sheet3!CK13/Sheet3!$F$1","v":0},{"$f":"+Sheet3!CL13/Sheet3!$F$1","v":0},{"$f":"+Sheet3!CM13/Sheet3!$F$1","v":0},{"$f":"+Sheet3!CN13/Sheet3!$F$1","v":0},{"$f":"+Sheet3!CO13/Sheet3!$F$1","v":0},{"$f":"+Sheet3!CP13/Sheet3!$F$1","v":0},{"$f":"+Sheet3!CQ13/Sheet3!$F$1","v":0},{"$f":"+Sheet3!CR13/Sheet3!$F$1","v":0},{"$f":"+Sheet3!CS13/Sheet3!$F$1","v":0},{"$f":"+Sheet3!CT13/Sheet3!$F$1","v":0},{"$f":"+Sheet3!CU13/Sheet3!$F$1","v":6},{"$f":"+Sheet3!CV13/Sheet3!$F$1","v":476},{"$f":"+Sheet3!CW13/Sheet3!$F$1","v":32},{"$f":"+Sheet3!CX13/Sheet3!$F$1","v":0},{"$f":"+Sheet3!CY13/Sheet3!$F$1","v":0},{"$f":"+Sheet3!CZ13/Sheet3!$F$1","v":444},{"$f":"+Sheet3!DA13/Sheet3!$F$1","v":949},{"$f":"+Sheet3!DB13/Sheet3!$F$1","v":660},{"$f":"+Sheet3!DC13/Sheet3!$F$1","v":14},{"$f":"+Sheet3!DD13/Sheet3!$F$1","v":2684},{"$f":"+Sheet3!DE13/Sheet3!$F$1","v":28},{"$f":"+Sheet3!DF13/Sheet3!$F$1","v":202},{"$f":"+Sheet3!DG13/Sheet3!$F$1","v":160},{"$f":"+Sheet3!DH13/Sheet3!$F$1","v":107},{"$f":"+Sheet3!DI13/Sheet3!$F$1","v":331},{"$f":"+Sheet3!DJ13/Sheet3!$F$1","v":672},{"$f":"+Sheet3!DK13/Sheet3!$F$1","v":278},{"$f":"+Sheet3!DL13/Sheet3!$F$1","v":0},{"$f":"+Sheet3!DM13/Sheet3!$F$1","v":0},{"$f":"+Sheet3!DN13/Sheet3!$F$1","v":6117},{"$f":"+Sheet3!DO13/Sheet3!$F$1","v":865},{"$f":"+Sheet3!DP13/Sheet3!$F$1","v":62},{"$f":"+Sheet3!DQ13/Sheet3!$F$1","v":0},{"$f":"+Sheet3!DR13/Sheet3!$F$1","v":0},7044]
[null,"11D","Douro",{"$f":"+Sheet3!D14/Sheet3!$F$1","v":4},{"$f":"+Sheet3!E14/Sheet3!$F$1","v":0},{"$f":"+Sheet3!F14/Sheet3!$F$1","v":0},{"$f":"+Sheet3!G14/Sheet3!$F$1","v":0},{"$f":"+Sheet3!H14/Sheet3!$F$1","v":0},{"$f":"+Sheet3!I14/Sheet3!$F$1","v":17},{"$f":"+Sheet3!J14/Sheet3!$F$1","v":0},{"$f":"+Sheet3!K14/Sheet3!$F$1","v":0},{"$f":"+Sheet3!L14/Sheet3!$F$1","v":0},{"$f":"+Sheet3!M14/Sheet3!$F$1","v":0},{"$f":"+Sheet3!N14/Sheet3!$F$1","v":135},{"$f":"+Sheet3!O14/Sheet3!$F$1","v":36},{"$f":"+Sheet3!P14/Sheet3!$F$1","v":0},{"$f":"+Sheet3!Q14/Sheet3!$F$1","v":0},{"$f":"+Sheet3!R14/Sheet3!$F$1","v":0},{"$f":"+Sheet3!S14/Sheet3!$F$1","v":0},{"$f":"+Sheet3!T14/Sheet3!$F$1","v":0},{"$f":"+Sheet3!U14/Sheet3!$F$1","v":0},{"$f":"+Sheet3!V14/Sheet3!$F$1","v":0},{"$f":"+Sheet3!W14/Sheet3!$F$1","v":0},{"$f":"+Sheet3!X14/Sheet3!$F$1","v":0},{"$f":"+Sheet3!Y14/Sheet3!$F$1","v":0},{"$f":"+Sheet3!Z14/Sheet3!$F$1","v":0},{"$f":"+Sheet3!AA14/Sheet3!$F$1","v":0},{"$f":"+Sheet3!AB14/Sheet3!$F$1","v":0},{"$f":"+Sheet3!AC14/Sheet3!$F$1","v":1696},{"$f":"+Sheet3!AD14/Sheet3!$F$1","v":139},{"$f":"+Sheet3!AE14/Sheet3!$F$1","v":7},{"$f":"+Sheet3!AF14/Sheet3!$F$1","v":0},{"$f":"+Sheet3!AG14/Sheet3!$F$1","v":0},{"$f":"+Sheet3!AH14/Sheet3!$F$1","v":3898},{"$f":"+Sheet3!AI14/Sheet3!$F$1","v":1648},{"$f":"+Sheet3!AJ14/Sheet3!$F$1","v":237},{"$f":"+Sheet3!AK14/Sheet3!$F$1","v":11},{"$f":"+Sheet3!AL14/Sheet3!$F$1","v":0},{"$f":"+Sheet3!AM14/Sheet3!$F$1","v":976},{"$f":"+Sheet3!AN14/Sheet3!$F$1","v":688},{"$f":"+Sheet3!AO14/Sheet3!$F$1","v":76},{"$f":"+Sheet3!AP14/Sheet3!$F$1","v":0},{"$f":"+Sheet3!AQ14/Sheet3!$F$1","v":0},{"$f":"+Sheet3!AR14/Sheet3!$F$1","v":604},{"$f":"+Sheet3!AS14/Sheet3!$F$1","v":61},{"$f":"+Sheet3!AT14/Sheet3!$F$1","v":7},{"$f":"+Sheet3!AU14/Sheet3!$F$1","v":0},{"$f":"+Sheet3!AV14/Sheet3!$F$1","v":0},{"$f":"+Sheet3!AW14/Sheet3!$F$1","v":6454},{"$f":"+Sheet3!AX14/Sheet3!$F$1","v":1637},{"$f":"+Sheet3!AY14/Sheet3!$F$1","v":139},{"$f":"+Sheet3!AZ14/Sheet3!$F$1","v":0},{"$f":"+Sheet3!BA14/Sheet3!$F$1","v":0},{"$f":"+Sheet3!BB14/Sheet3!$F$1","v":18},{"$f":"+Sheet3!BC14/Sheet3!$F$1","v":35},{"$f":"+Sheet3!BD14/Sheet3!$F$1","v":4},{"$f":"+Sheet3!BE14/Sheet3!$F$1","v":0},{"$f":"+Sheet3!BF14/Sheet3!$F$1","v":0},{"$f":"+Sheet3!BG14/Sheet3!$F$1","v":52},{"$f":"+Sheet3!BH14/Sheet3!$F$1","v":32},{"$f":"+Sheet3!BI14/Sheet3!$F$1","v":4},{"$f":"+Sheet3!BJ14/Sheet3!$F$1","v":0},{"$f":"+Sheet3!BK14/Sheet3!$F$1","v":0},{"$f":"+Sheet3!BL14/Sheet3!$F$1","v":18},{"$f":"+Sheet3!BM14/Sheet3!$F$1","v":5},{"$f":"+Sheet3!BN14/Sheet3!$F$1","v":0},{"$f":"+Sheet3!BO14/Sheet3!$F$1","v":0},{"$f":"+Sheet3!BP14/Sheet3!$F$1","v":0},{"$f":"+Sheet3!BQ14/Sheet3!$F$1","v":133},{"$f":"+Sheet3!BR14/Sheet3!$F$1","v":113},{"$f":"+Sheet3!BS14/Sheet3!$F$1","v":18},{"$f":"+Sheet3!BT14/Sheet3!$F$1","v":0},{"$f":"+Sheet3!BU14/Sheet3!$F$1","v":0},{"$f":"+Sheet3!BV14/Sheet3!$F$1","v":554},{"$f":"+Sheet3!BW14/Sheet3!$F$1","v":233},{"$f":"+Sheet3!BX14/Sheet3!$F$1","v":18},{"$f":"+Sheet3!BY14/Sheet3!$F$1","v":0},{"$f":"+Sheet3!BZ14/Sheet3!$F$1","v":0},{"$f":"+Sheet3!CA14/Sheet3!$F$1","v":322},{"$f":"+Sheet3!CB14/Sheet3!$F$1","v":138},{"$f":"+Sheet3!CC14/Sheet3!$F$1","v":16},{"$f":"+Sheet3!CD14/Sheet3!$F$1","v":0},{"$f":"+Sheet3!CE14/Sheet3!$F$1","v":0},{"$f":"+Sheet3!CF14/Sheet3!$F$1","v":77},{"$f":"+Sheet3!CG14/Sheet3!$F$1","v":15},{"$f":"+Sheet3!CH14/Sheet3!$F$1","v":0},{"$f":"+Sheet3!CI14/Sheet3!$F$1","v":0},{"$f":"+Sheet3!CJ14/Sheet3!$F$1","v":0},{"$f":"+Sheet3!CK14/Sheet3!$F$1","v":0},{"$f":"+Sheet3!CL14/Sheet3!$F$1","v":0},{"$f":"+Sheet3!CM14/Sheet3!$F$1","v":0},{"$f":"+Sheet3!CN14/Sheet3!$F$1","v":0},{"$f":"+Sheet3!CO14/Sheet3!$F$1","v":0},{"$f":"+Sheet3!CP14/Sheet3!$F$1","v":31},{"$f":"+Sheet3!CQ14/Sheet3!$F$1","v":0},{"$f":"+Sheet3!CR14/Sheet3!$F$1","v":0},{"$f":"+Sheet3!CS14/Sheet3!$F$1","v":0},{"$f":"+Sheet3!CT14/Sheet3!$F$1","v":0},{"$f":"+Sheet3!CU14/Sheet3!$F$1","v":7},{"$f":"+Sheet3!CV14/Sheet3!$F$1","v":22},{"$f":"+Sheet3!CW14/Sheet3!$F$1","v":171},{"$f":"+Sheet3!CX14/Sheet3!$F$1","v":0},{"$f":"+Sheet3!CY14/Sheet3!$F$1","v":4},{"$f":"+Sheet3!CZ14/Sheet3!$F$1","v":1842},{"$f":"+Sheet3!DA14/Sheet3!$F$1","v":5794},{"$f":"+Sheet3!DB14/Sheet3!$F$1","v":1741},{"$f":"+Sheet3!DC14/Sheet3!$F$1","v":674},{"$f":"+Sheet3!DD14/Sheet3!$F$1","v":8230},{"$f":"+Sheet3!DE14/Sheet3!$F$1","v":59},{"$f":"+Sheet3!DF14/Sheet3!$F$1","v":93},{"$f":"+Sheet3!DG14/Sheet3!$F$1","v":25},{"$f":"+Sheet3!DH14/Sheet3!$F$1","v":266},{"$f":"+Sheet3!DI14/Sheet3!$F$1","v":806},{"$f":"+Sheet3!DJ14/Sheet3!$F$1","v":478},{"$f":"+Sheet3!DK14/Sheet3!$F$1","v":98},{"$f":"+Sheet3!DL14/Sheet3!$F$1","v":0},{"$f":"+Sheet3!DM14/Sheet3!$F$1","v":33},{"$f":"+Sheet3!DN14/Sheet3!$F$1","v":15004},{"$f":"+Sheet3!DO14/Sheet3!$F$1","v":4796},{"$f":"+Sheet3!DP14/Sheet3!$F$1","v":532},{"$f":"+Sheet3!DQ14/Sheet3!$F$1","v":11},{"$f":"+Sheet3!DR14/Sheet3!$F$1","v":0},20343]
[null,"11E","Terras de Trás-os-Montes",{"$f":"+Sheet3!D15/Sheet3!$F$1","v":53},{"$f":"+Sheet3!E15/Sheet3!$F$1","v":16},{"$f":"+Sheet3!F15/Sheet3!$F$1","v":4},{"$f":"+Sheet3!G15/Sheet3!$F$1","v":0},{"$f":"+Sheet3!H15/Sheet3!$F$1","v":0},{"$f":"+Sheet3!I15/Sheet3!$F$1","v":4},{"$f":"+Sheet3!J15/Sheet3!$F$1","v":3},{"$f":"+Sheet3!K15/Sheet3!$F$1","v":0},{"$f":"+Sheet3!L15/Sheet3!$F$1","v":0},{"$f":"+Sheet3!M15/Sheet3!$F$1","v":0},{"$f":"+Sheet3!N15/Sheet3!$F$1","v":367},{"$f":"+Sheet3!O15/Sheet3!$F$1","v":329},{"$f":"+Sheet3!P15/Sheet3!$F$1","v":27},{"$f":"+Sheet3!Q15/Sheet3!$F$1","v":0},{"$f":"+Sheet3!R15/Sheet3!$F$1","v":0},{"$f":"+Sheet3!S15/Sheet3!$F$1","v":0},{"$f":"+Sheet3!T15/Sheet3!$F$1","v":0},{"$f":"+Sheet3!U15/Sheet3!$F$1","v":0},{"$f":"+Sheet3!V15/Sheet3!$F$1","v":0},{"$f":"+Sheet3!W15/Sheet3!$F$1","v":0},{"$f":"+Sheet3!X15/Sheet3!$F$1","v":4},{"$f":"+Sheet3!Y15/Sheet3!$F$1","v":5},{"$f":"+Sheet3!Z15/Sheet3!$F$1","v":0},{"$f":"+Sheet3!AA15/Sheet3!$F$1","v":0},{"$f":"+Sheet3!AB15/Sheet3!$F$1","v":0},{"$f":"+Sheet3!AC15/Sheet3!$F$1","v":3232},{"$f":"+Sheet3!AD15/Sheet3!$F$1","v":1637},{"$f":"+Sheet3!AE15/Sheet3!$F$1","v":174},{"$f":"+Sheet3!AF15/Sheet3!$F$1","v":0},{"$f":"+Sheet3!AG15/Sheet3!$F$1","v":0},{"$f":"+Sheet3!AH15/Sheet3!$F$1","v":119},{"$f":"+Sheet3!AI15/Sheet3!$F$1","v":68},{"$f":"+Sheet3!AJ15/Sheet3!$F$1","v":10},{"$f":"+Sheet3!AK15/Sheet3!$F$1","v":0},{"$f":"+Sheet3!AL15/Sheet3!$F$1","v":0},{"$f":"+Sheet3!AM15/Sheet3!$F$1","v":1405},{"$f":"+Sheet3!AN15/Sheet3!$F$1","v":1272},{"$f":"+Sheet3!AO15/Sheet3!$F$1","v":129},{"$f":"+Sheet3!AP15/Sheet3!$F$1","v":0},{"$f":"+Sheet3!AQ15/Sheet3!$F$1","v":0},{"$f":"+Sheet3!AR15/Sheet3!$F$1","v":1820},{"$f":"+Sheet3!AS15/Sheet3!$F$1","v":463},{"$f":"+Sheet3!AT15/Sheet3!$F$1","v":91},{"$f":"+Sheet3!AU15/Sheet3!$F$1","v":0},{"$f":"+Sheet3!AV15/Sheet3!$F$1","v":0},{"$f":"+Sheet3!AW15/Sheet3!$F$1","v":5648},{"$f":"+Sheet3!AX15/Sheet3!$F$1","v":4712},{"$f":"+Sheet3!AY15/Sheet3!$F$1","v":495},{"$f":"+Sheet3!AZ15/Sheet3!$F$1","v":0},{"$f":"+Sheet3!BA15/Sheet3!$F$1","v":0},{"$f":"+Sheet3!BB15/Sheet3!$F$1","v":0},{"$f":"+Sheet3!BC15/Sheet3!$F$1","v":0},{"$f":"+Sheet3!BD15/Sheet3!$F$1","v":14},{"$f":"+Sheet3!BE15/Sheet3!$F$1","v":0},{"$f":"+Sheet3!BF15/Sheet3!$F$1","v":0},{"$f":"+Sheet3!BG15/Sheet3!$F$1","v":15},{"$f":"+Sheet3!BH15/Sheet3!$F$1","v":53},{"$f":"+Sheet3!BI15/Sheet3!$F$1","v":52},{"$f":"+Sheet3!BJ15/Sheet3!$F$1","v":0},{"$f":"+Sheet3!BK15/Sheet3!$F$1","v":0},{"$f":"+Sheet3!BL15/Sheet3!$F$1","v":30},{"$f":"+Sheet3!BM15/Sheet3!$F$1","v":16},{"$f":"+Sheet3!BN15/Sheet3!$F$1","v":0},{"$f":"+Sheet3!BO15/Sheet3!$F$1","v":0},{"$f":"+Sheet3!BP15/Sheet3!$F$1","v":0},{"$f":"+Sheet3!BQ15/Sheet3!$F$1","v":0},{"$f":"+Sheet3!BR15/Sheet3!$F$1","v":48},{"$f":"+Sheet3!BS15/Sheet3!$F$1","v":54},{"$f":"+Sheet3!BT15/Sheet3!$F$1","v":3},{"$f":"+Sheet3!BU15/Sheet3!$F$1","v":0},{"$f":"+Sheet3!BV15/Sheet3!$F$1","v":266},{"$f":"+Sheet3!BW15/Sheet3!$F$1","v":374},{"$f":"+Sheet3!BX15/Sheet3!$F$1","v":91},{"$f":"+Sheet3!BY15/Sheet3!$F$1","v":0},{"$f":"+Sheet3!BZ15/Sheet3!$F$1","v":0},{"$f":"+Sheet3!CA15/Sheet3!$F$1","v":153},{"$f":"+Sheet3!CB15/Sheet3!$F$1","v":538},{"$f":"+Sheet3!CC15/Sheet3!$F$1","v":289},{"$f":"+Sheet3!CD15/Sheet3!$F$1","v":0},{"$f":"+Sheet3!CE15/Sheet3!$F$1","v":0},{"$f":"+Sheet3!CF15/Sheet3!$F$1","v":130},{"$f":"+Sheet3!CG15/Sheet3!$F$1","v":70},{"$f":"+Sheet3!CH15/Sheet3!$F$1","v":8},{"$f":"+Sheet3!CI15/Sheet3!$F$1","v":0},{"$f":"+Sheet3!CJ15/Sheet3!$F$1","v":0},{"$f":"+Sheet3!CK15/Sheet3!$F$1","v":0},{"$f":"+Sheet3!CL15/Sheet3!$F$1","v":0},{"$f":"+Sheet3!CM15/Sheet3!$F$1","v":0},{"$f":"+Sheet3!CN15/Sheet3!$F$1","v":0},{"$f":"+Sheet3!CO15/Sheet3!$F$1","v":0},{"$f":"+Sheet3!CP15/Sheet3!$F$1","v":3},{"$f":"+Sheet3!CQ15/Sheet3!$F$1","v":0},{"$f":"+Sheet3!CR15/Sheet3!$F$1","v":0},{"$f":"+Sheet3!CS15/Sheet3!$F$1","v":0},{"$f":"+Sheet3!CT15/Sheet3!$F$1","v":0},{"$f":"+Sheet3!CU15/Sheet3!$F$1","v":76},{"$f":"+Sheet3!CV15/Sheet3!$F$1","v":9},{"$f":"+Sheet3!CW15/Sheet3!$F$1","v":727},{"$f":"+Sheet3!CX15/Sheet3!$F$1","v":0},{"$f":"+Sheet3!CY15/Sheet3!$F$1","v":12},{"$f":"+Sheet3!CZ15/Sheet3!$F$1","v":5045},{"$f":"+Sheet3!DA15/Sheet3!$F$1","v":201},{"$f":"+Sheet3!DB15/Sheet3!$F$1","v":2807},{"$f":"+Sheet3!DC15/Sheet3!$F$1","v":2377},{"$f":"+Sheet3!DD15/Sheet3!$F$1","v":10857},{"$f":"+Sheet3!DE15/Sheet3!$F$1","v":18},{"$f":"+Sheet3!DF15/Sheet3!$F$1","v":123},{"$f":"+Sheet3!DG15/Sheet3!$F$1","v":47},{"$f":"+Sheet3!DH15/Sheet3!$F$1","v":114},{"$f":"+Sheet3!DI15/Sheet3!$F$1","v":732},{"$f":"+Sheet3!DJ15/Sheet3!$F$1","v":982},{"$f":"+Sheet3!DK15/Sheet3!$F$1","v":210},{"$f":"+Sheet3!DL15/Sheet3!$F$1","v":0},{"$f":"+Sheet3!DM15/Sheet3!$F$1","v":5},{"$f":"+Sheet3!DN15/Sheet3!$F$1","v":13267},{"$f":"+Sheet3!DO15/Sheet3!$F$1","v":9614},{"$f":"+Sheet3!DP15/Sheet3!$F$1","v":1452},{"$f":"+Sheet3!DQ15/Sheet3!$F$1","v":8},{"$f":"+Sheet3!DR15/Sheet3!$F$1","v":0},24341]
["Centro","16B","Oeste",{"$f":"+Sheet3!D16/Sheet3!$F$1","v":56},{"$f":"+Sheet3!E16/Sheet3!$F$1","v":13},{"$f":"+Sheet3!F16/Sheet3!$F$1","v":5},{"$f":"+Sheet3!G16/Sheet3!$F$1","v":0},{"$f":"+Sheet3!H16/Sheet3!$F$1","v":0},{"$f":"+Sheet3!I16/Sheet3!$F$1","v":4},{"$f":"+Sheet3!J16/Sheet3!$F$1","v":4},{"$f":"+Sheet3!K16/Sheet3!$F$1","v":0},{"$f":"+Sheet3!L16/Sheet3!$F$1","v":0},{"$f":"+Sheet3!M16/Sheet3!$F$1","v":0},{"$f":"+Sheet3!N16/Sheet3!$F$1","v":34},{"$f":"+Sheet3!O16/Sheet3!$F$1","v":27},{"$f":"+Sheet3!P16/Sheet3!$F$1","v":0},{"$f":"+Sheet3!Q16/Sheet3!$F$1","v":0},{"$f":"+Sheet3!R16/Sheet3!$F$1","v":0},{"$f":"+Sheet3!S16/Sheet3!$F$1","v":0},{"$f":"+Sheet3!T16/Sheet3!$F$1","v":0},{"$f":"+Sheet3!U16/Sheet3!$F$1","v":0},{"$f":"+Sheet3!V16/Sheet3!$F$1","v":0},{"$f":"+Sheet3!W16/Sheet3!$F$1","v":0},{"$f":"+Sheet3!X16/Sheet3!$F$1","v":0},{"$f":"+Sheet3!Y16/Sheet3!$F$1","v":0},{"$f":"+Sheet3!Z16/Sheet3!$F$1","v":0},{"$f":"+Sheet3!AA16/Sheet3!$F$1","v":0},{"$f":"+Sheet3!AB16/Sheet3!$F$1","v":0},{"$f":"+Sheet3!AC16/Sheet3!$F$1","v":115},{"$f":"+Sheet3!AD16/Sheet3!$F$1","v":79},{"$f":"+Sheet3!AE16/Sheet3!$F$1","v":4},{"$f":"+Sheet3!AF16/Sheet3!$F$1","v":0},{"$f":"+Sheet3!AG16/Sheet3!$F$1","v":0},{"$f":"+Sheet3!AH16/Sheet3!$F$1","v":62},{"$f":"+Sheet3!AI16/Sheet3!$F$1","v":149},{"$f":"+Sheet3!AJ16/Sheet3!$F$1","v":69},{"$f":"+Sheet3!AK16/Sheet3!$F$1","v":0},{"$f":"+Sheet3!AL16/Sheet3!$F$1","v":0},{"$f":"+Sheet3!AM16/Sheet3!$F$1","v":199},{"$f":"+Sheet3!AN16/Sheet3!$F$1","v":400},{"$f":"+Sheet3!AO16/Sheet3!$F$1","v":103},{"$f":"+Sheet3!AP16/Sheet3!$F$1","v":0},{"$f":"+Sheet3!AQ16/Sheet3!$F$1","v":0},{"$f":"+Sheet3!AR16/Sheet3!$F$1","v":0},{"$f":"+Sheet3!AS16/Sheet3!$F$1","v":0},{"$f":"+Sheet3!AT16/Sheet3!$F$1","v":0},{"$f":"+Sheet3!AU16/Sheet3!$F$1","v":0},{"$f":"+Sheet3!AV16/Sheet3!$F$1","v":0},{"$f":"+Sheet3!AW16/Sheet3!$F$1","v":119},{"$f":"+Sheet3!AX16/Sheet3!$F$1","v":99},{"$f":"+Sheet3!AY16/Sheet3!$F$1","v":24},{"$f":"+Sheet3!AZ16/Sheet3!$F$1","v":0},{"$f":"+Sheet3!BA16/Sheet3!$F$1","v":0},{"$f":"+Sheet3!BB16/Sheet3!$F$1","v":0},{"$f":"+Sheet3!BC16/Sheet3!$F$1","v":4},{"$f":"+Sheet3!BD16/Sheet3!$F$1","v":0},{"$f":"+Sheet3!BE16/Sheet3!$F$1","v":0},{"$f":"+Sheet3!BF16/Sheet3!$F$1","v":0},{"$f":"+Sheet3!BG16/Sheet3!$F$1","v":5},{"$f":"+Sheet3!BH16/Sheet3!$F$1","v":9},{"$f":"+Sheet3!BI16/Sheet3!$F$1","v":5},{"$f":"+Sheet3!BJ16/Sheet3!$F$1","v":0},{"$f":"+Sheet3!BK16/Sheet3!$F$1","v":0},{"$f":"+Sheet3!BL16/Sheet3!$F$1","v":71},{"$f":"+Sheet3!BM16/Sheet3!$F$1","v":24},{"$f":"+Sheet3!BN16/Sheet3!$F$1","v":3},{"$f":"+Sheet3!BO16/Sheet3!$F$1","v":0},{"$f":"+Sheet3!BP16/Sheet3!$F$1","v":0},{"$f":"+Sheet3!BQ16/Sheet3!$F$1","v":7},{"$f":"+Sheet3!BR16/Sheet3!$F$1","v":9},{"$f":"+Sheet3!BS16/Sheet3!$F$1","v":6},{"$f":"+Sheet3!BT16/Sheet3!$F$1","v":0},{"$f":"+Sheet3!BU16/Sheet3!$F$1","v":0},{"$f":"+Sheet3!BV16/Sheet3!$F$1","v":450},{"$f":"+Sheet3!BW16/Sheet3!$F$1","v":28},{"$f":"+Sheet3!BX16/Sheet3!$F$1","v":3},{"$f":"+Sheet3!BY16/Sheet3!$F$1","v":0},{"$f":"+Sheet3!BZ16/Sheet3!$F$1","v":0},{"$f":"+Sheet3!CA16/Sheet3!$F$1","v":52},{"$f":"+Sheet3!CB16/Sheet3!$F$1","v":21},{"$f":"+Sheet3!CC16/Sheet3!$F$1","v":0},{"$f":"+Sheet3!CD16/Sheet3!$F$1","v":0},{"$f":"+Sheet3!CE16/Sheet3!$F$1","v":0},{"$f":"+Sheet3!CF16/Sheet3!$F$1","v":150},{"$f":"+Sheet3!CG16/Sheet3!$F$1","v":44},{"$f":"+Sheet3!CH16/Sheet3!$F$1","v":12},{"$f":"+Sheet3!CI16/Sheet3!$F$1","v":0},{"$f":"+Sheet3!CJ16/Sheet3!$F$1","v":0},{"$f":"+Sheet3!CK16/Sheet3!$F$1","v":0},{"$f":"+Sheet3!CL16/Sheet3!$F$1","v":0},{"$f":"+Sheet3!CM16/Sheet3!$F$1","v":0},{"$f":"+Sheet3!CN16/Sheet3!$F$1","v":0},{"$f":"+Sheet3!CO16/Sheet3!$F$1","v":0},{"$f":"+Sheet3!CP16/Sheet3!$F$1","v":14},{"$f":"+Sheet3!CQ16/Sheet3!$F$1","v":8},{"$f":"+Sheet3!CR16/Sheet3!$F$1","v":0},{"$f":"+Sheet3!CS16/Sheet3!$F$1","v":0},{"$f":"+Sheet3!CT16/Sheet3!$F$1","v":0},{"$f":"+Sheet3!CU16/Sheet3!$F$1","v":75},{"$f":"+Sheet3!CV16/Sheet3!$F$1","v":14},{"$f":"+Sheet3!CW16/Sheet3!$F$1","v":69},{"$f":"+Sheet3!CX16/Sheet3!$F$1","v":0},{"$f":"+Sheet3!CY16/Sheet3!$F$1","v":3},{"$f":"+Sheet3!CZ16/Sheet3!$F$1","v":201},{"$f":"+Sheet3!DA16/Sheet3!$F$1","v":283},{"$f":"+Sheet3!DB16/Sheet3!$F$1","v":703},{"$f":"+Sheet3!DC16/Sheet3!$F$1","v":3},{"$f":"+Sheet3!DD16/Sheet3!$F$1","v":248},{"$f":"+Sheet3!DE16/Sheet3!$F$1","v":7},{"$f":"+Sheet3!DF16/Sheet3!$F$1","v":24},{"$f":"+Sheet3!DG16/Sheet3!$F$1","v":100},{"$f":"+Sheet3!DH16/Sheet3!$F$1","v":23},{"$f":"+Sheet3!DI16/Sheet3!$F$1","v":482},{"$f":"+Sheet3!DJ16/Sheet3!$F$1","v":77},{"$f":"+Sheet3!DK16/Sheet3!$F$1","v":209},{"$f":"+Sheet3!DL16/Sheet3!$F$1","v":0},{"$f":"+Sheet3!DM16/Sheet3!$F$1","v":22},{"$f":"+Sheet3!DN16/Sheet3!$F$1","v":1354},{"$f":"+Sheet3!DO16/Sheet3!$F$1","v":934},{"$f":"+Sheet3!DP16/Sheet3!$F$1","v":252},{"$f":"+Sheet3!DQ16/Sheet3!$F$1","v":6},{"$f":"+Sheet3!DR16/Sheet3!$F$1","v":0},2546]
[null,"16D","Região de Aveiro",{"$f":"+Sheet3!D17/Sheet3!$F$1","v":10},{"$f":"+Sheet3!E17/Sheet3!$F$1","v":0},{"$f":"+Sheet3!F17/Sheet3!$F$1","v":0},{"$f":"+Sheet3!G17/Sheet3!$F$1","v":0},{"$f":"+Sheet3!H17/Sheet3!$F$1","v":0},{"$f":"+Sheet3!I17/Sheet3!$F$1","v":721},{"$f":"+Sheet3!J17/Sheet3!$F$1","v":63},{"$f":"+Sheet3!K17/Sheet3!$F$1","v":10},{"$f":"+Sheet3!L17/Sheet3!$F$1","v":0},{"$f":"+Sheet3!M17/Sheet3!$F$1","v":0},{"$f":"+Sheet3!N17/Sheet3!$F$1","v":577},{"$f":"+Sheet3!O17/Sheet3!$F$1","v":42},{"$f":"+Sheet3!P17/Sheet3!$F$1","v":0},{"$f":"+Sheet3!Q17/Sheet3!$F$1","v":0},{"$f":"+Sheet3!R17/Sheet3!$F$1","v":0},{"$f":"+Sheet3!S17/Sheet3!$F$1","v":0},{"$f":"+Sheet3!T17/Sheet3!$F$1","v":4},{"$f":"+Sheet3!U17/Sheet3!$F$1","v":4},{"$f":"+Sheet3!V17/Sheet3!$F$1","v":0},{"$f":"+Sheet3!W17/Sheet3!$F$1","v":0},{"$f":"+Sheet3!X17/Sheet3!$F$1","v":0},{"$f":"+Sheet3!Y17/Sheet3!$F$1","v":0},{"$f":"+Sheet3!Z17/Sheet3!$F$1","v":0},{"$f":"+Sheet3!AA17/Sheet3!$F$1","v":0},{"$f":"+Sheet3!AB17/Sheet3!$F$1","v":0},{"$f":"+Sheet3!AC17/Sheet3!$F$1","v":259},{"$f":"+Sheet3!AD17/Sheet3!$F$1","v":13},{"$f":"+Sheet3!AE17/Sheet3!$F$1","v":3},{"$f":"+Sheet3!AF17/Sheet3!$F$1","v":0},{"$f":"+Sheet3!AG17/Sheet3!$F$1","v":0},{"$f":"+Sheet3!AH17/Sheet3!$F$1","v":43},{"$f":"+Sheet3!AI17/Sheet3!$F$1","v":26},{"$f":"+Sheet3!AJ17/Sheet3!$F$1","v":7},{"$f":"+Sheet3!AK17/Sheet3!$F$1","v":0},{"$f":"+Sheet3!AL17/Sheet3!$F$1","v":0},{"$f":"+Sheet3!AM17/Sheet3!$F$1","v":214},{"$f":"+Sheet3!AN17/Sheet3!$F$1","v":20},{"$f":"+Sheet3!AO17/Sheet3!$F$1","v":0},{"$f":"+Sheet3!AP17/Sheet3!$F$1","v":0},{"$f":"+Sheet3!AQ17/Sheet3!$F$1","v":0},{"$f":"+Sheet3!AR17/Sheet3!$F$1","v":0},{"$f":"+Sheet3!AS17/Sheet3!$F$1","v":0},{"$f":"+Sheet3!AT17/Sheet3!$F$1","v":0},{"$f":"+Sheet3!AU17/Sheet3!$F$1","v":0},{"$f":"+Sheet3!AV17/Sheet3!$F$1","v":0},{"$f":"+Sheet3!AW17/Sheet3!$F$1","v":764},{"$f":"+Sheet3!AX17/Sheet3!$F$1","v":31},{"$f":"+Sheet3!AY17/Sheet3!$F$1","v":0},{"$f":"+Sheet3!AZ17/Sheet3!$F$1","v":0},{"$f":"+Sheet3!BA17/Sheet3!$F$1","v":0},{"$f":"+Sheet3!BB17/Sheet3!$F$1","v":57},{"$f":"+Sheet3!BC17/Sheet3!$F$1","v":110},{"$f":"+Sheet3!BD17/Sheet3!$F$1","v":13},{"$f":"+Sheet3!BE17/Sheet3!$F$1","v":0},{"$f":"+Sheet3!BF17/Sheet3!$F$1","v":0},{"$f":"+Sheet3!BG17/Sheet3!$F$1","v":49},{"$f":"+Sheet3!BH17/Sheet3!$F$1","v":30},{"$f":"+Sheet3!BI17/Sheet3!$F$1","v":5},{"$f":"+Sheet3!BJ17/Sheet3!$F$1","v":0},{"$f":"+Sheet3!BK17/Sheet3!$F$1","v":0},{"$f":"+Sheet3!BL17/Sheet3!$F$1","v":128},{"$f":"+Sheet3!BM17/Sheet3!$F$1","v":31},{"$f":"+Sheet3!BN17/Sheet3!$F$1","v":0},{"$f":"+Sheet3!BO17/Sheet3!$F$1","v":0},{"$f":"+Sheet3!BP17/Sheet3!$F$1","v":0},{"$f":"+Sheet3!BQ17/Sheet3!$F$1","v":27},{"$f":"+Sheet3!BR17/Sheet3!$F$1","v":14},{"$f":"+Sheet3!BS17/Sheet3!$F$1","v":0},{"$f":"+Sheet3!BT17/Sheet3!$F$1","v":0},{"$f":"+Sheet3!BU17/Sheet3!$F$1","v":0},{"$f":"+Sheet3!BV17/Sheet3!$F$1","v":66},{"$f":"+Sheet3!BW17/Sheet3!$F$1","v":7},{"$f":"+Sheet3!BX17/Sheet3!$F$1","v":0},{"$f":"+Sheet3!BY17/Sheet3!$F$1","v":0},{"$f":"+Sheet3!BZ17/Sheet3!$F$1","v":0},{"$f":"+Sheet3!CA17/Sheet3!$F$1","v":254},{"$f":"+Sheet3!CB17/Sheet3!$F$1","v":27},{"$f":"+Sheet3!CC17/Sheet3!$F$1","v":0},{"$f":"+Sheet3!CD17/Sheet3!$F$1","v":0},{"$f":"+Sheet3!CE17/Sheet3!$F$1","v":0},{"$f":"+Sheet3!CF17/Sheet3!$F$1","v":369},{"$f":"+Sheet3!CG17/Sheet3!$F$1","v":50},{"$f":"+Sheet3!CH17/Sheet3!$F$1","v":0},{"$f":"+Sheet3!CI17/Sheet3!$F$1","v":0},{"$f":"+Sheet3!CJ17/Sheet3!$F$1","v":0},{"$f":"+Sheet3!CK17/Sheet3!$F$1","v":0},{"$f":"+Sheet3!CL17/Sheet3!$F$1","v":0},{"$f":"+Sheet3!CM17/Sheet3!$F$1","v":0},{"$f":"+Sheet3!CN17/Sheet3!$F$1","v":0},{"$f":"+Sheet3!CO17/Sheet3!$F$1","v":0},{"$f":"+Sheet3!CP17/Sheet3!$F$1","v":30},{"$f":"+Sheet3!CQ17/Sheet3!$F$1","v":3},{"$f":"+Sheet3!CR17/Sheet3!$F$1","v":0},{"$f":"+Sheet3!CS17/Sheet3!$F$1","v":0},{"$f":"+Sheet3!CT17/Sheet3!$F$1","v":0},{"$f":"+Sheet3!CU17/Sheet3!$F$1","v":12},{"$f":"+Sheet3!CV17/Sheet3!$F$1","v":797},{"$f":"+Sheet3!CW17/Sheet3!$F$1","v":621},{"$f":"+Sheet3!CX17/Sheet3!$F$1","v":9},{"$f":"+Sheet3!CY17/Sheet3!$F$1","v":0},{"$f":"+Sheet3!CZ17/Sheet3!$F$1","v":276},{"$f":"+Sheet3!DA17/Sheet3!$F$1","v":79},{"$f":"+Sheet3!DB17/Sheet3!$F$1","v":235},{"$f":"+Sheet3!DC17/Sheet3!$F$1","v":3},{"$f":"+Sheet3!DD17/Sheet3!$F$1","v":801},{"$f":"+Sheet3!DE17/Sheet3!$F$1","v":180},{"$f":"+Sheet3!DF17/Sheet3!$F$1","v":84},{"$f":"+Sheet3!DG17/Sheet3!$F$1","v":163},{"$f":"+Sheet3!DH17/Sheet3!$F$1","v":42},{"$f":"+Sheet3!DI17/Sheet3!$F$1","v":73},{"$f":"+Sheet3!DJ17/Sheet3!$F$1","v":286},{"$f":"+Sheet3!DK17/Sheet3!$F$1","v":421},{"$f":"+Sheet3!DL17/Sheet3!$F$1","v":0},{"$f":"+Sheet3!DM17/Sheet3!$F$1","v":34},{"$f":"+Sheet3!DN17/Sheet3!$F$1","v":3584},{"$f":"+Sheet3!DO17/Sheet3!$F$1","v":482},{"$f":"+Sheet3!DP17/Sheet3!$F$1","v":51},{"$f":"+Sheet3!DQ17/Sheet3!$F$1","v":0},{"$f":"+Sheet3!DR17/Sheet3!$F$1","v":0},4117]
[null,"16E","Região de Coimbra",{"$f":"+Sheet3!D18/Sheet3!$F$1","v":24},{"$f":"+Sheet3!E18/Sheet3!$F$1","v":0},{"$f":"+Sheet3!F18/Sheet3!$F$1","v":0},{"$f":"+Sheet3!G18/Sheet3!$F$1","v":0},{"$f":"+Sheet3!H18/Sheet3!$F$1","v":0},{"$f":"+Sheet3!I18/Sheet3!$F$1","v":692},{"$f":"+Sheet3!J18/Sheet3!$F$1","v":226},{"$f":"+Sheet3!K18/Sheet3!$F$1","v":58},{"$f":"+Sheet3!L18/Sheet3!$F$1","v":0},{"$f":"+Sheet3!M18/Sheet3!$F$1","v":0},{"$f":"+Sheet3!N18/Sheet3!$F$1","v":305},{"$f":"+Sheet3!O18/Sheet3!$F$1","v":22},{"$f":"+Sheet3!P18/Sheet3!$F$1","v":3},{"$f":"+Sheet3!Q18/Sheet3!$F$1","v":0},{"$f":"+Sheet3!R18/Sheet3!$F$1","v":0},{"$f":"+Sheet3!S18/Sheet3!$F$1","v":115},{"$f":"+Sheet3!T18/Sheet3!$F$1","v":113},{"$f":"+Sheet3!U18/Sheet3!$F$1","v":46},{"$f":"+Sheet3!V18/Sheet3!$F$1","v":0},{"$f":"+Sheet3!W18/Sheet3!$F$1","v":0},{"$f":"+Sheet3!X18/Sheet3!$F$1","v":0},{"$f":"+Sheet3!Y18/Sheet3!$F$1","v":0},{"$f":"+Sheet3!Z18/Sheet3!$F$1","v":0},{"$f":"+Sheet3!AA18/Sheet3!$F$1","v":0},{"$f":"+Sheet3!AB18/Sheet3!$F$1","v":0},{"$f":"+Sheet3!AC18/Sheet3!$F$1","v":656},{"$f":"+Sheet3!AD18/Sheet3!$F$1","v":37},{"$f":"+Sheet3!AE18/Sheet3!$F$1","v":5},{"$f":"+Sheet3!AF18/Sheet3!$F$1","v":0},{"$f":"+Sheet3!AG18/Sheet3!$F$1","v":0},{"$f":"+Sheet3!AH18/Sheet3!$F$1","v":84},{"$f":"+Sheet3!AI18/Sheet3!$F$1","v":41},{"$f":"+Sheet3!AJ18/Sheet3!$F$1","v":0},{"$f":"+Sheet3!AK18/Sheet3!$F$1","v":0},{"$f":"+Sheet3!AL18/Sheet3!$F$1","v":0},{"$f":"+Sheet3!AM18/Sheet3!$F$1","v":177},{"$f":"+Sheet3!AN18/Sheet3!$F$1","v":72},{"$f":"+Sheet3!AO18/Sheet3!$F$1","v":4},{"$f":"+Sheet3!AP18/Sheet3!$F$1","v":0},{"$f":"+Sheet3!AQ18/Sheet3!$F$1","v":0},{"$f":"+Sheet3!AR18/Sheet3!$F$1","v":134},{"$f":"+Sheet3!AS18/Sheet3!$F$1","v":3},{"$f":"+Sheet3!AT18/Sheet3!$F$1","v":0},{"$f":"+Sheet3!AU18/Sheet3!$F$1","v":0},{"$f":"+Sheet3!AV18/Sheet3!$F$1","v":0},{"$f":"+Sheet3!AW18/Sheet3!$F$1","v":1723},{"$f":"+Sheet3!AX18/Sheet3!$F$1","v":120},{"$f":"+Sheet3!AY18/Sheet3!$F$1","v":11},{"$f":"+Sheet3!AZ18/Sheet3!$F$1","v":0},{"$f":"+Sheet3!BA18/Sheet3!$F$1","v":0},{"$f":"+Sheet3!BB18/Sheet3!$F$1","v":39},{"$f":"+Sheet3!BC18/Sheet3!$F$1","v":34},{"$f":"+Sheet3!BD18/Sheet3!$F$1","v":5},{"$f":"+Sheet3!BE18/Sheet3!$F$1","v":0},{"$f":"+Sheet3!BF18/Sheet3!$F$1","v":0},{"$f":"+Sheet3!BG18/Sheet3!$F$1","v":38},{"$f":"+Sheet3!BH18/Sheet3!$F$1","v":10},{"$f":"+Sheet3!BI18/Sheet3!$F$1","v":6},{"$f":"+Sheet3!BJ18/Sheet3!$F$1","v":0},{"$f":"+Sheet3!BK18/Sheet3!$F$1","v":0},{"$f":"+Sheet3!BL18/Sheet3!$F$1","v":105},{"$f":"+Sheet3!BM18/Sheet3!$F$1","v":13},{"$f":"+Sheet3!BN18/Sheet3!$F$1","v":0},{"$f":"+Sheet3!BO18/Sheet3!$F$1","v":0},{"$f":"+Sheet3!BP18/Sheet3!$F$1","v":0},{"$f":"+Sheet3!BQ18/Sheet3!$F$1","v":14},{"$f":"+Sheet3!BR18/Sheet3!$F$1","v":7},{"$f":"+Sheet3!BS18/Sheet3!$F$1","v":5},{"$f":"+Sheet3!BT18/Sheet3!$F$1","v":0},{"$f":"+Sheet3!BU18/Sheet3!$F$1","v":0},{"$f":"+Sheet3!BV18/Sheet3!$F$1","v":458},{"$f":"+Sheet3!BW18/Sheet3!$F$1","v":80},{"$f":"+Sheet3!BX18/Sheet3!$F$1","v":6},{"$f":"+Sheet3!BY18/Sheet3!$F$1","v":0},{"$f":"+Sheet3!BZ18/Sheet3!$F$1","v":0},{"$f":"+Sheet3!CA18/Sheet3!$F$1","v":389},{"$f":"+Sheet3!CB18/Sheet3!$F$1","v":58},{"$f":"+Sheet3!CC18/Sheet3!$F$1","v":8},{"$f":"+Sheet3!CD18/Sheet3!$F$1","v":0},{"$f":"+Sheet3!CE18/Sheet3!$F$1","v":0},{"$f":"+Sheet3!CF18/Sheet3!$F$1","v":371},{"$f":"+Sheet3!CG18/Sheet3!$F$1","v":30},{"$f":"+Sheet3!CH18/Sheet3!$F$1","v":0},{"$f":"+Sheet3!CI18/Sheet3!$F$1","v":0},{"$f":"+Sheet3!CJ18/Sheet3!$F$1","v":0},{"$f":"+Sheet3!CK18/Sheet3!$F$1","v":0},{"$f":"+Sheet3!CL18/Sheet3!$F$1","v":0},{"$f":"+Sheet3!CM18/Sheet3!$F$1","v":0},{"$f":"+Sheet3!CN18/Sheet3!$F$1","v":0},{"$f":"+Sheet3!CO18/Sheet3!$F$1","v":0},{"$f":"+Sheet3!CP18/Sheet3!$F$1","v":22},{"$f":"+Sheet3!CQ18/Sheet3!$F$1","v":3},{"$f":"+Sheet3!CR18/Sheet3!$F$1","v":0},{"$f":"+Sheet3!CS18/Sheet3!$F$1","v":0},{"$f":"+Sheet3!CT18/Sheet3!$F$1","v":0},{"$f":"+Sheet3!CU18/Sheet3!$F$1","v":29},{"$f":"+Sheet3!CV18/Sheet3!$F$1","v":979},{"$f":"+Sheet3!CW18/Sheet3!$F$1","v":330},{"$f":"+Sheet3!CX18/Sheet3!$F$1","v":277},{"$f":"+Sheet3!CY18/Sheet3!$F$1","v":4},{"$f":"+Sheet3!CZ18/Sheet3!$F$1","v":701},{"$f":"+Sheet3!DA18/Sheet3!$F$1","v":126},{"$f":"+Sheet3!DB18/Sheet3!$F$1","v":253},{"$f":"+Sheet3!DC18/Sheet3!$F$1","v":143},{"$f":"+Sheet3!DD18/Sheet3!$F$1","v":1858},{"$f":"+Sheet3!DE18/Sheet3!$F$1","v":78},{"$f":"+Sheet3!DF18/Sheet3!$F$1","v":56},{"$f":"+Sheet3!DG18/Sheet3!$F$1","v":119},{"$f":"+Sheet3!DH18/Sheet3!$F$1","v":29},{"$f":"+Sheet3!DI18/Sheet3!$F$1","v":546},{"$f":"+Sheet3!DJ18/Sheet3!$F$1","v":457},{"$f":"+Sheet3!DK18/Sheet3!$F$1","v":404},{"$f":"+Sheet3!DL18/Sheet3!$F$1","v":0},{"$f":"+Sheet3!DM18/Sheet3!$F$1","v":27},{"$f":"+Sheet3!DN18/Sheet3!$F$1","v":5358},{"$f":"+Sheet3!DO18/Sheet3!$F$1","v":890},{"$f":"+Sheet3!DP18/Sheet3!$F$1","v":166},{"$f":"+Sheet3!DQ18/Sheet3!$F$1","v":0},{"$f":"+Sheet3!DR18/Sheet3!$F$1","v":0},6414]
[null,"16F","Região de Leiria",{"$f":"+Sheet3!D19/Sheet3!$F$1","v":30},{"$f":"+Sheet3!E19/Sheet3!$F$1","v":3},{"$f":"+Sheet3!F19/Sheet3!$F$1","v":0},{"$f":"+Sheet3!G19/Sheet3!$F$1","v":0},{"$f":"+Sheet3!H19/Sheet3!$F$1","v":0},{"$f":"+Sheet3!I19/Sheet3!$F$1","v":116},{"$f":"+Sheet3!J19/Sheet3!$F$1","v":19},{"$f":"+Sheet3!K19/Sheet3!$F$1","v":5},{"$f":"+Sheet3!L19/Sheet3!$F$1","v":0},{"$f":"+Sheet3!M19/Sheet3!$F$1","v":0},{"$f":"+Sheet3!N19/Sheet3!$F$1","v":99},{"$f":"+Sheet3!O19/Sheet3!$F$1","v":5},{"$f":"+Sheet3!P19/Sheet3!$F$1","v":0},{"$f":"+Sheet3!Q19/Sheet3!$F$1","v":0},{"$f":"+Sheet3!R19/Sheet3!$F$1","v":0},{"$f":"+Sheet3!S19/Sheet3!$F$1","v":10},{"$f":"+Sheet3!T19/Sheet3!$F$1","v":11},{"$f":"+Sheet3!U19/Sheet3!$F$1","v":0},{"$f":"+Sheet3!V19/Sheet3!$F$1","v":0},{"$f":"+Sheet3!W19/Sheet3!$F$1","v":0},{"$f":"+Sheet3!X19/Sheet3!$F$1","v":0},{"$f":"+Sheet3!Y19/Sheet3!$F$1","v":0},{"$f":"+Sheet3!Z19/Sheet3!$F$1","v":0},{"$f":"+Sheet3!AA19/Sheet3!$F$1","v":0},{"$f":"+Sheet3!AB19/Sheet3!$F$1","v":0},{"$f":"+Sheet3!AC19/Sheet3!$F$1","v":371},{"$f":"+Sheet3!AD19/Sheet3!$F$1","v":12},{"$f":"+Sheet3!AE19/Sheet3!$F$1","v":5},{"$f":"+Sheet3!AF19/Sheet3!$F$1","v":0},{"$f":"+Sheet3!AG19/Sheet3!$F$1","v":0},{"$f":"+Sheet3!AH19/Sheet3!$F$1","v":0},{"$f":"+Sheet3!AI19/Sheet3!$F$1","v":3},{"$f":"+Sheet3!AJ19/Sheet3!$F$1","v":0},{"$f":"+Sheet3!AK19/Sheet3!$F$1","v":0},{"$f":"+Sheet3!AL19/Sheet3!$F$1","v":0},{"$f":"+Sheet3!AM19/Sheet3!$F$1","v":94},{"$f":"+Sheet3!AN19/Sheet3!$F$1","v":29},{"$f":"+Sheet3!AO19/Sheet3!$F$1","v":3},{"$f":"+Sheet3!AP19/Sheet3!$F$1","v":0},{"$f":"+Sheet3!AQ19/Sheet3!$F$1","v":0},{"$f":"+Sheet3!AR19/Sheet3!$F$1","v":239},{"$f":"+Sheet3!AS19/Sheet3!$F$1","v":14},{"$f":"+Sheet3!AT19/Sheet3!$F$1","v":0},{"$f":"+Sheet3!AU19/Sheet3!$F$1","v":0},{"$f":"+Sheet3!AV19/Sheet3!$F$1","v":0},{"$f":"+Sheet3!AW19/Sheet3!$F$1","v":866},{"$f":"+Sheet3!AX19/Sheet3!$F$1","v":40},{"$f":"+Sheet3!AY19/Sheet3!$F$1","v":0},{"$f":"+Sheet3!AZ19/Sheet3!$F$1","v":0},{"$f":"+Sheet3!BA19/Sheet3!$F$1","v":0},{"$f":"+Sheet3!BB19/Sheet3!$F$1","v":0},{"$f":"+Sheet3!BC19/Sheet3!$F$1","v":8},{"$f":"+Sheet3!BD19/Sheet3!$F$1","v":0},{"$f":"+Sheet3!BE19/Sheet3!$F$1","v":0},{"$f":"+Sheet3!BF19/Sheet3!$F$1","v":0},{"$f":"+Sheet3!BG19/Sheet3!$F$1","v":12},{"$f":"+Sheet3!BH19/Sheet3!$F$1","v":25},{"$f":"+Sheet3!BI19/Sheet3!$F$1","v":6},{"$f":"+Sheet3!BJ19/Sheet3!$F$1","v":0},{"$f":"+Sheet3!BK19/Sheet3!$F$1","v":0},{"$f":"+Sheet3!BL19/Sheet3!$F$1","v":86},{"$f":"+Sheet3!BM19/Sheet3!$F$1","v":27},{"$f":"+Sheet3!BN19/Sheet3!$F$1","v":3},{"$f":"+Sheet3!BO19/Sheet3!$F$1","v":0},{"$f":"+Sheet3!BP19/Sheet3!$F$1","v":0},{"$f":"+Sheet3!BQ19/Sheet3!$F$1","v":0},{"$f":"+Sheet3!BR19/Sheet3!$F$1","v":7},{"$f":"+Sheet3!BS19/Sheet3!$F$1","v":3},{"$f":"+Sheet3!BT19/Sheet3!$F$1","v":0},{"$f":"+Sheet3!BU19/Sheet3!$F$1","v":0},{"$f":"+Sheet3!BV19/Sheet3!$F$1","v":385},{"$f":"+Sheet3!BW19/Sheet3!$F$1","v":56},{"$f":"+Sheet3!BX19/Sheet3!$F$1","v":6},{"$f":"+Sheet3!BY19/Sheet3!$F$1","v":0},{"$f":"+Sheet3!BZ19/Sheet3!$F$1","v":0},{"$f":"+Sheet3!CA19/Sheet3!$F$1","v":295},{"$f":"+Sheet3!CB19/Sheet3!$F$1","v":44},{"$f":"+Sheet3!CC19/Sheet3!$F$1","v":3},{"$f":"+Sheet3!CD19/Sheet3!$F$1","v":0},{"$f":"+Sheet3!CE19/Sheet3!$F$1","v":0},{"$f":"+Sheet3!CF19/Sheet3!$F$1","v":114},{"$f":"+Sheet3!CG19/Sheet3!$F$1","v":5},{"$f":"+Sheet3!CH19/Sheet3!$F$1","v":0},{"$f":"+Sheet3!CI19/Sheet3!$F$1","v":0},{"$f":"+Sheet3!CJ19/Sheet3!$F$1","v":0},{"$f":"+Sheet3!CK19/Sheet3!$F$1","v":0},{"$f":"+Sheet3!CL19/Sheet3!$F$1","v":0},{"$f":"+Sheet3!CM19/Sheet3!$F$1","v":0},{"$f":"+Sheet3!CN19/Sheet3!$F$1","v":0},{"$f":"+Sheet3!CO19/Sheet3!$F$1","v":0},{"$f":"+Sheet3!CP19/Sheet3!$F$1","v":0},{"$f":"+Sheet3!CQ19/Sheet3!$F$1","v":0},{"$f":"+Sheet3!CR19/Sheet3!$F$1","v":0},{"$f":"+Sheet3!CS19/Sheet3!$F$1","v":0},{"$f":"+Sheet3!CT19/Sheet3!$F$1","v":0},{"$f":"+Sheet3!CU19/Sheet3!$F$1","v":35},{"$f":"+Sheet3!CV19/Sheet3!$F$1","v":142},{"$f":"+Sheet3!CW19/Sheet3!$F$1","v":105},{"$f":"+Sheet3!CX19/Sheet3!$F$1","v":24},{"$f":"+Sheet3!CY19/Sheet3!$F$1","v":0},{"$f":"+Sheet3!CZ19/Sheet3!$F$1","v":389},{"$f":"+Sheet3!DA19/Sheet3!$F$1","v":6},{"$f":"+Sheet3!DB19/Sheet3!$F$1","v":129},{"$f":"+Sheet3!DC19/Sheet3!$F$1","v":257},{"$f":"+Sheet3!DD19/Sheet3!$F$1","v":909},{"$f":"+Sheet3!DE19/Sheet3!$F$1","v":13},{"$f":"+Sheet3!DF19/Sheet3!$F$1","v":45},{"$f":"+Sheet3!DG19/Sheet3!$F$1","v":116},{"$f":"+Sheet3!DH19/Sheet3!$F$1","v":14},{"$f":"+Sheet3!DI19/Sheet3!$F$1","v":449},{"$f":"+Sheet3!DJ19/Sheet3!$F$1","v":345},{"$f":"+Sheet3!DK19/Sheet3!$F$1","v":121},{"$f":"+Sheet3!DL19/Sheet3!$F$1","v":0},{"$f":"+Sheet3!DM19/Sheet3!$F$1","v":0},{"$f":"+Sheet3!DN19/Sheet3!$F$1","v":2730},{"$f":"+Sheet3!DO19/Sheet3!$F$1","v":326},{"$f":"+Sheet3!DP19/Sheet3!$F$1","v":44},{"$f":"+Sheet3!DQ19/Sheet3!$F$1","v":0},{"$f":"+Sheet3!DR19/Sheet3!$F$1","v":0},3100]
[null,"16G","Viseu Dão Lafões",{"$f":"+Sheet3!D20/Sheet3!$F$1","v":20},{"$f":"+Sheet3!E20/Sheet3!$F$1","v":0},{"$f":"+Sheet3!F20/Sheet3!$F$1","v":0},{"$f":"+Sheet3!G20/Sheet3!$F$1","v":0},{"$f":"+Sheet3!H20/Sheet3!$F$1","v":0},{"$f":"+Sheet3!I20/Sheet3!$F$1","v":181},{"$f":"+Sheet3!J20/Sheet3!$F$1","v":0},{"$f":"+Sheet3!K20/Sheet3!$F$1","v":0},{"$f":"+Sheet3!L20/Sheet3!$F$1","v":0},{"$f":"+Sheet3!M20/Sheet3!$F$1","v":0},{"$f":"+Sheet3!N20/Sheet3!$F$1","v":238},{"$f":"+Sheet3!O20/Sheet3!$F$1","v":17},{"$f":"+Sheet3!P20/Sheet3!$F$1","v":0},{"$f":"+Sheet3!Q20/Sheet3!$F$1","v":0},{"$f":"+Sheet3!R20/Sheet3!$F$1","v":0},{"$f":"+Sheet3!S20/Sheet3!$F$1","v":0},{"$f":"+Sheet3!T20/Sheet3!$F$1","v":0},{"$f":"+Sheet3!U20/Sheet3!$F$1","v":0},{"$f":"+Sheet3!V20/Sheet3!$F$1","v":0},{"$f":"+Sheet3!W20/Sheet3!$F$1","v":0},{"$f":"+Sheet3!X20/Sheet3!$F$1","v":0},{"$f":"+Sheet3!Y20/Sheet3!$F$1","v":0},{"$f":"+Sheet3!Z20/Sheet3!$F$1","v":0},{"$f":"+Sheet3!AA20/Sheet3!$F$1","v":0},{"$f":"+Sheet3!AB20/Sheet3!$F$1","v":0},{"$f":"+Sheet3!AC20/Sheet3!$F$1","v":1027},{"$f":"+Sheet3!AD20/Sheet3!$F$1","v":17},{"$f":"+Sheet3!AE20/Sheet3!$F$1","v":0},{"$f":"+Sheet3!AF20/Sheet3!$F$1","v":0},{"$f":"+Sheet3!AG20/Sheet3!$F$1","v":0},{"$f":"+Sheet3!AH20/Sheet3!$F$1","v":269},{"$f":"+Sheet3!AI20/Sheet3!$F$1","v":134},{"$f":"+Sheet3!AJ20/Sheet3!$F$1","v":18},{"$f":"+Sheet3!AK20/Sheet3!$F$1","v":0},{"$f":"+Sheet3!AL20/Sheet3!$F$1","v":0},{"$f":"+Sheet3!AM20/Sheet3!$F$1","v":474},{"$f":"+Sheet3!AN20/Sheet3!$F$1","v":82},{"$f":"+Sheet3!AO20/Sheet3!$F$1","v":5},{"$f":"+Sheet3!AP20/Sheet3!$F$1","v":0},{"$f":"+Sheet3!AQ20/Sheet3!$F$1","v":0},{"$f":"+Sheet3!AR20/Sheet3!$F$1","v":60},{"$f":"+Sheet3!AS20/Sheet3!$F$1","v":4},{"$f":"+Sheet3!AT20/Sheet3!$F$1","v":0},{"$f":"+Sheet3!AU20/Sheet3!$F$1","v":0},{"$f":"+Sheet3!AV20/Sheet3!$F$1","v":0},{"$f":"+Sheet3!AW20/Sheet3!$F$1","v":2647},{"$f":"+Sheet3!AX20/Sheet3!$F$1","v":137},{"$f":"+Sheet3!AY20/Sheet3!$F$1","v":7},{"$f":"+Sheet3!AZ20/Sheet3!$F$1","v":0},{"$f":"+Sheet3!BA20/Sheet3!$F$1","v":0},{"$f":"+Sheet3!BB20/Sheet3!$F$1","v":15},{"$f":"+Sheet3!BC20/Sheet3!$F$1","v":18},{"$f":"+Sheet3!BD20/Sheet3!$F$1","v":0},{"$f":"+Sheet3!BE20/Sheet3!$F$1","v":0},{"$f":"+Sheet3!BF20/Sheet3!$F$1","v":0},{"$f":"+Sheet3!BG20/Sheet3!$F$1","v":66},{"$f":"+Sheet3!BH20/Sheet3!$F$1","v":37},{"$f":"+Sheet3!BI20/Sheet3!$F$1","v":3},{"$f":"+Sheet3!BJ20/Sheet3!$F$1","v":0},{"$f":"+Sheet3!BK20/Sheet3!$F$1","v":0},{"$f":"+Sheet3!BL20/Sheet3!$F$1","v":75},{"$f":"+Sheet3!BM20/Sheet3!$F$1","v":11},{"$f":"+Sheet3!BN20/Sheet3!$F$1","v":0},{"$f":"+Sheet3!BO20/Sheet3!$F$1","v":0},{"$f":"+Sheet3!BP20/Sheet3!$F$1","v":0},{"$f":"+Sheet3!BQ20/Sheet3!$F$1","v":53},{"$f":"+Sheet3!BR20/Sheet3!$F$1","v":74},{"$f":"+Sheet3!BS20/Sheet3!$F$1","v":11},{"$f":"+Sheet3!BT20/Sheet3!$F$1","v":0},{"$f":"+Sheet3!BU20/Sheet3!$F$1","v":0},{"$f":"+Sheet3!BV20/Sheet3!$F$1","v":748},{"$f":"+Sheet3!BW20/Sheet3!$F$1","v":162},{"$f":"+Sheet3!BX20/Sheet3!$F$1","v":13},{"$f":"+Sheet3!BY20/Sheet3!$F$1","v":0},{"$f":"+Sheet3!BZ20/Sheet3!$F$1","v":0},{"$f":"+Sheet3!CA20/Sheet3!$F$1","v":891},{"$f":"+Sheet3!CB20/Sheet3!$F$1","v":113},{"$f":"+Sheet3!CC20/Sheet3!$F$1","v":4},{"$f":"+Sheet3!CD20/Sheet3!$F$1","v":0},{"$f":"+Sheet3!CE20/Sheet3!$F$1","v":0},{"$f":"+Sheet3!CF20/Sheet3!$F$1","v":139},{"$f":"+Sheet3!CG20/Sheet3!$F$1","v":9},{"$f":"+Sheet3!CH20/Sheet3!$F$1","v":0},{"$f":"+Sheet3!CI20/Sheet3!$F$1","v":0},{"$f":"+Sheet3!CJ20/Sheet3!$F$1","v":0},{"$f":"+Sheet3!CK20/Sheet3!$F$1","v":0},{"$f":"+Sheet3!CL20/Sheet3!$F$1","v":0},{"$f":"+Sheet3!CM20/Sheet3!$F$1","v":0},{"$f":"+Sheet3!CN20/Sheet3!$F$1","v":0},{"$f":"+Sheet3!CO20/Sheet3!$F$1","v":0},{"$f":"+Sheet3!CP20/Sheet3!$F$1","v":14},{"$f":"+Sheet3!CQ20/Sheet3!$F$1","v":0},{"$f":"+Sheet3!CR20/Sheet3!$F$1","v":0},{"$f":"+Sheet3!CS20/Sheet3!$F$1","v":0},{"$f":"+Sheet3!CT20/Sheet3!$F$1","v":0},{"$f":"+Sheet3!CU20/Sheet3!$F$1","v":25},{"$f":"+Sheet3!CV20/Sheet3!$F$1","v":184},{"$f":"+Sheet3!CW20/Sheet3!$F$1","v":256},{"$f":"+Sheet3!CX20/Sheet3!$F$1","v":0},{"$f":"+Sheet3!CY20/Sheet3!$F$1","v":0},{"$f":"+Sheet3!CZ20/Sheet3!$F$1","v":1044},{"$f":"+Sheet3!DA20/Sheet3!$F$1","v":426},{"$f":"+Sheet3!DB20/Sheet3!$F$1","v":563},{"$f":"+Sheet3!DC20/Sheet3!$F$1","v":67},{"$f":"+Sheet3!DD20/Sheet3!$F$1","v":2791},{"$f":"+Sheet3!DE20/Sheet3!$F$1","v":36},{"$f":"+Sheet3!DF20/Sheet3!$F$1","v":110},{"$f":"+Sheet3!DG20/Sheet3!$F$1","v":87},{"$f":"+Sheet3!DH20/Sheet3!$F$1","v":140},{"$f":"+Sheet3!DI20/Sheet3!$F$1","v":923},{"$f":"+Sheet3!DJ20/Sheet3!$F$1","v":1009},{"$f":"+Sheet3!DK20/Sheet3!$F$1","v":148},{"$f":"+Sheet3!DL20/Sheet3!$F$1","v":0},{"$f":"+Sheet3!DM20/Sheet3!$F$1","v":14},{"$f":"+Sheet3!DN20/Sheet3!$F$1","v":6926},{"$f":"+Sheet3!DO20/Sheet3!$F$1","v":831},{"$f":"+Sheet3!DP20/Sheet3!$F$1","v":68},{"$f":"+Sheet3!DQ20/Sheet3!$F$1","v":0},{"$f":"+Sheet3!DR20/Sheet3!$F$1","v":0},7825]
[null,"16H","Beira Baixa",{"$f":"+Sheet3!D21/Sheet3!$F$1","v":24},{"$f":"+Sheet3!E21/Sheet3!$F$1","v":3},{"$f":"+Sheet3!F21/Sheet3!$F$1","v":0},{"$f":"+Sheet3!G21/Sheet3!$F$1","v":0},{"$f":"+Sheet3!H21/Sheet3!$F$1","v":0},{"$f":"+Sheet3!I21/Sheet3!$F$1","v":3},{"$f":"+Sheet3!J21/Sheet3!$F$1","v":4},{"$f":"+Sheet3!K21/Sheet3!$F$1","v":4},{"$f":"+Sheet3!L21/Sheet3!$F$1","v":0},{"$f":"+Sheet3!M21/Sheet3!$F$1","v":0},{"$f":"+Sheet3!N21/Sheet3!$F$1","v":50},{"$f":"+Sheet3!O21/Sheet3!$F$1","v":61},{"$f":"+Sheet3!P21/Sheet3!$F$1","v":32},{"$f":"+Sheet3!Q21/Sheet3!$F$1","v":3},{"$f":"+Sheet3!R21/Sheet3!$F$1","v":0},{"$f":"+Sheet3!S21/Sheet3!$F$1","v":0},{"$f":"+Sheet3!T21/Sheet3!$F$1","v":0},{"$f":"+Sheet3!U21/Sheet3!$F$1","v":0},{"$f":"+Sheet3!V21/Sheet3!$F$1","v":0},{"$f":"+Sheet3!W21/Sheet3!$F$1","v":0},{"$f":"+Sheet3!X21/Sheet3!$F$1","v":0},{"$f":"+Sheet3!Y21/Sheet3!$F$1","v":0},{"$f":"+Sheet3!Z21/Sheet3!$F$1","v":0},{"$f":"+Sheet3!AA21/Sheet3!$F$1","v":0},{"$f":"+Sheet3!AB21/Sheet3!$F$1","v":0},{"$f":"+Sheet3!AC21/Sheet3!$F$1","v":265},{"$f":"+Sheet3!AD21/Sheet3!$F$1","v":18},{"$f":"+Sheet3!AE21/Sheet3!$F$1","v":10},{"$f":"+Sheet3!AF21/Sheet3!$F$1","v":0},{"$f":"+Sheet3!AG21/Sheet3!$F$1","v":0},{"$f":"+Sheet3!AH21/Sheet3!$F$1","v":3},{"$f":"+Sheet3!AI21/Sheet3!$F$1","v":0},{"$f":"+Sheet3!AJ21/Sheet3!$F$1","v":0},{"$f":"+Sheet3!AK21/Sheet3!$F$1","v":0},{"$f":"+Sheet3!AL21/Sheet3!$F$1","v":0},{"$f":"+Sheet3!AM21/Sheet3!$F$1","v":206},{"$f":"+Sheet3!AN21/Sheet3!$F$1","v":65},{"$f":"+Sheet3!AO21/Sheet3!$F$1","v":37},{"$f":"+Sheet3!AP21/Sheet3!$F$1","v":8},{"$f":"+Sheet3!AQ21/Sheet3!$F$1","v":0},{"$f":"+Sheet3!AR21/Sheet3!$F$1","v":582},{"$f":"+Sheet3!AS21/Sheet3!$F$1","v":122},{"$f":"+Sheet3!AT21/Sheet3!$F$1","v":19},{"$f":"+Sheet3!AU21/Sheet3!$F$1","v":0},{"$f":"+Sheet3!AV21/Sheet3!$F$1","v":0},{"$f":"+Sheet3!AW21/Sheet3!$F$1","v":944},{"$f":"+Sheet3!AX21/Sheet3!$F$1","v":311},{"$f":"+Sheet3!AY21/Sheet3!$F$1","v":63},{"$f":"+Sheet3!AZ21/Sheet3!$F$1","v":5},{"$f":"+Sheet3!BA21/Sheet3!$F$1","v":0},{"$f":"+Sheet3!BB21/Sheet3!$F$1","v":0},{"$f":"+Sheet3!BC21/Sheet3!$F$1","v":0},{"$f":"+Sheet3!BD21/Sheet3!$F$1","v":0},{"$f":"+Sheet3!BE21/Sheet3!$F$1","v":0},{"$f":"+Sheet3!BF21/Sheet3!$F$1","v":0},{"$f":"+Sheet3!BG21/Sheet3!$F$1","v":0},{"$f":"+Sheet3!BH21/Sheet3!$F$1","v":11},{"$f":"+Sheet3!BI21/Sheet3!$F$1","v":28},{"$f":"+Sheet3!BJ21/Sheet3!$F$1","v":0},{"$f":"+Sheet3!BK21/Sheet3!$F$1","v":0},{"$f":"+Sheet3!BL21/Sheet3!$F$1","v":7},{"$f":"+Sheet3!BM21/Sheet3!$F$1","v":8},{"$f":"+Sheet3!BN21/Sheet3!$F$1","v":0},{"$f":"+Sheet3!BO21/Sheet3!$F$1","v":0},{"$f":"+Sheet3!BP21/Sheet3!$F$1","v":0},{"$f":"+Sheet3!BQ21/Sheet3!$F$1","v":0},{"$f":"+Sheet3!BR21/Sheet3!$F$1","v":15},{"$f":"+Sheet3!BS21/Sheet3!$F$1","v":92},{"$f":"+Sheet3!BT21/Sheet3!$F$1","v":72},{"$f":"+Sheet3!BU21/Sheet3!$F$1","v":0},{"$f":"+Sheet3!BV21/Sheet3!$F$1","v":333},{"$f":"+Sheet3!BW21/Sheet3!$F$1","v":288},{"$f":"+Sheet3!BX21/Sheet3!$F$1","v":253},{"$f":"+Sheet3!BY21/Sheet3!$F$1","v":44},{"$f":"+Sheet3!BZ21/Sheet3!$F$1","v":3},{"$f":"+Sheet3!CA21/Sheet3!$F$1","v":109},{"$f":"+Sheet3!CB21/Sheet3!$F$1","v":84},{"$f":"+Sheet3!CC21/Sheet3!$F$1","v":47},{"$f":"+Sheet3!CD21/Sheet3!$F$1","v":7},{"$f":"+Sheet3!CE21/Sheet3!$F$1","v":0},{"$f":"+Sheet3!CF21/Sheet3!$F$1","v":90},{"$f":"+Sheet3!CG21/Sheet3!$F$1","v":127},{"$f":"+Sheet3!CH21/Sheet3!$F$1","v":93},{"$f":"+Sheet3!CI21/Sheet3!$F$1","v":15},{"$f":"+Sheet3!CJ21/Sheet3!$F$1","v":0},{"$f":"+Sheet3!CK21/Sheet3!$F$1","v":0},{"$f":"+Sheet3!CL21/Sheet3!$F$1","v":0},{"$f":"+Sheet3!CM21/Sheet3!$F$1","v":0},{"$f":"+Sheet3!CN21/Sheet3!$F$1","v":0},{"$f":"+Sheet3!CO21/Sheet3!$F$1","v":0},{"$f":"+Sheet3!CP21/Sheet3!$F$1","v":0},{"$f":"+Sheet3!CQ21/Sheet3!$F$1","v":0},{"$f":"+Sheet3!CR21/Sheet3!$F$1","v":0},{"$f":"+Sheet3!CS21/Sheet3!$F$1","v":0},{"$f":"+Sheet3!CT21/Sheet3!$F$1","v":0},{"$f":"+Sheet3!CU21/Sheet3!$F$1","v":30},{"$f":"+Sheet3!CV21/Sheet3!$F$1","v":16},{"$f":"+Sheet3!CW21/Sheet3!$F$1","v":150},{"$f":"+Sheet3!CX21/Sheet3!$F$1","v":0},{"$f":"+Sheet3!CY21/Sheet3!$F$1","v":0},{"$f":"+Sheet3!CZ21/Sheet3!$F$1","v":295},{"$f":"+Sheet3!DA21/Sheet3!$F$1","v":10},{"$f":"+Sheet3!DB21/Sheet3!$F$1","v":319},{"$f":"+Sheet3!DC21/Sheet3!$F$1","v":731},{"$f":"+Sheet3!DD21/Sheet3!$F$1","v":1325},{"$f":"+Sheet3!DE21/Sheet3!$F$1","v":3},{"$f":"+Sheet3!DF21/Sheet3!$F$1","v":42},{"$f":"+Sheet3!DG21/Sheet3!$F$1","v":16},{"$f":"+Sheet3!DH21/Sheet3!$F$1","v":184},{"$f":"+Sheet3!DI21/Sheet3!$F$1","v":921},{"$f":"+Sheet3!DJ21/Sheet3!$F$1","v":249},{"$f":"+Sheet3!DK21/Sheet3!$F$1","v":328},{"$f":"+Sheet3!DL21/Sheet3!$F$1","v":0},{"$f":"+Sheet3!DM21/Sheet3!$F$1","v":0},{"$f":"+Sheet3!DN21/Sheet3!$F$1","v":2630},{"$f":"+Sheet3!DO21/Sheet3!$F$1","v":1129},{"$f":"+Sheet3!DP21/Sheet3!$F$1","v":694},{"$f":"+Sheet3!DQ21/Sheet3!$F$1","v":161},{"$f":"+Sheet3!DR21/Sheet3!$F$1","v":7},4621]
[null,"16I","Médio Tejo",{"$f":"+Sheet3!D22/Sheet3!$F$1","v":9},{"$f":"+Sheet3!E22/Sheet3!$F$1","v":3},{"$f":"+Sheet3!F22/Sheet3!$F$1","v":0},{"$f":"+Sheet3!G22/Sheet3!$F$1","v":0},{"$f":"+Sheet3!H22/Sheet3!$F$1","v":0},{"$f":"+Sheet3!I22/Sheet3!$F$1","v":18},{"$f":"+Sheet3!J22/Sheet3!$F$1","v":15},{"$f":"+Sheet3!K22/Sheet3!$F$1","v":18},{"$f":"+Sheet3!L22/Sheet3!$F$1","v":0},{"$f":"+Sheet3!M22/Sheet3!$F$1","v":0},{"$f":"+Sheet3!N22/Sheet3!$F$1","v":35},{"$f":"+Sheet3!O22/Sheet3!$F$1","v":18},{"$f":"+Sheet3!P22/Sheet3!$F$1","v":7},{"$f":"+Sheet3!Q22/Sheet3!$F$1","v":0},{"$f":"+Sheet3!R22/Sheet3!$F$1","v":0},{"$f":"+Sheet3!S22/Sheet3!$F$1","v":0},{"$f":"+Sheet3!T22/Sheet3!$F$1","v":0},{"$f":"+Sheet3!U22/Sheet3!$F$1","v":0},{"$f":"+Sheet3!V22/Sheet3!$F$1","v":0},{"$f":"+Sheet3!W22/Sheet3!$F$1","v":0},{"$f":"+Sheet3!X22/Sheet3!$F$1","v":0},{"$f":"+Sheet3!Y22/Sheet3!$F$1","v":0},{"$f":"+Sheet3!Z22/Sheet3!$F$1","v":0},{"$f":"+Sheet3!AA22/Sheet3!$F$1","v":0},{"$f":"+Sheet3!AB22/Sheet3!$F$1","v":0},{"$f":"+Sheet3!AC22/Sheet3!$F$1","v":194},{"$f":"+Sheet3!AD22/Sheet3!$F$1","v":11},{"$f":"+Sheet3!AE22/Sheet3!$F$1","v":0},{"$f":"+Sheet3!AF22/Sheet3!$F$1","v":0},{"$f":"+Sheet3!AG22/Sheet3!$F$1","v":0},{"$f":"+Sheet3!AH22/Sheet3!$F$1","v":41},{"$f":"+Sheet3!AI22/Sheet3!$F$1","v":9},{"$f":"+Sheet3!AJ22/Sheet3!$F$1","v":6},{"$f":"+Sheet3!AK22/Sheet3!$F$1","v":0},{"$f":"+Sheet3!AL22/Sheet3!$F$1","v":0},{"$f":"+Sheet3!AM22/Sheet3!$F$1","v":243},{"$f":"+Sheet3!AN22/Sheet3!$F$1","v":81},{"$f":"+Sheet3!AO22/Sheet3!$F$1","v":14},{"$f":"+Sheet3!AP22/Sheet3!$F$1","v":0},{"$f":"+Sheet3!AQ22/Sheet3!$F$1","v":0},{"$f":"+Sheet3!AR22/Sheet3!$F$1","v":614},{"$f":"+Sheet3!AS22/Sheet3!$F$1","v":75},{"$f":"+Sheet3!AT22/Sheet3!$F$1","v":10},{"$f":"+Sheet3!AU22/Sheet3!$F$1","v":0},{"$f":"+Sheet3!AV22/Sheet3!$F$1","v":0},{"$f":"+Sheet3!AW22/Sheet3!$F$1","v":1363},{"$f":"+Sheet3!AX22/Sheet3!$F$1","v":216},{"$f":"+Sheet3!AY22/Sheet3!$F$1","v":29},{"$f":"+Sheet3!AZ22/Sheet3!$F$1","v":7},{"$f":"+Sheet3!BA22/Sheet3!$F$1","v":0},{"$f":"+Sheet3!BB22/Sheet3!$F$1","v":0},{"$f":"+Sheet3!BC22/Sheet3!$F$1","v":5},{"$f":"+Sheet3!BD22/Sheet3!$F$1","v":0},{"$f":"+Sheet3!BE22/Sheet3!$F$1","v":0},{"$f":"+Sheet3!BF22/Sheet3!$F$1","v":0},{"$f":"+Sheet3!BG22/Sheet3!$F$1","v":6},{"$f":"+Sheet3!BH22/Sheet3!$F$1","v":15},{"$f":"+Sheet3!BI22/Sheet3!$F$1","v":6},{"$f":"+Sheet3!BJ22/Sheet3!$F$1","v":0},{"$f":"+Sheet3!BK22/Sheet3!$F$1","v":0},{"$f":"+Sheet3!BL22/Sheet3!$F$1","v":45},{"$f":"+Sheet3!BM22/Sheet3!$F$1","v":20},{"$f":"+Sheet3!BN22/Sheet3!$F$1","v":4},{"$f":"+Sheet3!BO22/Sheet3!$F$1","v":0},{"$f":"+Sheet3!BP22/Sheet3!$F$1","v":0},{"$f":"+Sheet3!BQ22/Sheet3!$F$1","v":0},{"$f":"+Sheet3!BR22/Sheet3!$F$1","v":4},{"$f":"+Sheet3!BS22/Sheet3!$F$1","v":5},{"$f":"+Sheet3!BT22/Sheet3!$F$1","v":0},{"$f":"+Sheet3!BU22/Sheet3!$F$1","v":0},{"$f":"+Sheet3!BV22/Sheet3!$F$1","v":334},{"$f":"+Sheet3!BW22/Sheet3!$F$1","v":60},{"$f":"+Sheet3!BX22/Sheet3!$F$1","v":21},{"$f":"+Sheet3!BY22/Sheet3!$F$1","v":0},{"$f":"+Sheet3!BZ22/Sheet3!$F$1","v":0},{"$f":"+Sheet3!CA22/Sheet3!$F$1","v":251},{"$f":"+Sheet3!CB22/Sheet3!$F$1","v":64},{"$f":"+Sheet3!CC22/Sheet3!$F$1","v":20},{"$f":"+Sheet3!CD22/Sheet3!$F$1","v":4},{"$f":"+Sheet3!CE22/Sheet3!$F$1","v":0},{"$f":"+Sheet3!CF22/Sheet3!$F$1","v":79},{"$f":"+Sheet3!CG22/Sheet3!$F$1","v":47},{"$f":"+Sheet3!CH22/Sheet3!$F$1","v":34},{"$f":"+Sheet3!CI22/Sheet3!$F$1","v":0},{"$f":"+Sheet3!CJ22/Sheet3!$F$1","v":0},{"$f":"+Sheet3!CK22/Sheet3!$F$1","v":0},{"$f":"+Sheet3!CL22/Sheet3!$F$1","v":0},{"$f":"+Sheet3!CM22/Sheet3!$F$1","v":0},{"$f":"+Sheet3!CN22/Sheet3!$F$1","v":0},{"$f":"+Sheet3!CO22/Sheet3!$F$1","v":0},{"$f":"+Sheet3!CP22/Sheet3!$F$1","v":0},{"$f":"+Sheet3!CQ22/Sheet3!$F$1","v":0},{"$f":"+Sheet3!CR22/Sheet3!$F$1","v":0},{"$f":"+Sheet3!CS22/Sheet3!$F$1","v":0},{"$f":"+Sheet3!CT22/Sheet3!$F$1","v":0},{"$f":"+Sheet3!CU22/Sheet3!$F$1","v":18},{"$f":"+Sheet3!CV22/Sheet3!$F$1","v":52},{"$f":"+Sheet3!CW22/Sheet3!$F$1","v":62},{"$f":"+Sheet3!CX22/Sheet3!$F$1","v":0},{"$f":"+Sheet3!CY22/Sheet3!$F$1","v":3},{"$f":"+Sheet3!CZ22/Sheet3!$F$1","v":208},{"$f":"+Sheet3!DA22/Sheet3!$F$1","v":63},{"$f":"+Sheet3!DB22/Sheet3!$F$1","v":340},{"$f":"+Sheet3!DC22/Sheet3!$F$1","v":702},{"$f":"+Sheet3!DD22/Sheet3!$F$1","v":1617},{"$f":"+Sheet3!DE22/Sheet3!$F$1","v":8},{"$f":"+Sheet3!DF22/Sheet3!$F$1","v":33},{"$f":"+Sheet3!DG22/Sheet3!$F$1","v":70},{"$f":"+Sheet3!DH22/Sheet3!$F$1","v":14},{"$f":"+Sheet3!DI22/Sheet3!$F$1","v":418},{"$f":"+Sheet3!DJ22/Sheet3!$F$1","v":344},{"$f":"+Sheet3!DK22/Sheet3!$F$1","v":162},{"$f":"+Sheet3!DL22/Sheet3!$F$1","v":0},{"$f":"+Sheet3!DM22/Sheet3!$F$1","v":0},{"$f":"+Sheet3!DN22/Sheet3!$F$1","v":3250},{"$f":"+Sheet3!DO22/Sheet3!$F$1","v":658},{"$f":"+Sheet3!DP22/Sheet3!$F$1","v":185},{"$f":"+Sheet3!DQ22/Sheet3!$F$1","v":21},{"$f":"+Sheet3!DR22/Sheet3!$F$1","v":0},4114]
[null,"16J","Beiras e Serra da Estrela",{"$f":"+Sheet3!D23/Sheet3!$F$1","v":72},{"$f":"+Sheet3!E23/Sheet3!$F$1","v":4},{"$f":"+Sheet3!F23/Sheet3!$F$1","v":5},{"$f":"+Sheet3!G23/Sheet3!$F$1","v":0},{"$f":"+Sheet3!H23/Sheet3!$F$1","v":0},{"$f":"+Sheet3!I23/Sheet3!$F$1","v":45},{"$f":"+Sheet3!J23/Sheet3!$F$1","v":20},{"$f":"+Sheet3!K23/Sheet3!$F$1","v":9},{"$f":"+Sheet3!L23/Sheet3!$F$1","v":0},{"$f":"+Sheet3!M23/Sheet3!$F$1","v":0},{"$f":"+Sheet3!N23/Sheet3!$F$1","v":616},{"$f":"+Sheet3!O23/Sheet3!$F$1","v":343},{"$f":"+Sheet3!P23/Sheet3!$F$1","v":56},{"$f":"+Sheet3!Q23/Sheet3!$F$1","v":0},{"$f":"+Sheet3!R23/Sheet3!$F$1","v":0},{"$f":"+Sheet3!S23/Sheet3!$F$1","v":0},{"$f":"+Sheet3!T23/Sheet3!$F$1","v":0},{"$f":"+Sheet3!U23/Sheet3!$F$1","v":0},{"$f":"+Sheet3!V23/Sheet3!$F$1","v":0},{"$f":"+Sheet3!W23/Sheet3!$F$1","v":0},{"$f":"+Sheet3!X23/Sheet3!$F$1","v":0},{"$f":"+Sheet3!Y23/Sheet3!$F$1","v":3},{"$f":"+Sheet3!Z23/Sheet3!$F$1","v":0},{"$f":"+Sheet3!AA23/Sheet3!$F$1","v":0},{"$f":"+Sheet3!AB23/Sheet3!$F$1","v":0},{"$f":"+Sheet3!AC23/Sheet3!$F$1","v":1416},{"$f":"+Sheet3!AD23/Sheet3!$F$1","v":168},{"$f":"+Sheet3!AE23/Sheet3!$F$1","v":35},{"$f":"+Sheet3!AF23/Sheet3!$F$1","v":0},{"$f":"+Sheet3!AG23/Sheet3!$F$1","v":0},{"$f":"+Sheet3!AH23/Sheet3!$F$1","v":286},{"$f":"+Sheet3!AI23/Sheet3!$F$1","v":183},{"$f":"+Sheet3!AJ23/Sheet3!$F$1","v":37},{"$f":"+Sheet3!AK23/Sheet3!$F$1","v":0},{"$f":"+Sheet3!AL23/Sheet3!$F$1","v":0},{"$f":"+Sheet3!AM23/Sheet3!$F$1","v":826},{"$f":"+Sheet3!AN23/Sheet3!$F$1","v":504},{"$f":"+Sheet3!AO23/Sheet3!$F$1","v":121},{"$f":"+Sheet3!AP23/Sheet3!$F$1","v":0},{"$f":"+Sheet3!AQ23/Sheet3!$F$1","v":0},{"$f":"+Sheet3!AR23/Sheet3!$F$1","v":544},{"$f":"+Sheet3!AS23/Sheet3!$F$1","v":69},{"$f":"+Sheet3!AT23/Sheet3!$F$1","v":11},{"$f":"+Sheet3!AU23/Sheet3!$F$1","v":0},{"$f":"+Sheet3!AV23/Sheet3!$F$1","v":0},{"$f":"+Sheet3!AW23/Sheet3!$F$1","v":4196},{"$f":"+Sheet3!AX23/Sheet3!$F$1","v":1554},{"$f":"+Sheet3!AY23/Sheet3!$F$1","v":137},{"$f":"+Sheet3!AZ23/Sheet3!$F$1","v":0},{"$f":"+Sheet3!BA23/Sheet3!$F$1","v":0},{"$f":"+Sheet3!BB23/Sheet3!$F$1","v":0},{"$f":"+Sheet3!BC23/Sheet3!$F$1","v":13},{"$f":"+Sheet3!BD23/Sheet3!$F$1","v":17},{"$f":"+Sheet3!BE23/Sheet3!$F$1","v":0},{"$f":"+Sheet3!BF23/Sheet3!$F$1","v":0},{"$f":"+Sheet3!BG23/Sheet3!$F$1","v":14},{"$f":"+Sheet3!BH23/Sheet3!$F$1","v":123},{"$f":"+Sheet3!BI23/Sheet3!$F$1","v":145},{"$f":"+Sheet3!BJ23/Sheet3!$F$1","v":0},{"$f":"+Sheet3!BK23/Sheet3!$F$1","v":0},{"$f":"+Sheet3!BL23/Sheet3!$F$1","v":23},{"$f":"+Sheet3!BM23/Sheet3!$F$1","v":21},{"$f":"+Sheet3!BN23/Sheet3!$F$1","v":3},{"$f":"+Sheet3!BO23/Sheet3!$F$1","v":0},{"$f":"+Sheet3!BP23/Sheet3!$F$1","v":0},{"$f":"+Sheet3!BQ23/Sheet3!$F$1","v":14},{"$f":"+Sheet3!BR23/Sheet3!$F$1","v":128},{"$f":"+Sheet3!BS23/Sheet3!$F$1","v":347},{"$f":"+Sheet3!BT23/Sheet3!$F$1","v":12},{"$f":"+Sheet3!BU23/Sheet3!$F$1","v":0},{"$f":"+Sheet3!BV23/Sheet3!$F$1","v":728},{"$f":"+Sheet3!BW23/Sheet3!$F$1","v":917},{"$f":"+Sheet3!BX23/Sheet3!$F$1","v":355},{"$f":"+Sheet3!BY23/Sheet3!$F$1","v":6},{"$f":"+Sheet3!BZ23/Sheet3!$F$1","v":0},{"$f":"+Sheet3!CA23/Sheet3!$F$1","v":378},{"$f":"+Sheet3!CB23/Sheet3!$F$1","v":472},{"$f":"+Sheet3!CC23/Sheet3!$F$1","v":196},{"$f":"+Sheet3!CD23/Sheet3!$F$1","v":0},{"$f":"+Sheet3!CE23/Sheet3!$F$1","v":0},{"$f":"+Sheet3!CF23/Sheet3!$F$1","v":212},{"$f":"+Sheet3!CG23/Sheet3!$F$1","v":113},{"$f":"+Sheet3!CH23/Sheet3!$F$1","v":21},{"$f":"+Sheet3!CI23/Sheet3!$F$1","v":0},{"$f":"+Sheet3!CJ23/Sheet3!$F$1","v":0},{"$f":"+Sheet3!CK23/Sheet3!$F$1","v":0},{"$f":"+Sheet3!CL23/Sheet3!$F$1","v":0},{"$f":"+Sheet3!CM23/Sheet3!$F$1","v":0},{"$f":"+Sheet3!CN23/Sheet3!$F$1","v":0},{"$f":"+Sheet3!CO23/Sheet3!$F$1","v":0},{"$f":"+Sheet3!CP23/Sheet3!$F$1","v":10},{"$f":"+Sheet3!CQ23/Sheet3!$F$1","v":0},{"$f":"+Sheet3!CR23/Sheet3!$F$1","v":0},{"$f":"+Sheet3!CS23/Sheet3!$F$1","v":0},{"$f":"+Sheet3!CT23/Sheet3!$F$1","v":0},{"$f":"+Sheet3!CU23/Sheet3!$F$1","v":84},{"$f":"+Sheet3!CV23/Sheet3!$F$1","v":76},{"$f":"+Sheet3!CW23/Sheet3!$F$1","v":1016},{"$f":"+Sheet3!CX23/Sheet3!$F$1","v":0},{"$f":"+Sheet3!CY23/Sheet3!$F$1","v":7},{"$f":"+Sheet3!CZ23/Sheet3!$F$1","v":1621},{"$f":"+Sheet3!DA23/Sheet3!$F$1","v":507},{"$f":"+Sheet3!DB23/Sheet3!$F$1","v":1452},{"$f":"+Sheet3!DC23/Sheet3!$F$1","v":625},{"$f":"+Sheet3!DD23/Sheet3!$F$1","v":5891},{"$f":"+Sheet3!DE23/Sheet3!$F$1","v":36},{"$f":"+Sheet3!DF23/Sheet3!$F$1","v":288},{"$f":"+Sheet3!DG23/Sheet3!$F$1","v":50},{"$f":"+Sheet3!DH23/Sheet3!$F$1","v":504},{"$f":"+Sheet3!DI23/Sheet3!$F$1","v":2007},{"$f":"+Sheet3!DJ23/Sheet3!$F$1","v":1048},{"$f":"+Sheet3!DK23/Sheet3!$F$1","v":349},{"$f":"+Sheet3!DL23/Sheet3!$F$1","v":0},{"$f":"+Sheet3!DM23/Sheet3!$F$1","v":11},{"$f":"+Sheet3!DN23/Sheet3!$F$1","v":9398},{"$f":"+Sheet3!DO23/Sheet3!$F$1","v":4641},{"$f":"+Sheet3!DP23/Sheet3!$F$1","v":1507},{"$f":"+Sheet3!DQ23/Sheet3!$F$1","v":26},{"$f":"+Sheet3!DR23/Sheet3!$F$1","v":0},15572]
["AML","170","Área Metropolitana de Lisboa",{"$f":"+Sheet3!D24/Sheet3!$F$1","v":12},{"$f":"+Sheet3!E24/Sheet3!$F$1","v":4},{"$f":"+Sheet3!F24/Sheet3!$F$1","v":3},{"$f":"+Sheet3!G24/Sheet3!$F$1","v":0},{"$f":"+Sheet3!H24/Sheet3!$F$1","v":0},{"$f":"+Sheet3!I24/Sheet3!$F$1","v":8},{"$f":"+Sheet3!J24/Sheet3!$F$1","v":21},{"$f":"+Sheet3!K24/Sheet3!$F$1","v":12},{"$f":"+Sheet3!L24/Sheet3!$F$1","v":0},{"$f":"+Sheet3!M24/Sheet3!$F$1","v":0},{"$f":"+Sheet3!N24/Sheet3!$F$1","v":15},{"$f":"+Sheet3!O24/Sheet3!$F$1","v":11},{"$f":"+Sheet3!P24/Sheet3!$F$1","v":8},{"$f":"+Sheet3!Q24/Sheet3!$F$1","v":0},{"$f":"+Sheet3!R24/Sheet3!$F$1","v":0},{"$f":"+Sheet3!S24/Sheet3!$F$1","v":0},{"$f":"+Sheet3!T24/Sheet3!$F$1","v":5},{"$f":"+Sheet3!U24/Sheet3!$F$1","v":50},{"$f":"+Sheet3!V24/Sheet3!$F$1","v":3},{"$f":"+Sheet3!W24/Sheet3!$F$1","v":0},{"$f":"+Sheet3!X24/Sheet3!$F$1","v":0},{"$f":"+Sheet3!Y24/Sheet3!$F$1","v":0},{"$f":"+Sheet3!Z24/Sheet3!$F$1","v":0},{"$f":"+Sheet3!AA24/Sheet3!$F$1","v":0},{"$f":"+Sheet3!AB24/Sheet3!$F$1","v":0},{"$f":"+Sheet3!AC24/Sheet3!$F$1","v":35},{"$f":"+Sheet3!AD24/Sheet3!$F$1","v":26},{"$f":"+Sheet3!AE24/Sheet3!$F$1","v":11},{"$f":"+Sheet3!AF24/Sheet3!$F$1","v":0},{"$f":"+Sheet3!AG24/Sheet3!$F$1","v":0},{"$f":"+Sheet3!AH24/Sheet3!$F$1","v":36},{"$f":"+Sheet3!AI24/Sheet3!$F$1","v":87},{"$f":"+Sheet3!AJ24/Sheet3!$F$1","v":52},{"$f":"+Sheet3!AK24/Sheet3!$F$1","v":0},{"$f":"+Sheet3!AL24/Sheet3!$F$1","v":0},{"$f":"+Sheet3!AM24/Sheet3!$F$1","v":33},{"$f":"+Sheet3!AN24/Sheet3!$F$1","v":31},{"$f":"+Sheet3!AO24/Sheet3!$F$1","v":29},{"$f":"+Sheet3!AP24/Sheet3!$F$1","v":7},{"$f":"+Sheet3!AQ24/Sheet3!$F$1","v":0},{"$f":"+Sheet3!AR24/Sheet3!$F$1","v":0},{"$f":"+Sheet3!AS24/Sheet3!$F$1","v":0},{"$f":"+Sheet3!AT24/Sheet3!$F$1","v":0},{"$f":"+Sheet3!AU24/Sheet3!$F$1","v":0},{"$f":"+Sheet3!AV24/Sheet3!$F$1","v":0},{"$f":"+Sheet3!AW24/Sheet3!$F$1","v":52},{"$f":"+Sheet3!AX24/Sheet3!$F$1","v":54},{"$f":"+Sheet3!AY24/Sheet3!$F$1","v":37},{"$f":"+Sheet3!AZ24/Sheet3!$F$1","v":8},{"$f":"+Sheet3!BA24/Sheet3!$F$1","v":0},{"$f":"+Sheet3!BB24/Sheet3!$F$1","v":3},{"$f":"+Sheet3!BC24/Sheet3!$F$1","v":10},{"$f":"+Sheet3!BD24/Sheet3!$F$1","v":6},{"$f":"+Sheet3!BE24/Sheet3!$F$1","v":0},{"$f":"+Sheet3!BF24/Sheet3!$F$1","v":0},{"$f":"+Sheet3!BG24/Sheet3!$F$1","v":4},{"$f":"+Sheet3!BH24/Sheet3!$F$1","v":20},{"$f":"+Sheet3!BI24/Sheet3!$F$1","v":15},{"$f":"+Sheet3!BJ24/Sheet3!$F$1","v":6},{"$f":"+Sheet3!BK24/Sheet3!$F$1","v":0},{"$f":"+Sheet3!BL24/Sheet3!$F$1","v":58},{"$f":"+Sheet3!BM24/Sheet3!$F$1","v":26},{"$f":"+Sheet3!BN24/Sheet3!$F$1","v":6},{"$f":"+Sheet3!BO24/Sheet3!$F$1","v":0},{"$f":"+Sheet3!BP24/Sheet3!$F$1","v":0},{"$f":"+Sheet3!BQ24/Sheet3!$F$1","v":0},{"$f":"+Sheet3!BR24/Sheet3!$F$1","v":16},{"$f":"+Sheet3!BS24/Sheet3!$F$1","v":12},{"$f":"+Sheet3!BT24/Sheet3!$F$1","v":6},{"$f":"+Sheet3!BU24/Sheet3!$F$1","v":0},{"$f":"+Sheet3!BV24/Sheet3!$F$1","v":299},{"$f":"+Sheet3!BW24/Sheet3!$F$1","v":49},{"$f":"+Sheet3!BX24/Sheet3!$F$1","v":19},{"$f":"+Sheet3!BY24/Sheet3!$F$1","v":0},{"$f":"+Sheet3!BZ24/Sheet3!$F$1","v":0},{"$f":"+Sheet3!CA24/Sheet3!$F$1","v":38},{"$f":"+Sheet3!CB24/Sheet3!$F$1","v":11},{"$f":"+Sheet3!CC24/Sheet3!$F$1","v":11},{"$f":"+Sheet3!CD24/Sheet3!$F$1","v":11},{"$f":"+Sheet3!CE24/Sheet3!$F$1","v":0},{"$f":"+Sheet3!CF24/Sheet3!$F$1","v":72},{"$f":"+Sheet3!CG24/Sheet3!$F$1","v":83},{"$f":"+Sheet3!CH24/Sheet3!$F$1","v":30},{"$f":"+Sheet3!CI24/Sheet3!$F$1","v":3},{"$f":"+Sheet3!CJ24/Sheet3!$F$1","v":0},{"$f":"+Sheet3!CK24/Sheet3!$F$1","v":0},{"$f":"+Sheet3!CL24/Sheet3!$F$1","v":15},{"$f":"+Sheet3!CM24/Sheet3!$F$1","v":15},{"$f":"+Sheet3!CN24/Sheet3!$F$1","v":8},{"$f":"+Sheet3!CO24/Sheet3!$F$1","v":0},{"$f":"+Sheet3!CP24/Sheet3!$F$1","v":5},{"$f":"+Sheet3!CQ24/Sheet3!$F$1","v":5},{"$f":"+Sheet3!CR24/Sheet3!$F$1","v":0},{"$f":"+Sheet3!CS24/Sheet3!$F$1","v":0},{"$f":"+Sheet3!CT24/Sheet3!$F$1","v":0},{"$f":"+Sheet3!CU24/Sheet3!$F$1","v":23},{"$f":"+Sheet3!CV24/Sheet3!$F$1","v":48},{"$f":"+Sheet3!CW24/Sheet3!$F$1","v":43},{"$f":"+Sheet3!CX24/Sheet3!$F$1","v":58},{"$f":"+Sheet3!CY24/Sheet3!$F$1","v":5},{"$f":"+Sheet3!CZ24/Sheet3!$F$1","v":76},{"$f":"+Sheet3!DA24/Sheet3!$F$1","v":180},{"$f":"+Sheet3!DB24/Sheet3!$F$1","v":103},{"$f":"+Sheet3!DC24/Sheet3!$F$1","v":0},{"$f":"+Sheet3!DD24/Sheet3!$F$1","v":156},{"$f":"+Sheet3!DE24/Sheet3!$F$1","v":21},{"$f":"+Sheet3!DF24/Sheet3!$F$1","v":49},{"$f":"+Sheet3!DG24/Sheet3!$F$1","v":93},{"$f":"+Sheet3!DH24/Sheet3!$F$1","v":40},{"$f":"+Sheet3!DI24/Sheet3!$F$1","v":371},{"$f":"+Sheet3!DJ24/Sheet3!$F$1","v":78},{"$f":"+Sheet3!DK24/Sheet3!$F$1","v":192},{"$f":"+Sheet3!DL24/Sheet3!$F$1","v":41},{"$f":"+Sheet3!DM24/Sheet3!$F$1","v":13},{"$f":"+Sheet3!DN24/Sheet3!$F$1","v":694},{"$f":"+Sheet3!DO24/Sheet3!$F$1","v":503},{"$f":"+Sheet3!DP24/Sheet3!$F$1","v":326},{"$f":"+Sheet3!DQ24/Sheet3!$F$1","v":64},{"$f":"+Sheet3!DR24/Sheet3!$F$1","v":4},1591]
["Alentejo","181","Alentejo Litoral",{"$f":"+Sheet3!D25/Sheet3!$F$1","v":47},{"$f":"+Sheet3!E25/Sheet3!$F$1","v":0},{"$f":"+Sheet3!F25/Sheet3!$F$1","v":6},{"$f":"+Sheet3!G25/Sheet3!$F$1","v":3},{"$f":"+Sheet3!H25/Sheet3!$F$1","v":0},{"$f":"+Sheet3!I25/Sheet3!$F$1","v":0},{"$f":"+Sheet3!J25/Sheet3!$F$1","v":0},{"$f":"+Sheet3!K25/Sheet3!$F$1","v":12},{"$f":"+Sheet3!L25/Sheet3!$F$1","v":0},{"$f":"+Sheet3!M25/Sheet3!$F$1","v":0},{"$f":"+Sheet3!N25/Sheet3!$F$1","v":11},{"$f":"+Sheet3!O25/Sheet3!$F$1","v":21},{"$f":"+Sheet3!P25/Sheet3!$F$1","v":31},{"$f":"+Sheet3!Q25/Sheet3!$F$1","v":4},{"$f":"+Sheet3!R25/Sheet3!$F$1","v":0},{"$f":"+Sheet3!S25/Sheet3!$F$1","v":9},{"$f":"+Sheet3!T25/Sheet3!$F$1","v":41},{"$f":"+Sheet3!U25/Sheet3!$F$1","v":48},{"$f":"+Sheet3!V25/Sheet3!$F$1","v":3},{"$f":"+Sheet3!W25/Sheet3!$F$1","v":0},{"$f":"+Sheet3!X25/Sheet3!$F$1","v":0},{"$f":"+Sheet3!Y25/Sheet3!$F$1","v":0},{"$f":"+Sheet3!Z25/Sheet3!$F$1","v":11},{"$f":"+Sheet3!AA25/Sheet3!$F$1","v":3},{"$f":"+Sheet3!AB25/Sheet3!$F$1","v":0},{"$f":"+Sheet3!AC25/Sheet3!$F$1","v":66},{"$f":"+Sheet3!AD25/Sheet3!$F$1","v":29},{"$f":"+Sheet3!AE25/Sheet3!$F$1","v":18},{"$f":"+Sheet3!AF25/Sheet3!$F$1","v":0},{"$f":"+Sheet3!AG25/Sheet3!$F$1","v":0},{"$f":"+Sheet3!AH25/Sheet3!$F$1","v":0},{"$f":"+Sheet3!AI25/Sheet3!$F$1","v":9},{"$f":"+Sheet3!AJ25/Sheet3!$F$1","v":6},{"$f":"+Sheet3!AK25/Sheet3!$F$1","v":0},{"$f":"+Sheet3!AL25/Sheet3!$F$1","v":0},{"$f":"+Sheet3!AM25/Sheet3!$F$1","v":38},{"$f":"+Sheet3!AN25/Sheet3!$F$1","v":90},{"$f":"+Sheet3!AO25/Sheet3!$F$1","v":148},{"$f":"+Sheet3!AP25/Sheet3!$F$1","v":31},{"$f":"+Sheet3!AQ25/Sheet3!$F$1","v":0},{"$f":"+Sheet3!AR25/Sheet3!$F$1","v":53},{"$f":"+Sheet3!AS25/Sheet3!$F$1","v":5},{"$f":"+Sheet3!AT25/Sheet3!$F$1","v":18},{"$f":"+Sheet3!AU25/Sheet3!$F$1","v":5},{"$f":"+Sheet3!AV25/Sheet3!$F$1","v":0},{"$f":"+Sheet3!AW25/Sheet3!$F$1","v":91},{"$f":"+Sheet3!AX25/Sheet3!$F$1","v":150},{"$f":"+Sheet3!AY25/Sheet3!$F$1","v":122},{"$f":"+Sheet3!AZ25/Sheet3!$F$1","v":35},{"$f":"+Sheet3!BA25/Sheet3!$F$1","v":5},{"$f":"+Sheet3!BB25/Sheet3!$F$1","v":0},{"$f":"+Sheet3!BC25/Sheet3!$F$1","v":0},{"$f":"+Sheet3!BD25/Sheet3!$F$1","v":10},{"$f":"+Sheet3!BE25/Sheet3!$F$1","v":3},{"$f":"+Sheet3!BF25/Sheet3!$F$1","v":0},{"$f":"+Sheet3!BG25/Sheet3!$F$1","v":5},{"$f":"+Sheet3!BH25/Sheet3!$F$1","v":40},{"$f":"+Sheet3!BI25/Sheet3!$F$1","v":54},{"$f":"+Sheet3!BJ25/Sheet3!$F$1","v":7},{"$f":"+Sheet3!BK25/Sheet3!$F$1","v":0},{"$f":"+Sheet3!BL25/Sheet3!$F$1","v":32},{"$f":"+Sheet3!BM25/Sheet3!$F$1","v":13},{"$f":"+Sheet3!BN25/Sheet3!$F$1","v":0},{"$f":"+Sheet3!BO25/Sheet3!$F$1","v":0},{"$f":"+Sheet3!BP25/Sheet3!$F$1","v":0},{"$f":"+Sheet3!BQ25/Sheet3!$F$1","v":0},{"$f":"+Sheet3!BR25/Sheet3!$F$1","v":67},{"$f":"+Sheet3!BS25/Sheet3!$F$1","v":195},{"$f":"+Sheet3!BT25/Sheet3!$F$1","v":91},{"$f":"+Sheet3!BU25/Sheet3!$F$1","v":4},{"$f":"+Sheet3!BV25/Sheet3!$F$1","v":143},{"$f":"+Sheet3!BW25/Sheet3!$F$1","v":207},{"$f":"+Sheet3!BX25/Sheet3!$F$1","v":244},{"$f":"+Sheet3!BY25/Sheet3!$F$1","v":51},{"$f":"+Sheet3!BZ25/Sheet3!$F$1","v":0},{"$f":"+Sheet3!CA25/Sheet3!$F$1","v":38},{"$f":"+Sheet3!CB25/Sheet3!$F$1","v":49},{"$f":"+Sheet3!CC25/Sheet3!$F$1","v":58},{"$f":"+Sheet3!CD25/Sheet3!$F$1","v":47},{"$f":"+Sheet3!CE25/Sheet3!$F$1","v":4},{"$f":"+Sheet3!CF25/Sheet3!$F$1","v":166},{"$f":"+Sheet3!CG25/Sheet3!$F$1","v":299},{"$f":"+Sheet3!CH25/Sheet3!$F$1","v":328},{"$f":"+Sheet3!CI25/Sheet3!$F$1","v":33},{"$f":"+Sheet3!CJ25/Sheet3!$F$1","v":0},{"$f":"+Sheet3!CK25/Sheet3!$F$1","v":0},{"$f":"+Sheet3!CL25/Sheet3!$F$1","v":0},{"$f":"+Sheet3!CM25/Sheet3!$F$1","v":12},{"$f":"+Sheet3!CN25/Sheet3!$F$1","v":0},{"$f":"+Sheet3!CO25/Sheet3!$F$1","v":0},{"$f":"+Sheet3!CP25/Sheet3!$F$1","v":0},{"$f":"+Sheet3!CQ25/Sheet3!$F$1","v":0},{"$f":"+Sheet3!CR25/Sheet3!$F$1","v":0},{"$f":"+Sheet3!CS25/Sheet3!$F$1","v":0},{"$f":"+Sheet3!CT25/Sheet3!$F$1","v":0},{"$f":"+Sheet3!CU25/Sheet3!$F$1","v":65},{"$f":"+Sheet3!CV25/Sheet3!$F$1","v":15},{"$f":"+Sheet3!CW25/Sheet3!$F$1","v":71},{"$f":"+Sheet3!CX25/Sheet3!$F$1","v":106},{"$f":"+Sheet3!CY25/Sheet3!$F$1","v":15},{"$f":"+Sheet3!CZ25/Sheet3!$F$1","v":120},{"$f":"+Sheet3!DA25/Sheet3!$F$1","v":22},{"$f":"+Sheet3!DB25/Sheet3!$F$1","v":315},{"$f":"+Sheet3!DC25/Sheet3!$F$1","v":86},{"$f":"+Sheet3!DD25/Sheet3!$F$1","v":404},{"$f":"+Sheet3!DE25/Sheet3!$F$1","v":14},{"$f":"+Sheet3!DF25/Sheet3!$F$1","v":112},{"$f":"+Sheet3!DG25/Sheet3!$F$1","v":51},{"$f":"+Sheet3!DH25/Sheet3!$F$1","v":360},{"$f":"+Sheet3!DI25/Sheet3!$F$1","v":650},{"$f":"+Sheet3!DJ25/Sheet3!$F$1","v":201},{"$f":"+Sheet3!DK25/Sheet3!$F$1","v":827},{"$f":"+Sheet3!DL25/Sheet3!$F$1","v":14},{"$f":"+Sheet3!DM25/Sheet3!$F$1","v":0},{"$f":"+Sheet3!DN25/Sheet3!$F$1","v":718},{"$f":"+Sheet3!DO25/Sheet3!$F$1","v":1049},{"$f":"+Sheet3!DP25/Sheet3!$F$1","v":1335},{"$f":"+Sheet3!DQ25/Sheet3!$F$1","v":327},{"$f":"+Sheet3!DR25/Sheet3!$F$1","v":19},3448]
[null,"184","Baixo Alentejo",{"$f":"+Sheet3!D26/Sheet3!$F$1","v":73},{"$f":"+Sheet3!E26/Sheet3!$F$1","v":5},{"$f":"+Sheet3!F26/Sheet3!$F$1","v":6},{"$f":"+Sheet3!G26/Sheet3!$F$1","v":0},{"$f":"+Sheet3!H26/Sheet3!$F$1","v":0},{"$f":"+Sheet3!I26/Sheet3!$F$1","v":4},{"$f":"+Sheet3!J26/Sheet3!$F$1","v":6},{"$f":"+Sheet3!K26/Sheet3!$F$1","v":46},{"$f":"+Sheet3!L26/Sheet3!$F$1","v":14},{"$f":"+Sheet3!M26/Sheet3!$F$1","v":0},{"$f":"+Sheet3!N26/Sheet3!$F$1","v":144},{"$f":"+Sheet3!O26/Sheet3!$F$1","v":199},{"$f":"+Sheet3!P26/Sheet3!$F$1","v":220},{"$f":"+Sheet3!Q26/Sheet3!$F$1","v":34},{"$f":"+Sheet3!R26/Sheet3!$F$1","v":0},{"$f":"+Sheet3!S26/Sheet3!$F$1","v":0},{"$f":"+Sheet3!T26/Sheet3!$F$1","v":0},{"$f":"+Sheet3!U26/Sheet3!$F$1","v":0},{"$f":"+Sheet3!V26/Sheet3!$F$1","v":0},{"$f":"+Sheet3!W26/Sheet3!$F$1","v":0},{"$f":"+Sheet3!X26/Sheet3!$F$1","v":10},{"$f":"+Sheet3!Y26/Sheet3!$F$1","v":30},{"$f":"+Sheet3!Z26/Sheet3!$F$1","v":45},{"$f":"+Sheet3!AA26/Sheet3!$F$1","v":5},{"$f":"+Sheet3!AB26/Sheet3!$F$1","v":0},{"$f":"+Sheet3!AC26/Sheet3!$F$1","v":57},{"$f":"+Sheet3!AD26/Sheet3!$F$1","v":31},{"$f":"+Sheet3!AE26/Sheet3!$F$1","v":20},{"$f":"+Sheet3!AF26/Sheet3!$F$1","v":7},{"$f":"+Sheet3!AG26/Sheet3!$F$1","v":0},{"$f":"+Sheet3!AH26/Sheet3!$F$1","v":92},{"$f":"+Sheet3!AI26/Sheet3!$F$1","v":107},{"$f":"+Sheet3!AJ26/Sheet3!$F$1","v":46},{"$f":"+Sheet3!AK26/Sheet3!$F$1","v":0},{"$f":"+Sheet3!AL26/Sheet3!$F$1","v":0},{"$f":"+Sheet3!AM26/Sheet3!$F$1","v":41},{"$f":"+Sheet3!AN26/Sheet3!$F$1","v":95},{"$f":"+Sheet3!AO26/Sheet3!$F$1","v":275},{"$f":"+Sheet3!AP26/Sheet3!$F$1","v":57},{"$f":"+Sheet3!AQ26/Sheet3!$F$1","v":3},{"$f":"+Sheet3!AR26/Sheet3!$F$1","v":862},{"$f":"+Sheet3!AS26/Sheet3!$F$1","v":596},{"$f":"+Sheet3!AT26/Sheet3!$F$1","v":474},{"$f":"+Sheet3!AU26/Sheet3!$F$1","v":92},{"$f":"+Sheet3!AV26/Sheet3!$F$1","v":3},{"$f":"+Sheet3!AW26/Sheet3!$F$1","v":338},{"$f":"+Sheet3!AX26/Sheet3!$F$1","v":355},{"$f":"+Sheet3!AY26/Sheet3!$F$1","v":244},{"$f":"+Sheet3!AZ26/Sheet3!$F$1","v":62},{"$f":"+Sheet3!BA26/Sheet3!$F$1","v":0},{"$f":"+Sheet3!BB26/Sheet3!$F$1","v":0},{"$f":"+Sheet3!BC26/Sheet3!$F$1","v":0},{"$f":"+Sheet3!BD26/Sheet3!$F$1","v":0},{"$f":"+Sheet3!BE26/Sheet3!$F$1","v":0},{"$f":"+Sheet3!BF26/Sheet3!$F$1","v":0},{"$f":"+Sheet3!BG26/Sheet3!$F$1","v":3},{"$f":"+Sheet3!BH26/Sheet3!$F$1","v":16},{"$f":"+Sheet3!BI26/Sheet3!$F$1","v":55},{"$f":"+Sheet3!BJ26/Sheet3!$F$1","v":20},{"$f":"+Sheet3!BK26/Sheet3!$F$1","v":0},{"$f":"+Sheet3!BL26/Sheet3!$F$1","v":36},{"$f":"+Sheet3!BM26/Sheet3!$F$1","v":21},{"$f":"+Sheet3!BN26/Sheet3!$F$1","v":6},{"$f":"+Sheet3!BO26/Sheet3!$F$1","v":3},{"$f":"+Sheet3!BP26/Sheet3!$F$1","v":0},{"$f":"+Sheet3!BQ26/Sheet3!$F$1","v":0},{"$f":"+Sheet3!BR26/Sheet3!$F$1","v":5},{"$f":"+Sheet3!BS26/Sheet3!$F$1","v":257},{"$f":"+Sheet3!BT26/Sheet3!$F$1","v":236},{"$f":"+Sheet3!BU26/Sheet3!$F$1","v":6},{"$f":"+Sheet3!BV26/Sheet3!$F$1","v":469},{"$f":"+Sheet3!BW26/Sheet3!$F$1","v":399},{"$f":"+Sheet3!BX26/Sheet3!$F$1","v":549},{"$f":"+Sheet3!BY26/Sheet3!$F$1","v":146},{"$f":"+Sheet3!BZ26/Sheet3!$F$1","v":3},{"$f":"+Sheet3!CA26/Sheet3!$F$1","v":60},{"$f":"+Sheet3!CB26/Sheet3!$F$1","v":110},{"$f":"+Sheet3!CC26/Sheet3!$F$1","v":177},{"$f":"+Sheet3!CD26/Sheet3!$F$1","v":124},{"$f":"+Sheet3!CE26/Sheet3!$F$1","v":11},{"$f":"+Sheet3!CF26/Sheet3!$F$1","v":252},{"$f":"+Sheet3!CG26/Sheet3!$F$1","v":335},{"$f":"+Sheet3!CH26/Sheet3!$F$1","v":420},{"$f":"+Sheet3!CI26/Sheet3!$F$1","v":32},{"$f":"+Sheet3!CJ26/Sheet3!$F$1","v":0},{"$f":"+Sheet3!CK26/Sheet3!$F$1","v":0},{"$f":"+Sheet3!CL26/Sheet3!$F$1","v":4},{"$f":"+Sheet3!CM26/Sheet3!$F$1","v":4},{"$f":"+Sheet3!CN26/Sheet3!$F$1","v":0},{"$f":"+Sheet3!CO26/Sheet3!$F$1","v":0},{"$f":"+Sheet3!CP26/Sheet3!$F$1","v":0},{"$f":"+Sheet3!CQ26/Sheet3!$F$1","v":0},{"$f":"+Sheet3!CR26/Sheet3!$F$1","v":0},{"$f":"+Sheet3!CS26/Sheet3!$F$1","v":0},{"$f":"+Sheet3!CT26/Sheet3!$F$1","v":0},{"$f":"+Sheet3!CU26/Sheet3!$F$1","v":86},{"$f":"+Sheet3!CV26/Sheet3!$F$1","v":72},{"$f":"+Sheet3!CW26/Sheet3!$F$1","v":603},{"$f":"+Sheet3!CX26/Sheet3!$F$1","v":0},{"$f":"+Sheet3!CY26/Sheet3!$F$1","v":93},{"$f":"+Sheet3!CZ26/Sheet3!$F$1","v":119},{"$f":"+Sheet3!DA26/Sheet3!$F$1","v":252},{"$f":"+Sheet3!DB26/Sheet3!$F$1","v":475},{"$f":"+Sheet3!DC26/Sheet3!$F$1","v":2028},{"$f":"+Sheet3!DD26/Sheet3!$F$1","v":1009},{"$f":"+Sheet3!DE26/Sheet3!$F$1","v":4},{"$f":"+Sheet3!DF26/Sheet3!$F$1","v":96},{"$f":"+Sheet3!DG26/Sheet3!$F$1","v":68},{"$f":"+Sheet3!DH26/Sheet3!$F$1","v":508},{"$f":"+Sheet3!DI26/Sheet3!$F$1","v":1571},{"$f":"+Sheet3!DJ26/Sheet3!$F$1","v":486},{"$f":"+Sheet3!DK26/Sheet3!$F$1","v":1041},{"$f":"+Sheet3!DL26/Sheet3!$F$1","v":11},{"$f":"+Sheet3!DM26/Sheet3!$F$1","v":0},{"$f":"+Sheet3!DN26/Sheet3!$F$1","v":2453},{"$f":"+Sheet3!DO26/Sheet3!$F$1","v":2335},{"$f":"+Sheet3!DP26/Sheet3!$F$1","v":2864},{"$f":"+Sheet3!DQ26/Sheet3!$F$1","v":841},{"$f":"+Sheet3!DR26/Sheet3!$F$1","v":30},8523]
[null,"185","Lezíria do Tejo",{"$f":"+Sheet3!D27/Sheet3!$F$1","v":41},{"$f":"+Sheet3!E27/Sheet3!$F$1","v":19},{"$f":"+Sheet3!F27/Sheet3!$F$1","v":9},{"$f":"+Sheet3!G27/Sheet3!$F$1","v":3},{"$f":"+Sheet3!H27/Sheet3!$F$1","v":0},{"$f":"+Sheet3!I27/Sheet3!$F$1","v":57},{"$f":"+Sheet3!J27/Sheet3!$F$1","v":99},{"$f":"+Sheet3!K27/Sheet3!$F$1","v":137},{"$f":"+Sheet3!L27/Sheet3!$F$1","v":15},{"$f":"+Sheet3!M27/Sheet3!$F$1","v":0},{"$f":"+Sheet3!N27/Sheet3!$F$1","v":27},{"$f":"+Sheet3!O27/Sheet3!$F$1","v":50},{"$f":"+Sheet3!P27/Sheet3!$F$1","v":29},{"$f":"+Sheet3!Q27/Sheet3!$F$1","v":5},{"$f":"+Sheet3!R27/Sheet3!$F$1","v":0},{"$f":"+Sheet3!S27/Sheet3!$F$1","v":0},{"$f":"+Sheet3!T27/Sheet3!$F$1","v":26},{"$f":"+Sheet3!U27/Sheet3!$F$1","v":83},{"$f":"+Sheet3!V27/Sheet3!$F$1","v":5},{"$f":"+Sheet3!W27/Sheet3!$F$1","v":0},{"$f":"+Sheet3!X27/Sheet3!$F$1","v":9},{"$f":"+Sheet3!Y27/Sheet3!$F$1","v":15},{"$f":"+Sheet3!Z27/Sheet3!$F$1","v":7},{"$f":"+Sheet3!AA27/Sheet3!$F$1","v":0},{"$f":"+Sheet3!AB27/Sheet3!$F$1","v":0},{"$f":"+Sheet3!AC27/Sheet3!$F$1","v":31},{"$f":"+Sheet3!AD27/Sheet3!$F$1","v":21},{"$f":"+Sheet3!AE27/Sheet3!$F$1","v":16},{"$f":"+Sheet3!AF27/Sheet3!$F$1","v":3},{"$f":"+Sheet3!AG27/Sheet3!$F$1","v":0},{"$f":"+Sheet3!AH27/Sheet3!$F$1","v":35},{"$f":"+Sheet3!AI27/Sheet3!$F$1","v":89},{"$f":"+Sheet3!AJ27/Sheet3!$F$1","v":31},{"$f":"+Sheet3!AK27/Sheet3!$F$1","v":0},{"$f":"+Sheet3!AL27/Sheet3!$F$1","v":0},{"$f":"+Sheet3!AM27/Sheet3!$F$1","v":56},{"$f":"+Sheet3!AN27/Sheet3!$F$1","v":65},{"$f":"+Sheet3!AO27/Sheet3!$F$1","v":91},{"$f":"+Sheet3!AP27/Sheet3!$F$1","v":31},{"$f":"+Sheet3!AQ27/Sheet3!$F$1","v":3},{"$f":"+Sheet3!AR27/Sheet3!$F$1","v":177},{"$f":"+Sheet3!AS27/Sheet3!$F$1","v":44},{"$f":"+Sheet3!AT27/Sheet3!$F$1","v":8},{"$f":"+Sheet3!AU27/Sheet3!$F$1","v":0},{"$f":"+Sheet3!AV27/Sheet3!$F$1","v":0},{"$f":"+Sheet3!AW27/Sheet3!$F$1","v":262},{"$f":"+Sheet3!AX27/Sheet3!$F$1","v":184},{"$f":"+Sheet3!AY27/Sheet3!$F$1","v":112},{"$f":"+Sheet3!AZ27/Sheet3!$F$1","v":36},{"$f":"+Sheet3!BA27/Sheet3!$F$1","v":6},{"$f":"+Sheet3!BB27/Sheet3!$F$1","v":6},{"$f":"+Sheet3!BC27/Sheet3!$F$1","v":3},{"$f":"+Sheet3!BD27/Sheet3!$F$1","v":7},{"$f":"+Sheet3!BE27/Sheet3!$F$1","v":5},{"$f":"+Sheet3!BF27/Sheet3!$F$1","v":0},{"$f":"+Sheet3!BG27/Sheet3!$F$1","v":7},{"$f":"+Sheet3!BH27/Sheet3!$F$1","v":13},{"$f":"+Sheet3!BI27/Sheet3!$F$1","v":18},{"$f":"+Sheet3!BJ27/Sheet3!$F$1","v":5},{"$f":"+Sheet3!BK27/Sheet3!$F$1","v":0},{"$f":"+Sheet3!BL27/Sheet3!$F$1","v":49},{"$f":"+Sheet3!BM27/Sheet3!$F$1","v":15},{"$f":"+Sheet3!BN27/Sheet3!$F$1","v":9},{"$f":"+Sheet3!BO27/Sheet3!$F$1","v":0},{"$f":"+Sheet3!BP27/Sheet3!$F$1","v":0},{"$f":"+Sheet3!BQ27/Sheet3!$F$1","v":5},{"$f":"+Sheet3!BR27/Sheet3!$F$1","v":8},{"$f":"+Sheet3!BS27/Sheet3!$F$1","v":19},{"$f":"+Sheet3!BT27/Sheet3!$F$1","v":17},{"$f":"+Sheet3!BU27/Sheet3!$F$1","v":0},{"$f":"+Sheet3!BV27/Sheet3!$F$1","v":195},{"$f":"+Sheet3!BW27/Sheet3!$F$1","v":51},{"$f":"+Sheet3!BX27/Sheet3!$F$1","v":37},{"$f":"+Sheet3!BY27/Sheet3!$F$1","v":4},{"$f":"+Sheet3!BZ27/Sheet3!$F$1","v":0},{"$f":"+Sheet3!CA27/Sheet3!$F$1","v":34},{"$f":"+Sheet3!CB27/Sheet3!$F$1","v":35},{"$f":"+Sheet3!CC27/Sheet3!$F$1","v":25},{"$f":"+Sheet3!CD27/Sheet3!$F$1","v":32},{"$f":"+Sheet3!CE27/Sheet3!$F$1","v":7},{"$f":"+Sheet3!CF27/Sheet3!$F$1","v":196},{"$f":"+Sheet3!CG27/Sheet3!$F$1","v":163},{"$f":"+Sheet3!CH27/Sheet3!$F$1","v":119},{"$f":"+Sheet3!CI27/Sheet3!$F$1","v":14},{"$f":"+Sheet3!CJ27/Sheet3!$F$1","v":0},{"$f":"+Sheet3!CK27/Sheet3!$F$1","v":4},{"$f":"+Sheet3!CL27/Sheet3!$F$1","v":63},{"$f":"+Sheet3!CM27/Sheet3!$F$1","v":106},{"$f":"+Sheet3!CN27/Sheet3!$F$1","v":13},{"$f":"+Sheet3!CO27/Sheet3!$F$1","v":0},{"$f":"+Sheet3!CP27/Sheet3!$F$1","v":0},{"$f":"+Sheet3!CQ27/Sheet3!$F$1","v":5},{"$f":"+Sheet3!CR27/Sheet3!$F$1","v":7},{"$f":"+Sheet3!CS27/Sheet3!$F$1","v":0},{"$f":"+Sheet3!CT27/Sheet3!$F$1","v":0},{"$f":"+Sheet3!CU27/Sheet3!$F$1","v":73},{"$f":"+Sheet3!CV27/Sheet3!$F$1","v":314},{"$f":"+Sheet3!CW27/Sheet3!$F$1","v":114},{"$f":"+Sheet3!CX27/Sheet3!$F$1","v":114},{"$f":"+Sheet3!CY27/Sheet3!$F$1","v":33},{"$f":"+Sheet3!CZ27/Sheet3!$F$1","v":75},{"$f":"+Sheet3!DA27/Sheet3!$F$1","v":162},{"$f":"+Sheet3!DB27/Sheet3!$F$1","v":250},{"$f":"+Sheet3!DC27/Sheet3!$F$1","v":232},{"$f":"+Sheet3!DD27/Sheet3!$F$1","v":600},{"$f":"+Sheet3!DE27/Sheet3!$F$1","v":21},{"$f":"+Sheet3!DF27/Sheet3!$F$1","v":46},{"$f":"+Sheet3!DG27/Sheet3!$F$1","v":77},{"$f":"+Sheet3!DH27/Sheet3!$F$1","v":56},{"$f":"+Sheet3!DI27/Sheet3!$F$1","v":293},{"$f":"+Sheet3!DJ27/Sheet3!$F$1","v":137},{"$f":"+Sheet3!DK27/Sheet3!$F$1","v":494},{"$f":"+Sheet3!DL27/Sheet3!$F$1","v":191},{"$f":"+Sheet3!DM27/Sheet3!$F$1","v":13},{"$f":"+Sheet3!DN27/Sheet3!$F$1","v":1207},{"$f":"+Sheet3!DO27/Sheet3!$F$1","v":988},{"$f":"+Sheet3!DP27/Sheet3!$F$1","v":882},{"$f":"+Sheet3!DQ27/Sheet3!$F$1","v":197},{"$f":"+Sheet3!DR27/Sheet3!$F$1","v":21},3295]
[null,"186","Alto Alentejo",{"$f":"+Sheet3!D28/Sheet3!$F$1","v":6},{"$f":"+Sheet3!E28/Sheet3!$F$1","v":0},{"$f":"+Sheet3!F28/Sheet3!$F$1","v":3},{"$f":"+Sheet3!G28/Sheet3!$F$1","v":0},{"$f":"+Sheet3!H28/Sheet3!$F$1","v":0},{"$f":"+Sheet3!I28/Sheet3!$F$1","v":0},{"$f":"+Sheet3!J28/Sheet3!$F$1","v":4},{"$f":"+Sheet3!K28/Sheet3!$F$1","v":13},{"$f":"+Sheet3!L28/Sheet3!$F$1","v":0},{"$f":"+Sheet3!M28/Sheet3!$F$1","v":0},{"$f":"+Sheet3!N28/Sheet3!$F$1","v":17},{"$f":"+Sheet3!O28/Sheet3!$F$1","v":29},{"$f":"+Sheet3!P28/Sheet3!$F$1","v":14},{"$f":"+Sheet3!Q28/Sheet3!$F$1","v":3},{"$f":"+Sheet3!R28/Sheet3!$F$1","v":0},{"$f":"+Sheet3!S28/Sheet3!$F$1","v":0},{"$f":"+Sheet3!T28/Sheet3!$F$1","v":0},{"$f":"+Sheet3!U28/Sheet3!$F$1","v":0},{"$f":"+Sheet3!V28/Sheet3!$F$1","v":0},{"$f":"+Sheet3!W28/Sheet3!$F$1","v":0},{"$f":"+Sheet3!X28/Sheet3!$F$1","v":0},{"$f":"+Sheet3!Y28/Sheet3!$F$1","v":0},{"$f":"+Sheet3!Z28/Sheet3!$F$1","v":18},{"$f":"+Sheet3!AA28/Sheet3!$F$1","v":4},{"$f":"+Sheet3!AB28/Sheet3!$F$1","v":0},{"$f":"+Sheet3!AC28/Sheet3!$F$1","v":66},{"$f":"+Sheet3!AD28/Sheet3!$F$1","v":30},{"$f":"+Sheet3!AE28/Sheet3!$F$1","v":33},{"$f":"+Sheet3!AF28/Sheet3!$F$1","v":5},{"$f":"+Sheet3!AG28/Sheet3!$F$1","v":0},{"$f":"+Sheet3!AH28/Sheet3!$F$1","v":29},{"$f":"+Sheet3!AI28/Sheet3!$F$1","v":33},{"$f":"+Sheet3!AJ28/Sheet3!$F$1","v":26},{"$f":"+Sheet3!AK28/Sheet3!$F$1","v":0},{"$f":"+Sheet3!AL28/Sheet3!$F$1","v":0},{"$f":"+Sheet3!AM28/Sheet3!$F$1","v":42},{"$f":"+Sheet3!AN28/Sheet3!$F$1","v":42},{"$f":"+Sheet3!AO28/Sheet3!$F$1","v":44},{"$f":"+Sheet3!AP28/Sheet3!$F$1","v":8},{"$f":"+Sheet3!AQ28/Sheet3!$F$1","v":0},{"$f":"+Sheet3!AR28/Sheet3!$F$1","v":794},{"$f":"+Sheet3!AS28/Sheet3!$F$1","v":332},{"$f":"+Sheet3!AT28/Sheet3!$F$1","v":135},{"$f":"+Sheet3!AU28/Sheet3!$F$1","v":23},{"$f":"+Sheet3!AV28/Sheet3!$F$1","v":0},{"$f":"+Sheet3!AW28/Sheet3!$F$1","v":430},{"$f":"+Sheet3!AX28/Sheet3!$F$1","v":307},{"$f":"+Sheet3!AY28/Sheet3!$F$1","v":142},{"$f":"+Sheet3!AZ28/Sheet3!$F$1","v":32},{"$f":"+Sheet3!BA28/Sheet3!$F$1","v":3},{"$f":"+Sheet3!BB28/Sheet3!$F$1","v":0},{"$f":"+Sheet3!BC28/Sheet3!$F$1","v":0},{"$f":"+Sheet3!BD28/Sheet3!$F$1","v":7},{"$f":"+Sheet3!BE28/Sheet3!$F$1","v":3},{"$f":"+Sheet3!BF28/Sheet3!$F$1","v":0},{"$f":"+Sheet3!BG28/Sheet3!$F$1","v":0},{"$f":"+Sheet3!BH28/Sheet3!$F$1","v":33},{"$f":"+Sheet3!BI28/Sheet3!$F$1","v":86},{"$f":"+Sheet3!BJ28/Sheet3!$F$1","v":25},{"$f":"+Sheet3!BK28/Sheet3!$F$1","v":0},{"$f":"+Sheet3!BL28/Sheet3!$F$1","v":10},{"$f":"+Sheet3!BM28/Sheet3!$F$1","v":12},{"$f":"+Sheet3!BN28/Sheet3!$F$1","v":9},{"$f":"+Sheet3!BO28/Sheet3!$F$1","v":0},{"$f":"+Sheet3!BP28/Sheet3!$F$1","v":0},{"$f":"+Sheet3!BQ28/Sheet3!$F$1","v":0},{"$f":"+Sheet3!BR28/Sheet3!$F$1","v":18},{"$f":"+Sheet3!BS28/Sheet3!$F$1","v":318},{"$f":"+Sheet3!BT28/Sheet3!$F$1","v":288},{"$f":"+Sheet3!BU28/Sheet3!$F$1","v":19},{"$f":"+Sheet3!BV28/Sheet3!$F$1","v":504},{"$f":"+Sheet3!BW28/Sheet3!$F$1","v":435},{"$f":"+Sheet3!BX28/Sheet3!$F$1","v":326},{"$f":"+Sheet3!BY28/Sheet3!$F$1","v":68},{"$f":"+Sheet3!BZ28/Sheet3!$F$1","v":3},{"$f":"+Sheet3!CA28/Sheet3!$F$1","v":127},{"$f":"+Sheet3!CB28/Sheet3!$F$1","v":161},{"$f":"+Sheet3!CC28/Sheet3!$F$1","v":130},{"$f":"+Sheet3!CD28/Sheet3!$F$1","v":90},{"$f":"+Sheet3!CE28/Sheet3!$F$1","v":8},{"$f":"+Sheet3!CF28/Sheet3!$F$1","v":106},{"$f":"+Sheet3!CG28/Sheet3!$F$1","v":144},{"$f":"+Sheet3!CH28/Sheet3!$F$1","v":159},{"$f":"+Sheet3!CI28/Sheet3!$F$1","v":21},{"$f":"+Sheet3!CJ28/Sheet3!$F$1","v":0},{"$f":"+Sheet3!CK28/Sheet3!$F$1","v":0},{"$f":"+Sheet3!CL28/Sheet3!$F$1","v":0},{"$f":"+Sheet3!CM28/Sheet3!$F$1","v":10},{"$f":"+Sheet3!CN28/Sheet3!$F$1","v":0},{"$f":"+Sheet3!CO28/Sheet3!$F$1","v":0},{"$f":"+Sheet3!CP28/Sheet3!$F$1","v":0},{"$f":"+Sheet3!CQ28/Sheet3!$F$1","v":0},{"$f":"+Sheet3!CR28/Sheet3!$F$1","v":0},{"$f":"+Sheet3!CS28/Sheet3!$F$1","v":0},{"$f":"+Sheet3!CT28/Sheet3!$F$1","v":0},{"$f":"+Sheet3!CU28/Sheet3!$F$1","v":15},{"$f":"+Sheet3!CV28/Sheet3!$F$1","v":23},{"$f":"+Sheet3!CW28/Sheet3!$F$1","v":64},{"$f":"+Sheet3!CX28/Sheet3!$F$1","v":3},{"$f":"+Sheet3!CY28/Sheet3!$F$1","v":28},{"$f":"+Sheet3!CZ28/Sheet3!$F$1","v":138},{"$f":"+Sheet3!DA28/Sheet3!$F$1","v":94},{"$f":"+Sheet3!DB28/Sheet3!$F$1","v":142},{"$f":"+Sheet3!DC28/Sheet3!$F$1","v":1291},{"$f":"+Sheet3!DD28/Sheet3!$F$1","v":915},{"$f":"+Sheet3!DE28/Sheet3!$F$1","v":10},{"$f":"+Sheet3!DF28/Sheet3!$F$1","v":149},{"$f":"+Sheet3!DG28/Sheet3!$F$1","v":36},{"$f":"+Sheet3!DH28/Sheet3!$F$1","v":649},{"$f":"+Sheet3!DI28/Sheet3!$F$1","v":1339},{"$f":"+Sheet3!DJ28/Sheet3!$F$1","v":517},{"$f":"+Sheet3!DK28/Sheet3!$F$1","v":431},{"$f":"+Sheet3!DL28/Sheet3!$F$1","v":12},{"$f":"+Sheet3!DM28/Sheet3!$F$1","v":0},{"$f":"+Sheet3!DN28/Sheet3!$F$1","v":2152},{"$f":"+Sheet3!DO28/Sheet3!$F$1","v":1603},{"$f":"+Sheet3!DP28/Sheet3!$F$1","v":1488},{"$f":"+Sheet3!DQ28/Sheet3!$F$1","v":577},{"$f":"+Sheet3!DR28/Sheet3!$F$1","v":36},5856]
[null,"187","Alentejo Central",{"$f":"+Sheet3!D29/Sheet3!$F$1","v":11},{"$f":"+Sheet3!E29/Sheet3!$F$1","v":7},{"$f":"+Sheet3!F29/Sheet3!$F$1","v":5},{"$f":"+Sheet3!G29/Sheet3!$F$1","v":4},{"$f":"+Sheet3!H29/Sheet3!$F$1","v":0},{"$f":"+Sheet3!I29/Sheet3!$F$1","v":6},{"$f":"+Sheet3!J29/Sheet3!$F$1","v":6},{"$f":"+Sheet3!K29/Sheet3!$F$1","v":4},{"$f":"+Sheet3!L29/Sheet3!$F$1","v":3},{"$f":"+Sheet3!M29/Sheet3!$F$1","v":0},{"$f":"+Sheet3!N29/Sheet3!$F$1","v":75},{"$f":"+Sheet3!O29/Sheet3!$F$1","v":87},{"$f":"+Sheet3!P29/Sheet3!$F$1","v":38},{"$f":"+Sheet3!Q29/Sheet3!$F$1","v":7},{"$f":"+Sheet3!R29/Sheet3!$F$1","v":0},{"$f":"+Sheet3!S29/Sheet3!$F$1","v":0},{"$f":"+Sheet3!T29/Sheet3!$F$1","v":0},{"$f":"+Sheet3!U29/Sheet3!$F$1","v":7},{"$f":"+Sheet3!V29/Sheet3!$F$1","v":0},{"$f":"+Sheet3!W29/Sheet3!$F$1","v":0},{"$f":"+Sheet3!X29/Sheet3!$F$1","v":0},{"$f":"+Sheet3!Y29/Sheet3!$F$1","v":7},{"$f":"+Sheet3!Z29/Sheet3!$F$1","v":37},{"$f":"+Sheet3!AA29/Sheet3!$F$1","v":5},{"$f":"+Sheet3!AB29/Sheet3!$F$1","v":0},{"$f":"+Sheet3!AC29/Sheet3!$F$1","v":70},{"$f":"+Sheet3!AD29/Sheet3!$F$1","v":28},{"$f":"+Sheet3!AE29/Sheet3!$F$1","v":50},{"$f":"+Sheet3!AF29/Sheet3!$F$1","v":18},{"$f":"+Sheet3!AG29/Sheet3!$F$1","v":0},{"$f":"+Sheet3!AH29/Sheet3!$F$1","v":175},{"$f":"+Sheet3!AI29/Sheet3!$F$1","v":310},{"$f":"+Sheet3!AJ29/Sheet3!$F$1","v":149},{"$f":"+Sheet3!AK29/Sheet3!$F$1","v":12},{"$f":"+Sheet3!AL29/Sheet3!$F$1","v":0},{"$f":"+Sheet3!AM29/Sheet3!$F$1","v":53},{"$f":"+Sheet3!AN29/Sheet3!$F$1","v":50},{"$f":"+Sheet3!AO29/Sheet3!$F$1","v":64},{"$f":"+Sheet3!AP29/Sheet3!$F$1","v":35},{"$f":"+Sheet3!AQ29/Sheet3!$F$1","v":0},{"$f":"+Sheet3!AR29/Sheet3!$F$1","v":652},{"$f":"+Sheet3!AS29/Sheet3!$F$1","v":229},{"$f":"+Sheet3!AT29/Sheet3!$F$1","v":72},{"$f":"+Sheet3!AU29/Sheet3!$F$1","v":12},{"$f":"+Sheet3!AV29/Sheet3!$F$1","v":0},{"$f":"+Sheet3!AW29/Sheet3!$F$1","v":323},{"$f":"+Sheet3!AX29/Sheet3!$F$1","v":288},{"$f":"+Sheet3!AY29/Sheet3!$F$1","v":132},{"$f":"+Sheet3!AZ29/Sheet3!$F$1","v":45},{"$f":"+Sheet3!BA29/Sheet3!$F$1","v":0},{"$f":"+Sheet3!BB29/Sheet3!$F$1","v":0},{"$f":"+Sheet3!BC29/Sheet3!$F$1","v":3},{"$f":"+Sheet3!BD29/Sheet3!$F$1","v":14},{"$f":"+Sheet3!BE29/Sheet3!$F$1","v":0},{"$f":"+Sheet3!BF29/Sheet3!$F$1","v":0},{"$f":"+Sheet3!BG29/Sheet3!$F$1","v":3},{"$f":"+Sheet3!BH29/Sheet3!$F$1","v":25},{"$f":"+Sheet3!BI29/Sheet3!$F$1","v":96},{"$f":"+Sheet3!BJ29/Sheet3!$F$1","v":31},{"$f":"+Sheet3!BK29/Sheet3!$F$1","v":0},{"$f":"+Sheet3!BL29/Sheet3!$F$1","v":67},{"$f":"+Sheet3!BM29/Sheet3!$F$1","v":9},{"$f":"+Sheet3!BN29/Sheet3!$F$1","v":11},{"$f":"+Sheet3!BO29/Sheet3!$F$1","v":5},{"$f":"+Sheet3!BP29/Sheet3!$F$1","v":0},{"$f":"+Sheet3!BQ29/Sheet3!$F$1","v":0},{"$f":"+Sheet3!BR29/Sheet3!$F$1","v":16},{"$f":"+Sheet3!BS29/Sheet3!$F$1","v":323},{"$f":"+Sheet3!BT29/Sheet3!$F$1","v":356},{"$f":"+Sheet3!BU29/Sheet3!$F$1","v":22},{"$f":"+Sheet3!BV29/Sheet3!$F$1","v":653},{"$f":"+Sheet3!BW29/Sheet3!$F$1","v":398},{"$f":"+Sheet3!BX29/Sheet3!$F$1","v":297},{"$f":"+Sheet3!BY29/Sheet3!$F$1","v":92},{"$f":"+Sheet3!BZ29/Sheet3!$F$1","v":8},{"$f":"+Sheet3!CA29/Sheet3!$F$1","v":118},{"$f":"+Sheet3!CB29/Sheet3!$F$1","v":133},{"$f":"+Sheet3!CC29/Sheet3!$F$1","v":122},{"$f":"+Sheet3!CD29/Sheet3!$F$1","v":116},{"$f":"+Sheet3!CE29/Sheet3!$F$1","v":20},{"$f":"+Sheet3!CF29/Sheet3!$F$1","v":199},{"$f":"+Sheet3!CG29/Sheet3!$F$1","v":232},{"$f":"+Sheet3!CH29/Sheet3!$F$1","v":242},{"$f":"+Sheet3!CI29/Sheet3!$F$1","v":46},{"$f":"+Sheet3!CJ29/Sheet3!$F$1","v":0},{"$f":"+Sheet3!CK29/Sheet3!$F$1","v":0},{"$f":"+Sheet3!CL29/Sheet3!$F$1","v":0},{"$f":"+Sheet3!CM29/Sheet3!$F$1","v":9},{"$f":"+Sheet3!CN29/Sheet3!$F$1","v":0},{"$f":"+Sheet3!CO29/Sheet3!$F$1","v":0},{"$f":"+Sheet3!CP29/Sheet3!$F$1","v":0},{"$f":"+Sheet3!CQ29/Sheet3!$F$1","v":0},{"$f":"+Sheet3!CR29/Sheet3!$F$1","v":0},{"$f":"+Sheet3!CS29/Sheet3!$F$1","v":0},{"$f":"+Sheet3!CT29/Sheet3!$F$1","v":0},{"$f":"+Sheet3!CU29/Sheet3!$F$1","v":32},{"$f":"+Sheet3!CV29/Sheet3!$F$1","v":20},{"$f":"+Sheet3!CW29/Sheet3!$F$1","v":209},{"$f":"+Sheet3!CX29/Sheet3!$F$1","v":8},{"$f":"+Sheet3!CY29/Sheet3!$F$1","v":51},{"$f":"+Sheet3!CZ29/Sheet3!$F$1","v":171},{"$f":"+Sheet3!DA29/Sheet3!$F$1","v":647},{"$f":"+Sheet3!DB29/Sheet3!$F$1","v":208},{"$f":"+Sheet3!DC29/Sheet3!$F$1","v":970},{"$f":"+Sheet3!DD29/Sheet3!$F$1","v":791},{"$f":"+Sheet3!DE29/Sheet3!$F$1","v":19},{"$f":"+Sheet3!DF29/Sheet3!$F$1","v":160},{"$f":"+Sheet3!DG29/Sheet3!$F$1","v":95},{"$f":"+Sheet3!DH29/Sheet3!$F$1","v":722},{"$f":"+Sheet3!DI29/Sheet3!$F$1","v":1450},{"$f":"+Sheet3!DJ29/Sheet3!$F$1","v":513},{"$f":"+Sheet3!DK29/Sheet3!$F$1","v":719},{"$f":"+Sheet3!DL29/Sheet3!$F$1","v":11},{"$f":"+Sheet3!DM29/Sheet3!$F$1","v":0},{"$f":"+Sheet3!DN29/Sheet3!$F$1","v":2417},{"$f":"+Sheet3!DO29/Sheet3!$F$1","v":1838},{"$f":"+Sheet3!DP29/Sheet3!$F$1","v":1688},{"$f":"+Sheet3!DQ29/Sheet3!$F$1","v":794},{"$f":"+Sheet3!DR29/Sheet3!$F$1","v":59},6796]
["Algarve","150","Algarve",{"$f":"+Sheet3!D30/Sheet3!$F$1","v":14},{"$f":"+Sheet3!E30/Sheet3!$F$1","v":4},{"$f":"+Sheet3!F30/Sheet3!$F$1","v":0},{"$f":"+Sheet3!G30/Sheet3!$F$1","v":0},{"$f":"+Sheet3!H30/Sheet3!$F$1","v":0},{"$f":"+Sheet3!I30/Sheet3!$F$1","v":0},{"$f":"+Sheet3!J30/Sheet3!$F$1","v":0},{"$f":"+Sheet3!K30/Sheet3!$F$1","v":0},{"$f":"+Sheet3!L30/Sheet3!$F$1","v":0},{"$f":"+Sheet3!M30/Sheet3!$F$1","v":0},{"$f":"+Sheet3!N30/Sheet3!$F$1","v":53},{"$f":"+Sheet3!O30/Sheet3!$F$1","v":44},{"$f":"+Sheet3!P30/Sheet3!$F$1","v":9},{"$f":"+Sheet3!Q30/Sheet3!$F$1","v":0},{"$f":"+Sheet3!R30/Sheet3!$F$1","v":0},{"$f":"+Sheet3!S30/Sheet3!$F$1","v":0},{"$f":"+Sheet3!T30/Sheet3!$F$1","v":0},{"$f":"+Sheet3!U30/Sheet3!$F$1","v":0},{"$f":"+Sheet3!V30/Sheet3!$F$1","v":0},{"$f":"+Sheet3!W30/Sheet3!$F$1","v":0},{"$f":"+Sheet3!X30/Sheet3!$F$1","v":0},{"$f":"+Sheet3!Y30/Sheet3!$F$1","v":0},{"$f":"+Sheet3!Z30/Sheet3!$F$1","v":0},{"$f":"+Sheet3!AA30/Sheet3!$F$1","v":0},{"$f":"+Sheet3!AB30/Sheet3!$F$1","v":0},{"$f":"+Sheet3!AC30/Sheet3!$F$1","v":145},{"$f":"+Sheet3!AD30/Sheet3!$F$1","v":74},{"$f":"+Sheet3!AE30/Sheet3!$F$1","v":0},{"$f":"+Sheet3!AF30/Sheet3!$F$1","v":0},{"$f":"+Sheet3!AG30/Sheet3!$F$1","v":0},{"$f":"+Sheet3!AH30/Sheet3!$F$1","v":6},{"$f":"+Sheet3!AI30/Sheet3!$F$1","v":3},{"$f":"+Sheet3!AJ30/Sheet3!$F$1","v":4},{"$f":"+Sheet3!AK30/Sheet3!$F$1","v":0},{"$f":"+Sheet3!AL30/Sheet3!$F$1","v":0},{"$f":"+Sheet3!AM30/Sheet3!$F$1","v":499},{"$f":"+Sheet3!AN30/Sheet3!$F$1","v":864},{"$f":"+Sheet3!AO30/Sheet3!$F$1","v":300},{"$f":"+Sheet3!AP30/Sheet3!$F$1","v":6},{"$f":"+Sheet3!AQ30/Sheet3!$F$1","v":0},{"$f":"+Sheet3!AR30/Sheet3!$F$1","v":14},{"$f":"+Sheet3!AS30/Sheet3!$F$1","v":5},{"$f":"+Sheet3!AT30/Sheet3!$F$1","v":0},{"$f":"+Sheet3!AU30/Sheet3!$F$1","v":0},{"$f":"+Sheet3!AV30/Sheet3!$F$1","v":0},{"$f":"+Sheet3!AW30/Sheet3!$F$1","v":1094},{"$f":"+Sheet3!AX30/Sheet3!$F$1","v":1081},{"$f":"+Sheet3!AY30/Sheet3!$F$1","v":123},{"$f":"+Sheet3!AZ30/Sheet3!$F$1","v":0},{"$f":"+Sheet3!BA30/Sheet3!$F$1","v":0},{"$f":"+Sheet3!BB30/Sheet3!$F$1","v":0},{"$f":"+Sheet3!BC30/Sheet3!$F$1","v":0},{"$f":"+Sheet3!BD30/Sheet3!$F$1","v":0},{"$f":"+Sheet3!BE30/Sheet3!$F$1","v":0},{"$f":"+Sheet3!BF30/Sheet3!$F$1","v":0},{"$f":"+Sheet3!BG30/Sheet3!$F$1","v":5},{"$f":"+Sheet3!BH30/Sheet3!$F$1","v":20},{"$f":"+Sheet3!BI30/Sheet3!$F$1","v":15},{"$f":"+Sheet3!BJ30/Sheet3!$F$1","v":0},{"$f":"+Sheet3!BK30/Sheet3!$F$1","v":0},{"$f":"+Sheet3!BL30/Sheet3!$F$1","v":27},{"$f":"+Sheet3!BM30/Sheet3!$F$1","v":8},{"$f":"+Sheet3!BN30/Sheet3!$F$1","v":0},{"$f":"+Sheet3!BO30/Sheet3!$F$1","v":0},{"$f":"+Sheet3!BP30/Sheet3!$F$1","v":0},{"$f":"+Sheet3!BQ30/Sheet3!$F$1","v":0},{"$f":"+Sheet3!BR30/Sheet3!$F$1","v":15},{"$f":"+Sheet3!BS30/Sheet3!$F$1","v":21},{"$f":"+Sheet3!BT30/Sheet3!$F$1","v":0},{"$f":"+Sheet3!BU30/Sheet3!$F$1","v":0},{"$f":"+Sheet3!BV30/Sheet3!$F$1","v":125},{"$f":"+Sheet3!BW30/Sheet3!$F$1","v":80},{"$f":"+Sheet3!BX30/Sheet3!$F$1","v":42},{"$f":"+Sheet3!BY30/Sheet3!$F$1","v":0},{"$f":"+Sheet3!BZ30/Sheet3!$F$1","v":0},{"$f":"+Sheet3!CA30/Sheet3!$F$1","v":51},{"$f":"+Sheet3!CB30/Sheet3!$F$1","v":66},{"$f":"+Sheet3!CC30/Sheet3!$F$1","v":38},{"$f":"+Sheet3!CD30/Sheet3!$F$1","v":3},{"$f":"+Sheet3!CE30/Sheet3!$F$1","v":0},{"$f":"+Sheet3!CF30/Sheet3!$F$1","v":90},{"$f":"+Sheet3!CG30/Sheet3!$F$1","v":86},{"$f":"+Sheet3!CH30/Sheet3!$F$1","v":30},{"$f":"+Sheet3!CI30/Sheet3!$F$1","v":0},{"$f":"+Sheet3!CJ30/Sheet3!$F$1","v":0},{"$f":"+Sheet3!CK30/Sheet3!$F$1","v":0},{"$f":"+Sheet3!CL30/Sheet3!$F$1","v":0},{"$f":"+Sheet3!CM30/Sheet3!$F$1","v":0},{"$f":"+Sheet3!CN30/Sheet3!$F$1","v":0},{"$f":"+Sheet3!CO30/Sheet3!$F$1","v":0},{"$f":"+Sheet3!CP30/Sheet3!$F$1","v":0},{"$f":"+Sheet3!CQ30/Sheet3!$F$1","v":0},{"$f":"+Sheet3!CR30/Sheet3!$F$1","v":0},{"$f":"+Sheet3!CS30/Sheet3!$F$1","v":0},{"$f":"+Sheet3!CT30/Sheet3!$F$1","v":0},{"$f":"+Sheet3!CU30/Sheet3!$F$1","v":23},{"$f":"+Sheet3!CV30/Sheet3!$F$1","v":5},{"$f":"+Sheet3!CW30/Sheet3!$F$1","v":109},{"$f":"+Sheet3!CX30/Sheet3!$F$1","v":0},{"$f":"+Sheet3!CY30/Sheet3!$F$1","v":0},{"$f":"+Sheet3!CZ30/Sheet3!$F$1","v":224},{"$f":"+Sheet3!DA30/Sheet3!$F$1","v":13},{"$f":"+Sheet3!DB30/Sheet3!$F$1","v":1670},{"$f":"+Sheet3!DC30/Sheet3!$F$1","v":21},{"$f":"+Sheet3!DD30/Sheet3!$F$1","v":2302},{"$f":"+Sheet3!DE30/Sheet3!$F$1","v":0},{"$f":"+Sheet3!DF30/Sheet3!$F$1","v":42},{"$f":"+Sheet3!DG30/Sheet3!$F$1","v":41},{"$f":"+Sheet3!DH30/Sheet3!$F$1","v":42},{"$f":"+Sheet3!DI30/Sheet3!$F$1","v":253},{"$f":"+Sheet3!DJ30/Sheet3!$F$1","v":161},{"$f":"+Sheet3!DK30/Sheet3!$F$1","v":210},{"$f":"+Sheet3!DL30/Sheet3!$F$1","v":0},{"$f":"+Sheet3!DM30/Sheet3!$F$1","v":0},{"$f":"+Sheet3!DN30/Sheet3!$F$1","v":2138},{"$f":"+Sheet3!DO30/Sheet3!$F$1","v":2365},{"$f":"+Sheet3!DP30/Sheet3!$F$1","v":600},{"$f":"+Sheet3!DQ30/Sheet3!$F$1","v":18},{"$f":"+Sheet3!DR30/Sheet3!$F$1","v":0},5121]
["Continente",null,null,{"$f":"+Sheet3!D31/Sheet3!$F$1","v":565},{"$f":"+Sheet3!E31/Sheet3!$F$1","v":125},{"$f":"+Sheet3!F31/Sheet3!$F$1","v":54},{"$f":"+Sheet3!G31/Sheet3!$F$1","v":13},{"$f":"+Sheet3!H31/Sheet3!$F$1","v":3},{"$f":"+Sheet3!I31/Sheet3!$F$1","v":4699},{"$f":"+Sheet3!J31/Sheet3!$F$1","v":633},{"$f":"+Sheet3!K31/Sheet3!$F$1","v":338},{"$f":"+Sheet3!L31/Sheet3!$F$1","v":41},{"$f":"+Sheet3!M31/Sheet3!$F$1","v":0},{"$f":"+Sheet3!N31/Sheet3!$F$1","v":3887},{"$f":"+Sheet3!O31/Sheet3!$F$1","v":1462},{"$f":"+Sheet3!P31/Sheet3!$F$1","v":490},{"$f":"+Sheet3!Q31/Sheet3!$F$1","v":61},{"$f":"+Sheet3!R31/Sheet3!$F$1","v":2},{"$f":"+Sheet3!S31/Sheet3!$F$1","v":138},{"$f":"+Sheet3!T31/Sheet3!$F$1","v":204},{"$f":"+Sheet3!U31/Sheet3!$F$1","v":247},{"$f":"+Sheet3!V31/Sheet3!$F$1","v":13},{"$f":"+Sheet3!W31/Sheet3!$F$1","v":1},{"$f":"+Sheet3!X31/Sheet3!$F$1","v":50},{"$f":"+Sheet3!Y31/Sheet3!$F$1","v":75},{"$f":"+Sheet3!Z31/Sheet3!$F$1","v":125},{"$f":"+Sheet3!AA31/Sheet3!$F$1","v":18},{"$f":"+Sheet3!AB31/Sheet3!$F$1","v":0},{"$f":"+Sheet3!AC31/Sheet3!$F$1","v":12514},{"$f":"+Sheet3!AD31/Sheet3!$F$1","v":2583},{"$f":"+Sheet3!AE31/Sheet3!$F$1","v":407},{"$f":"+Sheet3!AF31/Sheet3!$F$1","v":37},{"$f":"+Sheet3!AG31/Sheet3!$F$1","v":0},{"$f":"+Sheet3!AH31/Sheet3!$F$1","v":7047},{"$f":"+Sheet3!AI31/Sheet3!$F$1","v":3450},{"$f":"+Sheet3!AJ31/Sheet3!$F$1","v":773},{"$f":"+Sheet3!AK31/Sheet3!$F$1","v":34},{"$f":"+Sheet3!AL31/Sheet3!$F$1","v":2},{"$f":"+Sheet3!AM31/Sheet3!$F$1","v":7922},{"$f":"+Sheet3!AN31/Sheet3!$F$1","v":5197},{"$f":"+Sheet3!AO31/Sheet3!$F$1","v":1487},{"$f":"+Sheet3!AP31/Sheet3!$F$1","v":192},{"$f":"+Sheet3!AQ31/Sheet3!$F$1","v":13},{"$f":"+Sheet3!AR31/Sheet3!$F$1","v":7430},{"$f":"+Sheet3!AS31/Sheet3!$F$1","v":2077},{"$f":"+Sheet3!AT31/Sheet3!$F$1","v":868},{"$f":"+Sheet3!AU31/Sheet3!$F$1","v":140},{"$f":"+Sheet3!AV31/Sheet3!$F$1","v":6},{"$f":"+Sheet3!AW31/Sheet3!$F$1","v":38745},{"$f":"+Sheet3!AX31/Sheet3!$F$1","v":12573},{"$f":"+Sheet3!AY31/Sheet3!$F$1","v":1868},{"$f":"+Sheet3!AZ31/Sheet3!$F$1","v":239},{"$f":"+Sheet3!BA31/Sheet3!$F$1","v":18},{"$f":"+Sheet3!BB31/Sheet3!$F$1","v":384},{"$f":"+Sheet3!BC31/Sheet3!$F$1","v":1131},{"$f":"+Sheet3!BD31/Sheet3!$F$1","v":179},{"$f":"+Sheet3!BE31/Sheet3!$F$1","v":17},{"$f":"+Sheet3!BF31/Sheet3!$F$1","v":0},{"$f":"+Sheet3!BG31/Sheet3!$F$1","v":1396},{"$f":"+Sheet3!BH31/Sheet3!$F$1","v":1178},{"$f":"+Sheet3!BI31/Sheet3!$F$1","v":654},{"$f":"+Sheet3!BJ31/Sheet3!$F$1","v":98},{"$f":"+Sheet3!BK31/Sheet3!$F$1","v":2},{"$f":"+Sheet3!BL31/Sheet3!$F$1","v":1983},{"$f":"+Sheet3!BM31/Sheet3!$F$1","v":496},{"$f":"+Sheet3!BN31/Sheet3!$F$1","v":71},{"$f":"+Sheet3!BO31/Sheet3!$F$1","v":10},{"$f":"+Sheet3!BP31/Sheet3!$F$1","v":0},{"$f":"+Sheet3!BQ31/Sheet3!$F$1","v":1395},{"$f":"+Sheet3!BR31/Sheet3!$F$1","v":2232},{"$f":"+Sheet3!BS31/Sheet3!$F$1","v":1956},{"$f":"+Sheet3!BT31/Sheet3!$F$1","v":1103},{"$f":"+Sheet3!BU31/Sheet3!$F$1","v":57},{"$f":"+Sheet3!BV31/Sheet3!$F$1","v":9678},{"$f":"+Sheet3!BW31/Sheet3!$F$1","v":5075},{"$f":"+Sheet3!BX31/Sheet3!$F$1","v":2394},{"$f":"+Sheet3!BY31/Sheet3!$F$1","v":425},{"$f":"+Sheet3!BZ31/Sheet3!$F$1","v":20},{"$f":"+Sheet3!CA31/Sheet3!$F$1","v":6852},{"$f":"+Sheet3!CB31/Sheet3!$F$1","v":2824},{"$f":"+Sheet3!CC31/Sheet3!$F$1","v":1190},{"$f":"+Sheet3!CD31/Sheet3!$F$1","v":439},{"$f":"+Sheet3!CE31/Sheet3!$F$1","v":54},{"$f":"+Sheet3!CF31/Sheet3!$F$1","v":5840},{"$f":"+Sheet3!CG31/Sheet3!$F$1","v":2249},{"$f":"+Sheet3!CH31/Sheet3!$F$1","v":1519},{"$f":"+Sheet3!CI31/Sheet3!$F$1","v":171},{"$f":"+Sheet3!CJ31/Sheet3!$F$1","v":0},{"$f":"+Sheet3!CK31/Sheet3!$F$1","v":10},{"$f":"+Sheet3!CL31/Sheet3!$F$1","v":88},{"$f":"+Sheet3!CM31/Sheet3!$F$1","v":158},{"$f":"+Sheet3!CN31/Sheet3!$F$1","v":27},{"$f":"+Sheet3!CO31/Sheet3!$F$1","v":0},{"$f":"+Sheet3!CP31/Sheet3!$F$1","v":201},{"$f":"+Sheet3!CQ31/Sheet3!$F$1","v":31},{"$f":"+Sheet3!CR31/Sheet3!$F$1","v":11},{"$f":"+Sheet3!CS31/Sheet3!$F$1","v":0},{"$f":"+Sheet3!CT31/Sheet3!$F$1","v":0},{"$f":"+Sheet3!CU31/Sheet3!$F$1","v":760},{"$f":"+Sheet3!CV31/Sheet3!$F$1","v":5711},{"$f":"+Sheet3!CW31/Sheet3!$F$1","v":5902},{"$f":"+Sheet3!CX31/Sheet3!$F$1","v":603},{"$f":"+Sheet3!CY31/Sheet3!$F$1","v":268},{"$f":"+Sheet3!CZ31/Sheet3!$F$1","v":15541},{"$f":"+Sheet3!DA31/Sheet3!$F$1","v":11306},{"$f":"+Sheet3!DB31/Sheet3!$F$1","v":14811},{"$f":"+Sheet3!DC31/Sheet3!$F$1","v":10521},{"$f":"+Sheet3!DD31/Sheet3!$F$1","v":53443},{"$f":"+Sheet3!DE31/Sheet3!$F$1","v":1711},{"$f":"+Sheet3!DF31/Sheet3!$F$1","v":3328},{"$f":"+Sheet3!DG31/Sheet3!$F$1","v":2560},{"$f":"+Sheet3!DH31/Sheet3!$F$1","v":6743},{"$f":"+Sheet3!DI31/Sheet3!$F$1","v":17592},{"$f":"+Sheet3!DJ31/Sheet3!$F$1","v":11359},{"$f":"+Sheet3!DK31/Sheet3!$F$1","v":9779},{"$f":"+Sheet3!DL31/Sheet3!$F$1","v":283},{"$f":"+Sheet3!DM31/Sheet3!$F$1","v":243},{"$f":"+Sheet3!DN31/Sheet3!$F$1","v":110736},{"$f":"+Sheet3!DO31/Sheet3!$F$1","v":43683},{"$f":"+Sheet3!DP31/Sheet3!$F$1","v":14789},{"$f":"+Sheet3!DQ31/Sheet3!$F$1","v":3078},{"$f":"+Sheet3!DR31/Sheet3!$F$1","v":178},{"$f":"SUM(DN34:DR34)","v":172464}]
[]
[]
[null,"Legenda"]
[null,"MP",{"$f":"+INDEX(Sheet6!R8:T8,1,Sheet3!$B$1)","v":"< 5 ha"}]
[null,"P",{"$f":"+INDEX(Sheet6!R9:T9,1,Sheet3!$B$1)","v":">= 5  e < 25 ha"}]
[null,"M",{"$f":"+INDEX(Sheet6!R10:T10,1,Sheet3!$B$1)","v":">= 25  e < 200 ha"}]
[null,"G",{"$f":"+INDEX(Sheet6!R11:T11,1,Sheet3!$B$1)","v":">= 200  e < 1 000 ha"}]
[null,"MG",{"$f":"+INDEX(Sheet6!R12:T12,1,Sheet3!$B$1)","v":">= 1 000 ha"}]
["Fonte: GPP a partir de dados IFAP"]
[]
[null,null,null,{"$f":"+INDEX(Sheet6!$D$2:$D$118,Sheet3!$C$1)&\" segundo Orientação Técnico Económica e \"&INDEX(Sheet6!$P$3:$P$6,Sheet3!$B$1)&\" e por NUTSIII em \" &Sheet6!$B$1","v":"(1) - Nº de Beneficiários segundo Orientação Técnico Económica e Classes de Superfície Agrícola e por NUTSIII em 2023"},null,null,null,null,null,null,null,null,null,null,null,null,null,null,null,null,null,null,null,null,null,null,null,null,null,null,null,null,null,{"$f":"+D45& \" (cont.)\"","v":"(1) - Nº de Beneficiários segundo Orientação Técnico Económica e Classes de Superfície Agrícola e por NUTSIII em 2023 (cont.)"},null,null,null,null,null,null,null,null,null,null,null,null,null,null,null,null,null,null,null,null,null,null,null,null,null,null,null,null,null,null,null,null,null,null,{"$f":"+AH45","v":"(1) - Nº de Beneficiários segundo Orientação Técnico Económica e Classes de Superfície Agrícola e por NUTSIII em 2023 (cont.)"},null,null,null,null,null,null,null,null,null,null,null,null,null,null,null,null,null,null,null,null,null,null,null,null,null,null,null,null,null,{"$f":"+INDEX(Sheet6!$D$2:$D$118,Sheet3!$C$1)&\" segundo Orientação Técnico Económica por NUTSIII em \" &Sheet6!B44","v":"(1) - Nº de Beneficiários segundo Orientação Técnico Económica por NUTSIII em 42"},null,null,null,null,null,null,null,null,null,null,null,null,null,null,null,null,null,null,{"$f":"+INDEX(Sheet6!$D$2:$D$118,Sheet3!$C$1)&CHAR(10)& \"segundo \"&INDEX(Sheet6!$P$3:$P$6,Sheet3!$B$1)& \" por NUTSIII em \" &Sheet6!$B$1","v":"(1) - Nº de Beneficiários\nsegundo Classes de Superfície Agrícola por NUTSIII em 2023"}]
[null,null,"Unidade (%)"]
[null,null,"OTE","Não classificadas",null,null,null,null,"Arvenses e Outras Cult pred. Regadio",null,null,null,null,"Arvenses e Outras Cult pred. Sequeiro",null,null,null,null,"Arroz",null,null,null,null,"Horticultura e Industriais",null,null,null,null,"Horticultura e Floricultura",null,null,null,null,"Vinhos",null,null,null,null,"Fruticultura",null,null,null,null,"Olival",null,null,null,null,"Policultura",null,null,null,null,"Bovinos Leite",null,null,null,null,{"$f":"+BG8","v":"Bov. Carne semi-int. (>1 < 3CN por ha SF)"},null,null,null,null,{"$f":"+BL8","v":"Bov. Carne Int (>= 3CN por ha SF)"},null,null,null,null,{"$f":"+BQ8","v":"Bov. Carne Extensivos (<1 CN por ha SF)"},null,null,null,null,"Outros Ruminantes",null,null,null,null,"Mistas",null,null,null,null,"Pousio e Pastagem",null,null,null,null,"Tomate Indústria",null,null,null,null,"Plantas tuberosas",null,null,null,null,"Não classificadas","Arvenses e Outras Cult pred. Regadio","Arvenses e Outras Cult pred. Sequeiro","Arroz","Horticultura e Industriais","Horticultura e Floricultura","Vinhos","Fruticultura","Olival","Policultura","Bovinos Leite",{"$f":"+DF8","v":"Bov. Carne semi-int. (>1 < 3CN por ha SF)"},{"$f":"+DG8","v":"Bov. Carne Int (>= 3CN por ha SF)"},{"$f":"+DH8","v":"Bov. Carne Extensivos (<1 CN por ha SF)"},"Outros Ruminantes","Mistas","Pousio e Pastagem","Tomate Indústria","Plantas tuberosas","MP","P","M","G","MG","Total"]
[null,null,{"$f":"+C9","v":"Classes de Superfície Agrícola"},"MP","P","M","G","MG","MP","P","M","G","MG","MP","P","M","G","MG","MP","P","M","G","MG","MP","P","M","G","MG","MP","P","M","G","MG","MP","P","M","G","MG","MP","P","M","G","MG","MP","P","M","G","MG","MP","P","M","G","MG","MP","P","M","G","MG","MP","P","M","G","MG","MP","P","M","G","MG","MP","P","M","G","MG","MP","P","M","G","MG","MP","P","M","G","MG","MP","P","M","G","MG","MP","P","M","G","MG","MP","P","M","G","MG",null,"Arvenses e Outras Cult pred. Regadio"]
["NUTS II","Cód.","NUTS III",null,null,null,null,null,null,null,null,null,null,null,null,null,null,null,null,null,null,null,null,null,null,null,null,null,null,null,null,null,{"$f":"+\"Unidade: % \"","v":"Unidade: % "},null,null,null,null,null,null,null,null,null,null,null,null,null,null,null,null,null,null,null,null,null,null,null,null,null,null,null,null,null,{"$f":"+\"Unidade: % \"","v":"Unidade: % "},null,null,null,null,null,null,null,null,null,null,null,null,null,null,null,null,null,null,null,null,null,null,null,null,null,null,null,null,null,null,null,null,null,null,{"$f":"+\"Unidade: % \"","v":"Unidade: % "},null,null,null,null,null,null,null,null,null,null,null,null,null,null,null,null,null,null,null,null,null,null,null,null,"Unidade: % "]
["Norte ","111","Alto Minho",{"$f":"+D11/$DS$34*100","v":1.7394934595045923E-3},0,0,0,0,0.1582939048149179,0,0,0,0,6.204193338899712E-2,1.7394934595045923E-3,0,0,0,0,0,0,0,0,0,0,0,0,0,0.13799981445403101,4.0588180721773818E-3,0,0,0,0.41283978105575653,5.9142777623156138E-2,{"$f":"+AJ11/$DS$34*100","v":4.0588180721773818E-3},0,0,7.1899062992856477E-2,9.8571296038593558E-3,2.3193246126727894E-3,0,0,0,0,0,0,0,1.2472168104647927,2.20335838203915E-2,0,0,0,2.899155765840987E-3,2.3193246126727896E-2,5.2184803785137769E-3,0,0,0.19250394285184153,9.7991464885425372E-2,8.6974672975229615E-3,0,0,6.2621764542165323E-2,9.8571296038593558E-3,0,0,{"$f":"+BP11/$DS$34*100","v":0},0.20584005937471006,0.1548149178959087,3.0731051117914462E-2,5.2184803785137769E-3,0,0.58968828277205676,0.10668893218294834,5.7983115316819741E-3,0,0,0.57345301048334729,2.8411726505241673E-2,0,0,0,0.18206698209481401,8.1176361443547635E-3,0,0,0,0,0,0,0,0,0,0,0,0,0,2.899155765840987E-3,{"$f":"+CV11/$DS$34*100","v":0.16003339827442251},6.4941089154838108E-2,0,0,0.14437795713888116,0.47778087021059468,8.5235179515725013E-2,0,1.271569718897857,3.305037573058725E-2,0.29977270618795809,7.3638556452361073E-2,0.39718433992021523,0.70391501994619166,0.60302439929492535,0.19192411169867335,0,1.7394934595045923E-3,3.9069023100473146,0.53576398552741444,6.3781426848501716E-2,5.7983115316819741E-3,0,{"$f":"SUM(DN50:DR50)","v":4.5122460339549129}]
[null,"112","Cávado",{"$f":"+D12/$DS$34*100","v":0},0,0,0,0,0.54852027089711475,1.101679191019575E-2,0,0,0,0.19018461823916874,5.2184803785137769E-3,0,0,0,0,0,0,0,0,0,0,0,0,0,0.26150385007885701,4.0588180721773818E-3,0,0,0,4.8705816866128585E-2,2.8411726505241673E-2,{"$f":"+AJ12/$DS$34*100","v":3.4789869190091846E-3},0,0,0.11944521755264867,1.6235272288709527E-2,0,0,0,1.7394934595045923E-3,0,0,0,0,1.130670748677985,2.9571388811578069E-2,0,0,0,5.3344466091474169E-2,0.15887373596808607,9.8571296038593558E-3,0,0,0.12350403562482605,3.6529362649596435E-2,1.7394934595045923E-3,0,0,0.21743668243807404,3.0151219964746265E-2,0,0,{"$f":"+BP12/$DS$34*100","v":0},6.6100751461174501E-2,3.1310882271082661E-2,5.7983115316819741E-3,0,0,0.13162167176918083,2.9571388811578069E-2,3.4789869190091846E-3,0,0,0.31194916040449022,3.0731051117914462E-2,0,0,0,0.46096576676871692,3.9428518415437423E-2,0,0,0,0,0,0,0,0,0,0,0,0,0,2.3193246126727894E-3,{"$f":"+CV12/$DS$34*100","v":0.56069672511364688},0.19540309861768254,0,0,0.26788199276370722,8.1756192596715835E-2,0.13857964560719918,2.3193246126727894E-3,1.1631412932554039,0.22207533166341961,0.16177289173392709,0.24932739586232489,0.10378977641710734,0.16815103441877724,0.34557936728824568,0.50155394749049076,0,0,3.6714908618610256,0.46502458484089437,2.8411726505241673E-2,0,0,{"$f":"SUM(DN51:DR51)","v":4.164927173207162}]
[null,"119","Ave",{"$f":"+D13/$DS$34*100","v":1.7394934595045923E-3},0,0,0,0,0.22613414973559698,1.101679191019575E-2,0,0,0,7.1319231839688288E-2,2.3193246126727894E-3,0,0,0,0,0,0,0,0,0,0,0,0,0,7.8857036830874847E-2,7.5378049911865664E-3,0,0,0,0.12466369793116244,4.6966323406623989E-2,{"$f":"+AJ13/$DS$34*100","v":5.7983115316819741E-3},0,0,9.2193153353743396E-2,1.8554596901382316E-2,1.7394934595045923E-3,0,0,1.7394934595045923E-3,0,0,0,0,0.45052880601168938,3.3630206883755447E-2,2.3193246126727894E-3,0,0,1.4495778829204936E-2,5.5083959550978757E-2,2.899155765840987E-3,0,0,9.4512477966416181E-2,6.6680582614342704E-2,0,0,0,{"$f":"+BL13/$DS$34*100","v":0.10494943872344374},1.5075609982373133E-2,0,0,0,0.14263846367937658,0.14147880137304017,9.2772984506911578E-3,0,{"$f":"+BU13/$DS$34*100","v":0},0.28353743389924857,0.12176454216532145,6.9579738380183692E-3,0,0,0.22729381204193339,3.8848687262269227E-2,3.4789869190091846E-3,0,0,0.32760460154003157,2.9571388811578069E-2,0,0,0,0,0,0,0,0,0,0,0,0,0,4.6386492253455789E-3,0.23831060395212914,7.4798218758697466E-2,0,0,8.9293997587902407E-2,{"$f":"+DA13/$DS$34*100","v":0.17916782632897299},0.11422673717413488,2.899155765840987E-3,0.48647833750811764,7.305872529919287E-2,0.16293255404026347,{"$f":"+DG13/$DS$34*100","v":0.12060487985898506},0.29397439465627606,0.41225994990258835,0.27136097968271639,0.35717599035160963,0,1.7394934595045923E-3,2.2520641989052788,0.5966462566100752,3.4789869190091846E-2,0,0,2.8835003247054458]
[null,"11A","Área Metropolitana do Porto",{"$f":"+D14/$DS$34*100","v":0},0,0,0,0,0.34094071806290005,1.7394934595045923E-2,0,0,0,2.6672233045737084E-2,0,0,0,0,0,0,0,0,0,0,0,0,0,0,0.18728546247332778,8.6974672975229615E-3,0,0,0,4.5226829947119393E-2,1.1596623063363948E-2,{"$f":"+AJ14/$DS$34*100","v":2.899155765840987E-3},0,0,9.5672140272752573E-2,2.0873921514055108E-2,0,0,0,0,0,0,0,0,0.47430188329158551,2.7252064198905281E-2,0,0,0,5.3924297244642365E-2,0.24236942202430653,1.9134428054550515E-2,0,0,6.6100751461174501E-2,2.7831895352073477E-2,0,0,0,{"$f":"+BL14/$DS$34*100","v":0.13741998330086277},3.3630206883755447E-2,0,0,0,3.9428518415437423E-2,2.1453752667223304E-2,0,0,{"$f":"+BU14/$DS$34*100","v":0},5.7983115316819746E-2,2.2613414973559696E-2,2.899155765840987E-3,0,0,0.17800816402263661,1.7394934595045923E-2,0,0,0,0.4058818072177382,7.9436867984043036E-2,0,0,0,0,0,0,0,0,4.0588180721773818E-3,0,0,0,0,0,0.36181463957695514,2.7831895352073477E-2,0,0,0.19714259207718712,{"$f":"+DA14/$DS$34*100","v":6.1462102235828923E-2},0.11828555524631228,0,0.50329344094999529,0.31658780962983579,9.4512477966416181E-2,{"$f":"+DG14/$DS$34*100","v":0.17394934595045924},6.204193338899712E-2,8.5815010668893216E-2,0.19772242323035533,0.48705816866128582,0,4.6386492253455789E-3,2.120442527136098,0.54388162167176912,3.0151219964746265E-2,0,0,2.6944753687726135]
[null,"11B","Alto Tâmega",{"$f":"+D15/$DS$34*100","v":8.6974672975229615E-3},5.7983115316819741E-3,0,0,0,7.8857036830874847E-2,1.7394934595045923E-2,0,0,0,0.25512570739400686,4.8125985712960381E-2,0,0,0,0,0,0,0,0,0,0,0,0,0,0.71029316263104181,7.0159569533351895E-2,0,0,0,4.3487336487614811E-2,1.7394934595045923E-2,{"$f":"+AJ15/$DS$34*100","v":1.7394934595045923E-3},0,0,0.68130160497263192,0.27020131737637998,1.0436960757027554E-2,0,0,0.13684015214769457,2.1453752667223304E-2,4.0588180721773818E-3,0,0,1.8653168197420911,0.52938584284256429,1.101679191019575E-2,0,0,1.7394934595045923E-3,1.9134428054550515E-2,2.899155765840987E-3,0,0,6.4941089154838108E-2,0.11306707486779849,1.3915947676036738E-2,0,0,{"$f":"+BL15/$DS$34*100","v":3.2470544577419054E-2},1.101679191019575E-2,1.7394934595045923E-3,0,0,0.15887373596808607,0.57983115316819744,9.7991464885425372E-2,4.6386492253455789E-3,{"$f":"+BU15/$DS$34*100","v":0},0.49807496057148154,0.4058818072177382,2.9571388811578069E-2,2.3193246126727894E-3,0,0.26034418777252066,0.23773077279896096,8.1176361443547635E-3,0,0,0.23193246126727898,4.6386492253455792E-2,1.7394934595045923E-3,0,0,0,0,0,0,0,2.6672233045737084E-2,0,0,0,0,1.5655441135541331E-2,9.7991464885425372E-2,0.30383152426013543,0,0,0.78103256331756199,{"$f":"+DA15/$DS$34*100","v":6.4941089154838108E-2},0.96193988310603951,0.16467204749976808,2.405719454494851,2.5512570739400685E-2,0.19366360515817796,{"$f":"+DG15/$DS$34*100","v":4.6966323406623989E-2},0.84133500324705457,0.93584748121347072,0.50677242786900456,0.28121810928657576,0,2.9571388811578069E-2,5.0607663048520273,2.402240467575842,0.18670563132015958,7.5378049911865664E-3,0,7.6572502087392156]
[null,"11C","Tâmega e Sousa",{"$f":"+D16/$DS$34*100","v":1.7394934595045923E-3},0,0,0,0,0.26730216161053899,6.9579738380183692E-3,0,0,0,1.7394934595045923E-2,0,0,0,0,0,0,0,0,0,0,0,0,0,0,0.2464282400964839,8.1176361443547635E-3,0,0,0,0.39254569069486966,0.14147880137304017,{"$f":"+AJ16/$DS$34*100","v":1.4495778829204936E-2},0,0,0.29339456350310789,8.5815010668893216E-2,2.3193246126727894E-3,0,0,7.5378049911865664E-3,0,0,0,0,1.4553761944521757,9.8571296038593562E-2,2.3193246126727894E-3,0,0,1.7394934595045923E-3,1.1596623063363948E-2,0,0,0,8.5235179515725013E-2,2.7831895352073477E-2,2.3193246126727894E-3,0,0,{"$f":"+BL16/$DS$34*100","v":7.8277205677706643E-2},1.2176454216532146E-2,0,0,0,3.1310882271082661E-2,2.5512570739400685E-2,4.0588180721773818E-3,0,{"$f":"+BU16/$DS$34*100","v":0},0.16003339827442251,2.5512570739400685E-2,4.0588180721773818E-3,0,0,0.35543649689210499,3.305037573058725E-2,0,0,0,0.14611745059838574,1.3915947676036738E-2,0,0,0,0,0,0,0,0,0,0,0,0,0,3.4789869190091846E-3,0.27599962890806201,1.8554596901382316E-2,0,0,0.25744503200667967,{"$f":"+DA16/$DS$34*100","v":0.55025976435661939},0.38268856109101029,8.1176361443547635E-3,1.556266815103442,1.6235272288709527E-2,0.11712589293997588,{"$f":"+DG16/$DS$34*100","v":9.2772984506911585E-2},6.204193338899712E-2,0.19192411169867335,0.38964653492902868,0.16119306058075888,0,0,3.5468271639298639,0.50155394749049076,3.5949531496428239E-2,0,0,4.0843306429167834]
[null,"11D","Douro",{"$f":"+D17/$DS$34*100","v":2.3193246126727894E-3},0,0,0,0,9.8571296038593558E-3,0,0,0,0,7.8277205677706643E-2,2.0873921514055108E-2,0,0,0,0,0,0,0,0,0,0,0,0,0,0.98339363577326278,8.0596530290379442E-2,4.0588180721773818E-3,0,0,2.2601818350496337,0.95556174042118935,{"$f":"+AJ17/$DS$34*100","v":0.13741998330086277},6.3781426848501712E-3,0,0.56591520549216068,0.39892383337971982,4.4067167640783E-2,0,0,0.35021801651359125,3.5369700343260042E-2,4.0588180721773818E-3,0,0,3.7422302625475461,0.9491835977363392,8.0596530290379442E-2,0,0,1.0436960757027554E-2,2.0294090360886911E-2,2.3193246126727894E-3,0,0,3.0151219964746265E-2,1.8554596901382316E-2,2.3193246126727894E-3,0,0,{"$f":"+BL17/$DS$34*100","v":1.0436960757027554E-2},2.899155765840987E-3,0,0,0,7.7117543371370251E-2,6.5520920308006311E-2,1.0436960757027554E-2,0,{"$f":"+BU17/$DS$34*100","v":0},0.32122645885518136,0.13510065868818999,1.0436960757027554E-2,0,0,0.18670563132015958,8.0016699137211253E-2,9.2772984506911578E-3,0,0,4.4646998793951204E-2,8.6974672975229615E-3,0,0,0,0,0,0,0,0,1.7974765748214119E-2,0,0,0,0,4.0588180721773818E-3,1.2756285369700342E-2,9.9151127191761765E-2,0,2.3193246126727894E-3,1.0680489841358196,{"$f":"+DA17/$DS$34*100","v":3.3595417014565356},1.0094860376658317,0.39080619723536508,4.7720103905742643,3.4210038036923643E-2,5.3924297244642365E-2,{"$f":"+DG17/$DS$34*100","v":1.4495778829204936E-2},0.1542350867427405,0.46734390945356713,0.27715929121439836,5.6823453010483346E-2,0,1.9134428054550515E-2,8.699786622135635,2.7808702105946748,0.308470173485481,6.3781426848501712E-3,0,11.795505148900642]
[null,"11E","Terras de Trás-os-Montes",{"$f":"+D18/$DS$34*100","v":3.0731051117914462E-2},9.2772984506911578E-3,2.3193246126727894E-3,0,0,2.3193246126727894E-3,1.7394934595045923E-3,0,0,0,0.21279803321272847,0.19076444939233694,1.5655441135541331E-2,0,0,0,0,0,0,0,2.3193246126727894E-3,2.899155765840987E-3,0,0,0,1.8740142870396141,0.9491835977363392,0.10089062065126635,0,0,6.8999907227015503E-2,3.9428518415437423E-2,{"$f":"+AJ18/$DS$34*100","v":5.7983115316819741E-3},0,0,0.81466277020131739,0.73754522682994716,7.4798218758697466E-2,0,0,1.0552926987661193,0.2684618239168754,5.2764634938305972E-2,0,0,3.2748863530939789,2.7321643937285462,0.28701642081825773,0,0,0,0,8.1176361443547635E-3,0,0,8.6974672975229615E-3,3.0731051117914462E-2,3.0151219964746265E-2,0,0,{"$f":"+BL18/$DS$34*100","v":1.7394934595045923E-2},9.2772984506911578E-3,0,0,0,0,2.7831895352073477E-2,3.1310882271082661E-2,1.7394934595045923E-3,{"$f":"+BU18/$DS$34*100","v":0},0.1542350867427405,0.21685685128490584,5.2764634938305972E-2,0,0,8.8714166434734204E-2,0.31194916040449022,0.16757120326560904,0,0,7.5378049911865669E-2,4.0588180721773823E-2,4.6386492253455789E-3,0,0,0,0,0,0,0,1.7394934595045923E-3,0,0,0,0,4.4067167640783E-2,5.2184803785137769E-3,0.42153724835327955,0,6.9579738380183692E-3,2.9252481677335558,{"$f":"+DA18/$DS$34*100","v":0.11654606178680769},1.6275860469431302,1.3782586510808053,6.2952268299471186,1.0436960757027554E-2,7.1319231839688288E-2,{"$f":"+DG18/$DS$34*100","v":2.7252064198905281E-2},6.6100751461174501E-2,0.42443640411912054,0.56939419241116984,0.12176454216532145,0,2.899155765840987E-3,7.6926199090824747,5.5744967065590494,0.84191483440022274,4.6386492253455789E-3,0,14.113670099267091]
["Centro","16B","Oeste",{"$f":"+D19/$DS$34*100","v":3.2470544577419054E-2},7.5378049911865664E-3,2.899155765840987E-3,0,0,2.3193246126727894E-3,2.3193246126727894E-3,0,0,0,1.9714259207718712E-2,1.5655441135541331E-2,0,0,0,0,0,0,0,0,0,0,0,0,0,6.6680582614342704E-2,4.5806661100287596E-2,2.3193246126727894E-3,0,0,3.5949531496428239E-2,8.6394841822061419E-2,{"$f":"+AJ19/$DS$34*100","v":4.0008349568605626E-2},0,0,0.11538639948047127,0.23193246126727898,5.9722608776324335E-2,0,0,0,0,0,0,0,6.8999907227015503E-2,5.7403284163651543E-2,1.3915947676036738E-2,0,0,0,2.3193246126727894E-3,0,0,0,2.899155765840987E-3,5.2184803785137769E-3,2.899155765840987E-3,0,0,{"$f":"+BL19/$DS$34*100","v":4.1168011874942019E-2},1.3915947676036738E-2,1.7394934595045923E-3,0,0,4.0588180721773818E-3,5.2184803785137769E-3,3.4789869190091846E-3,0,{"$f":"+BU19/$DS$34*100","v":0},0.26092401892568884,1.6235272288709527E-2,1.7394934595045923E-3,0,0,3.0151219964746265E-2,1.2176454216532146E-2,0,0,0,8.6974672975229622E-2,2.5512570739400685E-2,6.9579738380183692E-3,0,0,0,0,0,0,0,8.1176361443547635E-3,4.6386492253455789E-3,0,0,0,4.3487336487614811E-2,8.1176361443547635E-3,4.0008349568605626E-2,0,1.7394934595045923E-3,0.11654606178680769,{"$f":"+DA19/$DS$34*100","v":0.16409221634659987},0.40762130067724278,1.7394934595045923E-3,0.14379812598571295,4.0588180721773818E-3,1.3915947676036738E-2,{"$f":"+DG19/$DS$34*100","v":5.7983115316819746E-2},1.3336116522868542E-2,0.27947861582707118,4.4646998793951204E-2,0.12118471101215327,0,1.2756285369700342E-2,0.78509138138973933,0.54156229705909631,0.14611745059838574,3.4789869190091846E-3,0,1.4762501159662307]
[null,"16D","Região de Aveiro",{"$f":"+D20/$DS$34*100","v":5.7983115316819741E-3},0,0,0,0,0.41805826143427027,3.6529362649596435E-2,5.7983115316819741E-3,0,0,0.3345625753780499,2.4352908433064292E-2,0,0,0,0,2.3193246126727894E-3,2.3193246126727894E-3,0,0,0,0,0,0,0,0.15017626867056313,7.5378049911865664E-3,1.7394934595045923E-3,0,0,2.4932739586232489E-2,1.5075609982373133E-2,{"$f":"+AJ20/$DS$34*100","v":4.0588180721773818E-3},0,0,0.12408386677799424,1.1596623063363948E-2,0,0,0,0,0,0,0,0,0.44299100102050282,1.7974765748214119E-2,0,0,0,3.305037573058725E-2,6.3781426848501716E-2,7.5378049911865664E-3,0,0,2.8411726505241673E-2,1.7394934595045923E-2,2.899155765840987E-3,0,0,{"$f":"+BL20/$DS$34*100","v":7.4218387605529262E-2},1.7974765748214119E-2,0,0,0,1.5655441135541331E-2,8.1176361443547635E-3,0,0,{"$f":"+BU20/$DS$34*100","v":0},3.8268856109101031E-2,4.0588180721773818E-3,0,0,0,0.14727711290472215,1.5655441135541331E-2,0,0,0,0.21395769551906485,2.8991557658409873E-2,0,0,0,0,0,0,0,0,1.7394934595045923E-2,1.7394934595045923E-3,0,0,0,6.9579738380183692E-3,0.46212542907505327,0.36007514611745056,5.2184803785137769E-3,0,0.16003339827442251,{"$f":"+DA20/$DS$34*100","v":4.5806661100287596E-2},0.1362603209945264,1.7394934595045923E-3,0.4644447536877262,0.10436960757027552,4.8705816866128585E-2,{"$f":"+DG20/$DS$34*100","v":9.4512477966416181E-2},2.4352908433064292E-2,4.2327674181278412E-2,0.16583170980610445,0.24410891548381111,0,1.9714259207718712E-2,2.0781148529548195,0.27947861582707118,2.9571388811578069E-2,0,0,2.387164857593469]
[null,"16E","Região de Coimbra",{"$f":"+D21/$DS$34*100","v":1.3915947676036738E-2},0,0,0,0,0.40124315799239263,0.13104184061601262,3.3630206883755447E-2,0,0,0.1768485017163002,1.2756285369700342E-2,1.7394934595045923E-3,0,0,6.6680582614342704E-2,6.5520920308006311E-2,2.6672233045737084E-2,0,0,0,0,0,0,0,0.38036923647833748,2.1453752667223304E-2,2.899155765840987E-3,0,0,4.8705816866128585E-2,2.3773077279896093E-2,{"$f":"+AJ21/$DS$34*100","v":0},0,0,0.10263011411077094,4.1747843028110215E-2,2.3193246126727894E-3,0,0,7.7697374524538454E-2,1.7394934595045923E-3,0,0,0,0.99904907690880407,6.9579738380183692E-2,6.3781426848501712E-3,0,0,2.2613414973559696E-2,1.9714259207718712E-2,2.899155765840987E-3,0,0,2.20335838203915E-2,5.7983115316819741E-3,3.4789869190091846E-3,0,0,{"$f":"+BL21/$DS$34*100","v":6.0882271082660727E-2},7.5378049911865664E-3,0,0,0,8.1176361443547635E-3,4.0588180721773818E-3,2.899155765840987E-3,0,{"$f":"+BU21/$DS$34*100","v":0},0.26556266815103441,4.6386492253455792E-2,3.4789869190091846E-3,0,0,0.22555431858242878,3.3630206883755447E-2,4.6386492253455789E-3,0,0,0.21511735782540126,1.7394934595045923E-2,0,0,0,0,0,0,0,0,1.2756285369700342E-2,1.7394934595045923E-3,0,0,0,1.6815103441877723E-2,0.56765469895166532,0.19134428054550515,0.16061322942759068,2.3193246126727894E-3,0.40646163837090638,{"$f":"+DA21/$DS$34*100","v":7.305872529919287E-2},0.14669728175155394,8.2915854903052227E-2,1.0773262825865109,4.5226829947119393E-2,3.2470544577419054E-2,{"$f":"+DG21/$DS$34*100","v":6.8999907227015503E-2},1.6815103441877723E-2,0.31658780962983579,0.26498283699786623,0.23425178587995177,0,1.5655441135541331E-2,3.1067353186752018,0.5160497263196957,9.6251971425920763E-2,0,0,3.7190370164208182]
[null,"16F","Região de Leiria",{"$f":"+D22/$DS$34*100","v":1.7394934595045923E-2},1.7394934595045923E-3,0,0,0,6.7260413767510893E-2,1.101679191019575E-2,2.899155765840987E-3,0,0,5.7403284163651543E-2,2.899155765840987E-3,0,0,0,5.7983115316819741E-3,6.3781426848501712E-3,0,0,0,0,0,0,0,0,0.21511735782540126,6.9579738380183692E-3,2.899155765840987E-3,0,0,0,1.7394934595045923E-3,{"$f":"+AJ22/$DS$34*100","v":0},0,0,5.4504128397810561E-2,1.6815103441877723E-2,1.7394934595045923E-3,0,0,0.13857964560719918,8.1176361443547635E-3,0,0,0,0.50213377864365893,2.3193246126727896E-2,0,0,0,0,4.6386492253455789E-3,0,0,0,6.9579738380183692E-3,1.4495778829204936E-2,3.4789869190091846E-3,0,0,{"$f":"+BL22/$DS$34*100","v":4.9865479172464977E-2},1.5655441135541331E-2,1.7394934595045923E-3,0,0,0,4.0588180721773818E-3,1.7394934595045923E-3,0,{"$f":"+BU22/$DS$34*100","v":0},0.22323499396975599,3.2470544577419054E-2,3.4789869190091846E-3,0,0,0.17105019018461826,2.5512570739400685E-2,1.7394934595045923E-3,0,0,6.6100751461174501E-2,2.899155765840987E-3,0,0,0,0,0,0,0,0,0,0,0,0,0,2.0294090360886911E-2,8.2336023749884038E-2,6.0882271082660727E-2,1.3915947676036738E-2,0,0.22555431858242878,{"$f":"+DA22/$DS$34*100","v":3.4789869190091846E-3},7.4798218758697466E-2,0.14901660636422676,0.52706651822989148,7.5378049911865664E-3,2.6092401892568881E-2,{"$f":"+DG22/$DS$34*100","v":6.7260413767510893E-2},8.1176361443547635E-3,0.26034418777252066,0.20004174784302811,7.0159569533351895E-2,0,0,1.582939048149179,0.18902495593283236,2.5512570739400685E-2,0,0,1.7974765748214119]
[null,"16G","Viseu Dão Lafões",{"$f":"+D23/$DS$34*100","v":1.1596623063363948E-2},0,0,0,0,0.10494943872344374,0,0,0,0,0.13799981445403101,9.8571296038593558E-3,0,0,0,0,0,0,0,0,0,0,0,0,0,0.59548659430373885,9.8571296038593558E-3,0,0,0,0.15597458020224511,7.7697374524538454E-2,{"$f":"+AJ23/$DS$34*100","v":1.0436960757027554E-2},0,0,0.27483996660172555,4.7546154559792185E-2,2.899155765840987E-3,0,0,3.4789869190091846E-2,2.3193246126727894E-3,0,0,0,1.5348130624362184,7.9436867984043036E-2,4.0588180721773818E-3,0,0,8.6974672975229615E-3,1.0436960757027554E-2,0,0,0,3.8268856109101031E-2,2.1453752667223304E-2,1.7394934595045923E-3,0,0,{"$f":"+BL23/$DS$34*100","v":4.3487336487614811E-2},6.3781426848501712E-3,0,0,0,3.0731051117914462E-2,4.2907505334446608E-2,6.3781426848501712E-3,0,{"$f":"+BU23/$DS$34*100","v":0},0.43371370256981168,9.3932646813247977E-2,7.5378049911865664E-3,0,0,0.51662955747286388,6.5520920308006311E-2,2.3193246126727894E-3,0,0,8.0596530290379442E-2,5.2184803785137769E-3,0,0,0,0,0,0,0,0,8.1176361443547635E-3,0,0,0,0,1.4495778829204936E-2,0.10668893218294834,0.14843677521105852,0,0,0.60534372390759816,{"$f":"+DA23/$DS$34*100","v":0.2470080712496521},0.32644493923369516,3.8848687262269227E-2,1.618308748492439,2.0873921514055108E-2,6.3781426848501716E-2,{"$f":"+DG23/$DS$34*100","v":5.0445310325633173E-2},8.1176361443547645E-2,0.53518415437424616,0.58504963354671113,8.5815010668893216E-2,0,8.1176361443547635E-3,4.0159105668429351,0.48183968828277207,3.9428518415437423E-2,0,0,4.5371787735411448]
[null,"16H","Beira Baixa",{"$f":"+D24/$DS$34*100","v":1.3915947676036738E-2},1.7394934595045923E-3,0,0,0,1.7394934595045923E-3,2.3193246126727894E-3,2.3193246126727894E-3,0,0,2.8991557658409873E-2,3.5369700343260042E-2,1.8554596901382316E-2,1.7394934595045923E-3,0,0,0,0,0,0,0,0,0,0,0,0.15365525558957233,1.0436960757027554E-2,5.7983115316819741E-3,0,0,1.7394934595045923E-3,0,{"$f":"+AJ24/$DS$34*100","v":0},0,0,0.11944521755264867,3.7689024955932834E-2,2.1453752667223304E-2,4.6386492253455789E-3,0,0.33746173114389089,7.0739400686520085E-2,1.101679191019575E-2,0,0,0.54736060859077829,0.1803274886353094,3.6529362649596435E-2,2.899155765840987E-3,0,0,0,0,0,0,0,6.3781426848501712E-3,1.6235272288709527E-2,0,0,{"$f":"+BL24/$DS$34*100","v":4.0588180721773818E-3},4.6386492253455789E-3,0,0,0,0,8.6974672975229615E-3,5.3344466091474169E-2,4.1747843028110215E-2,{"$f":"+BU24/$DS$34*100","v":0},0.19308377400500976,0.16699137211244086,0.14669728175155394,2.5512570739400685E-2,1.7394934595045923E-3,6.3201595695333512E-2,4.8705816866128585E-2,2.7252064198905281E-2,4.0588180721773818E-3,0,5.2184803785137762E-2,7.3638556452361073E-2,5.3924297244642365E-2,8.6974672975229615E-3,0,0,0,0,0,0,0,0,0,0,0,1.7394934595045923E-2,9.2772984506911578E-3,8.6974672975229622E-2,0,0,0.17105019018461826,{"$f":"+DA24/$DS$34*100","v":5.7983115316819741E-3},0.18496613786065499,0.42385657296595236,0.76827627794786157,1.7394934595045923E-3,2.4352908433064292E-2,{"$f":"+DG24/$DS$34*100","v":9.2772984506911578E-3},0.10668893218294834,0.53402449206790981,0.14437795713888116,0.19018461823916874,0,0,1.5249559328323592,0.65462937192689485,0.40240282029872898,9.3352815660079788E-2,4.0588180721773818E-3,2.6793997587902401]
[null,"16I","Médio Tejo",{"$f":"+D25/$DS$34*100","v":5.2184803785137769E-3},1.7394934595045923E-3,0,0,0,1.0436960757027554E-2,8.6974672975229615E-3,1.0436960757027554E-2,0,0,2.0294090360886911E-2,1.0436960757027554E-2,4.0588180721773818E-3,0,0,0,0,0,0,0,0,0,0,0,0,0.1124872437146303,6.3781426848501712E-3,0,0,0,2.3773077279896093E-2,5.2184803785137769E-3,{"$f":"+AJ25/$DS$34*100","v":3.4789869190091846E-3},0,0,0.14089897021987197,4.6966323406623989E-2,8.1176361443547635E-3,0,0,0.35601632804527322,4.3487336487614811E-2,5.7983115316819741E-3,0,0,0.79030986176825313,0.12524352908433065,1.6815103441877723E-2,4.0588180721773818E-3,0,0,2.899155765840987E-3,0,0,0,3.4789869190091846E-3,8.6974672975229615E-3,3.4789869190091846E-3,0,0,{"$f":"+BL25/$DS$34*100","v":2.6092401892568881E-2},1.1596623063363948E-2,2.3193246126727894E-3,0,0,0,2.3193246126727894E-3,2.899155765840987E-3,0,{"$f":"+BU25/$DS$34*100","v":0},0.19366360515817796,3.4789869190091846E-2,1.2176454216532146E-2,0,0,0.14553761944521754,3.7109193802764631E-2,1.1596623063363948E-2,2.3193246126727894E-3,0,4.5806661100287596E-2,2.7252064198905281E-2,1.9714259207718712E-2,0,0,0,0,0,0,0,0,0,0,0,0,1.0436960757027554E-2,3.0151219964746265E-2,3.5949531496428239E-2,0,1.7394934595045923E-3,0.12060487985898506,{"$f":"+DA25/$DS$34*100","v":3.6529362649596435E-2},0.19714259207718712,0.40704146952407455,0.93758697467297525,4.6386492253455789E-3,1.9134428054550515E-2,{"$f":"+DG25/$DS$34*100","v":4.0588180721773823E-2},8.1176361443547635E-3,0.24236942202430653,0.19946191668985991,9.3932646813247977E-2,0,0,1.8844512477966417,0.38152889878467389,0.10726876333611653,1.2176454216532146E-2,0,2.3854253641339644]
[null,"16J","Beiras e Serra da Estrela",{"$f":"+D26/$DS$34*100","v":4.1747843028110215E-2},2.3193246126727894E-3,2.899155765840987E-3,0,0,2.6092401892568881E-2,1.1596623063363948E-2,5.2184803785137769E-3,0,0,0.35717599035160963,0.19888208553669171,3.2470544577419054E-2,0,0,0,0,0,0,0,0,1.7394934595045923E-3,0,0,0,0.82104091288616754,9.7411633732257169E-2,2.0294090360886911E-2,0,0,0.16583170980610445,0.10610910102978013,{"$f":"+AJ26/$DS$34*100","v":2.1453752667223304E-2},0,0,0.47894053251693108,0.29223490119677148,7.0159569533351895E-2,0,0,0.31542814732349939,4.0008349568605626E-2,6.3781426848501712E-3,0,0,2.4329715186937566,0.90105761202337875,7.9436867984043036E-2,0,0,0,7.5378049911865664E-3,9.8571296038593558E-3,0,0,8.1176361443547635E-3,7.1319231839688288E-2,8.407551720938862E-2,0,0,{"$f":"+BL26/$DS$34*100","v":1.3336116522868542E-2},1.2176454216532146E-2,1.7394934595045923E-3,0,0,8.1176361443547635E-3,7.4218387605529262E-2,0.20120141014936449,6.9579738380183692E-3,{"$f":"+BU26/$DS$34*100","v":0},0.42211707950644778,0.53170516745523699,0.20584005937471006,3.4789869190091846E-3,0,0.21917617589757862,0.27368030429538914,0.11364690602096669,0,0,0.12292420447165785,6.5520920308006311E-2,1.2176454216532146E-2,0,0,0,0,0,0,0,5.7983115316819741E-3,0,0,0,0,4.8705816866128585E-2,4.4067167640783E-2,0.58910845161888858,0,4.0588180721773818E-3,0.93990629928564806,{"$f":"+DA26/$DS$34*100","v":0.29397439465627606},0.84191483440022274,0.36239447073012337,3.4157853233138509,2.0873921514055108E-2,0.16699137211244086,{"$f":"+DG26/$DS$34*100","v":2.8991557658409873E-2},0.29223490119677148,1.1637211244085721,0.60766304852027087,0.2023610724557009,0,6.3781426848501712E-3,5.449253177474719,2.6909963818536045,0.87380554782447351,1.5075609982373133E-2,0,9.0291307171351693]
["AML","170","Área Metropolitana de Lisboa",{"$f":"+D27/$DS$34*100","v":6.9579738380183692E-3},2.3193246126727894E-3,1.7394934595045923E-3,0,0,4.6386492253455789E-3,1.2176454216532146E-2,6.9579738380183692E-3,0,0,8.6974672975229615E-3,6.3781426848501712E-3,4.6386492253455789E-3,0,0,0,2.899155765840987E-3,2.8991557658409873E-2,1.7394934595045923E-3,0,0,0,0,0,0,2.0294090360886911E-2,1.5075609982373133E-2,6.3781426848501712E-3,0,0,2.0873921514055108E-2,5.0445310325633173E-2,{"$f":"+AJ27/$DS$34*100","v":3.0151219964746265E-2},0,0,1.9134428054550515E-2,1.7974765748214119E-2,1.6815103441877723E-2,4.0588180721773818E-3,0,0,0,0,0,0,3.0151219964746265E-2,3.1310882271082661E-2,2.1453752667223304E-2,4.6386492253455789E-3,0,1.7394934595045923E-3,5.7983115316819741E-3,3.4789869190091846E-3,0,0,2.3193246126727894E-3,1.1596623063363948E-2,8.6974672975229615E-3,3.4789869190091846E-3,0,{"$f":"+BL27/$DS$34*100","v":3.3630206883755447E-2},1.5075609982373133E-2,3.4789869190091846E-3,0,0,0,9.2772984506911578E-3,6.9579738380183692E-3,3.4789869190091846E-3,{"$f":"+BU27/$DS$34*100","v":0},0.17336951479729104,2.8411726505241673E-2,1.101679191019575E-2,0,0,2.20335838203915E-2,6.3781426848501712E-3,6.3781426848501712E-3,6.3781426848501712E-3,0,4.1747843028110215E-2,4.8125985712960381E-2,1.7394934595045923E-2,1.7394934595045923E-3,0,0,8.6974672975229615E-3,8.6974672975229615E-3,4.6386492253455789E-3,0,2.899155765840987E-3,2.899155765840987E-3,0,0,0,1.3336116522868542E-2,2.7831895352073477E-2,2.4932739586232489E-2,3.3630206883755447E-2,2.899155765840987E-3,4.4067167640783E-2,{"$f":"+DA27/$DS$34*100","v":0.10436960757027552},5.9722608776324335E-2,0,9.0453659894238786E-2,1.2176454216532146E-2,2.8411726505241673E-2,{"$f":"+DG27/$DS$34*100","v":5.3924297244642365E-2},2.3193246126727896E-2,0.21511735782540126,4.5226829947119393E-2,0.11132758140829391,2.3773077279896093E-2,7.5378049911865664E-3,0.40240282029872898,0.2916550700436033,0.18902495593283236,3.7109193802764631E-2,2.3193246126727894E-3,0.92251136469060202]
["Alentejo","181","Alentejo Litoral",{"$f":"+D28/$DS$34*100","v":2.7252064198905281E-2},0,3.4789869190091846E-3,1.7394934595045923E-3,0,0,0,6.9579738380183692E-3,0,0,6.3781426848501712E-3,1.2176454216532146E-2,1.7974765748214119E-2,2.3193246126727894E-3,0,5.2184803785137769E-3,2.3773077279896093E-2,2.7831895352073477E-2,1.7394934595045923E-3,0,0,0,6.3781426848501712E-3,1.7394934595045923E-3,0,3.8268856109101031E-2,1.6815103441877723E-2,1.0436960757027554E-2,0,0,0,5.2184803785137769E-3,{"$f":"+AJ28/$DS$34*100","v":3.4789869190091846E-3},0,0,2.20335838203915E-2,5.2184803785137762E-2,8.5815010668893216E-2,1.7974765748214119E-2,0,3.0731051117914462E-2,2.899155765840987E-3,1.0436960757027554E-2,2.899155765840987E-3,0,5.2764634938305972E-2,8.6974672975229622E-2,7.0739400686520085E-2,2.0294090360886911E-2,2.899155765840987E-3,0,0,5.7983115316819741E-3,1.7394934595045923E-3,0,2.899155765840987E-3,2.3193246126727896E-2,3.1310882271082661E-2,4.0588180721773818E-3,0,{"$f":"+BL28/$DS$34*100","v":1.8554596901382316E-2},7.5378049911865664E-3,0,0,0,0,3.8848687262269227E-2,0.11306707486779849,5.2764634938305972E-2,{"$f":"+BU28/$DS$34*100","v":2.3193246126727894E-3},8.2915854903052227E-2,0.12002504870581687,0.14147880137304017,2.9571388811578069E-2,0,2.20335838203915E-2,2.8411726505241673E-2,3.3630206883755447E-2,2.7252064198905281E-2,2.3193246126727894E-3,9.6251971425920763E-2,0.17336951479729104,0.19018461823916874,1.9134428054550515E-2,0,0,0,6.9579738380183692E-3,0,0,0,0,0,0,0,3.7689024955932834E-2,8.6974672975229615E-3,4.1168011874942019E-2,6.1462102235828923E-2,8.6974672975229615E-3,6.9579738380183692E-2,{"$f":"+DA28/$DS$34*100","v":1.2756285369700342E-2},0.18264681324798221,4.9865479172464977E-2,0.23425178587995177,8.1176361443547635E-3,6.4941089154838108E-2,{"$f":"+DG28/$DS$34*100","v":2.9571388811578069E-2},0.20873921514055105,0.37689024955932832,0.11654606178680769,0.47952036367009926,8.1176361443547635E-3,0,0.41631876797476569,0.60824287967343915,0.77407458947954355,0.18960478708600056,1.101679191019575E-2,1.9992578161239447]
[null,"184","Baixo Alentejo",{"$f":"+D29/$DS$34*100","v":4.2327674181278412E-2},2.899155765840987E-3,3.4789869190091846E-3,0,0,2.3193246126727894E-3,3.4789869190091846E-3,2.6672233045737084E-2,8.1176361443547635E-3,0,8.3495686056220431E-2,0.11538639948047127,0.12756285369700343,1.9714259207718712E-2,0,0,0,0,0,0,5.7983115316819741E-3,1.7394934595045923E-2,2.6092401892568881E-2,2.899155765840987E-3,0,3.305037573058725E-2,1.7974765748214119E-2,1.1596623063363948E-2,4.0588180721773818E-3,0,5.3344466091474169E-2,6.204193338899712E-2,{"$f":"+AJ29/$DS$34*100","v":2.6672233045737084E-2},0,0,2.3773077279896093E-2,5.5083959550978757E-2,0.15945356712125427,3.305037573058725E-2,1.7394934595045923E-3,0.49981445403098612,0.34557936728824568,0.27483996660172555,5.3344466091474169E-2,1.7394934595045923E-3,0.19598292977085074,0.20584005937471006,0.14147880137304017,3.5949531496428239E-2,0,0,0,0,0,0,1.7394934595045923E-3,9.2772984506911578E-3,3.1890713424250858E-2,1.1596623063363948E-2,0,{"$f":"+BL29/$DS$34*100","v":2.0873921514055108E-2},1.2176454216532146E-2,3.4789869190091846E-3,1.7394934595045923E-3,0,0,2.899155765840987E-3,0.14901660636422676,0.13684015214769457,{"$f":"+BU29/$DS$34*100","v":3.4789869190091846E-3},0.27194081083588456,0.23135263011411078,0.31832730308934037,8.4655348362556823E-2,1.7394934595045923E-3,3.4789869190091846E-2,6.3781426848501716E-2,0.10263011411077094,7.1899062992856477E-2,6.3781426848501712E-3,0.14611745059838574,0.19424343631134613,0.24352908433064291,1.8554596901382316E-2,0,0,2.3193246126727894E-3,2.3193246126727894E-3,0,0,0,0,0,0,0,4.9865479172464977E-2,4.1747843028110215E-2,0.34963818536042307,0,5.3924297244642365E-2,6.8999907227015503E-2,{"$f":"+DA29/$DS$34*100","v":0.14611745059838574},0.27541979775489378,1.1758975786251042,0.58504963354671113,2.3193246126727894E-3,5.5663790704146954E-2,{"$f":"+DG29/$DS$34*100","v":3.9428518415437423E-2},0.29455422580944429,0.91091474162723807,0.28179794043974393,0.60360423044809353,6.3781426848501712E-3,0,1.4223258187215881,1.353905742647741,1.6606364226737174,0.48763799981445405,1.7394934595045923E-2,4.9419009184525464]
[null,"185","Lezíria do Tejo",{"$f":"+D30/$DS$34*100","v":2.3773077279896093E-2},1.101679191019575E-2,5.2184803785137769E-3,1.7394934595045923E-3,0,3.305037573058725E-2,5.7403284163651543E-2,7.9436867984043036E-2,8.6974672975229615E-3,0,1.5655441135541331E-2,2.8991557658409873E-2,1.6815103441877723E-2,2.899155765840987E-3,0,0,1.5075609982373133E-2,4.8125985712960381E-2,2.899155765840987E-3,0,5.2184803785137769E-3,8.6974672975229615E-3,4.0588180721773818E-3,0,0,1.7974765748214119E-2,1.2176454216532146E-2,9.2772984506911578E-3,1.7394934595045923E-3,0,2.0294090360886911E-2,5.1604972631969566E-2,{"$f":"+AJ30/$DS$34*100","v":1.7974765748214119E-2},0,0,3.2470544577419054E-2,3.7689024955932834E-2,5.2764634938305972E-2,1.7974765748214119E-2,1.7394934595045923E-3,0.10263011411077094,2.5512570739400685E-2,4.6386492253455789E-3,0,0,0.15191576213006772,0.10668893218294834,6.4941089154838108E-2,2.0873921514055108E-2,3.4789869190091846E-3,3.4789869190091846E-3,1.7394934595045923E-3,4.0588180721773818E-3,2.899155765840987E-3,0,4.0588180721773818E-3,7.5378049911865664E-3,1.0436960757027554E-2,2.899155765840987E-3,0,{"$f":"+BL30/$DS$34*100","v":2.8411726505241673E-2},8.6974672975229615E-3,5.2184803785137769E-3,0,0,2.899155765840987E-3,4.6386492253455789E-3,1.101679191019575E-2,9.8571296038593558E-3,{"$f":"+BU30/$DS$34*100","v":0},0.11306707486779849,2.9571388811578069E-2,2.1453752667223304E-2,2.3193246126727894E-3,0,1.9714259207718712E-2,2.0294090360886911E-2,1.4495778829204936E-2,1.8554596901382316E-2,4.0588180721773818E-3,0.11364690602096669,9.4512477966416181E-2,6.8999907227015503E-2,8.1176361443547635E-3,0,2.3193246126727894E-3,3.6529362649596435E-2,6.1462102235828923E-2,7.5378049911865664E-3,0,0,2.899155765840987E-3,4.0588180721773818E-3,0,0,4.2327674181278412E-2,0.18206698209481401,6.6100751461174501E-2,6.6100751461174501E-2,1.9134428054550515E-2,4.3487336487614811E-2,{"$f":"+DA30/$DS$34*100","v":9.3932646813247977E-2},0.14495778829204936,0.13452082753502179,0.34789869190091849,1.2176454216532146E-2,2.6672233045737084E-2,{"$f":"+DG30/$DS$34*100","v":4.4646998793951204E-2},3.2470544577419054E-2,0.16989052787828182,7.9436867984043036E-2,0.2864365896650895,0.1107477502551257,7.5378049911865664E-3,0.69985620187401432,0.57287317933017901,0.51141107709435019,0.11422673717413488,1.2176454216532146E-2,1.9105436496892103]
[null,"186","Alto Alentejo",{"$f":"+D31/$DS$34*100","v":3.4789869190091846E-3},0,1.7394934595045923E-3,0,0,0,2.3193246126727894E-3,7.5378049911865664E-3,0,0,9.8571296038593558E-3,1.6815103441877723E-2,8.1176361443547635E-3,1.7394934595045923E-3,0,0,0,0,0,0,0,0,1.0436960757027554E-2,2.3193246126727894E-3,0,3.8268856109101031E-2,1.7394934595045923E-2,1.9134428054550515E-2,2.899155765840987E-3,0,1.6815103441877723E-2,1.9134428054550515E-2,{"$f":"+AJ31/$DS$34*100","v":1.5075609982373133E-2},0,0,2.4352908433064292E-2,2.4352908433064292E-2,2.5512570739400685E-2,4.6386492253455789E-3,0,0.46038593561554869,0.19250394285184153,7.8277205677706643E-2,1.3336116522868542E-2,0,0.24932739586232489,0.17800816402263661,8.2336023749884038E-2,1.8554596901382316E-2,1.7394934595045923E-3,0,0,4.0588180721773818E-3,1.7394934595045923E-3,0,0,1.9134428054550515E-2,4.9865479172464977E-2,1.4495778829204936E-2,0,{"$f":"+BL31/$DS$34*100","v":5.7983115316819741E-3},6.9579738380183692E-3,5.2184803785137769E-3,0,0,0,1.0436960757027554E-2,0.18438630670748679,0.16699137211244086,{"$f":"+BU31/$DS$34*100","v":1.101679191019575E-2},0.29223490119677148,0.25222655162816587,0.18902495593283236,3.9428518415437423E-2,1.7394934595045923E-3,7.3638556452361073E-2,9.3352815660079788E-2,7.5378049911865669E-2,5.2184803785137762E-2,4.6386492253455789E-3,6.1462102235828923E-2,8.3495686056220431E-2,9.2193153353743396E-2,1.2176454216532146E-2,0,0,0,5.7983115316819741E-3,0,0,0,0,0,0,0,8.6974672975229615E-3,1.3336116522868542E-2,3.7109193802764631E-2,1.7394934595045923E-3,1.6235272288709527E-2,8.0016699137211253E-2,{"$f":"+DA31/$DS$34*100","v":5.4504128397810561E-2},8.2336023749884038E-2,0.74856201874014283,0.53054550514890064,5.7983115316819741E-3,8.6394841822061419E-2,{"$f":"+DG31/$DS$34*100","v":2.0873921514055108E-2},0.37631041840616014,0.77639391409221636,0.29977270618795809,0.24990722701549306,6.9579738380183692E-3,0,1.2477966416179609,0.92946933852862057,0.86278875591427784,0.3345625753780499,2.0873921514055108E-2,3.3954912329529643]
[null,"187","Alentejo Central",{"$f":"+D32/$DS$34*100","v":6.3781426848501712E-3},4.0588180721773818E-3,2.899155765840987E-3,2.3193246126727894E-3,0,3.4789869190091846E-3,3.4789869190091846E-3,2.3193246126727894E-3,1.7394934595045923E-3,0,4.3487336487614811E-2,5.0445310325633173E-2,2.20335838203915E-2,4.0588180721773818E-3,0,0,0,4.0588180721773818E-3,0,0,0,4.0588180721773818E-3,2.1453752667223304E-2,2.899155765840987E-3,0,4.0588180721773823E-2,1.6235272288709527E-2,2.8991557658409873E-2,1.0436960757027554E-2,0,0.10147045180443455,0.17974765748214119,{"$f":"+AJ32/$DS$34*100","v":8.6394841822061419E-2},6.9579738380183692E-3,0,3.0731051117914462E-2,2.8991557658409873E-2,3.7109193802764631E-2,2.0294090360886911E-2,0,0.37804991186566472,0.1327813340755172,4.1747843028110215E-2,6.9579738380183692E-3,0,0.18728546247332778,0.16699137211244086,7.6537712218202061E-2,2.6092401892568881E-2,0,0,1.7394934595045923E-3,8.1176361443547635E-3,0,0,1.7394934595045923E-3,1.4495778829204936E-2,5.5663790704146954E-2,1.7974765748214119E-2,0,{"$f":"+BL32/$DS$34*100","v":3.8848687262269227E-2},5.2184803785137769E-3,6.3781426848501712E-3,2.899155765840987E-3,0,0,9.2772984506911578E-3,0.18728546247332778,0.20641989052787826,{"$f":"+BU32/$DS$34*100","v":1.2756285369700342E-2},0.3786297430188329,0.23077279896094255,0.17220985249095463,5.3344466091474169E-2,4.6386492253455789E-3,6.8420076073847286E-2,7.7117543371370251E-2,7.0739400686520085E-2,6.7260413767510893E-2,1.1596623063363948E-2,0.11538639948047127,0.13452082753502179,0.14031913906670379,2.6672233045737084E-2,0,0,0,5.2184803785137769E-3,0,0,0,0,0,0,0,1.8554596901382316E-2,1.1596623063363948E-2,0.12118471101215327,4.6386492253455789E-3,2.9571388811578069E-2,9.9151127191761765E-2,{"$f":"+DA32/$DS$34*100","v":0.37515075609982373},0.12060487985898506,0.56243621857315151,0.45864644215604411,1.101679191019575E-2,9.2772984506911585E-2,{"$f":"+DG32/$DS$34*100","v":5.5083959550978757E-2},0.41863809258743856,0.84075517209388639,0.29745338157528528,0.41689859912793392,6.3781426848501712E-3,0,1.4014518972075332,1.0657296595231469,0.97875498654791726,0.46038593561554869,3.4210038036923643E-2,3.9405325169310701]
["Algarve","150","Algarve",{"$f":"+D33/$DS$34*100","v":8.1176361443547635E-3},2.3193246126727894E-3,0,0,0,0,0,0,0,0,3.0731051117914462E-2,2.5512570739400685E-2,5.2184803785137769E-3,0,0,0,0,0,0,0,0,0,0,0,0,8.407551720938862E-2,4.2907505334446608E-2,0,0,0,3.4789869190091846E-3,1.7394934595045923E-3,{"$f":"+AJ33/$DS$34*100","v":2.3193246126727894E-3},0,0,0.28933574543093049,0.50097411633732258,0.17394934595045924,3.4789869190091846E-3,0,8.1176361443547635E-3,2.899155765840987E-3,0,0,0,0.63433528156600794,0.62679747657482143,7.1319231839688288E-2,0,0,0,0,0,0,0,2.899155765840987E-3,1.1596623063363948E-2,8.6974672975229615E-3,0,0,{"$f":"+BL33/$DS$34*100","v":1.5655441135541331E-2},4.6386492253455789E-3,0,0,0,0,8.6974672975229615E-3,1.2176454216532146E-2,0,{"$f":"+BU33/$DS$34*100","v":0},7.2478894146024681E-2,4.6386492253455792E-2,2.4352908433064292E-2,0,0,2.9571388811578069E-2,3.8268856109101031E-2,2.20335838203915E-2,1.7394934595045923E-3,0,5.2184803785137762E-2,4.9865479172464977E-2,1.7394934595045923E-2,0,0,0,0,0,0,0,0,0,0,0,0,1.3336116522868542E-2,2.899155765840987E-3,6.3201595695333512E-2,0,0,0.12988217830967622,{"$f":"+DA33/$DS$34*100","v":7.5378049911865664E-3},0.96831802579088966,1.2176454216532146E-2,1.3347713145931905,0,2.4352908433064292E-2,{"$f":"+DG33/$DS$34*100","v":2.3773077279896093E-2},2.4352908433064292E-2,0.14669728175155394,9.3352815660079788E-2,0.12176454216532145,0,0,1.239679005473606,1.3713006772427869,0.34789869190091849,1.0436960757027554E-2,0,2.9693153353743393]
["Continente",null,null,{"$f":"+D34/$DS$34*100","v":0.32760460154003157},7.2478894146024681E-2,3.1310882271082661E-2,7.5378049911865664E-3,1.7394934595045923E-3,2.7246265887373595,0.367033119955469,0.19598292977085074,2.3773077279896093E-2,0,2.2538036923647833,0.84771314593190472,0.28411726505241675,3.5369700343260042E-2,1.1596623063363947E-3,8.0016699137211253E-2,0.11828555524631228,0.14321829483254475,7.5378049911865664E-3,5.7983115316819736E-4,2.8991557658409873E-2,4.3487336487614811E-2,7.2478894146024681E-2,1.0436960757027554E-2,0,7.2560070507468222,1.4977038686334538,0.23599127933945635,2.1453752667223304E-2,0,4.0860701363762875,2.0004174784302808,{"$f":"+AJ34/$DS$34*100","v":0.44820948139901662},1.9714259207718712E-2,1.1596623063363947E-3,4.5934223953984601,3.013382503015122,0.86220892476110955,0.11132758140829391,7.5378049911865664E-3,4.3081454680397071,1.2043093051303462,0.50329344094999529,8.1176361443547645E-2,3.4789869190091846E-3,22.465558029501807,7.2902170887837459,1.0831245941181926,0.13857964560719918,1.0436960757027554E-2,0.22265516281658781,0.65578903423323132,0.10378977641710734,9.8571296038593558E-3,0,0.80944428982280359,0.68304109843213656,0.37920957417200113,5.6823453010483346E-2,1.1596623063363947E-3,{"$f":"+BL34/$DS$34*100","v":1.1498051767325355},0.28759625197142591,4.1168011874942019E-2,5.7983115316819741E-3,0,0.80886445866963541,1.2941831338714167,1.1341497355969943,0.63955376194452185,{"$f":"+BU34/$DS$34*100","v":3.305037573058725E-2},5.6116059003618144,2.9426431023286019,1.3881157806846647,0.2464282400964839,1.1596623063363948E-2,3.9730030615084884,1.6374431765469895,0.689999072270155,0.25454587624083869,3.1310882271082661E-2,3.386213934502273,1.3040402634752761,0.88076352166249183,9.9151127191761765E-2,0,5.7983115316819741E-3,5.102514147880137E-2,9.1613322200575192E-2,1.5655441135541331E-2,0,0.11654606178680769,1.7974765748214119E-2,6.3781426848501712E-3,0,0,0.44067167640783006,3.3114157157435757,3.4221634659987012,0.34963818536042307,0.15539474904907691,9.0111559513869572,{"$f":"+DA34/$DS$34*100","v":6.5555710177196396},8.5878792095741723,6.1004035624826054,30.987916318767976,0.99209110307078574,1.929678077743761,{"$f":"+DG34/$DS$34*100","v":1.4843677521105854},3.909801465813155,10.200389646534928,6.5863020688375542,5.6701688468318023,0.16409221634659987,0.14089897021987197,64.208182577233515,25.32876426384637,8.5751229242044715,1.7847202894517116,0.10320994526393913,{"$f":"SUM(DS50:DS72)","v":99.996521013081008}]
[]
[]
[null,"Legenda"]
[null,"MP",{"$f":"+C38","v":"< 5 ha"}]
[null,"P",{"$f":"+C39","v":">= 5  e < 25 ha"}]
[null,"M",">= 25  e < 200 ha"]
[null,"G",">= 200  e < 1 000 ha"]
[null,"MG",">= 1 000 ha"]
["Fonte: GPP a partir de dados IFAP"]

{"sheet":"CHART-Geral","index":2,"n_rows":59,"n_cols":39,"rows_kept":59,"cut":false,"hidden":true,"merged":[[0,0,1,17],[4,12,4,13],[30,7,32,10],[58,0,58,2],[4,2,4,7]]}
[{"$f":"+\"Valores Globais \" & TRIM(INDEX(Sheet6!$D$2:$D$169,Sheet3!$C$1))","v":"Valores Globais (1) - Nº de Beneficiários"}]
[]
[null,"Tipo de Beneficiário:",{"$f":"INDEX(Sheet6!$S$1:$S$6,Sheet3!$A$2)","v":"Todos os Produtores do PU"},null,null,null,null,null,null,null,null,null,null,null,"Valor total:",{"$f":"+Base!$DS$34","v":172464},{"$f":"+\"(\" & (INDEX(Sheet6!$G$2:$G$169,Sheet3!$C$1)) & \")\"","v":"(Nº )"}]
[null,null,null,null,null,null,null,null,null,null,null,null,null,null,null,null,null,null,null,null,null,null,null,null,null,null,null,null,null,null,null,null,null,null,null,null,{"$f":"+Base!A11","v":"Norte "},{"$f":"+SUM(Base!DS11:DS18)","v":89519}]
[null,null,{"$f":"+\"Por \" & INDEX(Sheet6!$P$3:$P$6,Sheet3!$B$1)","v":"Por Classes de Superfície Agrícola"},null,null,null,null,null,null,null,null,null,"Por NUTII",null,null,null,null,null,null,null,null,null,null,null,null,null,null,null,null,null,null,null,null,null,null,null,{"$f":"+Base!A19","v":"Centro"},{"$f":"+SUM(Base!DS19:DS26)","v":48309}]
[null,null,null,null,null,null,null,null,null,null,null,null,null,null,null,null,null,null,null,null,null,null,null,null,null,null,null,null,null,null,null,null,null,null,null,null,{"$f":"+Base!A27","v":"AML"},{"$f":"+SUM(Base!DS27)","v":1591}]
[null,null,null,null,null,null,null,null,null,null,null,null,null,null,null,null,null,null,null,null,null,null,null,null,null,null,null,null,null,null,null,null,null,null,null,null,{"$f":"+Base!A28","v":"Alentejo"},{"$f":"+SUM(Base!DS28:DS32)","v":27918}]
[null,null,null,null,null,null,null,null,null,null,null,null,null,null,null,null,null,null,null,null,null,null,null,null,null,null,null,null,null,null,null,null,null,null,null,null,{"$f":"+Base!A33","v":"Algarve"},{"$f":"+SUM(Base!DS33)","v":5121}]
[null,null,null,null,null,null,null,null,null,null,null,null,null,null,null,null,null,null,null,null,null,null,null,null,null,null,null,null,null,null,null,null,null,null,null,null,null,{"$f":"SUM(AL4:AL8)","v":172458},{"$f":"+AL9-Base!DS34","v":-6}]
[]
[]
[]
[null,null,null,null,null,null,null,null,null,null,null,null,null,null,null,null,null,null,null,null,null,null,null,null,null,null,null,null,null,null,null,null,null,null,null,null,"Grandes Culturas (Arvenses e Industriais)",{"$f":"+SUM(Base!CV34:CY34)+Base!DL34+Base!DM34","v":13010}]
[null,null,null,null,null,null,null,null,null,null,null,null,null,null,null,null,null,null,null,null,null,null,null,null,null,null,null,null,null,null,null,null,null,null,null,null,"Horticultura Intensiva",{"$f":"+Base!CZ34","v":15541}]
[null,null,null,null,null,null,null,null,null,null,null,null,null,null,null,null,null,null,null,null,null,null,null,null,null,null,null,null,null,null,null,null,null,null,null,null,"Culturas Permanentes",{"$f":"+SUM(Base!DA34:DC34)","v":36638}]
[null,null,null,null,null,null,null,null,null,null,null,null,null,null,null,null,null,null,null,null,null,null,null,null,null,null,null,null,null,null,null,null,null,null,null,null,"Leite",{"$f":"+Base!DE34","v":1711}]
[null,null,null,null,null,null,null,null,null,null,null,null,null,null,null,null,null,null,null,null,null,null,null,null,null,null,null,null,null,null,null,null,null,null,null,null,"Outros herbívoros",{"$f":"+SUM(Base!DF34:DI34)","v":30223}]
[null,null,null,null,null,null,null,null,null,null,null,null,null,null,null,null,null,null,null,null,null,null,null,null,null,null,null,null,null,null,null,null,null,null,null,null,"Mistas",{"$f":"+Base!DD34+Base!DJ34+Base!DK34+Base!CU34","v":75341}]
[null,null,null,null,null,null,null,null,null,null,null,null,null,null,null,null,null,null,null,null,null,null,null,null,null,null,null,null,null,null,null,null,null,null,null,null,null,{"$f":"SUM(AL13:AL18)","v":172464}]
[]
[]
[]
[]
[]
["Legenda"]
["MP",{"$f":"+Base!C38","v":"< 5 ha"}]
["P",{"$f":"+Base!C39","v":">= 5  e < 25 ha"}]
["M",{"$f":"+Base!C40","v":">= 25  e < 200 ha"}]
["G",{"$f":"+Base!C41","v":">= 200  e < 1 000 ha"}]
["MG",{"$f":"+Base!C42","v":">= 1 000 ha"}]
[null,null,null,null,null,null,null,"Por Grande Orientação Produtiva"]
[]
[]
[]
[]
[]
[]
[]
[]
[]
[]
[]
[]
[]
[]
[]
[]
[]
[]
[]
[]
[]
[]
[]
[]
[]
[]
[]
["Fonte: GPP a partir de dados IFAP"]

{"sheet":"CHART-NUTIII-DE","index":3,"n_rows":89,"n_cols":19,"rows_kept":89,"cut":false,"hidden":true,"merged":[[0,0,1,19],[46,0,47,19],[2,16,2,17],[88,0,88,2]]}
[{"$f":"+INDEX(Sheet6!$D$2:$D$169,Sheet3!$C$1)& \" por NUTIII e por \" & INDEX(Sheet6!$P$3:$P$6,Sheet3!$B$1)","v":"(1) - Nº de Beneficiários por NUTIII e por Classes de Superfície Agrícola"}]
[]
[{"$f":"+Base!C7","v":"Unidade: Nº "},null,null,"Tipo de Beneficiário:",{"$f":"INDEX(Sheet6!$S$1:$S$6,Sheet3!$A$2)","v":"Todos os Produtores do PU"},null,null,null,null,null,null,null,null,null,null,"Valor total:",{"$f":"+Base!$DS$34","v":172464},null,{"$f":"+\"(\" & (INDEX(Sheet6!$G$2:$G$169,Sheet3!$C$1)) & \")\"","v":"(Nº )"}]
[]
[]
[]
[]
[]
[]
[]
[]
[]
[]
[]
[]
[]
[]
[]
[]
[]
[]
[]
[]
[]
[]
[]
[]
[]
[]
[]
[]
[]
[]
[]
[]
[]
[]
[]
[]
["Legenda"]
["MP",{"$f":"+Base!C38","v":"< 5 ha"}]
["P",{"$f":"+Base!C39","v":">= 5  e < 25 ha"}]
["M",{"$f":"+Base!C40","v":">= 25  e < 200 ha"}]
["G",{"$f":"+Base!C41","v":">= 200  e < 1 000 ha"}]
["MG",{"$f":"+Base!C42","v":">= 1 000 ha"}]
[]
[{"$f":"+\"Estrutura: \"&INDEX(Sheet6!$D$2:$D$169,Sheet3!$C$1)& \", por NUTIII e por \" & INDEX(Sheet6!$P$3:$P$6,Sheet3!$B$1)","v":"Estrutura: (1) - Nº de Beneficiários, por NUTIII e por Classes de Superfície Agrícola"}]
[]
[]
[]
[]
[]
[]
[]
[]
[]
[]
[]
[]
[]
[]
[]
[]
[]
[]
[]
[]
[]
[]
[]
[]
[]
[]
[]
[]
[]
[]
[]
[]
[]
[]
[]
[]
[]
[]
[]
[]
[]
["Fonte: GPP a partir de dados IFAP"]

{"sheet":"CHART-NUTIII-GOP","index":4,"n_rows":89,"n_cols":42,"rows_kept":89,"cut":false,"hidden":true,"merged":[[0,0,1,19],[46,0,47,19],[2,16,2,17],[88,0,88,2]]}
[{"$f":"+INDEX(Sheet6!$D$2:$D$169,Sheet3!$C$1)& \" por NUTIII e por Grande Orientação Produtiva\"","v":"(1) - Nº de Beneficiários por NUTIII e por Grande Orientação Produtiva"}]
[]
[{"$f":"+Base!C7","v":"Unidade: Nº "},null,null,"Tipo de Beneficiário:",{"$f":"INDEX(Sheet6!$S$1:$S$6,Sheet3!$A$2)","v":"Todos os Produtores do PU"},null,null,null,null,null,null,null,null,null,null,"Valor total:",{"$f":"+Base!$DS$34","v":172464},null,{"$f":"+\"(\" & (INDEX(Sheet6!$G$2:$G$169,Sheet3!$C$1)) & \")\"","v":"(Nº )"}]
[]
[null,null,null,null,null,null,null,null,null,null,null,null,null,null,null,null,null,null,null,null,null,null,null,null,null,null,null,null,null,null,null,null,null,null,null,null,"Grandes Culturas (Arvenses e Industriais)","Horticultura Intensiva","Culturas Permanentes","Leite","Outros herbívoros","Mistas"]
[null,null,null,null,null,null,null,null,null,null,null,null,null,null,null,null,null,null,null,null,null,null,null,null,null,null,null,null,null,null,null,null,null,null,null,{"$f":"Base!C11","v":"Alto Minho"},{"$f":"SUM(Base!CV11:CY11)+Base!DL11+Base!DM11","v":391},{"$f":"Base!CZ11","v":249},{"$f":"SUM(Base!DA11:DC11)","v":971},{"$f":"Base!DE11","v":57},{"$f":"SUM(Base!DF11:DI11)","v":2543},{"$f":"Base!DD11+Base!DJ11+Base!DK11+Base!CU11","v":3569}]
[null,null,null,null,null,null,null,null,null,null,null,null,null,null,null,null,null,null,null,null,null,null,null,null,null,null,null,null,null,null,null,null,null,null,null,{"$f":"Base!C12","v":"Cávado"},{"$f":"SUM(Base!CV12:CY12)+Base!DL12+Base!DM12","v":1304},{"$f":"Base!CZ12","v":462},{"$f":"SUM(Base!DA12:DC12)","v":384},{"$f":"Base!DE12","v":383},{"$f":"SUM(Base!DF12:DI12)","v":1178},{"$f":"Base!DD12+Base!DJ12+Base!DK12+Base!CU12","v":3471}]
[null,null,null,null,null,null,null,null,null,null,null,null,null,null,null,null,null,null,null,null,null,null,null,null,null,null,null,null,null,null,null,null,null,null,null,{"$f":"Base!C13","v":"Ave"},{"$f":"SUM(Base!CV13:CY13)+Base!DL13+Base!DM13","v":543},{"$f":"Base!CZ13","v":154},{"$f":"SUM(Base!DA13:DC13)","v":511},{"$f":"Base!DE13","v":126},{"$f":"SUM(Base!DF13:DI13)","v":1707},{"$f":"Base!DD13+Base!DJ13+Base!DK13+Base!CU13","v":1931}]
[null,null,null,null,null,null,null,null,null,null,null,null,null,null,null,null,null,null,null,null,null,null,null,null,null,null,null,null,null,null,null,null,null,null,null,{"$f":"Base!C14","v":"Área Metropolitana do Porto"},{"$f":"SUM(Base!CV14:CY14)+Base!DL14+Base!DM14","v":680},{"$f":"Base!CZ14","v":340},{"$f":"SUM(Base!DA14:DC14)","v":310},{"$f":"Base!DE14","v":546},{"$f":"SUM(Base!DF14:DI14)","v":718},{"$f":"Base!DD14+Base!DJ14+Base!DK14+Base!CU14","v":2049}]
[null,null,null,null,null,null,null,null,null,null,null,null,null,null,null,null,null,null,null,null,null,null,null,null,null,null,null,null,null,null,null,null,null,null,null,{"$f":"Base!C15","v":"Alto Tâmega"},{"$f":"SUM(Base!CV15:CY15)+Base!DL15+Base!DM15","v":744},{"$f":"Base!CZ15","v":1347},{"$f":"SUM(Base!DA15:DC15)","v":2055},{"$f":"Base!DE15","v":44},{"$f":"SUM(Base!DF15:DI15)","v":3480},{"$f":"Base!DD15+Base!DJ15+Base!DK15+Base!CU15","v":5535}]
[null,null,null,null,null,null,null,null,null,null,null,null,null,null,null,null,null,null,null,null,null,null,null,null,null,null,null,null,null,null,null,null,null,null,null,{"$f":"Base!C16","v":"Tâmega e Sousa"},{"$f":"SUM(Base!CV16:CY16)+Base!DL16+Base!DM16","v":508},{"$f":"Base!CZ16","v":444},{"$f":"SUM(Base!DA16:DC16)","v":1623},{"$f":"Base!DE16","v":28},{"$f":"SUM(Base!DF16:DI16)","v":800},{"$f":"Base!DD16+Base!DJ16+Base!DK16+Base!CU16","v":3640}]
[null,null,null,null,null,null,null,null,null,null,null,null,null,null,null,null,null,null,null,null,null,null,null,null,null,null,null,null,null,null,null,null,null,null,null,{"$f":"Base!C17","v":"Douro"},{"$f":"SUM(Base!CV17:CY17)+Base!DL17+Base!DM17","v":230},{"$f":"Base!CZ17","v":1842},{"$f":"SUM(Base!DA17:DC17)","v":8209},{"$f":"Base!DE17","v":59},{"$f":"SUM(Base!DF17:DI17)","v":1190},{"$f":"Base!DD17+Base!DJ17+Base!DK17+Base!CU17","v":8813}]
[null,null,null,null,null,null,null,null,null,null,null,null,null,null,null,null,null,null,null,null,null,null,null,null,null,null,null,null,null,null,null,null,null,null,null,{"$f":"Base!C18","v":"Terras de Trás-os-Montes"},{"$f":"SUM(Base!CV18:CY18)+Base!DL18+Base!DM18","v":753},{"$f":"Base!CZ18","v":5045},{"$f":"SUM(Base!DA18:DC18)","v":5385},{"$f":"Base!DE18","v":18},{"$f":"SUM(Base!DF18:DI18)","v":1016},{"$f":"Base!DD18+Base!DJ18+Base!DK18+Base!CU18","v":12125}]
[null,null,null,null,null,null,null,null,null,null,null,null,null,null,null,null,null,null,null,null,null,null,null,null,null,null,null,null,null,null,null,null,null,null,null,{"$f":"Base!C19","v":"Oeste"},{"$f":"SUM(Base!CV19:CY19)+Base!DL19+Base!DM19","v":108},{"$f":"Base!CZ19","v":201},{"$f":"SUM(Base!DA19:DC19)","v":989},{"$f":"Base!DE19","v":7},{"$f":"SUM(Base!DF19:DI19)","v":629},{"$f":"Base!DD19+Base!DJ19+Base!DK19+Base!CU19","v":609}]
[null,null,null,null,null,null,null,null,null,null,null,null,null,null,null,null,null,null,null,null,null,null,null,null,null,null,null,null,null,null,null,null,null,null,null,{"$f":"Base!C20","v":"Região de Aveiro"},{"$f":"SUM(Base!CV20:CY20)+Base!DL20+Base!DM20","v":1461},{"$f":"Base!CZ20","v":276},{"$f":"SUM(Base!DA20:DC20)","v":317},{"$f":"Base!DE20","v":180},{"$f":"SUM(Base!DF20:DI20)","v":362},{"$f":"Base!DD20+Base!DJ20+Base!DK20+Base!CU20","v":1520}]
[null,null,null,null,null,null,null,null,null,null,null,null,null,null,null,null,null,null,null,null,null,null,null,null,null,null,null,null,null,null,null,null,null,null,null,{"$f":"Base!C21","v":"Região de Coimbra"},{"$f":"SUM(Base!CV21:CY21)+Base!DL21+Base!DM21","v":1617},{"$f":"Base!CZ21","v":701},{"$f":"SUM(Base!DA21:DC21)","v":522},{"$f":"Base!DE21","v":78},{"$f":"SUM(Base!DF21:DI21)","v":750},{"$f":"Base!DD21+Base!DJ21+Base!DK21+Base!CU21","v":2748}]
[null,null,null,null,null,null,null,null,null,null,null,null,null,null,null,null,null,null,null,null,null,null,null,null,null,null,null,null,null,null,null,null,null,null,null,{"$f":"Base!C22","v":"Região de Leiria"},{"$f":"SUM(Base!CV22:CY22)+Base!DL22+Base!DM22","v":271},{"$f":"Base!CZ22","v":389},{"$f":"SUM(Base!DA22:DC22)","v":392},{"$f":"Base!DE22","v":13},{"$f":"SUM(Base!DF22:DI22)","v":624},{"$f":"Base!DD22+Base!DJ22+Base!DK22+Base!CU22","v":1410}]
[null,null,null,null,null,null,null,null,null,null,null,null,null,null,null,null,null,null,null,null,null,null,null,null,null,null,null,null,null,null,null,null,null,null,null,{"$f":"Base!C23","v":"Viseu Dão Lafões"},{"$f":"SUM(Base!CV23:CY23)+Base!DL23+Base!DM23","v":454},{"$f":"Base!CZ23","v":1044},{"$f":"SUM(Base!DA23:DC23)","v":1056},{"$f":"Base!DE23","v":36},{"$f":"SUM(Base!DF23:DI23)","v":1260},{"$f":"Base!DD23+Base!DJ23+Base!DK23+Base!CU23","v":3973}]
[null,null,null,null,null,null,null,null,null,null,null,null,null,null,null,null,null,null,null,null,null,null,null,null,null,null,null,null,null,null,null,null,null,null,null,{"$f":"Base!C24","v":"Beira Baixa"},{"$f":"SUM(Base!CV24:CY24)+Base!DL24+Base!DM24","v":166},{"$f":"Base!CZ24","v":295},{"$f":"SUM(Base!DA24:DC24)","v":1060},{"$f":"Base!DE24","v":3},{"$f":"SUM(Base!DF24:DI24)","v":1163},{"$f":"Base!DD24+Base!DJ24+Base!DK24+Base!CU24","v":1932}]
[null,null,null,null,null,null,null,null,null,null,null,null,null,null,null,null,null,null,null,null,null,null,null,null,null,null,null,null,null,null,null,null,null,null,null,{"$f":"Base!C25","v":"Médio Tejo"},{"$f":"SUM(Base!CV25:CY25)+Base!DL25+Base!DM25","v":117},{"$f":"Base!CZ25","v":208},{"$f":"SUM(Base!DA25:DC25)","v":1105},{"$f":"Base!DE25","v":8},{"$f":"SUM(Base!DF25:DI25)","v":535},{"$f":"Base!DD25+Base!DJ25+Base!DK25+Base!CU25","v":2141}]
[null,null,null,null,null,null,null,null,null,null,null,null,null,null,null,null,null,null,null,null,null,null,null,null,null,null,null,null,null,null,null,null,null,null,null,{"$f":"Base!C26","v":"Beiras e Serra da Estrela"},{"$f":"SUM(Base!CV26:CY26)+Base!DL26+Base!DM26","v":1110},{"$f":"Base!CZ26","v":1621},{"$f":"SUM(Base!DA26:DC26)","v":2584},{"$f":"Base!DE26","v":36},{"$f":"SUM(Base!DF26:DI26)","v":2849},{"$f":"Base!DD26+Base!DJ26+Base!DK26+Base!CU26","v":7372}]
[null,null,null,null,null,null,null,null,null,null,null,null,null,null,null,null,null,null,null,null,null,null,null,null,null,null,null,null,null,null,null,null,null,null,null,{"$f":"Base!C27","v":"Área Metropolitana de Lisboa"},{"$f":"SUM(Base!CV27:CY27)+Base!DL27+Base!DM27","v":208},{"$f":"Base!CZ27","v":76},{"$f":"SUM(Base!DA27:DC27)","v":283},{"$f":"Base!DE27","v":21},{"$f":"SUM(Base!DF27:DI27)","v":553},{"$f":"Base!DD27+Base!DJ27+Base!DK27+Base!CU27","v":449}]
[null,null,null,null,null,null,null,null,null,null,null,null,null,null,null,null,null,null,null,null,null,null,null,null,null,null,null,null,null,null,null,null,null,null,null,{"$f":"Base!C28","v":"Alentejo Litoral"},{"$f":"SUM(Base!CV28:CY28)+Base!DL28+Base!DM28","v":221},{"$f":"Base!CZ28","v":120},{"$f":"SUM(Base!DA28:DC28)","v":423},{"$f":"Base!DE28","v":14},{"$f":"SUM(Base!DF28:DI28)","v":1173},{"$f":"Base!DD28+Base!DJ28+Base!DK28+Base!CU28","v":1497}]
[null,null,null,null,null,null,null,null,null,null,null,null,null,null,null,null,null,null,null,null,null,null,null,null,null,null,null,null,null,null,null,null,null,null,null,{"$f":"Base!C29","v":"Baixo Alentejo"},{"$f":"SUM(Base!CV29:CY29)+Base!DL29+Base!DM29","v":779},{"$f":"Base!CZ29","v":119},{"$f":"SUM(Base!DA29:DC29)","v":2755},{"$f":"Base!DE29","v":4},{"$f":"SUM(Base!DF29:DI29)","v":2243},{"$f":"Base!DD29+Base!DJ29+Base!DK29+Base!CU29","v":2622}]
[null,null,null,null,null,null,null,null,null,null,null,null,null,null,null,null,null,null,null,null,null,null,null,null,null,null,null,null,null,null,null,null,null,null,null,{"$f":"Base!C30","v":"Lezíria do Tejo"},{"$f":"SUM(Base!CV30:CY30)+Base!DL30+Base!DM30","v":779},{"$f":"Base!CZ30","v":75},{"$f":"SUM(Base!DA30:DC30)","v":644},{"$f":"Base!DE30","v":21},{"$f":"SUM(Base!DF30:DI30)","v":472},{"$f":"Base!DD30+Base!DJ30+Base!DK30+Base!CU30","v":1304}]
[null,null,null,null,null,null,null,null,null,null,null,null,null,null,null,null,null,null,null,null,null,null,null,null,null,null,null,null,null,null,null,null,null,null,null,{"$f":"Base!C31","v":"Alto Alentejo"},{"$f":"SUM(Base!CV31:CY31)+Base!DL31+Base!DM31","v":130},{"$f":"Base!CZ31","v":138},{"$f":"SUM(Base!DA31:DC31)","v":1527},{"$f":"Base!DE31","v":10},{"$f":"SUM(Base!DF31:DI31)","v":2173},{"$f":"Base!DD31+Base!DJ31+Base!DK31+Base!CU31","v":1878}]
[null,null,null,null,null,null,null,null,null,null,null,null,null,null,null,null,null,null,null,null,null,null,null,null,null,null,null,null,null,null,null,null,null,null,null,{"$f":"Base!C32","v":"Alentejo Central"},{"$f":"SUM(Base!CV32:CY32)+Base!DL32+Base!DM32","v":299},{"$f":"Base!CZ32","v":171},{"$f":"SUM(Base!DA32:DC32)","v":1825},{"$f":"Base!DE32","v":19},{"$f":"SUM(Base!DF32:DI32)","v":2427},{"$f":"Base!DD32+Base!DJ32+Base!DK32+Base!CU32","v":2055}]
[null,null,null,null,null,null,null,null,null,null,null,null,null,null,null,null,null,null,null,null,null,null,null,null,null,null,null,null,null,null,null,null,null,null,null,{"$f":"Base!C33","v":"Algarve"},{"$f":"SUM(Base!CV33:CY33)+Base!DL33+Base!DM33","v":114},{"$f":"Base!CZ33","v":224},{"$f":"SUM(Base!DA33:DC33)","v":1704},{"$f":"Base!DE33","v":0},{"$f":"SUM(Base!DF33:DI33)","v":378},{"$f":"Base!DD33+Base!DJ33+Base!DK33+Base!CU33","v":2696}]
[null,null,null,null,null,null,null,null,null,null,null,null,null,null,null,null,null,null,null,null,null,null,null,null,null,null,null,null,null,null,null,null,null,null,null,"Continente",{"$f":"SUM(AK6:AK28)","v":12987},{"$f":"SUM(AL6:AL28)","v":15541},36634,1711,30223,75339]
[]
[]
[]
[]
[]
[]
[]
[]
[]
[]
[]
[]
[]
[]
[]
[]
[]
[{"$f":"+\"Estrutura: \"&INDEX(Sheet6!$D$2:$D$169,Sheet3!$C$1)& \", por NUTIII e por Grande Orientação Produtiva\"","v":"Estrutura: (1) - Nº de Beneficiários, por NUTIII e por Grande Orientação Produtiva"}]
[]
[]
[]
[]
[]
[]
[]
[]
[]
[]
[]
[]
[]
[]
[]
[]
[]
[]
[]
[]
[]
[]
[]
[]
[]
[]
[]
[]
[]
[]
[]
[]
[]
[]
[]
[]
[]
[]
[]
[]
[]
["Fonte: GPP a partir de dados IFAP"]

{"sheet":"CHART-OTE-DE","index":5,"n_rows":52,"n_cols":19,"rows_kept":52,"cut":false,"hidden":true,"merged":[[0,0,1,18],[2,16,2,17],[49,0,49,2],[51,0,52,6],[51,7,52,18]]}
[{"$f":"+INDEX(Sheet6!$D$2:$D$169,Sheet3!$C$1)& \" por OTE e por \" & INDEX(Sheet6!$P$3:$P$6,Sheet3!$B$1)","v":"(1) - Nº de Beneficiários por OTE e por Classes de Superfície Agrícola"}]
[]
[{"$f":"+Base!C7","v":"Unidade: Nº "},null,null,"Tipo de Beneficiário:",{"$f":"INDEX(Sheet6!$S$1:$S$6,Sheet3!$A$2)","v":"Todos os Produtores do PU"},null,null,null,null,null,null,null,null,null,null,"Valor total:",{"$f":"+Base!$DS$34","v":172464},null,{"$f":"+\"(\" & (INDEX(Sheet6!$G$2:$G$169,Sheet3!$C$1)) & \")\"","v":"(Nº )"}]
[]
[]
[]
[]
[]
[]
[]
[]
[]
[]
[]
[]
[]
[]
[]
[]
[]
[]
[]
[]
[]
[]
[]
[]
[]
[]
[]
[]
[]
[]
[]
[]
[]
[]
[]
[]
[]
[]
[]
["Legenda"]
["MP",{"$f":"+Base!C38","v":"< 5 ha"}]
["P",{"$f":"+Base!C39","v":">= 5  e < 25 ha"}]
["M",{"$f":"+Base!C40","v":">= 25  e < 200 ha"}]
["G",{"$f":"+Base!C41","v":">= 200  e < 1 000 ha"}]
["MG",{"$f":"+Base!C42","v":">= 1 000 ha"}]
[]
["Fonte: GPP a partir de dados IFAP"]
[]
[{"$f":"+INDEX(Sheet6!$D$2:$D$169,Sheet3!$C$1)& \" por \" & INDEX(Sheet6!$P$3:$P$6,Sheet3!$B$1)","v":"(1) - Nº de Beneficiários por Classes de Superfície Agrícola"},null,null,null,null,null,null,{"$f":"+INDEX(Sheet6!$D$2:$D$169,Sheet3!$C$1)& \" por OTE\"","v":"(1) - Nº de Beneficiários por OTE"}]

{"sheet":"Sheet6","index":6,"n_rows":169,"n_cols":37,"rows_kept":169,"cut":false,"hidden":true,"merged":[]}
["Ano",2023,null,null,null,"desmultiplicador","Unidade",null,null,null,null,null,null,null,null,null,null,null,"Todos os Produtores do PU","<5"]
["CountOfGPP_ID",1,"CountOfGPP_ID",{"$f":"+\"(\"&I2& \") - \" & H2","v":"(1) - Nº de Beneficiários"},1,1,"Nº ","Nº de Beneficiários",1,null,null,null,null,null,null,null,null,null,"Beneficiários do RPA",1,null,null,null,"ContarDeGPP_ID"]
["SumOfVpp",2,"SumOfVpp",{"$f":"+\"(\"&I3& \") - \" & H3","v":"(2) - Valor de Produção Padrão"},2,1000,"1000 €","Valor de Produção Padrão",{"$f":"+I2+1","v":2},null,null,null,null,null,null,"Classe de DE",1,null,"Beneficiários do RPB",2,null,null,null,"SomaDeVpp"]
["SumOfSAU",3,"SumOfSAU","(3) - Superfície Elegível (inclui Superfície Agrícola e Agro-Florestal Elegível)",3,1,"ha","Superfície Elegível (inclui Superfície Agrícola e Agro-Florestal Elegível)",{"$f":"+I3+1","v":3},null,null,null,null,null,null,"Classes de Superfície Agrícola",2,null,"Apenas Pagamentos ligados e 2º Pilar",3,null,null,null,"SomaDeSAU"]
["SumOfD_RPB",4,"SumOfD_RPB","(4) - Nº de Direitos de RPB","3a",1,"Nº ","Nº de Direitos de RPB",4,null,null,null,null,null,null,"Classe de Pag. Produtores",3,null,"Apenas outras ajudas 2º Pilar",4]
["SumOfMG_Direitos",5,"SumOfMG_Direitos","(5) - Montante Global dos Direitos de RPB","3b",1000,"1000 €","Montante Global dos Direitos de RPB",5,null,null,null,null,null,null,null,null,null,null,null,null,null,null,"SomaDeSAU_IRRIG"]
["SumOfSAU_est",6,"SumOfSAU_est","(6) - Superfície Agrícola (inc. Pastagens arbustivas)","3c",1,"ha","Superfície Agrícola (inc. Pastagens arbustivas)",6,null,null,null,null,null,null,null,null,null,null,null,null,null,null,"SomaDeCult_Temp"]
["SumOfSAU_IRRIG",7,"SumOfSAU_IRRIG","(7) - Superfície Agrícola de Regadio",4,1,"ha","Superfície Agrícola de Regadio",7,null,null,null,null,null,null,"MP","Muito Pequenas","< 4 000 € de VPP","< 5 ha","<  1250 €",null,null,null,"SomaDeSF"]
["SumOfCult_Temp",8,"SumOfCult_Temp","(8) - Culturas Temporárias",5,1,"ha","Culturas Temporárias",8,null,null,null,null,null,null,"P","Pequenas",">= 4 000 e < 25 000 € de VPP",">= 5  e < 25 ha",">= 1 250 e < 5 000 €",null,null,null,"SomaDePousio"]
["SumOfSF",11,"SumOfSF","(9) - Superfície Forrageira Temporária",6,1,"ha","Superfície Forrageira Temporária",9,null,null,null,null,null,null,"MP","Médias",">= 25 000 e < 100 000 € de VPP",">= 25  e < 200 ha",">= 5 000 e < 50 000 €",null,null,null,"SomaDeCP"]
["SumOfPousio",12,"SumOfPousio","(10) - Superfície de Pousio",7,1,"ha","Superfície de Pousio",10,null,null,null,null,null,null,"G","Grandes",">= 100 000 e < 500 000 € de VPP",">= 200  e < 1 000 ha",">= 50 000 e < 300 000 €",null,null,null,"SomaDePP"]
["SumOfCP",13,"SumOfCP","(11) - Culturas Permanentes",8,1,"ha","Culturas Permanentes",11,null,null,null,null,null,null,"MG","Muito Grandes",">= 500 000  € de VPP",">= 1 000 ha",">= 300 000 €",null,null,null,"SomaDeCNH"]
["SumOfPP",14,"SumOfPP","(12) - Superfície de Pastagens Permanentes",9,1,"ha","Superfície de Pastagens Permanentes",12,null,null,null,null,null,null,null,null,null,null,null,null,null,null,"SomaDeCNT"]
["SumOfpp_02cn",15,"SumOfpp_02cn","(13) - Superfície de Pastagens com encabeçamento inferior a 0,2CN/ha de PP","9a",1,"ha","Superfície de Pastagens com encabeçamento inferior a 0,2CN/ha de PP",13,null,null,null,null,null,null,null,null,null,null,null,null,null,null,"SomaDeS_RPB"]
["SumOfCNH",16,"SumOfCNH","(14) - Nº de Cabeças Normais (Cn) de Herbívoros",10,1,"CN","Nº de Cabeças Normais (Cn) de Herbívoros",14,null,null,null,null,null,null,"MP","P","MP","G","MG",null,null,null,"SomaDeS_MAA"]
["SumOfCNT",17,"SumOfCNT","(15) - Nº de Cabeças Normais (Cn) Totais",11,1,"CN","Nº de Cabeças Normais (Cn) Totais",15,null,null,null,null,null,null,"MP","P","MP","G","MG",null,null,null,"SomaDeS_MZD"]
["SumOfS_RPB",18,"SumOfS_RPB","(16) - Superfície Agrícola Declarada para Activar Direitos de RPB",12,1,"ha","Superfície Agrícola Declarada para Activar Direitos de RPB",16,null,null,null,null,null,null,"Muito Pequenas","Pequenas","Médias","Grandes","Muito Grandes",null,null,null,"SomaDeAD_Totais2015"]
["SumOfS_MAA",19,"SumOfS_MAA","(17) - Superfície Agrícola Declarada para Medidas Agroambientais",13,1,"ha","Superfície Agrícola Declarada para Medidas Agroambientais",17,null,null,null,null,null,null,"< 4000€ de VPP",">= 4000 e <25 000€ de VPP",">=25000 e <100 000€ de VPP",">= 100 000 e < 500 000 € de VPP",">= 500 000  € de VPP",null,null,null,"Ajudas_desligadas"]
["SumOfS_MZD",20,"SumOfS_MZD","(18) - Superfície Agrícola Declarada para MZDs",14,1,"ha","Superfície Agrícola Declarada para MZDs",18,null,null,null,null,null,null,"< 5 ha",">= 5  e < 25 ha",">= 25  e < 200 ha","= 200  e < 1 000 ha",">= 1 000 ha",null,null,null,"SomaDeRPA"]
["SumOfS_ECO",21,"SumOfS_ECO","(19) - Superfície Agrícola Declarada para Ecoregimess",15,1,"ha","Superfície Agrícola Declarada para Ecoregimess",19,null,null,null,null,null,null,{"$f":"+P$16& CHAR(10)  & P18","v":"MP\n< 4000€ de VPP"},"P\n>= 4000 e <25 000€ de VPP","MP\n>=25000 e <100 000€ de VPP","G\n>= 100 000 e < 500 000 € de VPP","MG\n>= 500 000  € de VPP",null,null,null,"RPB_Total"]
["SumOfS_ASSO",22,"SumOfS_ASSO","(20) - Superfície Agrícola Declarada para Pagamentos Associados",16,1,"ha","Superfície Agrícola Declarada para Pagamentos Associados",20,"    ",null,null,null,null,null,"MP\n< 5 ha","P\n>= 5  e < 25 ha","MP\n>= 25  e < 200 ha","G\n= 200  e < 1 000 ha","MG\n>= 1 000 ha",null,null,null,"SomaDeRPBAJU"]
["SumOfCereais_seq",23,"SumOfCereais_seq","(21) - Superfície de Cereais De Outono-Inverno",17,1,"ha","Superfície de Cereais De Outono-Inverno",21,"        ",null,null,null,null,null,null,null,null,null,null,null,null,null,"SomaDeRPBJOV"]
["SumOfMilho_grao",24,"SumOfMilho_grao","(22) - Superfície de Milho Grão; ",18,1,"ha","Superfície de Milho Grão; ",22,"        ",null,null,null,null,null,null,null,null,null,null,null,null,null,"SomaDeGREEN"]
["SumOfArroz",25,"SumOfArroz","(23) - Superfície de Arroz; ",19,1,"ha","Superfície de Arroz; ",23,"            "]
["SumOfOleag_proteag",26,"SumOfOleag_proteag","(24) - Superfície de Oleaginosas E Proteaginosas; ",20,1,"ha","Superfície de Oleaginosas E Proteaginosas; ",24,"            ",null,null,null,null,null,null,null,null,null,null,null,null,null,"Pag_ligados"]
["SumOfHorticolas",27,"SumOfHorticolas","(25) - Superfície de Hortícolas, Batata, Plantas E Flores; ",21,1,"ha","Superfície de Hortícolas, Batata, Plantas E Flores; ",25,"        ",null,null,null,null,null,"MP","Muito Pequenas","< 4 000 € de VPP","< 4 ha","<  1250 €",null,null,null,"SomaDeVACAS_ALEIT"]
["SumOfForrag_prados_temp",28,"SumOfForrag_prados_temp","(26) - Superfície de Forragens E Prados Temporários; ","21a",1,"ha","Superfície de Forragens E Prados Temporários; ",26,"        ",null,null,null,null,null,"P","Pequenas",">= 4 000 e < 25 000 € de VPP",">= 4  e < 25 ha",">= 1 250 e < 5 000 €",null,null,null,"SomaDePAG_OV_CAP"]
["SumOfPousios",29,"SumOfPousios","(27) - Superfície de Pousios; ",22,1,"ha","Superfície de Pousios; ",27,"    ",null,null,null,null,null,"MP","Médias",">= 25 000 e < 100 000 € de VPP",">= 25  e < 200 ha",">= 5 000 e < 50 000 €",null,null,null,"SomaDeVACAS_leite"]
["SumOfPomares",30,"SumOfPomares","(28) - Superfície de Pomares; ",23,1,"ha","Superfície de Pomares; ",28,"        ",null,null,null,null,null,"G","Grandes",">= 100 000 e < 500 000 € de VPP","= 200  e < 1 000 ha",">= 50 000 e < 300 000 €",null,null,null,"SomaDePAG_COMPL_Leite"]
["SumOfVinha",31,"SumOfVinha","(29) - Superfície de Vinha; ",24,1,"ha","Superfície de Vinha; ",29,"        ",null,null,null,null,null,"MG","Muito Grandes",">= 500 000  € de VPP",">= 1 000 ha",">= 300 000 €",null,null,null,"SomaDePAG_TOMATE"]
["SumOfOlival",32,"SumOfOlival","(30) - Superfície de Olival; ",25,1,"ha","Superfície de Olival; ",30,"        ",null,null,null,null,null,null,null,null,null,null,null,null,null,"SomaDePAG_ARROZ"]
["SumOfPast_prados_perm",34,"SumOfPast_prados_perm","(31) - Superfície de Prados E Pastagens Permanentes; ",26,1,"ha","Superfície de Prados E Pastagens Permanentes; ",31,"        "]
["SumOfOutras culturas",35,"SumOfOutras culturas","(32) - Superfície de Outras Culturas;",27,1,"ha","Superfície de Outras Culturas;",32,"        "]
["SumOfVacas_leite",33,"SumOfVacas_leite","(33) - Cabeças de Vacas Leiteiras",28,1,"Cab.","Cabeças de Vacas Leiteiras",33,"        "]
["SumOfVacas_aleit",36,"SumOfVacas_aleit","(34) - Cabeças de Vacas Aleitantes",29,1,"Cab.","Cabeças de Vacas Aleitantes",34]
["SumOfOutros_bov",37,"SumOfOutros_bov","(35) - Cabeças de Outros Bovinos",30,1,"Cab.","Cabeças de Outros Bovinos",35,"     "]
["SumOfOvelhas",38,"SumOfOvelhas","(36) - Cabeças de Ovelhas",31,1,"Cab.","Cabeças de Ovelhas",36,"            "]
["SumOfOutros_ovinos",39,"SumOfOutros_ovinos","(37) - Cabeças de Outros Ovinos",32,1,"Cab.","Cabeças de Outros Ovinos",37,"            ",null,null,null,null,null,null,null,null,"Não classificadas","Arvenses e Outras Cult pred. Regadio","Arvenses e Outras Cult pred. Sequeiro","Arroz","Horticultura e Industriais","Horticultura e Floricultura","Vinhos","Fruticultura","Olival","Policultura","Bovinos Leite","Bov. Carne semi-int. (>1 < 3CN por ha SF)","Bov. Carne Int (>= 3CN por ha SF)","Bov. Carne Extensivos (<1 CN por ha SF)","Outros Ruminantes","Mistas","Pousio e Pastagem","Tomate Indústria","Plantas tuberosas"]
["SumOfCabras",40,"SumOfCabras","(38) - Cabeças de Cabras",33,1,"Cab.","Cabeças de Cabras",38,"            "]
["SumOfOutros_cap",41,"SumOfOutros_cap","(39) - Cabeças de Outros Caprinos",34,1,"Cab.","Cabeças de Outros Caprinos",39,"     "]
["PP",null,null,{"$f":"+P41&\"(\"&I41& \") - \" & H41 & \" \" & IF(LEN(O41)>2,O41,\"\")","v":"(40) - Total de Pagamentos aos produtores (42+67)"},null,1000,"1000 €","Total de Pagamentos aos produtores",40,42,67,null,null,null,{"$f":"+\"(\"&J41&IF(LEN(K41)>0,\"+\",\"\")&K41&IF(LEN(L41)>0,\"+\",\"\")&L41&IF(LEN(M41)>0,\"+\",\"\")&M41&\")\"","v":"(42+67)"}]
["Pagamento ambiental",null,null,{"$f":"+P42&\"(\"&I42& \") - \" & H42 & \" \" & IF(LEN(O42)>2,O42,\"\")","v":"(41) - Pagamentos Ambientais (59+68+81+82)"},null,1000,"1000 €","Pagamentos Ambientais",41,59,68,81,82,null,"(59+68+81+82)"]
["Primeiro Pilar",null,null,"(42) - Pagamentos Primeiro Pilar (43+56+59)",null,1000,"1000 €","Pagamentos Primeiro Pilar",42,43,56,59,null,null,"(43+56+59)"]
["Rend_Resiliencia",42,"Rend_Resiliencia","(43) - Pagamentos  Rendimento e resiliência (44+45)",35,1000,"1000 €","Pagamentos  Rendimento e resiliência",43,44,45,null,null,null,"(44+45)"]
["SumOfA_1_1",43,"SumOfA_1_1","   (44) - Pagamentos  Apoio ao Rendimento Base ",36,1000,"1000 €","Pagamentos  Apoio ao Rendimento Base",44,null,null,null,null,null,"()","   "]
["Apoios_Associados",44,"Apoios_Associados","(45) - Pagamentos  Apoio Associado  (46+…+55)",37,1000,"1000 €","Pagamentos  Apoio Associado ",45,46,"…",55,null,null,"(46+…+55)"]
["SumOfA_1_2_1",45,"SumOfA_1_2_1","   (46) - Pagamentos  Pagamento por vaca em aleitamento ",38,1000,"1000 €","Pagamentos  Pagamento por vaca em aleitamento",46,null,null,null,null,null,"()","   "]
["SumOfA_1_2_2",46,"SumOfA_1_2_2","   (47) - Pagamentos  Pagamento aos pequenos ruminantes ",39,1000,"1000 €","Pagamentos  Pagamento aos pequenos ruminantes",47,null,null,null,null,null,"()","   "]
["SumOfA_1_2_3",47,"SumOfA_1_2_3","   (48) - Pagamentos  Pagamento ao leite de vaca ",40,1000,"1000 €","Pagamentos  Pagamento ao leite de vaca",48,null,null,null,null,null,"()","   "]
["SumOfA_1_2_4",48,"SumOfA_1_2_4","   (49) - Pagamentos  Pagamento ao arroz ",41,1000,"1000 €","Pagamentos  Pagamento ao arroz",49,null,null,null,null,null,"()","   "]
["SumOfA_1_2_5",49,"SumOfA_1_2_5","   (50) - Pagamentos  Pagamento ao tomate para indústria ",42,1000,"1000 €","Pagamentos  Pagamento ao tomate para indústria",50,null,null,null,null,null,"()","   "]
["SumOfA_1_2_6",50,"SumOfA_1_2_6","   (51) - Pagamentos  Pagamento às proteaginosas ",43,1000,"1000 €","Pagamentos  Pagamento às proteaginosas",51,null,null,null,null,null,"()","   "]
["SumOfA_1_2_7",51,"SumOfA_1_2_7","   (52) - Pagamentos  Pagamento aos cereais praganosos ",44,1000,"1000 €","Pagamentos  Pagamento aos cereais praganosos",52,null,null,null,null,null,"()","   "]
["SumOfA_1_2_8",52,"SumOfA_1_2_8","   (53) - Pagamentos  Pagamento ao milho grão ",45,1000,"1000 €","Pagamentos  Pagamento ao milho grão",53,null,null,null,null,null,"()","   "]
["SumOfA_1_2_9",53,"SumOfA_1_2_9","   (54) - Pagamentos  Pagamento ao milho silagem ",46,1000,"1000 €","Pagamentos  Pagamento ao milho silagem",54,null,null,null,null,null,"()","   "]
["SumOfA_1_2_10",54,"SumOfA_1_2_10","   (55) - Pagamentos  Pagamento à multiplicação de sementes certificadas ",47,1000,"1000 €","Pagamentos  Pagamento à multiplicação de sementes certificadas",55,null,null,null,null,null,"()","   "]
["Equidade",55,"Equidade","(56) - Pagamentos  Equidade (57+58)",48,1000,"1000 €","Pagamentos  Equidade",56,57,58,null,null,null,{"$f":"+\"(\"&J57&IF(LEN(K57)>0,\"+\",\"\")&K57&IF(LEN(L57)>0,\"+\",\"\")&L57&IF(LEN(M57)>0,\"+\",\"\")&M57&\")\"","v":"(57+58)"}]
["SumOfA_2_1",56,"SumOfA_2_1","   (57) - Pagamentos  Pagamento aos Pequenos Agricultores ",49,1000,"1000 €","Pagamentos  Pagamento aos Pequenos Agricultores",57,null,null,null,null,null,"()","   "]
["SumOfA_2_2",57,"SumOfA_2_2","   (58) - Pagamentos  Apoio Redistributivo Complementar ",50,1000,"1000 €","Pagamentos  Apoio Redistributivo Complementar",58,null,null,null,null,null,"()","   "]
["Sustentabilidade_1p",58,"Sustentabilidade_1p","(59) - Pagamentos  Sustentabilidade 1º Pilar (60+…+66)",51,1000,"1000 €","Pagamentos  Sustentabilidade 1º Pilar",59,60,"…",66,null,null,"(60+…+66)"]
["SumOfA_3_1",59,"SumOfA_3_1","   (60) - Pagamentos  Agricultura biológica ",52,1000,"1000 €","Pagamentos  Agricultura biológica",60,null,null,null,null,null,"()","   "]
["SumOfA_3_2",60,"SumOfA_3_2","   (61) - Pagamentos  Produção integrada – Culturas agrícolas ",53,1000,"1000 €","Pagamentos  Produção integrada – Culturas agrícolas",61,null,null,null,null,null,"()","   "]
["SumOfA_3_3_1",61,"SumOfA_3_3_1","   (62) - Pagamentos  Maneio da pastagem permanente ",54,1000,"1000 €","Pagamentos  Maneio da pastagem permanente",62,null,null,null,null,null,"()","   "]
["SumOfA_3_3_2",62,"SumOfA_3_3_2","   (63) - Pagamentos  Promoção da fertilização orgânica ",55,1000,"1000 €","Pagamentos  Promoção da fertilização orgânica",63,null,null,null,null,null,"()","   "]
["SumOfA_3_4",63,"SumOfA_3_4","   (64) - Pagamentos  Melhorar a eficiência alimentar animal ",56,1000,"1000 €","Pagamentos  Melhorar a eficiência alimentar animal",64,null,null,null,null,null,"()","   "]
["SumOfA_3_5",64,"SumOfA_3_5","   (65) - Pagamentos  Bem-estar animal e uso racional de antimicrobianos ",57,1000,"1000 €","Pagamentos  Bem-estar animal e uso racional de antimicrobianos",65,null,null,null,null,null,{"$f":"+\"(\"&J66&IF(LEN(K66)>0,\"+\",\"\")&K66&IF(LEN(L66)>0,\"+\",\"\")&L66&IF(LEN(M66)>0,\"+\",\"\")&M66&\")\"","v":"()"},"   "]
["SumOfA_3_6",65,"SumOfA_3_6","   (66) - Pagamentos  Práticas promotoras da biodiversidade ",58,1000,"1000 €","Pagamentos  Práticas promotoras da biodiversidade",66,null,null,null,null,null,"()","   "]
["seg_pilar",null,null,"(67) - Pagamentos Segundo Pilar (68+77+81+82)",null,1000,"1000 €","Pagamentos Segundo Pilar",67,68,77,81,82,null,{"$f":"+\"(\"&J68&IF(LEN(K68)>0,\"+\",\"\")&K68&IF(LEN(L68)>0,\"+\",\"\")&L68&IF(LEN(M68)>0,\"+\",\"\")&M68&\")\"","v":"(68+77+81+82)"}]
["Comprom_Ambi_Clima",66,"Comprom_Ambi_Clima","(68) - Pagamentos  Compromissos Ambente e Clima 2º Pilar (69+…+76)",59,1000,"1000 €","Pagamentos  Compromissos Ambente e Clima 2º Pilar",{"$f":"+I68+1","v":68},69,"…",76,null,null,"(69+…+76)"]
["SumOfC_1_1_1_1_1",67,"SumOfC_1_1_1_1_1","   (69) - Pagamentos  Conservação do solo –  Sementeira direta ",60,1000,"1000 €","Pagamentos  Conservação do solo –  Sementeira direta",69,null,null,null,null,null,{"$f":"+\"(\"&J70&IF(LEN(K70)>0,\"+\",\"\")&K70&IF(LEN(L70)>0,\"+\",\"\")&L70&IF(LEN(M70)>0,\"+\",\"\")&M70&\")\"","v":"()"},"   "]
["SumOfC_1_1_1_1_2",68,"SumOfC_1_1_1_1_2","   (70) - Pagamentos  Conservação do solo - Enrelvamento ",61,1000,"1000 €","Pagamentos  Conservação do solo - Enrelvamento",70,null,null,null,null,null,"()","   "]
["SumOfC_1_1_1_1_3",69,"SumOfC_1_1_1_1_3","   (71) - Pagamentos  Conservação do solo - Pastagens Biodiversas ",62,1000,"1000 €","Pagamentos  Conservação do solo - Pastagens Biodiversas",71,null,null,null,null,null,"()","   "]
["SumOfC_1_1_1_2",70,"SumOfC_1_1_1_2","   (72) - Pagamentos  Uso eficiente da água ",63,1000,"1000 €","Pagamentos  Uso eficiente da água",72,null,null,null,null,null,"()","   "]
["SumOfC_1_1_2_1",71,"SumOfC_1_1_2_1","   (73) - Pagamentos  Montados e lameiros ",64,1000,"1000 €","Pagamentos  Montados e lameiros",73,null,null,null,null,null,"()","   "]
["SumOfC_1_1_2_2",72,"SumOfC_1_1_2_2","   (74) - Pagamentos  Culturas permanentes e paisagens tradicionais ",65,1000,"1000 €","Pagamentos  Culturas permanentes e paisagens tradicionais",74,null,null,null,null,null,"()","   "]
["SumOfC_1_1_3",73,"SumOfC_1_1_3","   (75) - Pagamentos  Mosaico agroflorestal ",66,1000,"1000 €","Pagamentos  Mosaico agroflorestal",75,null,null,null,null,null,"()","   "]
["SumOfC_1_1_4",74,"SumOfC_1_1_4","   (76) - Pagamentos  Manutenção de raças autóctones ",67,1000,"1000 €","Pagamentos  Manutenção de raças autóctones",76,null,null,null,null,null,"()","   "]
["MZD",75,"MZD","(77) - Pagamentos  Manutenção da atividade agrícola em zonas com condicionantes (78+79+80)",68,1000,"1000 €","Pagamentos  Manutenção da atividade agrícola em zonas com condicionantes",77,78,79,80,null,null,{"$f":"+\"(\"&J78&IF(LEN(K78)>0,\"+\",\"\")&K78&IF(LEN(L78)>0,\"+\",\"\")&L78&IF(LEN(M78)>0,\"+\",\"\")&M78&\")\"","v":"(78+79+80)"}]
["SumOfM9_M",76,"SumOfM9_M","   (78) - Pagamentos  Manutenção da atividade agrícola em zonas montanha ",69,1000,"1000 €","Pagamentos  Manutenção da atividade agrícola em zonas montanha",78,null,null,null,null,null,{"$f":"+\"(\"&J79&IF(LEN(K79)>0,\"+\",\"\")&K79&IF(LEN(L79)>0,\"+\",\"\")&L79&IF(LEN(M79)>0,\"+\",\"\")&M79&\")\"","v":"()"},"   "]
["SumOfM9_E",77,"SumOfM9_E","   (79) - Pagamentos  Manutenção da atividade agrícola em zonas específicas ",70,1000,"1000 €","Pagamentos  Manutenção da atividade agrícola em zonas específicas",79,null,null,null,null,null,"()","   "]
["SumOfM9_O",78,"SumOfM9_O","   (80) - Pagamentos  Manutenção da atividade agrícola em outras zonas ",71,1000,"1000 €","Pagamentos  Manutenção da atividade agrícola em outras zonas",80,null,null,null,null,null,"()","   "]
["SumOfM7_3_1",79,"SumOfM7_3_1","(81) - Pagamentos  Rede Natura ",72,1000,"1000 €","Pagamentos  Rede Natura",81,null,null,null,null,null,"()"]
["Abor_TErrit",81,"Abor_TErrit","(82) - Pagamentos  Abordagem Territorial (83+…+87)",74,1000,"1000 €","Pagamentos  Abordagem Territorial",82,83,"…",87,null,null,"(83+…+87)"]
["SumOfD_2_1",82,"SumOfD_2_1","   (83) - Pagamentos  Planos Zonais Agroambientais ",75,1000,"1000 €","Pagamentos  Planos Zonais Agroambientais",83,null,null,null,null,null,"()","   "]
["SumOfD_2_2",83,"SumOfD_2_2","   (84) - Pagamentos  Gestão do montado por resultados ",76,1000,"1000 €","Pagamentos  Gestão do montado por resultados",84,null,null,null,null,null,"()","   "]
["SumOfD_2_3",84,"SumOfD_2_3","   (85) - Pagamentos  Gestão integrada em zonas críticas ",77,1000,"1000 €","Pagamentos  Gestão integrada em zonas críticas",85,null,null,null,null,null,"()","   "]
["SumOfD_2_4",85,"SumOfD_2_4","   (86) - Pagamentos  Proteção de espécies com estatuto – Superfície agrícola ",78,1000,"1000 €","Pagamentos  Proteção de espécies com estatuto – Superfície agrícola",86,null,null,null,null,null,"()","   "]
["SumOfD_2_5",86,"SumOfD_2_5","   (87) - Pagamentos  Proteção de espécies com estatuto – Silvoambientais ",79,1000,"1000 €","Pagamentos  Proteção de espécies com estatuto – Silvoambientais",87,null,null,null,null,null,"()","   "]
["QTRend_Resiliencia",87,"QTRend_Resiliencia",{"$f":"+\"(\"&I89& \") - \" & H89","v":"(88) - Unidades Pagas em  Rendimento e resiliência"},80,0,"ha","Unidades Pagas em  Rendimento e resiliência",88,null,null,null,null,null,"()","   "]
["QTSumOfA_1_1",88,"QTSumOfA_1_1","(89) - Unidades Pagas em  Apoio ao Rendimento Base",81,1,"ha","Unidades Pagas em  Apoio ao Rendimento Base",89,null,null,null,null,null,"()","   "]
["QTApoios_Associados",89,"QTApoios_Associados","(90) - Unidades Pagas em  Apoio Associado ",82,0,"ha","Unidades Pagas em  Apoio Associado ",90,null,null,null,null,null,"()","   "]
["QTSumOfA_1_2_1",90,"QTSumOfA_1_2_1","(91) - Unidades Pagas em  Pagamento por vaca em aleitamento",83,1,"Cab.","Unidades Pagas em  Pagamento por vaca em aleitamento",91]
["QTSumOfA_1_2_2",91,"QTSumOfA_1_2_2","(92) - Unidades Pagas em  Pagamento aos pequenos ruminantes",84,1,"Cab.","Unidades Pagas em  Pagamento aos pequenos ruminantes",92]
["QTSumOfA_1_2_3",92,"QTSumOfA_1_2_3","(93) - Unidades Pagas em  Pagamento ao leite de vaca",85,1,"Cab.","Unidades Pagas em  Pagamento ao leite de vaca",93]
["QTSumOfA_1_2_4",93,"QTSumOfA_1_2_4","(94) - Unidades Pagas em  Pagamento ao arroz",86,1,"ha","Unidades Pagas em  Pagamento ao arroz",94,"            "]
["QTSumOfA_1_2_5",94,"QTSumOfA_1_2_5","(95) - Unidades Pagas em  Pagamento ao tomate para indústria",87,1,"ha","Unidades Pagas em  Pagamento ao tomate para indústria",95,"            "]
["QTSumOfA_1_2_6",95,"QTSumOfA_1_2_6","(96) - Unidades Pagas em  Pagamento às proteaginosas",88,1,"ha","Unidades Pagas em  Pagamento às proteaginosas",96,"            "]
["QTSumOfA_1_2_7",96,"QTSumOfA_1_2_7","(97) - Unidades Pagas em  Pagamento aos cereais praganosos",89,1,"ha","Unidades Pagas em  Pagamento aos cereais praganosos",97,"            "]
["QTSumOfA_1_2_8",97,"QTSumOfA_1_2_8","(98) - Unidades Pagas em  Pagamento ao milho grão",90,1,"ha","Unidades Pagas em  Pagamento ao milho grão",98,"            "]
["QTSumOfA_1_2_9",98,"QTSumOfA_1_2_9","(99) - Unidades Pagas em  Pagamento ao milho silagem",91,1,"ha","Unidades Pagas em  Pagamento ao milho silagem",99,"            "]
["QTSumOfA_1_2_10",99,"QTSumOfA_1_2_10","(100) - Unidades Pagas em  Pagamento à multiplicação de sementes certificadas",92,1,"ha","Unidades Pagas em  Pagamento à multiplicação de sementes certificadas",100,"            "]
["QTEquidade",100,"QTEquidade","(101) - Unidades Pagas em  Equidade",93,1,"ha","Unidades Pagas em  Equidade",101,"            "]
["QTSumOfA_2_1",101,"QTSumOfA_2_1","(102) - Unidades Pagas em  Pagamento aos Pequenos Agricultores",94,1,"Benf","Unidades Pagas em  Pagamento aos Pequenos Agricultores",102,"            "]
["QTSumOfA_2_2",102,"QTSumOfA_2_2","(103) - Unidades Pagas em  Apoio Redistributivo Complementar",95,1,"ha","Unidades Pagas em  Apoio Redistributivo Complementar",103,"            "]
["QTSustentabilidade_1p",103,"QTSustentabilidade_1p","(104) - Unidades Pagas em  Sustentabilidade 1º Pilar",96,0,null,"Unidades Pagas em  Sustentabilidade 1º Pilar",104,"            "]
["QTSumOfA_3_1",104,"QTSumOfA_3_1","(105) - Unidades Pagas em  Agricultura biológica",97,1,"ha","Unidades Pagas em  Agricultura biológica",105,"            "]
["QTSumOfA_3_2",105,"QTSumOfA_3_2","(106) - Unidades Pagas em  Produção integrada – Culturas agrícolas",null,1,"ha","Unidades Pagas em  Produção integrada – Culturas agrícolas",106]
["QTSumOfA_3_3_1",106,"QTSumOfA_3_3_1","(107) - Unidades Pagas em  Maneio da pastagem permanente",null,1,"ha","Unidades Pagas em  Maneio da pastagem permanente",107]
["QTSumOfA_3_3_2",null,"QTSumOfA_3_3_2","(108) - Unidades Pagas em  Promoção da fertilização orgânica",null,1,"ha","Unidades Pagas em  Promoção da fertilização orgânica",108]
["QTSumOfA_3_4",null,"QTSumOfA_3_4","(109) - Unidades Pagas em  Melhorar a eficiência alimentar animal",null,1,"Cab.","Unidades Pagas em  Melhorar a eficiência alimentar animal",109]
["QTSumOfA_3_5",null,"QTSumOfA_3_5","(110) - Unidades Pagas em  Bem-estar animal e uso racional de antimicrobianos",null,1,"Cab.","Unidades Pagas em  Bem-estar animal e uso racional de antimicrobianos",110]
["QTSumOfA_3_6",null,"QTSumOfA_3_6","(111) - Unidades Pagas em  Práticas promotoras da biodiversidade",null,1,"ha","Unidades Pagas em  Práticas promotoras da biodiversidade",111]
["QTComprom_Ambi_Clima",null,"QTComprom_Ambi_Clima","(112) - Unidades Pagas em  Compromissos Ambente e Clima 2º Pilar",null,1,"ha","Unidades Pagas em  Compromissos Ambente e Clima 2º Pilar",112]
["QTSumOfC_1_1_1_1_1",null,"QTSumOfC_1_1_1_1_1","(113) - Unidades Pagas em  Conservação do solo –  Sementeira direta",null,1,"ha","Unidades Pagas em  Conservação do solo –  Sementeira direta",113]
["QTSumOfC_1_1_1_1_2",null,"QTSumOfC_1_1_1_1_2","(114) - Unidades Pagas em  Conservação do solo - Enrelvamento",null,1,"ha","Unidades Pagas em  Conservação do solo - Enrelvamento",114]
["QTSumOfC_1_1_1_1_3",null,"QTSumOfC_1_1_1_1_3","(115) - Unidades Pagas em  Conservação do solo - Pastagens Biodiversas",null,1,"ha","Unidades Pagas em  Conservação do solo - Pastagens Biodiversas",115]
["QTSumOfC_1_1_1_2",null,"QTSumOfC_1_1_1_2","(116) - Unidades Pagas em  Uso eficiente da água",null,1,"ha","Unidades Pagas em  Uso eficiente da água",116]
["QTSumOfC_1_1_2_1",null,"QTSumOfC_1_1_2_1","(117) - Unidades Pagas em  Montados e lameiros",null,1,"ha","Unidades Pagas em  Montados e lameiros",117]
["QTSumOfC_1_1_2_2",null,"QTSumOfC_1_1_2_2","(118) - Unidades Pagas em  Culturas permanentes e paisagens tradicionais",null,1,"ha","Unidades Pagas em  Culturas permanentes e paisagens tradicionais",118]
["QTSumOfC_1_1_3",null,"QTSumOfC_1_1_3","(119) - Unidades Pagas em  Mosaico agroflorestal",null,1,"ha","Unidades Pagas em  Mosaico agroflorestal",119]
["QTSumOfC_1_1_4",null,"QTSumOfC_1_1_4","(120) - Unidades Pagas em  Manutenção de raças autóctones",null,1,"Cab.","Unidades Pagas em  Manutenção de raças autóctones",120]
["QTMZD",null,"QTMZD","(121) - Unidades Pagas em  Manutenção da atividade agrícola em zonas com condicionantes",null,1,"ha","Unidades Pagas em  Manutenção da atividade agrícola em zonas com condicionantes",121]
["QTSumOfM9_M",null,"QTSumOfM9_M","(122) - Unidades Pagas em  Manutenção da atividade agrícola em zonas montanha",null,1,"ha","Unidades Pagas em  Manutenção da atividade agrícola em zonas montanha",122]
["QTSumOfM9_E",null,"QTSumOfM9_E","(123) - Unidades Pagas em  Manutenção da atividade agrícola em zonas específicas",null,1,"ha","Unidades Pagas em  Manutenção da atividade agrícola em zonas específicas",123]
["QTSumOfM9_O",null,"QTSumOfM9_O","(124) - Unidades Pagas em  Manutenção da atividade agrícola em outras zonas",null,1,"ha","Unidades Pagas em  Manutenção da atividade agrícola em outras zonas",124]
["QTSumOfM7_3_1",null,"QTSumOfM7_3_1","(125) - Unidades Pagas em  Rede Natura",null,1,"ha","Unidades Pagas em  Rede Natura",125]
["QTAbor_TErrit",null,"QTAbor_TErrit","(126) - Unidades Pagas em  Abordagem Territorial",null,0,null,"Unidades Pagas em  Abordagem Territorial",126]
["QTSumOfD_2_1",null,"QTSumOfD_2_1","(127) - Unidades Pagas em  Planos Zonais Agroambientais",null,1,"ha","Unidades Pagas em  Planos Zonais Agroambientais",127]
["QTSumOfD_2_2",null,"QTSumOfD_2_2","(128) - Unidades Pagas em  Gestão do montado por resultados",null,1,"ha","Unidades Pagas em  Gestão do montado por resultados",128]
["QTSumOfD_2_3",null,"QTSumOfD_2_3","(129) - Unidades Pagas em  Gestão integrada em zonas críticas",null,1,"ha","Unidades Pagas em  Gestão integrada em zonas críticas",129]
["QTSumOfD_2_4",null,"QTSumOfD_2_4",{"$f":"+\"(\"&I131& \") - \" & H131","v":"(130) - Unidades Pagas em  Proteção de espécies com estatuto – Superfície agrícola"},null,1,"ha","Unidades Pagas em  Proteção de espécies com estatuto – Superfície agrícola",130]
["QTSumOfD_2_5",null,"QTSumOfD_2_5","(131) - Unidades Pagas em  Proteção de espécies com estatuto – Silvoambientais",null,1,"ha","Unidades Pagas em  Proteção de espécies com estatuto – Silvoambientais",131]
["N_A_1_1",null,"N_A_1_1","(132) - Nº de Beneficiários Apoio ao Rendimento Base",null,1,"Nº ","Nº de Beneficiários Apoio ao Rendimento Base",{"$f":"+I132+1","v":132}]
["N_A_1_2_1",null,"N_A_1_2_1","(133) - Nº de Beneficiários Pagamento por vaca em aleitamento",null,1,"Nº ","Nº de Beneficiários Pagamento por vaca em aleitamento",133]
["N_A_1_2_2",null,"N_A_1_2_2","(134) - Nº de Beneficiários Pagamento aos pequenos ruminantes",null,1,"Nº ","Nº de Beneficiários Pagamento aos pequenos ruminantes",134]
["N_A_1_2_3",null,"N_A_1_2_3","(135) - Nº de Beneficiários Pagamento ao leite de vaca",null,1,"Nº ","Nº de Beneficiários Pagamento ao leite de vaca",135]
["N_A_1_2_4",null,"N_A_1_2_4","(136) - Nº de Beneficiários Pagamento ao arroz",null,1,"Nº ","Nº de Beneficiários Pagamento ao arroz",136]
["N_A_1_2_5",null,"N_A_1_2_5","(137) - Nº de Beneficiários Pagamento ao tomate para indústria",null,1,"Nº ","Nº de Beneficiários Pagamento ao tomate para indústria",137]
["N_A_1_2_6",null,"N_A_1_2_6","(138) - Nº de Beneficiários Pagamento às proteaginosas",null,1,"Nº ","Nº de Beneficiários Pagamento às proteaginosas",138]
["N_A_1_2_7",null,"N_A_1_2_7","(139) - Nº de Beneficiários Pagamento aos cereais praganosos",null,1,"Nº ","Nº de Beneficiários Pagamento aos cereais praganosos",139]
["N_A_1_2_8",null,"N_A_1_2_8","(140) - Nº de Beneficiários Pagamento ao milho grão",null,1,"Nº ","Nº de Beneficiários Pagamento ao milho grão",140]
["N_A_1_2_9",null,"N_A_1_2_9","(141) - Nº de Beneficiários Pagamento ao milho silagem",null,1,"Nº ","Nº de Beneficiários Pagamento ao milho silagem",141]
["N_A_1_2_10",null,"N_A_1_2_10","(142) - Nº de Beneficiários Pagamento à multiplicação de sementes certificadas",null,1,"Nº ","Nº de Beneficiários Pagamento à multiplicação de sementes certificadas",142]
["N_A_2_1",null,"N_A_2_1","(143) - Nº de Beneficiários Pagamento aos Pequenos Agricultores",null,1,"Nº ","Nº de Beneficiários Pagamento aos Pequenos Agricultores",143]
["N_A_2_2",null,"N_A_2_2","(144) - Nº de Beneficiários Apoio Redistributivo Complementar",null,1,"Nº ","Nº de Beneficiários Apoio Redistributivo Complementar",144]
["N_A_3_1",null,"N_A_3_1","(145) - Nº de Beneficiários Agricultura biológica",null,1,"Nº ","Nº de Beneficiários Agricultura biológica",145]
["N_A_3_2",null,"N_A_3_2","(146) - Nº de Beneficiários Produção integrada – Culturas agrícolas",null,1,"Nº ","Nº de Beneficiários Produção integrada – Culturas agrícolas",146]
["N_A_3_3_1",null,"N_A_3_3_1","(147) - Nº de Beneficiários Maneio da pastagem permanente",null,1,"Nº ","Nº de Beneficiários Maneio da pastagem permanente",147]
["N_A_3_3_2",null,"N_A_3_3_2","(148) - Nº de Beneficiários Promoção da fertilização orgânica",null,1,"Nº ","Nº de Beneficiários Promoção da fertilização orgânica",148]
["N_A_3_4",null,"N_A_3_4","(149) - Nº de Beneficiários Melhorar a eficiência alimentar animal",null,1,"Nº ","Nº de Beneficiários Melhorar a eficiência alimentar animal",149]
["N_A_3_5",null,"N_A_3_5","(150) - Nº de Beneficiários Bem-estar animal e uso racional de antimicrobianos",null,1,"Nº ","Nº de Beneficiários Bem-estar animal e uso racional de antimicrobianos",150]
["N_A_3_6",null,"N_A_3_6","(151) - Nº de Beneficiários Práticas promotoras da biodiversidade",null,1,"Nº ","Nº de Beneficiários Práticas promotoras da biodiversidade",151]
["N_C_1_1_1_1_1",null,"N_C_1_1_1_1_1","(152) - Nº de Beneficiários Conservação do solo –  Sementeira direta",null,1,"Nº ","Nº de Beneficiários Conservação do solo –  Sementeira direta",152]
["N_C_1_1_1_1_2",null,"N_C_1_1_1_1_2","(153) - Nº de Beneficiários Conservação do solo - Enrelvamento",null,1,"Nº ","Nº de Beneficiários Conservação do solo - Enrelvamento",153]
["N_C_1_1_1_1_3",null,"N_C_1_1_1_1_3","(154) - Nº de Beneficiários Conservação do solo - Pastagens Biodiversas",null,1,"Nº ","Nº de Beneficiários Conservação do solo - Pastagens Biodiversas",154]
["N_C_1_1_1_2",null,"N_C_1_1_1_2","(155) - Nº de Beneficiários Uso eficiente da água",null,1,"Nº ","Nº de Beneficiários Uso eficiente da água",155]
["N_C_1_1_2_1",null,"N_C_1_1_2_1","(156) - Nº de Beneficiários Montados e lameiros",null,1,"Nº ","Nº de Beneficiários Montados e lameiros",156]
["N_C_1_1_2_2",null,"N_C_1_1_2_2","(157) - Nº de Beneficiários Culturas permanentes e paisagens tradicionais",null,1,"Nº ","Nº de Beneficiários Culturas permanentes e paisagens tradicionais",157]
["N_C_1_1_3",null,"N_C_1_1_3","(158) - Nº de Beneficiários Mosaico agroflorestal",null,1,"Nº ","Nº de Beneficiários Mosaico agroflorestal",158]
["N_C_1_1_4",null,"N_C_1_1_4","(159) - Nº de Beneficiários Manutenção de raças autóctones",null,1,"Nº ","Nº de Beneficiários Manutenção de raças autóctones",159]
["N_D_2_1",null,"N_D_2_1","(160) - Nº de Beneficiários Planos Zonais Agroambientais",null,1,"Nº ","Nº de Beneficiários Planos Zonais Agroambientais",160]
["N_D_2_2",null,"N_D_2_2","(161) - Nº de Beneficiários Gestão do montado por resultados",null,1,"Nº ","Nº de Beneficiários Gestão do montado por resultados",161]
["N_D_2_3",null,"N_D_2_3","(162) - Nº de Beneficiários Gestão integrada em zonas críticas",null,1,"Nº ","Nº de Beneficiários Gestão integrada em zonas críticas",162]
["N_D_2_4",null,"N_D_2_4","(163) - Nº de Beneficiários Proteção de espécies com estatuto – Superfície agrícola",null,1,"Nº ","Nº de Beneficiários Proteção de espécies com estatuto – Superfície agrícola",163]
["N_D_2_5",null,"N_D_2_5","(164) - Nº de Beneficiários Proteção de espécies com estatuto – Silvoambientais",null,1,"Nº ","Nº de Beneficiários Proteção de espécies com estatuto – Silvoambientais",164]
["N_M7_3_1",null,"N_M7_3_1","(165) - Nº de Beneficiários Rede Natura",null,1,"Nº ","Nº de Beneficiários Rede Natura",165]
["N_M9_M",null,"N_M9_E","(166) - Nº de Beneficiários Manutenção da atividade agrícola em zonas montanha",null,1,"Nº ","Nº de Beneficiários Manutenção da atividade agrícola em zonas montanha",166]
["N_M9_E",null,"N_M9_M","(167) - Nº de Beneficiários Manutenção da atividade agrícola em zonas específicas",null,1,"Nº ","Nº de Beneficiários Manutenção da atividade agrícola em zonas específicas",167]
["N_M9_O",null,"N_M9_O","(168) - Nº de Beneficiários Manutenção da atividade agrícola em outras zonas",null,1,"Nº ","Nº de Beneficiários Manutenção da atividade agrícola em outras zonas",168]

{"sheet":"Sheet3","index":7,"n_rows":31,"n_cols":122,"rows_kept":31,"cut":false,"hidden":true,"merged":[]}
[null,2,1,null,22,{"$f":"+INDEX(Sheet6!F2:F169,C1)","v":1}]
[1,{"$f":"+A2-1","v":0}]
[{"$f":"+INDEX(Sheet6!T1:T5,Sheet3!A2)","v":"<5"},null,{"$f":"SUM(I8:M8)","v":273},0,0,0,0,0,"1_1","1_1","1_1","1_1","1_1","1_2","1_2","1_2","1_2","1_2",2,2,2,2,2,3,3,3,3,3,4,4,4,4,4,5,5,5,5,5,6,6,6,6,6,7,7,7,7,7,8,8,8,8,8,9,9,9,9,9,"10_1","10_1","10_1","10_1","10_1","10_15","10_15","10_15","10_15","10_15","10_2","10_2","10_2","10_2","10_2",11,11,11,11,11,12,12,12,12,12,13,13,13,13,13,14,14,14,14,14,15,15,15,15,15,0,"1_1","1_2",2,3,4,5,6,7,8,9,"10_1","10_15","10_2",11,12,13,14,15,1,2,3,4,5]
[null,null,null,1,2,3,4,5,1,2,3,4,5,1,2,3,4,5,1,2,3,4,5,1,2,3,4,5,1,2,3,4,5,1,2,3,4,5,1,2,3,4,5,1,2,3,4,5,1,2,3,4,5,1,2,3,4,5,1,2,3,4,5,1,2,3,4,5,1,2,3,4,5,1,2,3,4,5,1,2,3,4,5,1,2,3,4,5,1,2,3,4,5,1,2,3,4,5,null,null,null,null,null,null,null,null,null,null,null,null,null,null,null,null,null,null,null,1,2,3,4,5]
[null,null,null,null,null,null,null,null,"Arvenses e Outras Cult pred. Regadio","Arvenses e Outras Cult pred. Regadio","Arvenses e Outras Cult pred. Regadio","Arvenses e Outras Cult pred. Regadio","Arvenses e Outras Cult pred. Regadio","Arvenses e Outras Cult pred. Sequeiro","Arvenses e Outras Cult pred. Sequeiro","Arvenses e Outras Cult pred. Sequeiro","Arvenses e Outras Cult pred. Sequeiro","Arvenses e Outras Cult pred. Sequeiro","Arroz","Arroz","Arroz","Arroz","Arroz","Horticultura e Industriais","Horticultura e Industriais","Horticultura e Industriais","Horticultura e Industriais","Horticultura e Industriais","Horticultura e Floricultura","Horticultura e Floricultura","Horticultura e Floricultura","Horticultura e Floricultura","Horticultura e Floricultura","Vinhos","Vinhos"]
[null,null,null,null,null,null,null,null,"Muito Pequenas","Pequenas","Médias","Grandes","Muito Grandes","Muito Pequenas","Pequenas","Médias","Grandes","Muito Grandes","Muito Pequenas","Pequenas","Médias","Grandes","Muito Grandes","Muito Pequenas","Pequenas","Médias","Grandes","Muito Grandes","Muito Pequenas","Pequenas","Médias","Grandes","Muito Grandes","Muito Pequenas","Pequenas"]
[null,null,"NUT'S III"]
[1,"111","Alto Minho",{"$f":"+SUMIFS(Sheet4!$FV$2:$FV$8408,Sheet4!$C$2:$C$8408,Sheet3!$B8,Sheet4!$D$2:$D$8408,Sheet3!D$3,Sheet4!$E$2:$E$8408,Sheet3!D$4,Sheet4!$A$2:$A$8408,Sheet3!$B$1,Sheet4!$B$2:$B$8408,Sheet3!$A$3)","v":3},{"$f":"+SUMIFS(Sheet4!$FV$2:$FV$8408,Sheet4!$C$2:$C$8408,Sheet3!$B8,Sheet4!$D$2:$D$8408,Sheet3!E$3,Sheet4!$E$2:$E$8408,Sheet3!E$4,Sheet4!$A$2:$A$8408,Sheet3!$B$1,Sheet4!$B$2:$B$8408,Sheet3!$A$3)","v":0},{"$f":"+SUMIFS(Sheet4!$FV$2:$FV$8408,Sheet4!$C$2:$C$8408,Sheet3!$B8,Sheet4!$D$2:$D$8408,Sheet3!F$3,Sheet4!$E$2:$E$8408,Sheet3!F$4,Sheet4!$A$2:$A$8408,Sheet3!$B$1,Sheet4!$B$2:$B$8408,Sheet3!$A$3)","v":0},{"$f":"+SUMIFS(Sheet4!$FV$2:$FV$8408,Sheet4!$C$2:$C$8408,Sheet3!$B8,Sheet4!$D$2:$D$8408,Sheet3!G$3,Sheet4!$E$2:$E$8408,Sheet3!G$4,Sheet4!$A$2:$A$8408,Sheet3!$B$1,Sheet4!$B$2:$B$8408,Sheet3!$A$3)","v":0},{"$f":"+SUMIFS(Sheet4!$FV$2:$FV$8408,Sheet4!$C$2:$C$8408,Sheet3!$B8,Sheet4!$D$2:$D$8408,Sheet3!H$3,Sheet4!$E$2:$E$8408,Sheet3!H$4,Sheet4!$A$2:$A$8408,Sheet3!$B$1,Sheet4!$B$2:$B$8408,Sheet3!$A$3)","v":0},{"$f":"+SUMIFS(Sheet4!$FV$2:$FV$8408,Sheet4!$C$2:$C$8408,Sheet3!$B8,Sheet4!$D$2:$D$8408,Sheet3!I$3,Sheet4!$E$2:$E$8408,Sheet3!I$4,Sheet4!$A$2:$A$8408,Sheet3!$B$1,Sheet4!$B$2:$B$8408,Sheet3!$A$3)","v":273},{"$f":"+SUMIFS(Sheet4!$FV$2:$FV$8408,Sheet4!$C$2:$C$8408,Sheet3!$B8,Sheet4!$D$2:$D$8408,Sheet3!J$3,Sheet4!$E$2:$E$8408,Sheet3!J$4,Sheet4!$A$2:$A$8408,Sheet3!$B$1,Sheet4!$B$2:$B$8408,Sheet3!$A$3)","v":0},{"$f":"+SUMIFS(Sheet4!$FV$2:$FV$8408,Sheet4!$C$2:$C$8408,Sheet3!$B8,Sheet4!$D$2:$D$8408,Sheet3!K$3,Sheet4!$E$2:$E$8408,Sheet3!K$4,Sheet4!$A$2:$A$8408,Sheet3!$B$1,Sheet4!$B$2:$B$8408,Sheet3!$A$3)","v":0},{"$f":"+SUMIFS(Sheet4!$FV$2:$FV$8408,Sheet4!$C$2:$C$8408,Sheet3!$B8,Sheet4!$D$2:$D$8408,Sheet3!L$3,Sheet4!$E$2:$E$8408,Sheet3!L$4,Sheet4!$A$2:$A$8408,Sheet3!$B$1,Sheet4!$B$2:$B$8408,Sheet3!$A$3)","v":0},{"$f":"+SUMIFS(Sheet4!$FV$2:$FV$8408,Sheet4!$C$2:$C$8408,Sheet3!$B8,Sheet4!$D$2:$D$8408,Sheet3!M$3,Sheet4!$E$2:$E$8408,Sheet3!M$4,Sheet4!$A$2:$A$8408,Sheet3!$B$1,Sheet4!$B$2:$B$8408,Sheet3!$A$3)","v":0},{"$f":"+SUMIFS(Sheet4!$FV$2:$FV$8408,Sheet4!$C$2:$C$8408,Sheet3!$B8,Sheet4!$D$2:$D$8408,Sheet3!N$3,Sheet4!$E$2:$E$8408,Sheet3!N$4,Sheet4!$A$2:$A$8408,Sheet3!$B$1,Sheet4!$B$2:$B$8408,Sheet3!$A$3)","v":107},{"$f":"+SUMIFS(Sheet4!$FV$2:$FV$8408,Sheet4!$C$2:$C$8408,Sheet3!$B8,Sheet4!$D$2:$D$8408,Sheet3!O$3,Sheet4!$E$2:$E$8408,Sheet3!O$4,Sheet4!$A$2:$A$8408,Sheet3!$B$1,Sheet4!$B$2:$B$8408,Sheet3!$A$3)","v":3},{"$f":"+SUMIFS(Sheet4!$FV$2:$FV$8408,Sheet4!$C$2:$C$8408,Sheet3!$B8,Sheet4!$D$2:$D$8408,Sheet3!P$3,Sheet4!$E$2:$E$8408,Sheet3!P$4,Sheet4!$A$2:$A$8408,Sheet3!$B$1,Sheet4!$B$2:$B$8408,Sheet3!$A$3)","v":0},{"$f":"+SUMIFS(Sheet4!$FV$2:$FV$8408,Sheet4!$C$2:$C$8408,Sheet3!$B8,Sheet4!$D$2:$D$8408,Sheet3!Q$3,Sheet4!$E$2:$E$8408,Sheet3!Q$4,Sheet4!$A$2:$A$8408,Sheet3!$B$1,Sheet4!$B$2:$B$8408,Sheet3!$A$3)","v":0},{"$f":"+SUMIFS(Sheet4!$FV$2:$FV$8408,Sheet4!$C$2:$C$8408,Sheet3!$B8,Sheet4!$D$2:$D$8408,Sheet3!R$3,Sheet4!$E$2:$E$8408,Sheet3!R$4,Sheet4!$A$2:$A$8408,Sheet3!$B$1,Sheet4!$B$2:$B$8408,Sheet3!$A$3)","v":0},{"$f":"+SUMIFS(Sheet4!$FV$2:$FV$8408,Sheet4!$C$2:$C$8408,Sheet3!$B8,Sheet4!$D$2:$D$8408,Sheet3!S$3,Sheet4!$E$2:$E$8408,Sheet3!S$4,Sheet4!$A$2:$A$8408,Sheet3!$B$1,Sheet4!$B$2:$B$8408,Sheet3!$A$3)","v":0},{"$f":"+SUMIFS(Sheet4!$FV$2:$FV$8408,Sheet4!$C$2:$C$8408,Sheet3!$B8,Sheet4!$D$2:$D$8408,Sheet3!T$3,Sheet4!$E$2:$E$8408,Sheet3!T$4,Sheet4!$A$2:$A$8408,Sheet3!$B$1,Sheet4!$B$2:$B$8408,Sheet3!$A$3)","v":0},{"$f":"+SUMIFS(Sheet4!$FV$2:$FV$8408,Sheet4!$C$2:$C$8408,Sheet3!$B8,Sheet4!$D$2:$D$8408,Sheet3!U$3,Sheet4!$E$2:$E$8408,Sheet3!U$4,Sheet4!$A$2:$A$8408,Sheet3!$B$1,Sheet4!$B$2:$B$8408,Sheet3!$A$3)","v":0},{"$f":"+SUMIFS(Sheet4!$FV$2:$FV$8408,Sheet4!$C$2:$C$8408,Sheet3!$B8,Sheet4!$D$2:$D$8408,Sheet3!V$3,Sheet4!$E$2:$E$8408,Sheet3!V$4,Sheet4!$A$2:$A$8408,Sheet3!$B$1,Sheet4!$B$2:$B$8408,Sheet3!$A$3)","v":0},{"$f":"+SUMIFS(Sheet4!$FV$2:$FV$8408,Sheet4!$C$2:$C$8408,Sheet3!$B8,Sheet4!$D$2:$D$8408,Sheet3!W$3,Sheet4!$E$2:$E$8408,Sheet3!W$4,Sheet4!$A$2:$A$8408,Sheet3!$B$1,Sheet4!$B$2:$B$8408,Sheet3!$A$3)","v":0},{"$f":"+SUMIFS(Sheet4!$FV$2:$FV$8408,Sheet4!$C$2:$C$8408,Sheet3!$B8,Sheet4!$D$2:$D$8408,Sheet3!X$3,Sheet4!$E$2:$E$8408,Sheet3!X$4,Sheet4!$A$2:$A$8408,Sheet3!$B$1,Sheet4!$B$2:$B$8408,Sheet3!$A$3)","v":0},{"$f":"+SUMIFS(Sheet4!$FV$2:$FV$8408,Sheet4!$C$2:$C$8408,Sheet3!$B8,Sheet4!$D$2:$D$8408,Sheet3!Y$3,Sheet4!$E$2:$E$8408,Sheet3!Y$4,Sheet4!$A$2:$A$8408,Sheet3!$B$1,Sheet4!$B$2:$B$8408,Sheet3!$A$3)","v":0},{"$f":"+SUMIFS(Sheet4!$FV$2:$FV$8408,Sheet4!$C$2:$C$8408,Sheet3!$B8,Sheet4!$D$2:$D$8408,Sheet3!Z$3,Sheet4!$E$2:$E$8408,Sheet3!Z$4,Sheet4!$A$2:$A$8408,Sheet3!$B$1,Sheet4!$B$2:$B$8408,Sheet3!$A$3)","v":0},{"$f":"+SUMIFS(Sheet4!$FV$2:$FV$8408,Sheet4!$C$2:$C$8408,Sheet3!$B8,Sheet4!$D$2:$D$8408,Sheet3!AA$3,Sheet4!$E$2:$E$8408,Sheet3!AA$4,Sheet4!$A$2:$A$8408,Sheet3!$B$1,Sheet4!$B$2:$B$8408,Sheet3!$A$3)","v":0},{"$f":"+SUMIFS(Sheet4!$FV$2:$FV$8408,Sheet4!$C$2:$C$8408,Sheet3!$B8,Sheet4!$D$2:$D$8408,Sheet3!AB$3,Sheet4!$E$2:$E$8408,Sheet3!AB$4,Sheet4!$A$2:$A$8408,Sheet3!$B$1,Sheet4!$B$2:$B$8408,Sheet3!$A$3)","v":0},{"$f":"+SUMIFS(Sheet4!$FV$2:$FV$8408,Sheet4!$C$2:$C$8408,Sheet3!$B8,Sheet4!$D$2:$D$8408,Sheet3!AC$3,Sheet4!$E$2:$E$8408,Sheet3!AC$4,Sheet4!$A$2:$A$8408,Sheet3!$B$1,Sheet4!$B$2:$B$8408,Sheet3!$A$3)","v":238},{"$f":"+SUMIFS(Sheet4!$FV$2:$FV$8408,Sheet4!$C$2:$C$8408,Sheet3!$B8,Sheet4!$D$2:$D$8408,Sheet3!AD$3,Sheet4!$E$2:$E$8408,Sheet3!AD$4,Sheet4!$A$2:$A$8408,Sheet3!$B$1,Sheet4!$B$2:$B$8408,Sheet3!$A$3)","v":7},{"$f":"+SUMIFS(Sheet4!$FV$2:$FV$8408,Sheet4!$C$2:$C$8408,Sheet3!$B8,Sheet4!$D$2:$D$8408,Sheet3!AE$3,Sheet4!$E$2:$E$8408,Sheet3!AE$4,Sheet4!$A$2:$A$8408,Sheet3!$B$1,Sheet4!$B$2:$B$8408,Sheet3!$A$3)","v":0},{"$f":"+SUMIFS(Sheet4!$FV$2:$FV$8408,Sheet4!$C$2:$C$8408,Sheet3!$B8,Sheet4!$D$2:$D$8408,Sheet3!AF$3,Sheet4!$E$2:$E$8408,Sheet3!AF$4,Sheet4!$A$2:$A$8408,Sheet3!$B$1,Sheet4!$B$2:$B$8408,Sheet3!$A$3)","v":0},{"$f":"+SUMIFS(Sheet4!$FV$2:$FV$8408,Sheet4!$C$2:$C$8408,Sheet3!$B8,Sheet4!$D$2:$D$8408,Sheet3!AG$3,Sheet4!$E$2:$E$8408,Sheet3!AG$4,Sheet4!$A$2:$A$8408,Sheet3!$B$1,Sheet4!$B$2:$B$8408,Sheet3!$A$3)","v":0},{"$f":"+SUMIFS(Sheet4!$FV$2:$FV$8408,Sheet4!$C$2:$C$8408,Sheet3!$B8,Sheet4!$D$2:$D$8408,Sheet3!AH$3,Sheet4!$E$2:$E$8408,Sheet3!AH$4,Sheet4!$A$2:$A$8408,Sheet3!$B$1,Sheet4!$B$2:$B$8408,Sheet3!$A$3)","v":712},{"$f":"+SUMIFS(Sheet4!$FV$2:$FV$8408,Sheet4!$C$2:$C$8408,Sheet3!$B8,Sheet4!$D$2:$D$8408,Sheet3!AI$3,Sheet4!$E$2:$E$8408,Sheet3!AI$4,Sheet4!$A$2:$A$8408,Sheet3!$B$1,Sheet4!$B$2:$B$8408,Sheet3!$A$3)","v":102},{"$f":"+SUMIFS(Sheet4!$FV$2:$FV$8408,Sheet4!$C$2:$C$8408,Sheet3!$B8,Sheet4!$D$2:$D$8408,Sheet3!AJ$3,Sheet4!$E$2:$E$8408,Sheet3!AJ$4,Sheet4!$A$2:$A$8408,Sheet3!$B$1,Sheet4!$B$2:$B$8408,Sheet3!$A$3)","v":7},{"$f":"+SUMIFS(Sheet4!$FV$2:$FV$8408,Sheet4!$C$2:$C$8408,Sheet3!$B8,Sheet4!$D$2:$D$8408,Sheet3!AK$3,Sheet4!$E$2:$E$8408,Sheet3!AK$4,Sheet4!$A$2:$A$8408,Sheet3!$B$1,Sheet4!$B$2:$B$8408,Sheet3!$A$3)","v":0},{"$f":"+SUMIFS(Sheet4!$FV$2:$FV$8408,Sheet4!$C$2:$C$8408,Sheet3!$B8,Sheet4!$D$2:$D$8408,Sheet3!AL$3,Sheet4!$E$2:$E$8408,Sheet3!AL$4,Sheet4!$A$2:$A$8408,Sheet3!$B$1,Sheet4!$B$2:$B$8408,Sheet3!$A$3)","v":0},{"$f":"+SUMIFS(Sheet4!$FV$2:$FV$8408,Sheet4!$C$2:$C$8408,Sheet3!$B8,Sheet4!$D$2:$D$8408,Sheet3!AM$3,Sheet4!$E$2:$E$8408,Sheet3!AM$4,Sheet4!$A$2:$A$8408,Sheet3!$B$1,Sheet4!$B$2:$B$8408,Sheet3!$A$3)","v":124},{"$f":"+SUMIFS(Sheet4!$FV$2:$FV$8408,Sheet4!$C$2:$C$8408,Sheet3!$B8,Sheet4!$D$2:$D$8408,Sheet3!AN$3,Sheet4!$E$2:$E$8408,Sheet3!AN$4,Sheet4!$A$2:$A$8408,Sheet3!$B$1,Sheet4!$B$2:$B$8408,Sheet3!$A$3)","v":17},{"$f":"+SUMIFS(Sheet4!$FV$2:$FV$8408,Sheet4!$C$2:$C$8408,Sheet3!$B8,Sheet4!$D$2:$D$8408,Sheet3!AO$3,Sheet4!$E$2:$E$8408,Sheet3!AO$4,Sheet4!$A$2:$A$8408,Sheet3!$B$1,Sheet4!$B$2:$B$8408,Sheet3!$A$3)","v":4},{"$f":"+SUMIFS(Sheet4!$FV$2:$FV$8408,Sheet4!$C$2:$C$8408,Sheet3!$B8,Sheet4!$D$2:$D$8408,Sheet3!AP$3,Sheet4!$E$2:$E$8408,Sheet3!AP$4,Sheet4!$A$2:$A$8408,Sheet3!$B$1,Sheet4!$B$2:$B$8408,Sheet3!$A$3)","v":0},{"$f":"+SUMIFS(Sheet4!$FV$2:$FV$8408,Sheet4!$C$2:$C$8408,Sheet3!$B8,Sheet4!$D$2:$D$8408,Sheet3!AQ$3,Sheet4!$E$2:$E$8408,Sheet3!AQ$4,Sheet4!$A$2:$A$8408,Sheet3!$B$1,Sheet4!$B$2:$B$8408,Sheet3!$A$3)","v":0},{"$f":"+SUMIFS(Sheet4!$FV$2:$FV$8408,Sheet4!$C$2:$C$8408,Sheet3!$B8,Sheet4!$D$2:$D$8408,Sheet3!AR$3,Sheet4!$E$2:$E$8408,Sheet3!AR$4,Sheet4!$A$2:$A$8408,Sheet3!$B$1,Sheet4!$B$2:$B$8408,Sheet3!$A$3)","v":0},{"$f":"+SUMIFS(Sheet4!$FV$2:$FV$8408,Sheet4!$C$2:$C$8408,Sheet3!$B8,Sheet4!$D$2:$D$8408,Sheet3!AS$3,Sheet4!$E$2:$E$8408,Sheet3!AS$4,Sheet4!$A$2:$A$8408,Sheet3!$B$1,Sheet4!$B$2:$B$8408,Sheet3!$A$3)","v":0},{"$f":"+SUMIFS(Sheet4!$FV$2:$FV$8408,Sheet4!$C$2:$C$8408,Sheet3!$B8,Sheet4!$D$2:$D$8408,Sheet3!AT$3,Sheet4!$E$2:$E$8408,Sheet3!AT$4,Sheet4!$A$2:$A$8408,Sheet3!$B$1,Sheet4!$B$2:$B$8408,Sheet3!$A$3)","v":0},{"$f":"+SUMIFS(Sheet4!$FV$2:$FV$8408,Sheet4!$C$2:$C$8408,Sheet3!$B8,Sheet4!$D$2:$D$8408,Sheet3!AU$3,Sheet4!$E$2:$E$8408,Sheet3!AU$4,Sheet4!$A$2:$A$8408,Sheet3!$B$1,Sheet4!$B$2:$B$8408,Sheet3!$A$3)","v":0},{"$f":"+SUMIFS(Sheet4!$FV$2:$FV$8408,Sheet4!$C$2:$C$8408,Sheet3!$B8,Sheet4!$D$2:$D$8408,Sheet3!AV$3,Sheet4!$E$2:$E$8408,Sheet3!AV$4,Sheet4!$A$2:$A$8408,Sheet3!$B$1,Sheet4!$B$2:$B$8408,Sheet3!$A$3)","v":0},{"$f":"+SUMIFS(Sheet4!$FV$2:$FV$8408,Sheet4!$C$2:$C$8408,Sheet3!$B8,Sheet4!$D$2:$D$8408,Sheet3!AW$3,Sheet4!$E$2:$E$8408,Sheet3!AW$4,Sheet4!$A$2:$A$8408,Sheet3!$B$1,Sheet4!$B$2:$B$8408,Sheet3!$A$3)","v":2151},{"$f":"+SUMIFS(Sheet4!$FV$2:$FV$8408,Sheet4!$C$2:$C$8408,Sheet3!$B8,Sheet4!$D$2:$D$8408,Sheet3!AX$3,Sheet4!$E$2:$E$8408,Sheet3!AX$4,Sheet4!$A$2:$A$8408,Sheet3!$B$1,Sheet4!$B$2:$B$8408,Sheet3!$A$3)","v":38},{"$f":"+SUMIFS(Sheet4!$FV$2:$FV$8408,Sheet4!$C$2:$C$8408,Sheet3!$B8,Sheet4!$D$2:$D$8408,Sheet3!AY$3,Sheet4!$E$2:$E$8408,Sheet3!AY$4,Sheet4!$A$2:$A$8408,Sheet3!$B$1,Sheet4!$B$2:$B$8408,Sheet3!$A$3)","v":0},{"$f":"+SUMIFS(Sheet4!$FV$2:$FV$8408,Sheet4!$C$2:$C$8408,Sheet3!$B8,Sheet4!$D$2:$D$8408,Sheet3!AZ$3,Sheet4!$E$2:$E$8408,Sheet3!AZ$4,Sheet4!$A$2:$A$8408,Sheet3!$B$1,Sheet4!$B$2:$B$8408,Sheet3!$A$3)","v":0},{"$f":"+SUMIFS(Sheet4!$FV$2:$FV$8408,Sheet4!$C$2:$C$8408,Sheet3!$B8,Sheet4!$D$2:$D$8408,Sheet3!BA$3,Sheet4!$E$2:$E$8408,Sheet3!BA$4,Sheet4!$A$2:$A$8408,Sheet3!$B$1,Sheet4!$B$2:$B$8408,Sheet3!$A$3)","v":0},{"$f":"+SUMIFS(Sheet4!$FV$2:$FV$8408,Sheet4!$C$2:$C$8408,Sheet3!$B8,Sheet4!$D$2:$D$8408,Sheet3!BB$3,Sheet4!$E$2:$E$8408,Sheet3!BB$4,Sheet4!$A$2:$A$8408,Sheet3!$B$1,Sheet4!$B$2:$B$8408,Sheet3!$A$3)","v":5},{"$f":"+SUMIFS(Sheet4!$FV$2:$FV$8408,Sheet4!$C$2:$C$8408,Sheet3!$B8,Sheet4!$D$2:$D$8408,Sheet3!BC$3,Sheet4!$E$2:$E$8408,Sheet3!BC$4,Sheet4!$A$2:$A$8408,Sheet3!$B$1,Sheet4!$B$2:$B$8408,Sheet3!$A$3)","v":40},{"$f":"+SUMIFS(Sheet4!$FV$2:$FV$8408,Sheet4!$C$2:$C$8408,Sheet3!$B8,Sheet4!$D$2:$D$8408,Sheet3!BD$3,Sheet4!$E$2:$E$8408,Sheet3!BD$4,Sheet4!$A$2:$A$8408,Sheet3!$B$1,Sheet4!$B$2:$B$8408,Sheet3!$A$3)","v":9},{"$f":"+SUMIFS(Sheet4!$FV$2:$FV$8408,Sheet4!$C$2:$C$8408,Sheet3!$B8,Sheet4!$D$2:$D$8408,Sheet3!BE$3,Sheet4!$E$2:$E$8408,Sheet3!BE$4,Sheet4!$A$2:$A$8408,Sheet3!$B$1,Sheet4!$B$2:$B$8408,Sheet3!$A$3)","v":0},{"$f":"+SUMIFS(Sheet4!$FV$2:$FV$8408,Sheet4!$C$2:$C$8408,Sheet3!$B8,Sheet4!$D$2:$D$8408,Sheet3!BF$3,Sheet4!$E$2:$E$8408,Sheet3!BF$4,Sheet4!$A$2:$A$8408,Sheet3!$B$1,Sheet4!$B$2:$B$8408,Sheet3!$A$3)","v":0},{"$f":"+SUMIFS(Sheet4!$FV$2:$FV$8408,Sheet4!$C$2:$C$8408,Sheet3!$B8,Sheet4!$D$2:$D$8408,Sheet3!BG$3,Sheet4!$E$2:$E$8408,Sheet3!BG$4,Sheet4!$A$2:$A$8408,Sheet3!$B$1,Sheet4!$B$2:$B$8408,Sheet3!$A$3)","v":332},{"$f":"+SUMIFS(Sheet4!$FV$2:$FV$8408,Sheet4!$C$2:$C$8408,Sheet3!$B8,Sheet4!$D$2:$D$8408,Sheet3!BH$3,Sheet4!$E$2:$E$8408,Sheet3!BH$4,Sheet4!$A$2:$A$8408,Sheet3!$B$1,Sheet4!$B$2:$B$8408,Sheet3!$A$3)","v":169},{"$f":"+SUMIFS(Sheet4!$FV$2:$FV$8408,Sheet4!$C$2:$C$8408,Sheet3!$B8,Sheet4!$D$2:$D$8408,Sheet3!BI$3,Sheet4!$E$2:$E$8408,Sheet3!BI$4,Sheet4!$A$2:$A$8408,Sheet3!$B$1,Sheet4!$B$2:$B$8408,Sheet3!$A$3)","v":15},{"$f":"+SUMIFS(Sheet4!$FV$2:$FV$8408,Sheet4!$C$2:$C$8408,Sheet3!$B8,Sheet4!$D$2:$D$8408,Sheet3!BJ$3,Sheet4!$E$2:$E$8408,Sheet3!BJ$4,Sheet4!$A$2:$A$8408,Sheet3!$B$1,Sheet4!$B$2:$B$8408,Sheet3!$A$3)","v":0},{"$f":"+SUMIFS(Sheet4!$FV$2:$FV$8408,Sheet4!$C$2:$C$8408,Sheet3!$B8,Sheet4!$D$2:$D$8408,Sheet3!BK$3,Sheet4!$E$2:$E$8408,Sheet3!BK$4,Sheet4!$A$2:$A$8408,Sheet3!$B$1,Sheet4!$B$2:$B$8408,Sheet3!$A$3)","v":0},{"$f":"+SUMIFS(Sheet4!$FV$2:$FV$8408,Sheet4!$C$2:$C$8408,Sheet3!$B8,Sheet4!$D$2:$D$8408,Sheet3!BL$3,Sheet4!$E$2:$E$8408,Sheet3!BL$4,Sheet4!$A$2:$A$8408,Sheet3!$B$1,Sheet4!$B$2:$B$8408,Sheet3!$A$3)","v":108},{"$f":"+SUMIFS(Sheet4!$FV$2:$FV$8408,Sheet4!$C$2:$C$8408,Sheet3!$B8,Sheet4!$D$2:$D$8408,Sheet3!BM$3,Sheet4!$E$2:$E$8408,Sheet3!BM$4,Sheet4!$A$2:$A$8408,Sheet3!$B$1,Sheet4!$B$2:$B$8408,Sheet3!$A$3)","v":17},{"$f":"+SUMIFS(Sheet4!$FV$2:$FV$8408,Sheet4!$C$2:$C$8408,Sheet3!$B8,Sheet4!$D$2:$D$8408,Sheet3!BN$3,Sheet4!$E$2:$E$8408,Sheet3!BN$4,Sheet4!$A$2:$A$8408,Sheet3!$B$1,Sheet4!$B$2:$B$8408,Sheet3!$A$3)","v":0},{"$f":"+SUMIFS(Sheet4!$FV$2:$FV$8408,Sheet4!$C$2:$C$8408,Sheet3!$B8,Sheet4!$D$2:$D$8408,Sheet3!BO$3,Sheet4!$E$2:$E$8408,Sheet3!BO$4,Sheet4!$A$2:$A$8408,Sheet3!$B$1,Sheet4!$B$2:$B$8408,Sheet3!$A$3)","v":0},{"$f":"+SUMIFS(Sheet4!$FV$2:$FV$8408,Sheet4!$C$2:$C$8408,Sheet3!$B8,Sheet4!$D$2:$D$8408,Sheet3!BP$3,Sheet4!$E$2:$E$8408,Sheet3!BP$4,Sheet4!$A$2:$A$8408,Sheet3!$B$1,Sheet4!$B$2:$B$8408,Sheet3!$A$3)","v":0},{"$f":"+SUMIFS(Sheet4!$FV$2:$FV$8408,Sheet4!$C$2:$C$8408,Sheet3!$B8,Sheet4!$D$2:$D$8408,Sheet3!BQ$3,Sheet4!$E$2:$E$8408,Sheet3!BQ$4,Sheet4!$A$2:$A$8408,Sheet3!$B$1,Sheet4!$B$2:$B$8408,Sheet3!$A$3)","v":355},{"$f":"+SUMIFS(Sheet4!$FV$2:$FV$8408,Sheet4!$C$2:$C$8408,Sheet3!$B8,Sheet4!$D$2:$D$8408,Sheet3!BR$3,Sheet4!$E$2:$E$8408,Sheet3!BR$4,Sheet4!$A$2:$A$8408,Sheet3!$B$1,Sheet4!$B$2:$B$8408,Sheet3!$A$3)","v":267},{"$f":"+SUMIFS(Sheet4!$FV$2:$FV$8408,Sheet4!$C$2:$C$8408,Sheet3!$B8,Sheet4!$D$2:$D$8408,Sheet3!BS$3,Sheet4!$E$2:$E$8408,Sheet3!BS$4,Sheet4!$A$2:$A$8408,Sheet3!$B$1,Sheet4!$B$2:$B$8408,Sheet3!$A$3)","v":53},{"$f":"+SUMIFS(Sheet4!$FV$2:$FV$8408,Sheet4!$C$2:$C$8408,Sheet3!$B8,Sheet4!$D$2:$D$8408,Sheet3!BT$3,Sheet4!$E$2:$E$8408,Sheet3!BT$4,Sheet4!$A$2:$A$8408,Sheet3!$B$1,Sheet4!$B$2:$B$8408,Sheet3!$A$3)","v":9},{"$f":"+SUMIFS(Sheet4!$FV$2:$FV$8408,Sheet4!$C$2:$C$8408,Sheet3!$B8,Sheet4!$D$2:$D$8408,Sheet3!BU$3,Sheet4!$E$2:$E$8408,Sheet3!BU$4,Sheet4!$A$2:$A$8408,Sheet3!$B$1,Sheet4!$B$2:$B$8408,Sheet3!$A$3)","v":0},{"$f":"+SUMIFS(Sheet4!$FV$2:$FV$8408,Sheet4!$C$2:$C$8408,Sheet3!$B8,Sheet4!$D$2:$D$8408,Sheet3!BV$3,Sheet4!$E$2:$E$8408,Sheet3!BV$4,Sheet4!$A$2:$A$8408,Sheet3!$B$1,Sheet4!$B$2:$B$8408,Sheet3!$A$3)","v":1017},{"$f":"+SUMIFS(Sheet4!$FV$2:$FV$8408,Sheet4!$C$2:$C$8408,Sheet3!$B8,Sheet4!$D$2:$D$8408,Sheet3!BW$3,Sheet4!$E$2:$E$8408,Sheet3!BW$4,Sheet4!$A$2:$A$8408,Sheet3!$B$1,Sheet4!$B$2:$B$8408,Sheet3!$A$3)","v":184},{"$f":"+SUMIFS(Sheet4!$FV$2:$FV$8408,Sheet4!$C$2:$C$8408,Sheet3!$B8,Sheet4!$D$2:$D$8408,Sheet3!BX$3,Sheet4!$E$2:$E$8408,Sheet3!BX$4,Sheet4!$A$2:$A$8408,Sheet3!$B$1,Sheet4!$B$2:$B$8408,Sheet3!$A$3)","v":10},{"$f":"+SUMIFS(Sheet4!$FV$2:$FV$8408,Sheet4!$C$2:$C$8408,Sheet3!$B8,Sheet4!$D$2:$D$8408,Sheet3!BY$3,Sheet4!$E$2:$E$8408,Sheet3!BY$4,Sheet4!$A$2:$A$8408,Sheet3!$B$1,Sheet4!$B$2:$B$8408,Sheet3!$A$3)","v":0},{"$f":"+SUMIFS(Sheet4!$FV$2:$FV$8408,Sheet4!$C$2:$C$8408,Sheet3!$B8,Sheet4!$D$2:$D$8408,Sheet3!BZ$3,Sheet4!$E$2:$E$8408,Sheet3!BZ$4,Sheet4!$A$2:$A$8408,Sheet3!$B$1,Sheet4!$B$2:$B$8408,Sheet3!$A$3)","v":0},{"$f":"+SUMIFS(Sheet4!$FV$2:$FV$8408,Sheet4!$C$2:$C$8408,Sheet3!$B8,Sheet4!$D$2:$D$8408,Sheet3!CA$3,Sheet4!$E$2:$E$8408,Sheet3!CA$4,Sheet4!$A$2:$A$8408,Sheet3!$B$1,Sheet4!$B$2:$B$8408,Sheet3!$A$3)","v":989},{"$f":"+SUMIFS(Sheet4!$FV$2:$FV$8408,Sheet4!$C$2:$C$8408,Sheet3!$B8,Sheet4!$D$2:$D$8408,Sheet3!CB$3,Sheet4!$E$2:$E$8408,Sheet3!CB$4,Sheet4!$A$2:$A$8408,Sheet3!$B$1,Sheet4!$B$2:$B$8408,Sheet3!$A$3)","v":49},{"$f":"+SUMIFS(Sheet4!$FV$2:$FV$8408,Sheet4!$C$2:$C$8408,Sheet3!$B8,Sheet4!$D$2:$D$8408,Sheet3!CC$3,Sheet4!$E$2:$E$8408,Sheet3!CC$4,Sheet4!$A$2:$A$8408,Sheet3!$B$1,Sheet4!$B$2:$B$8408,Sheet3!$A$3)","v":0},{"$f":"+SUMIFS(Sheet4!$FV$2:$FV$8408,Sheet4!$C$2:$C$8408,Sheet3!$B8,Sheet4!$D$2:$D$8408,Sheet3!CD$3,Sheet4!$E$2:$E$8408,Sheet3!CD$4,Sheet4!$A$2:$A$8408,Sheet3!$B$1,Sheet4!$B$2:$B$8408,Sheet3!$A$3)","v":0},{"$f":"+SUMIFS(Sheet4!$FV$2:$FV$8408,Sheet4!$C$2:$C$8408,Sheet3!$B8,Sheet4!$D$2:$D$8408,Sheet3!CE$3,Sheet4!$E$2:$E$8408,Sheet3!CE$4,Sheet4!$A$2:$A$8408,Sheet3!$B$1,Sheet4!$B$2:$B$8408,Sheet3!$A$3)","v":0},{"$f":"+SUMIFS(Sheet4!$FV$2:$FV$8408,Sheet4!$C$2:$C$8408,Sheet3!$B8,Sheet4!$D$2:$D$8408,Sheet3!CF$3,Sheet4!$E$2:$E$8408,Sheet3!CF$4,Sheet4!$A$2:$A$8408,Sheet3!$B$1,Sheet4!$B$2:$B$8408,Sheet3!$A$3)","v":314},{"$f":"+SUMIFS(Sheet4!$FV$2:$FV$8408,Sheet4!$C$2:$C$8408,Sheet3!$B8,Sheet4!$D$2:$D$8408,Sheet3!CG$3,Sheet4!$E$2:$E$8408,Sheet3!CG$4,Sheet4!$A$2:$A$8408,Sheet3!$B$1,Sheet4!$B$2:$B$8408,Sheet3!$A$3)","v":14},{"$f":"+SUMIFS(Sheet4!$FV$2:$FV$8408,Sheet4!$C$2:$C$8408,Sheet3!$B8,Sheet4!$D$2:$D$8408,Sheet3!CH$3,Sheet4!$E$2:$E$8408,Sheet3!CH$4,Sheet4!$A$2:$A$8408,Sheet3!$B$1,Sheet4!$B$2:$B$8408,Sheet3!$A$3)","v":0},{"$f":"+SUMIFS(Sheet4!$FV$2:$FV$8408,Sheet4!$C$2:$C$8408,Sheet3!$B8,Sheet4!$D$2:$D$8408,Sheet3!CI$3,Sheet4!$E$2:$E$8408,Sheet3!CI$4,Sheet4!$A$2:$A$8408,Sheet3!$B$1,Sheet4!$B$2:$B$8408,Sheet3!$A$3)","v":0},{"$f":"+SUMIFS(Sheet4!$FV$2:$FV$8408,Sheet4!$C$2:$C$8408,Sheet3!$B8,Sheet4!$D$2:$D$8408,Sheet3!CJ$3,Sheet4!$E$2:$E$8408,Sheet3!CJ$4,Sheet4!$A$2:$A$8408,Sheet3!$B$1,Sheet4!$B$2:$B$8408,Sheet3!$A$3)","v":0},{"$f":"+SUMIFS(Sheet4!$FV$2:$FV$8408,Sheet4!$C$2:$C$8408,Sheet3!$B8,Sheet4!$D$2:$D$8408,Sheet3!CK$3,Sheet4!$E$2:$E$8408,Sheet3!CK$4,Sheet4!$A$2:$A$8408,Sheet3!$B$1,Sheet4!$B$2:$B$8408,Sheet3!$A$3)","v":0},{"$f":"+SUMIFS(Sheet4!$FV$2:$FV$8408,Sheet4!$C$2:$C$8408,Sheet3!$B8,Sheet4!$D$2:$D$8408,Sheet3!CL$3,Sheet4!$E$2:$E$8408,Sheet3!CL$4,Sheet4!$A$2:$A$8408,Sheet3!$B$1,Sheet4!$B$2:$B$8408,Sheet3!$A$3)","v":0},{"$f":"+SUMIFS(Sheet4!$FV$2:$FV$8408,Sheet4!$C$2:$C$8408,Sheet3!$B8,Sheet4!$D$2:$D$8408,Sheet3!CM$3,Sheet4!$E$2:$E$8408,Sheet3!CM$4,Sheet4!$A$2:$A$8408,Sheet3!$B$1,Sheet4!$B$2:$B$8408,Sheet3!$A$3)","v":0},{"$f":"+SUMIFS(Sheet4!$FV$2:$FV$8408,Sheet4!$C$2:$C$8408,Sheet3!$B8,Sheet4!$D$2:$D$8408,Sheet3!CN$3,Sheet4!$E$2:$E$8408,Sheet3!CN$4,Sheet4!$A$2:$A$8408,Sheet3!$B$1,Sheet4!$B$2:$B$8408,Sheet3!$A$3)","v":0},{"$f":"+SUMIFS(Sheet4!$FV$2:$FV$8408,Sheet4!$C$2:$C$8408,Sheet3!$B8,Sheet4!$D$2:$D$8408,Sheet3!CO$3,Sheet4!$E$2:$E$8408,Sheet3!CO$4,Sheet4!$A$2:$A$8408,Sheet3!$B$1,Sheet4!$B$2:$B$8408,Sheet3!$A$3)","v":0},{"$f":"+SUMIFS(Sheet4!$FV$2:$FV$8408,Sheet4!$C$2:$C$8408,Sheet3!$B8,Sheet4!$D$2:$D$8408,Sheet3!CP$3,Sheet4!$E$2:$E$8408,Sheet3!CP$4,Sheet4!$A$2:$A$8408,Sheet3!$B$1,Sheet4!$B$2:$B$8408,Sheet3!$A$3)","v":0},{"$f":"+SUMIFS(Sheet4!$FV$2:$FV$8408,Sheet4!$C$2:$C$8408,Sheet3!$B8,Sheet4!$D$2:$D$8408,Sheet3!CQ$3,Sheet4!$E$2:$E$8408,Sheet3!CQ$4,Sheet4!$A$2:$A$8408,Sheet3!$B$1,Sheet4!$B$2:$B$8408,Sheet3!$A$3)","v":0},{"$f":"+SUMIFS(Sheet4!$FV$2:$FV$8408,Sheet4!$C$2:$C$8408,Sheet3!$B8,Sheet4!$D$2:$D$8408,Sheet3!CR$3,Sheet4!$E$2:$E$8408,Sheet3!CR$4,Sheet4!$A$2:$A$8408,Sheet3!$B$1,Sheet4!$B$2:$B$8408,Sheet3!$A$3)","v":0},{"$f":"+SUMIFS(Sheet4!$FV$2:$FV$8408,Sheet4!$C$2:$C$8408,Sheet3!$B8,Sheet4!$D$2:$D$8408,Sheet3!CS$3,Sheet4!$E$2:$E$8408,Sheet3!CS$4,Sheet4!$A$2:$A$8408,Sheet3!$B$1,Sheet4!$B$2:$B$8408,Sheet3!$A$3)","v":0},{"$f":"+SUMIFS(Sheet4!$FV$2:$FV$8408,Sheet4!$C$2:$C$8408,Sheet3!$B8,Sheet4!$D$2:$D$8408,Sheet3!CT$3,Sheet4!$E$2:$E$8408,Sheet3!CT$4,Sheet4!$A$2:$A$8408,Sheet3!$B$1,Sheet4!$B$2:$B$8408,Sheet3!$A$3)","v":0},{"$f":"+IF(SUMIFS(Sheet4!$FW$2:$FW$8408,Sheet4!$C$2:$C$8408,Sheet3!$B8,Sheet4!$D$2:$D$8408,Sheet3!CU$3,Sheet4!$A$2:$A$8408,Sheet3!$B$1,Sheet4!$B$2:$B$8408,Sheet3!$A$3)<3,0,SUMIFS(Sheet4!$FW$2:$FW$8408,Sheet4!$C$2:$C$8408,Sheet3!$B8,Sheet4!$D$2:$D$8408,Sheet3!CU$3,Sheet4!$A$2:$A$8408,Sheet3!$B$1,Sheet4!$B$2:$B$8408,Sheet3!$A$3))","v":5},{"$f":"+IF(SUMIFS(Sheet4!$FW$2:$FW$8408,Sheet4!$C$2:$C$8408,Sheet3!$B8,Sheet4!$D$2:$D$8408,Sheet3!CV$3,Sheet4!$A$2:$A$8408,Sheet3!$B$1,Sheet4!$B$2:$B$8408,Sheet3!$A$3)<3,0,SUMIFS(Sheet4!$FW$2:$FW$8408,Sheet4!$C$2:$C$8408,Sheet3!$B8,Sheet4!$D$2:$D$8408,Sheet3!CV$3,Sheet4!$A$2:$A$8408,Sheet3!$B$1,Sheet4!$B$2:$B$8408,Sheet3!$A$3))","v":276},{"$f":"+IF(SUMIFS(Sheet4!$FW$2:$FW$8408,Sheet4!$C$2:$C$8408,Sheet3!$B8,Sheet4!$D$2:$D$8408,Sheet3!CW$3,Sheet4!$A$2:$A$8408,Sheet3!$B$1,Sheet4!$B$2:$B$8408,Sheet3!$A$3)<3,0,SUMIFS(Sheet4!$FW$2:$FW$8408,Sheet4!$C$2:$C$8408,Sheet3!$B8,Sheet4!$D$2:$D$8408,Sheet3!CW$3,Sheet4!$A$2:$A$8408,Sheet3!$B$1,Sheet4!$B$2:$B$8408,Sheet3!$A$3))","v":112},{"$f":"+IF(SUMIFS(Sheet4!$FW$2:$FW$8408,Sheet4!$C$2:$C$8408,Sheet3!$B8,Sheet4!$D$2:$D$8408,Sheet3!CX$3,Sheet4!$A$2:$A$8408,Sheet3!$B$1,Sheet4!$B$2:$B$8408,Sheet3!$A$3)<3,0,SUMIFS(Sheet4!$FW$2:$FW$8408,Sheet4!$C$2:$C$8408,Sheet3!$B8,Sheet4!$D$2:$D$8408,Sheet3!CX$3,Sheet4!$A$2:$A$8408,Sheet3!$B$1,Sheet4!$B$2:$B$8408,Sheet3!$A$3))","v":0},{"$f":"+IF(SUMIFS(Sheet4!$FW$2:$FW$8408,Sheet4!$C$2:$C$8408,Sheet3!$B8,Sheet4!$D$2:$D$8408,Sheet3!CY$3,Sheet4!$A$2:$A$8408,Sheet3!$B$1,Sheet4!$B$2:$B$8408,Sheet3!$A$3)<3,0,SUMIFS(Sheet4!$FW$2:$FW$8408,Sheet4!$C$2:$C$8408,Sheet3!$B8,Sheet4!$D$2:$D$8408,Sheet3!CY$3,Sheet4!$A$2:$A$8408,Sheet3!$B$1,Sheet4!$B$2:$B$8408,Sheet3!$A$3))","v":0},{"$f":"+IF(SUMIFS(Sheet4!$FW$2:$FW$8408,Sheet4!$C$2:$C$8408,Sheet3!$B8,Sheet4!$D$2:$D$8408,Sheet3!CZ$3,Sheet4!$A$2:$A$8408,Sheet3!$B$1,Sheet4!$B$2:$B$8408,Sheet3!$A$3)<3,0,SUMIFS(Sheet4!$FW$2:$FW$8408,Sheet4!$C$2:$C$8408,Sheet3!$B8,Sheet4!$D$2:$D$8408,Sheet3!CZ$3,Sheet4!$A$2:$A$8408,Sheet3!$B$1,Sheet4!$B$2:$B$8408,Sheet3!$A$3))","v":249},{"$f":"+IF(SUMIFS(Sheet4!$FW$2:$FW$8408,Sheet4!$C$2:$C$8408,Sheet3!$B8,Sheet4!$D$2:$D$8408,Sheet3!DA$3,Sheet4!$A$2:$A$8408,Sheet3!$B$1,Sheet4!$B$2:$B$8408,Sheet3!$A$3)<3,0,SUMIFS(Sheet4!$FW$2:$FW$8408,Sheet4!$C$2:$C$8408,Sheet3!$B8,Sheet4!$D$2:$D$8408,Sheet3!DA$3,Sheet4!$A$2:$A$8408,Sheet3!$B$1,Sheet4!$B$2:$B$8408,Sheet3!$A$3))","v":824},{"$f":"+IF(SUMIFS(Sheet4!$FW$2:$FW$8408,Sheet4!$C$2:$C$8408,Sheet3!$B8,Sheet4!$D$2:$D$8408,Sheet3!DB$3,Sheet4!$A$2:$A$8408,Sheet3!$B$1,Sheet4!$B$2:$B$8408,Sheet3!$A$3)<3,0,SUMIFS(Sheet4!$FW$2:$FW$8408,Sheet4!$C$2:$C$8408,Sheet3!$B8,Sheet4!$D$2:$D$8408,Sheet3!DB$3,Sheet4!$A$2:$A$8408,Sheet3!$B$1,Sheet4!$B$2:$B$8408,Sheet3!$A$3))","v":147},{"$f":"+IF(SUMIFS(Sheet4!$FW$2:$FW$8408,Sheet4!$C$2:$C$8408,Sheet3!$B8,Sheet4!$D$2:$D$8408,Sheet3!DC$3,Sheet4!$A$2:$A$8408,Sheet3!$B$1,Sheet4!$B$2:$B$8408,Sheet3!$A$3)<3,0,SUMIFS(Sheet4!$FW$2:$FW$8408,Sheet4!$C$2:$C$8408,Sheet3!$B8,Sheet4!$D$2:$D$8408,Sheet3!DC$3,Sheet4!$A$2:$A$8408,Sheet3!$B$1,Sheet4!$B$2:$B$8408,Sheet3!$A$3))","v":0},{"$f":"+IF(SUMIFS(Sheet4!$FW$2:$FW$8408,Sheet4!$C$2:$C$8408,Sheet3!$B8,Sheet4!$D$2:$D$8408,Sheet3!DD$3,Sheet4!$A$2:$A$8408,Sheet3!$B$1,Sheet4!$B$2:$B$8408,Sheet3!$A$3)<3,0,SUMIFS(Sheet4!$FW$2:$FW$8408,Sheet4!$C$2:$C$8408,Sheet3!$B8,Sheet4!$D$2:$D$8408,Sheet3!DD$3,Sheet4!$A$2:$A$8408,Sheet3!$B$1,Sheet4!$B$2:$B$8408,Sheet3!$A$3))","v":2193},{"$f":"+IF(SUMIFS(Sheet4!$FW$2:$FW$8408,Sheet4!$C$2:$C$8408,Sheet3!$B8,Sheet4!$D$2:$D$8408,Sheet3!DE$3,Sheet4!$A$2:$A$8408,Sheet3!$B$1,Sheet4!$B$2:$B$8408,Sheet3!$A$3)<3,0,SUMIFS(Sheet4!$FW$2:$FW$8408,Sheet4!$C$2:$C$8408,Sheet3!$B8,Sheet4!$D$2:$D$8408,Sheet3!DE$3,Sheet4!$A$2:$A$8408,Sheet3!$B$1,Sheet4!$B$2:$B$8408,Sheet3!$A$3))","v":57},{"$f":"+IF(SUMIFS(Sheet4!$FW$2:$FW$8408,Sheet4!$C$2:$C$8408,Sheet3!$B8,Sheet4!$D$2:$D$8408,Sheet3!DF$3,Sheet4!$A$2:$A$8408,Sheet3!$B$1,Sheet4!$B$2:$B$8408,Sheet3!$A$3)<3,0,SUMIFS(Sheet4!$FW$2:$FW$8408,Sheet4!$C$2:$C$8408,Sheet3!$B8,Sheet4!$D$2:$D$8408,Sheet3!DF$3,Sheet4!$A$2:$A$8408,Sheet3!$B$1,Sheet4!$B$2:$B$8408,Sheet3!$A$3))","v":517},{"$f":"+IF(SUMIFS(Sheet4!$FW$2:$FW$8408,Sheet4!$C$2:$C$8408,Sheet3!$B8,Sheet4!$D$2:$D$8408,Sheet3!DG$3,Sheet4!$A$2:$A$8408,Sheet3!$B$1,Sheet4!$B$2:$B$8408,Sheet3!$A$3)<3,0,SUMIFS(Sheet4!$FW$2:$FW$8408,Sheet4!$C$2:$C$8408,Sheet3!$B8,Sheet4!$D$2:$D$8408,Sheet3!DG$3,Sheet4!$A$2:$A$8408,Sheet3!$B$1,Sheet4!$B$2:$B$8408,Sheet3!$A$3))","v":127},{"$f":"+IF(SUMIFS(Sheet4!$FW$2:$FW$8408,Sheet4!$C$2:$C$8408,Sheet3!$B8,Sheet4!$D$2:$D$8408,Sheet3!DH$3,Sheet4!$A$2:$A$8408,Sheet3!$B$1,Sheet4!$B$2:$B$8408,Sheet3!$A$3)<3,0,SUMIFS(Sheet4!$FW$2:$FW$8408,Sheet4!$C$2:$C$8408,Sheet3!$B8,Sheet4!$D$2:$D$8408,Sheet3!DH$3,Sheet4!$A$2:$A$8408,Sheet3!$B$1,Sheet4!$B$2:$B$8408,Sheet3!$A$3))","v":685},{"$f":"+IF(SUMIFS(Sheet4!$FW$2:$FW$8408,Sheet4!$C$2:$C$8408,Sheet3!$B8,Sheet4!$D$2:$D$8408,Sheet3!DI$3,Sheet4!$A$2:$A$8408,Sheet3!$B$1,Sheet4!$B$2:$B$8408,Sheet3!$A$3)<3,0,SUMIFS(Sheet4!$FW$2:$FW$8408,Sheet4!$C$2:$C$8408,Sheet3!$B8,Sheet4!$D$2:$D$8408,Sheet3!DI$3,Sheet4!$A$2:$A$8408,Sheet3!$B$1,Sheet4!$B$2:$B$8408,Sheet3!$A$3))","v":1214},{"$f":"+IF(SUMIFS(Sheet4!$FW$2:$FW$8408,Sheet4!$C$2:$C$8408,Sheet3!$B8,Sheet4!$D$2:$D$8408,Sheet3!DJ$3,Sheet4!$A$2:$A$8408,Sheet3!$B$1,Sheet4!$B$2:$B$8408,Sheet3!$A$3)<3,0,SUMIFS(Sheet4!$FW$2:$FW$8408,Sheet4!$C$2:$C$8408,Sheet3!$B8,Sheet4!$D$2:$D$8408,Sheet3!DJ$3,Sheet4!$A$2:$A$8408,Sheet3!$B$1,Sheet4!$B$2:$B$8408,Sheet3!$A$3))","v":1040},{"$f":"+IF(SUMIFS(Sheet4!$FW$2:$FW$8408,Sheet4!$C$2:$C$8408,Sheet3!$B8,Sheet4!$D$2:$D$8408,Sheet3!DK$3,Sheet4!$A$2:$A$8408,Sheet3!$B$1,Sheet4!$B$2:$B$8408,Sheet3!$A$3)<3,0,SUMIFS(Sheet4!$FW$2:$FW$8408,Sheet4!$C$2:$C$8408,Sheet3!$B8,Sheet4!$D$2:$D$8408,Sheet3!DK$3,Sheet4!$A$2:$A$8408,Sheet3!$B$1,Sheet4!$B$2:$B$8408,Sheet3!$A$3))","v":331},{"$f":"+IF(SUMIFS(Sheet4!$FW$2:$FW$8408,Sheet4!$C$2:$C$8408,Sheet3!$B8,Sheet4!$D$2:$D$8408,Sheet3!DL$3,Sheet4!$A$2:$A$8408,Sheet3!$B$1,Sheet4!$B$2:$B$8408,Sheet3!$A$3)<3,0,SUMIFS(Sheet4!$FW$2:$FW$8408,Sheet4!$C$2:$C$8408,Sheet3!$B8,Sheet4!$D$2:$D$8408,Sheet3!DL$3,Sheet4!$A$2:$A$8408,Sheet3!$B$1,Sheet4!$B$2:$B$8408,Sheet3!$A$3))","v":0},{"$f":"+IF(SUMIFS(Sheet4!$FW$2:$FW$8408,Sheet4!$C$2:$C$8408,Sheet3!$B8,Sheet4!$D$2:$D$8408,Sheet3!DM$3,Sheet4!$A$2:$A$8408,Sheet3!$B$1,Sheet4!$B$2:$B$8408,Sheet3!$A$3)<3,0,SUMIFS(Sheet4!$FW$2:$FW$8408,Sheet4!$C$2:$C$8408,Sheet3!$B8,Sheet4!$D$2:$D$8408,Sheet3!DM$3,Sheet4!$A$2:$A$8408,Sheet3!$B$1,Sheet4!$B$2:$B$8408,Sheet3!$A$3))","v":3},{"$f":"+IF(SUMIFS(Sheet4!$FW$2:$FW$8408,Sheet4!$C$2:$C$8408,Sheet3!$B8,Sheet4!$E$2:$E$8408,Sheet3!DN$4,Sheet4!$A$2:$A$8408,Sheet3!$B$1,Sheet4!$B$2:$B$8408,Sheet3!$A$3)<3,0,SUMIFS(Sheet4!$FW$2:$FW$8408,Sheet4!$C$2:$C$8408,Sheet3!$B8,Sheet4!$E$2:$E$8408,Sheet3!DN$4,Sheet4!$A$2:$A$8408,Sheet3!$B$1,Sheet4!$B$2:$B$8408,Sheet3!$A$3))","v":6738},{"$f":"+IF(SUMIFS(Sheet4!$FW$2:$FW$8408,Sheet4!$C$2:$C$8408,Sheet3!$B8,Sheet4!$E$2:$E$8408,Sheet3!DO$4,Sheet4!$A$2:$A$8408,Sheet3!$B$1,Sheet4!$B$2:$B$8408,Sheet3!$A$3)<3,0,SUMIFS(Sheet4!$FW$2:$FW$8408,Sheet4!$C$2:$C$8408,Sheet3!$B8,Sheet4!$E$2:$E$8408,Sheet3!DO$4,Sheet4!$A$2:$A$8408,Sheet3!$B$1,Sheet4!$B$2:$B$8408,Sheet3!$A$3))","v":924},{"$f":"+IF(SUMIFS(Sheet4!$FW$2:$FW$8408,Sheet4!$C$2:$C$8408,Sheet3!$B8,Sheet4!$E$2:$E$8408,Sheet3!DP$4,Sheet4!$A$2:$A$8408,Sheet3!$B$1,Sheet4!$B$2:$B$8408,Sheet3!$A$3)<3,0,SUMIFS(Sheet4!$FW$2:$FW$8408,Sheet4!$C$2:$C$8408,Sheet3!$B8,Sheet4!$E$2:$E$8408,Sheet3!DP$4,Sheet4!$A$2:$A$8408,Sheet3!$B$1,Sheet4!$B$2:$B$8408,Sheet3!$A$3))","v":110},{"$f":"+IF(SUMIFS(Sheet4!$FW$2:$FW$8408,Sheet4!$C$2:$C$8408,Sheet3!$B8,Sheet4!$E$2:$E$8408,Sheet3!DQ$4,Sheet4!$A$2:$A$8408,Sheet3!$B$1,Sheet4!$B$2:$B$8408,Sheet3!$A$3)<3,0,SUMIFS(Sheet4!$FW$2:$FW$8408,Sheet4!$C$2:$C$8408,Sheet3!$B8,Sheet4!$E$2:$E$8408,Sheet3!DQ$4,Sheet4!$A$2:$A$8408,Sheet3!$B$1,Sheet4!$B$2:$B$8408,Sheet3!$A$3))","v":10},{"$f":"+IF(SUMIFS(Sheet4!$FW$2:$FW$8408,Sheet4!$C$2:$C$8408,Sheet3!$B8,Sheet4!$E$2:$E$8408,Sheet3!DR$4,Sheet4!$A$2:$A$8408,Sheet3!$B$1,Sheet4!$B$2:$B$8408,Sheet3!$A$3)<3,0,SUMIFS(Sheet4!$FW$2:$FW$8408,Sheet4!$C$2:$C$8408,Sheet3!$B8,Sheet4!$E$2:$E$8408,Sheet3!DR$4,Sheet4!$A$2:$A$8408,Sheet3!$B$1,Sheet4!$B$2:$B$8408,Sheet3!$A$3))","v":0}]
[1,"112","Cávado",{"$f":"+SUMIFS(Sheet4!$FV$2:$FV$8408,Sheet4!$C$2:$C$8408,Sheet3!$B9,Sheet4!$D$2:$D$8408,Sheet3!D$3,Sheet4!$E$2:$E$8408,Sheet3!D$4,Sheet4!$A$2:$A$8408,Sheet3!$B$1,Sheet4!$B$2:$B$8408,Sheet3!$A$3)","v":0},{"$f":"+SUMIFS(Sheet4!$FV$2:$FV$8408,Sheet4!$C$2:$C$8408,Sheet3!$B9,Sheet4!$D$2:$D$8408,Sheet3!E$3,Sheet4!$E$2:$E$8408,Sheet3!E$4,Sheet4!$A$2:$A$8408,Sheet3!$B$1,Sheet4!$B$2:$B$8408,Sheet3!$A$3)","v":0},{"$f":"+SUMIFS(Sheet4!$FV$2:$FV$8408,Sheet4!$C$2:$C$8408,Sheet3!$B9,Sheet4!$D$2:$D$8408,Sheet3!F$3,Sheet4!$E$2:$E$8408,Sheet3!F$4,Sheet4!$A$2:$A$8408,Sheet3!$B$1,Sheet4!$B$2:$B$8408,Sheet3!$A$3)","v":0},{"$f":"+SUMIFS(Sheet4!$FV$2:$FV$8408,Sheet4!$C$2:$C$8408,Sheet3!$B9,Sheet4!$D$2:$D$8408,Sheet3!G$3,Sheet4!$E$2:$E$8408,Sheet3!G$4,Sheet4!$A$2:$A$8408,Sheet3!$B$1,Sheet4!$B$2:$B$8408,Sheet3!$A$3)","v":0},{"$f":"+SUMIFS(Sheet4!$FV$2:$FV$8408,Sheet4!$C$2:$C$8408,Sheet3!$B9,Sheet4!$D$2:$D$8408,Sheet3!H$3,Sheet4!$E$2:$E$8408,Sheet3!H$4,Sheet4!$A$2:$A$8408,Sheet3!$B$1,Sheet4!$B$2:$B$8408,Sheet3!$A$3)","v":0},{"$f":"+SUMIFS(Sheet4!$FV$2:$FV$8408,Sheet4!$C$2:$C$8408,Sheet3!$B9,Sheet4!$D$2:$D$8408,Sheet3!I$3,Sheet4!$E$2:$E$8408,Sheet3!I$4,Sheet4!$A$2:$A$8408,Sheet3!$B$1,Sheet4!$B$2:$B$8408,Sheet3!$A$3)","v":946},{"$f":"+SUMIFS(Sheet4!$FV$2:$FV$8408,Sheet4!$C$2:$C$8408,Sheet3!$B9,Sheet4!$D$2:$D$8408,Sheet3!J$3,Sheet4!$E$2:$E$8408,Sheet3!J$4,Sheet4!$A$2:$A$8408,Sheet3!$B$1,Sheet4!$B$2:$B$8408,Sheet3!$A$3)","v":19},{"$f":"+SUMIFS(Sheet4!$FV$2:$FV$8408,Sheet4!$C$2:$C$8408,Sheet3!$B9,Sheet4!$D$2:$D$8408,Sheet3!K$3,Sheet4!$E$2:$E$8408,Sheet3!K$4,Sheet4!$A$2:$A$8408,Sheet3!$B$1,Sheet4!$B$2:$B$8408,Sheet3!$A$3)","v":0},{"$f":"+SUMIFS(Sheet4!$FV$2:$FV$8408,Sheet4!$C$2:$C$8408,Sheet3!$B9,Sheet4!$D$2:$D$8408,Sheet3!L$3,Sheet4!$E$2:$E$8408,Sheet3!L$4,Sheet4!$A$2:$A$8408,Sheet3!$B$1,Sheet4!$B$2:$B$8408,Sheet3!$A$3)","v":0},{"$f":"+SUMIFS(Sheet4!$FV$2:$FV$8408,Sheet4!$C$2:$C$8408,Sheet3!$B9,Sheet4!$D$2:$D$8408,Sheet3!M$3,Sheet4!$E$2:$E$8408,Sheet3!M$4,Sheet4!$A$2:$A$8408,Sheet3!$B$1,Sheet4!$B$2:$B$8408,Sheet3!$A$3)","v":0},{"$f":"+SUMIFS(Sheet4!$FV$2:$FV$8408,Sheet4!$C$2:$C$8408,Sheet3!$B9,Sheet4!$D$2:$D$8408,Sheet3!N$3,Sheet4!$E$2:$E$8408,Sheet3!N$4,Sheet4!$A$2:$A$8408,Sheet3!$B$1,Sheet4!$B$2:$B$8408,Sheet3!$A$3)","v":328},{"$f":"+SUMIFS(Sheet4!$FV$2:$FV$8408,Sheet4!$C$2:$C$8408,Sheet3!$B9,Sheet4!$D$2:$D$8408,Sheet3!O$3,Sheet4!$E$2:$E$8408,Sheet3!O$4,Sheet4!$A$2:$A$8408,Sheet3!$B$1,Sheet4!$B$2:$B$8408,Sheet3!$A$3)","v":9},{"$f":"+SUMIFS(Sheet4!$FV$2:$FV$8408,Sheet4!$C$2:$C$8408,Sheet3!$B9,Sheet4!$D$2:$D$8408,Sheet3!P$3,Sheet4!$E$2:$E$8408,Sheet3!P$4,Sheet4!$A$2:$A$8408,Sheet3!$B$1,Sheet4!$B$2:$B$8408,Sheet3!$A$3)","v":0},{"$f":"+SUMIFS(Sheet4!$FV$2:$FV$8408,Sheet4!$C$2:$C$8408,Sheet3!$B9,Sheet4!$D$2:$D$8408,Sheet3!Q$3,Sheet4!$E$2:$E$8408,Sheet3!Q$4,Sheet4!$A$2:$A$8408,Sheet3!$B$1,Sheet4!$B$2:$B$8408,Sheet3!$A$3)","v":0},{"$f":"+SUMIFS(Sheet4!$FV$2:$FV$8408,Sheet4!$C$2:$C$8408,Sheet3!$B9,Sheet4!$D$2:$D$8408,Sheet3!R$3,Sheet4!$E$2:$E$8408,Sheet3!R$4,Sheet4!$A$2:$A$8408,Sheet3!$B$1,Sheet4!$B$2:$B$8408,Sheet3!$A$3)","v":0},{"$f":"+SUMIFS(Sheet4!$FV$2:$FV$8408,Sheet4!$C$2:$C$8408,Sheet3!$B9,Sheet4!$D$2:$D$8408,Sheet3!S$3,Sheet4!$E$2:$E$8408,Sheet3!S$4,Sheet4!$A$2:$A$8408,Sheet3!$B$1,Sheet4!$B$2:$B$8408,Sheet3!$A$3)","v":0},{"$f":"+SUMIFS(Sheet4!$FV$2:$FV$8408,Sheet4!$C$2:$C$8408,Sheet3!$B9,Sheet4!$D$2:$D$8408,Sheet3!T$3,Sheet4!$E$2:$E$8408,Sheet3!T$4,Sheet4!$A$2:$A$8408,Sheet3!$B$1,Sheet4!$B$2:$B$8408,Sheet3!$A$3)","v":0},{"$f":"+SUMIFS(Sheet4!$FV$2:$FV$8408,Sheet4!$C$2:$C$8408,Sheet3!$B9,Sheet4!$D$2:$D$8408,Sheet3!U$3,Sheet4!$E$2:$E$8408,Sheet3!U$4,Sheet4!$A$2:$A$8408,Sheet3!$B$1,Sheet4!$B$2:$B$8408,Sheet3!$A$3)","v":0},{"$f":"+SUMIFS(Sheet4!$FV$2:$FV$8408,Sheet4!$C$2:$C$8408,Sheet3!$B9,Sheet4!$D$2:$D$8408,Sheet3!V$3,Sheet4!$E$2:$E$8408,Sheet3!V$4,Sheet4!$A$2:$A$8408,Sheet3!$B$1,Sheet4!$B$2:$B$8408,Sheet3!$A$3)","v":0},{"$f":"+SUMIFS(Sheet4!$FV$2:$FV$8408,Sheet4!$C$2:$C$8408,Sheet3!$B9,Sheet4!$D$2:$D$8408,Sheet3!W$3,Sheet4!$E$2:$E$8408,Sheet3!W$4,Sheet4!$A$2:$A$8408,Sheet3!$B$1,Sheet4!$B$2:$B$8408,Sheet3!$A$3)","v":0},{"$f":"+SUMIFS(Sheet4!$FV$2:$FV$8408,Sheet4!$C$2:$C$8408,Sheet3!$B9,Sheet4!$D$2:$D$8408,Sheet3!X$3,Sheet4!$E$2:$E$8408,Sheet3!X$4,Sheet4!$A$2:$A$8408,Sheet3!$B$1,Sheet4!$B$2:$B$8408,Sheet3!$A$3)","v":0},{"$f":"+SUMIFS(Sheet4!$FV$2:$FV$8408,Sheet4!$C$2:$C$8408,Sheet3!$B9,Sheet4!$D$2:$D$8408,Sheet3!Y$3,Sheet4!$E$2:$E$8408,Sheet3!Y$4,Sheet4!$A$2:$A$8408,Sheet3!$B$1,Sheet4!$B$2:$B$8408,Sheet3!$A$3)","v":0},{"$f":"+SUMIFS(Sheet4!$FV$2:$FV$8408,Sheet4!$C$2:$C$8408,Sheet3!$B9,Sheet4!$D$2:$D$8408,Sheet3!Z$3,Sheet4!$E$2:$E$8408,Sheet3!Z$4,Sheet4!$A$2:$A$8408,Sheet3!$B$1,Sheet4!$B$2:$B$8408,Sheet3!$A$3)","v":0},{"$f":"+SUMIFS(Sheet4!$FV$2:$FV$8408,Sheet4!$C$2:$C$8408,Sheet3!$B9,Sheet4!$D$2:$D$8408,Sheet3!AA$3,Sheet4!$E$2:$E$8408,Sheet3!AA$4,Sheet4!$A$2:$A$8408,Sheet3!$B$1,Sheet4!$B$2:$B$8408,Sheet3!$A$3)","v":0},{"$f":"+SUMIFS(Sheet4!$FV$2:$FV$8408,Sheet4!$C$2:$C$8408,Sheet3!$B9,Sheet4!$D$2:$D$8408,Sheet3!AB$3,Sheet4!$E$2:$E$8408,Sheet3!AB$4,Sheet4!$A$2:$A$8408,Sheet3!$B$1,Sheet4!$B$2:$B$8408,Sheet3!$A$3)","v":0},{"$f":"+SUMIFS(Sheet4!$FV$2:$FV$8408,Sheet4!$C$2:$C$8408,Sheet3!$B9,Sheet4!$D$2:$D$8408,Sheet3!AC$3,Sheet4!$E$2:$E$8408,Sheet3!AC$4,Sheet4!$A$2:$A$8408,Sheet3!$B$1,Sheet4!$B$2:$B$8408,Sheet3!$A$3)","v":451},{"$f":"+SUMIFS(Sheet4!$FV$2:$FV$8408,Sheet4!$C$2:$C$8408,Sheet3!$B9,Sheet4!$D$2:$D$8408,Sheet3!AD$3,Sheet4!$E$2:$E$8408,Sheet3!AD$4,Sheet4!$A$2:$A$8408,Sheet3!$B$1,Sheet4!$B$2:$B$8408,Sheet3!$A$3)","v":7},{"$f":"+SUMIFS(Sheet4!$FV$2:$FV$8408,Sheet4!$C$2:$C$8408,Sheet3!$B9,Sheet4!$D$2:$D$8408,Sheet3!AE$3,Sheet4!$E$2:$E$8408,Sheet3!AE$4,Sheet4!$A$2:$A$8408,Sheet3!$B$1,Sheet4!$B$2:$B$8408,Sheet3!$A$3)","v":0},{"$f":"+SUMIFS(Sheet4!$FV$2:$FV$8408,Sheet4!$C$2:$C$8408,Sheet3!$B9,Sheet4!$D$2:$D$8408,Sheet3!AF$3,Sheet4!$E$2:$E$8408,Sheet3!AF$4,Sheet4!$A$2:$A$8408,Sheet3!$B$1,Sheet4!$B$2:$B$8408,Sheet3!$A$3)","v":0},{"$f":"+SUMIFS(Sheet4!$FV$2:$FV$8408,Sheet4!$C$2:$C$8408,Sheet3!$B9,Sheet4!$D$2:$D$8408,Sheet3!AG$3,Sheet4!$E$2:$E$8408,Sheet3!AG$4,Sheet4!$A$2:$A$8408,Sheet3!$B$1,Sheet4!$B$2:$B$8408,Sheet3!$A$3)","v":0},{"$f":"+SUMIFS(Sheet4!$FV$2:$FV$8408,Sheet4!$C$2:$C$8408,Sheet3!$B9,Sheet4!$D$2:$D$8408,Sheet3!AH$3,Sheet4!$E$2:$E$8408,Sheet3!AH$4,Sheet4!$A$2:$A$8408,Sheet3!$B$1,Sheet4!$B$2:$B$8408,Sheet3!$A$3)","v":84},{"$f":"+SUMIFS(Sheet4!$FV$2:$FV$8408,Sheet4!$C$2:$C$8408,Sheet3!$B9,Sheet4!$D$2:$D$8408,Sheet3!AI$3,Sheet4!$E$2:$E$8408,Sheet3!AI$4,Sheet4!$A$2:$A$8408,Sheet3!$B$1,Sheet4!$B$2:$B$8408,Sheet3!$A$3)","v":49},{"$f":"+SUMIFS(Sheet4!$FV$2:$FV$8408,Sheet4!$C$2:$C$8408,Sheet3!$B9,Sheet4!$D$2:$D$8408,Sheet3!AJ$3,Sheet4!$E$2:$E$8408,Sheet3!AJ$4,Sheet4!$A$2:$A$8408,Sheet3!$B$1,Sheet4!$B$2:$B$8408,Sheet3!$A$3)","v":6},{"$f":"+SUMIFS(Sheet4!$FV$2:$FV$8408,Sheet4!$C$2:$C$8408,Sheet3!$B9,Sheet4!$D$2:$D$8408,Sheet3!AK$3,Sheet4!$E$2:$E$8408,Sheet3!AK$4,Sheet4!$A$2:$A$8408,Sheet3!$B$1,Sheet4!$B$2:$B$8408,Sheet3!$A$3)","v":0},{"$f":"+SUMIFS(Sheet4!$FV$2:$FV$8408,Sheet4!$C$2:$C$8408,Sheet3!$B9,Sheet4!$D$2:$D$8408,Sheet3!AL$3,Sheet4!$E$2:$E$8408,Sheet3!AL$4,Sheet4!$A$2:$A$8408,Sheet3!$B$1,Sheet4!$B$2:$B$8408,Sheet3!$A$3)","v":0},{"$f":"+SUMIFS(Sheet4!$FV$2:$FV$8408,Sheet4!$C$2:$C$8408,Sheet3!$B9,Sheet4!$D$2:$D$8408,Sheet3!AM$3,Sheet4!$E$2:$E$8408,Sheet3!AM$4,Sheet4!$A$2:$A$8408,Sheet3!$B$1,Sheet4!$B$2:$B$8408,Sheet3!$A$3)","v":206},{"$f":"+SUMIFS(Sheet4!$FV$2:$FV$8408,Sheet4!$C$2:$C$8408,Sheet3!$B9,Sheet4!$D$2:$D$8408,Sheet3!AN$3,Sheet4!$E$2:$E$8408,Sheet3!AN$4,Sheet4!$A$2:$A$8408,Sheet3!$B$1,Sheet4!$B$2:$B$8408,Sheet3!$A$3)","v":28},{"$f":"+SUMIFS(Sheet4!$FV$2:$FV$8408,Sheet4!$C$2:$C$8408,Sheet3!$B9,Sheet4!$D$2:$D$8408,Sheet3!AO$3,Sheet4!$E$2:$E$8408,Sheet3!AO$4,Sheet4!$A$2:$A$8408,Sheet3!$B$1,Sheet4!$B$2:$B$8408,Sheet3!$A$3)","v":0},{"$f":"+SUMIFS(Sheet4!$FV$2:$FV$8408,Sheet4!$C$2:$C$8408,Sheet3!$B9,Sheet4!$D$2:$D$8408,Sheet3!AP$3,Sheet4!$E$2:$E$8408,Sheet3!AP$4,Sheet4!$A$2:$A$8408,Sheet3!$B$1,Sheet4!$B$2:$B$8408,Sheet3!$A$3)","v":0},{"$f":"+SUMIFS(Sheet4!$FV$2:$FV$8408,Sheet4!$C$2:$C$8408,Sheet3!$B9,Sheet4!$D$2:$D$8408,Sheet3!AQ$3,Sheet4!$E$2:$E$8408,Sheet3!AQ$4,Sheet4!$A$2:$A$8408,Sheet3!$B$1,Sheet4!$B$2:$B$8408,Sheet3!$A$3)","v":0},{"$f":"+SUMIFS(Sheet4!$FV$2:$FV$8408,Sheet4!$C$2:$C$8408,Sheet3!$B9,Sheet4!$D$2:$D$8408,Sheet3!AR$3,Sheet4!$E$2:$E$8408,Sheet3!AR$4,Sheet4!$A$2:$A$8408,Sheet3!$B$1,Sheet4!$B$2:$B$8408,Sheet3!$A$3)","v":3},{"$f":"+SUMIFS(Sheet4!$FV$2:$FV$8408,Sheet4!$C$2:$C$8408,Sheet3!$B9,Sheet4!$D$2:$D$8408,Sheet3!AS$3,Sheet4!$E$2:$E$8408,Sheet3!AS$4,Sheet4!$A$2:$A$8408,Sheet3!$B$1,Sheet4!$B$2:$B$8408,Sheet3!$A$3)","v":0},{"$f":"+SUMIFS(Sheet4!$FV$2:$FV$8408,Sheet4!$C$2:$C$8408,Sheet3!$B9,Sheet4!$D$2:$D$8408,Sheet3!AT$3,Sheet4!$E$2:$E$8408,Sheet3!AT$4,Sheet4!$A$2:$A$8408,Sheet3!$B$1,Sheet4!$B$2:$B$8408,Sheet3!$A$3)","v":0},{"$f":"+SUMIFS(Sheet4!$FV$2:$FV$8408,Sheet4!$C$2:$C$8408,Sheet3!$B9,Sheet4!$D$2:$D$8408,Sheet3!AU$3,Sheet4!$E$2:$E$8408,Sheet3!AU$4,Sheet4!$A$2:$A$8408,Sheet3!$B$1,Sheet4!$B$2:$B$8408,Sheet3!$A$3)","v":0},{"$f":"+SUMIFS(Sheet4!$FV$2:$FV$8408,Sheet4!$C$2:$C$8408,Sheet3!$B9,Sheet4!$D$2:$D$8408,Sheet3!AV$3,Sheet4!$E$2:$E$8408,Sheet3!AV$4,Sheet4!$A$2:$A$8408,Sheet3!$B$1,Sheet4!$B$2:$B$8408,Sheet3!$A$3)","v":0},{"$f":"+SUMIFS(Sheet4!$FV$2:$FV$8408,Sheet4!$C$2:$C$8408,Sheet3!$B9,Sheet4!$D$2:$D$8408,Sheet3!AW$3,Sheet4!$E$2:$E$8408,Sheet3!AW$4,Sheet4!$A$2:$A$8408,Sheet3!$B$1,Sheet4!$B$2:$B$8408,Sheet3!$A$3)","v":1950},{"$f":"+SUMIFS(Sheet4!$FV$2:$FV$8408,Sheet4!$C$2:$C$8408,Sheet3!$B9,Sheet4!$D$2:$D$8408,Sheet3!AX$3,Sheet4!$E$2:$E$8408,Sheet3!AX$4,Sheet4!$A$2:$A$8408,Sheet3!$B$1,Sheet4!$B$2:$B$8408,Sheet3!$A$3)","v":51},{"$f":"+SUMIFS(Sheet4!$FV$2:$FV$8408,Sheet4!$C$2:$C$8408,Sheet3!$B9,Sheet4!$D$2:$D$8408,Sheet3!AY$3,Sheet4!$E$2:$E$8408,Sheet3!AY$4,Sheet4!$A$2:$A$8408,Sheet3!$B$1,Sheet4!$B$2:$B$8408,Sheet3!$A$3)","v":0},{"$f":"+SUMIFS(Sheet4!$FV$2:$FV$8408,Sheet4!$C$2:$C$8408,Sheet3!$B9,Sheet4!$D$2:$D$8408,Sheet3!AZ$3,Sheet4!$E$2:$E$8408,Sheet3!AZ$4,Sheet4!$A$2:$A$8408,Sheet3!$B$1,Sheet4!$B$2:$B$8408,Sheet3!$A$3)","v":0},{"$f":"+SUMIFS(Sheet4!$FV$2:$FV$8408,Sheet4!$C$2:$C$8408,Sheet3!$B9,Sheet4!$D$2:$D$8408,Sheet3!BA$3,Sheet4!$E$2:$E$8408,Sheet3!BA$4,Sheet4!$A$2:$A$8408,Sheet3!$B$1,Sheet4!$B$2:$B$8408,Sheet3!$A$3)","v":0},{"$f":"+SUMIFS(Sheet4!$FV$2:$FV$8408,Sheet4!$C$2:$C$8408,Sheet3!$B9,Sheet4!$D$2:$D$8408,Sheet3!BB$3,Sheet4!$E$2:$E$8408,Sheet3!BB$4,Sheet4!$A$2:$A$8408,Sheet3!$B$1,Sheet4!$B$2:$B$8408,Sheet3!$A$3)","v":92},{"$f":"+SUMIFS(Sheet4!$FV$2:$FV$8408,Sheet4!$C$2:$C$8408,Sheet3!$B9,Sheet4!$D$2:$D$8408,Sheet3!BC$3,Sheet4!$E$2:$E$8408,Sheet3!BC$4,Sheet4!$A$2:$A$8408,Sheet3!$B$1,Sheet4!$B$2:$B$8408,Sheet3!$A$3)","v":274},{"$f":"+SUMIFS(Sheet4!$FV$2:$FV$8408,Sheet4!$C$2:$C$8408,Sheet3!$B9,Sheet4!$D$2:$D$8408,Sheet3!BD$3,Sheet4!$E$2:$E$8408,Sheet3!BD$4,Sheet4!$A$2:$A$8408,Sheet3!$B$1,Sheet4!$B$2:$B$8408,Sheet3!$A$3)","v":17},{"$f":"+SUMIFS(Sheet4!$FV$2:$FV$8408,Sheet4!$C$2:$C$8408,Sheet3!$B9,Sheet4!$D$2:$D$8408,Sheet3!BE$3,Sheet4!$E$2:$E$8408,Sheet3!BE$4,Sheet4!$A$2:$A$8408,Sheet3!$B$1,Sheet4!$B$2:$B$8408,Sheet3!$A$3)","v":0},{"$f":"+SUMIFS(Sheet4!$FV$2:$FV$8408,Sheet4!$C$2:$C$8408,Sheet3!$B9,Sheet4!$D$2:$D$8408,Sheet3!BF$3,Sheet4!$E$2:$E$8408,Sheet3!BF$4,Sheet4!$A$2:$A$8408,Sheet3!$B$1,Sheet4!$B$2:$B$8408,Sheet3!$A$3)","v":0},{"$f":"+SUMIFS(Sheet4!$FV$2:$FV$8408,Sheet4!$C$2:$C$8408,Sheet3!$B9,Sheet4!$D$2:$D$8408,Sheet3!BG$3,Sheet4!$E$2:$E$8408,Sheet3!BG$4,Sheet4!$A$2:$A$8408,Sheet3!$B$1,Sheet4!$B$2:$B$8408,Sheet3!$A$3)","v":213},{"$f":"+SUMIFS(Sheet4!$FV$2:$FV$8408,Sheet4!$C$2:$C$8408,Sheet3!$B9,Sheet4!$D$2:$D$8408,Sheet3!BH$3,Sheet4!$E$2:$E$8408,Sheet3!BH$4,Sheet4!$A$2:$A$8408,Sheet3!$B$1,Sheet4!$B$2:$B$8408,Sheet3!$A$3)","v":63},{"$f":"+SUMIFS(Sheet4!$FV$2:$FV$8408,Sheet4!$C$2:$C$8408,Sheet3!$B9,Sheet4!$D$2:$D$8408,Sheet3!BI$3,Sheet4!$E$2:$E$8408,Sheet3!BI$4,Sheet4!$A$2:$A$8408,Sheet3!$B$1,Sheet4!$B$2:$B$8408,Sheet3!$A$3)","v":3},{"$f":"+SUMIFS(Sheet4!$FV$2:$FV$8408,Sheet4!$C$2:$C$8408,Sheet3!$B9,Sheet4!$D$2:$D$8408,Sheet3!BJ$3,Sheet4!$E$2:$E$8408,Sheet3!BJ$4,Sheet4!$A$2:$A$8408,Sheet3!$B$1,Sheet4!$B$2:$B$8408,Sheet3!$A$3)","v":0},{"$f":"+SUMIFS(Sheet4!$FV$2:$FV$8408,Sheet4!$C$2:$C$8408,Sheet3!$B9,Sheet4!$D$2:$D$8408,Sheet3!BK$3,Sheet4!$E$2:$E$8408,Sheet3!BK$4,Sheet4!$A$2:$A$8408,Sheet3!$B$1,Sheet4!$B$2:$B$8408,Sheet3!$A$3)","v":0},{"$f":"+SUMIFS(Sheet4!$FV$2:$FV$8408,Sheet4!$C$2:$C$8408,Sheet3!$B9,Sheet4!$D$2:$D$8408,Sheet3!BL$3,Sheet4!$E$2:$E$8408,Sheet3!BL$4,Sheet4!$A$2:$A$8408,Sheet3!$B$1,Sheet4!$B$2:$B$8408,Sheet3!$A$3)","v":375},{"$f":"+SUMIFS(Sheet4!$FV$2:$FV$8408,Sheet4!$C$2:$C$8408,Sheet3!$B9,Sheet4!$D$2:$D$8408,Sheet3!BM$3,Sheet4!$E$2:$E$8408,Sheet3!BM$4,Sheet4!$A$2:$A$8408,Sheet3!$B$1,Sheet4!$B$2:$B$8408,Sheet3!$A$3)","v":52},{"$f":"+SUMIFS(Sheet4!$FV$2:$FV$8408,Sheet4!$C$2:$C$8408,Sheet3!$B9,Sheet4!$D$2:$D$8408,Sheet3!BN$3,Sheet4!$E$2:$E$8408,Sheet3!BN$4,Sheet4!$A$2:$A$8408,Sheet3!$B$1,Sheet4!$B$2:$B$8408,Sheet3!$A$3)","v":0},{"$f":"+SUMIFS(Sheet4!$FV$2:$FV$8408,Sheet4!$C$2:$C$8408,Sheet3!$B9,Sheet4!$D$2:$D$8408,Sheet3!BO$3,Sheet4!$E$2:$E$8408,Sheet3!BO$4,Sheet4!$A$2:$A$8408,Sheet3!$B$1,Sheet4!$B$2:$B$8408,Sheet3!$A$3)","v":0},{"$f":"+SUMIFS(Sheet4!$FV$2:$FV$8408,Sheet4!$C$2:$C$8408,Sheet3!$B9,Sheet4!$D$2:$D$8408,Sheet3!BP$3,Sheet4!$E$2:$E$8408,Sheet3!BP$4,Sheet4!$A$2:$A$8408,Sheet3!$B$1,Sheet4!$B$2:$B$8408,Sheet3!$A$3)","v":0},{"$f":"+SUMIFS(Sheet4!$FV$2:$FV$8408,Sheet4!$C$2:$C$8408,Sheet3!$B9,Sheet4!$D$2:$D$8408,Sheet3!BQ$3,Sheet4!$E$2:$E$8408,Sheet3!BQ$4,Sheet4!$A$2:$A$8408,Sheet3!$B$1,Sheet4!$B$2:$B$8408,Sheet3!$A$3)","v":114},{"$f":"+SUMIFS(Sheet4!$FV$2:$FV$8408,Sheet4!$C$2:$C$8408,Sheet3!$B9,Sheet4!$D$2:$D$8408,Sheet3!BR$3,Sheet4!$E$2:$E$8408,Sheet3!BR$4,Sheet4!$A$2:$A$8408,Sheet3!$B$1,Sheet4!$B$2:$B$8408,Sheet3!$A$3)","v":54},{"$f":"+SUMIFS(Sheet4!$FV$2:$FV$8408,Sheet4!$C$2:$C$8408,Sheet3!$B9,Sheet4!$D$2:$D$8408,Sheet3!BS$3,Sheet4!$E$2:$E$8408,Sheet3!BS$4,Sheet4!$A$2:$A$8408,Sheet3!$B$1,Sheet4!$B$2:$B$8408,Sheet3!$A$3)","v":10},{"$f":"+SUMIFS(Sheet4!$FV$2:$FV$8408,Sheet4!$C$2:$C$8408,Sheet3!$B9,Sheet4!$D$2:$D$8408,Sheet3!BT$3,Sheet4!$E$2:$E$8408,Sheet3!BT$4,Sheet4!$A$2:$A$8408,Sheet3!$B$1,Sheet4!$B$2:$B$8408,Sheet3!$A$3)","v":0},{"$f":"+SUMIFS(Sheet4!$FV$2:$FV$8408,Sheet4!$C$2:$C$8408,Sheet3!$B9,Sheet4!$D$2:$D$8408,Sheet3!BU$3,Sheet4!$E$2:$E$8408,Sheet3!BU$4,Sheet4!$A$2:$A$8408,Sheet3!$B$1,Sheet4!$B$2:$B$8408,Sheet3!$A$3)","v":0},{"$f":"+SUMIFS(Sheet4!$FV$2:$FV$8408,Sheet4!$C$2:$C$8408,Sheet3!$B9,Sheet4!$D$2:$D$8408,Sheet3!BV$3,Sheet4!$E$2:$E$8408,Sheet3!BV$4,Sheet4!$A$2:$A$8408,Sheet3!$B$1,Sheet4!$B$2:$B$8408,Sheet3!$A$3)","v":227},{"$f":"+SUMIFS(Sheet4!$FV$2:$FV$8408,Sheet4!$C$2:$C$8408,Sheet3!$B9,Sheet4!$D$2:$D$8408,Sheet3!BW$3,Sheet4!$E$2:$E$8408,Sheet3!BW$4,Sheet4!$A$2:$A$8408,Sheet3!$B$1,Sheet4!$B$2:$B$8408,Sheet3!$A$3)","v":51},{"$f":"+SUMIFS(Sheet4!$FV$2:$FV$8408,Sheet4!$C$2:$C$8408,Sheet3!$B9,Sheet4!$D$2:$D$8408,Sheet3!BX$3,Sheet4!$E$2:$E$8408,Sheet3!BX$4,Sheet4!$A$2:$A$8408,Sheet3!$B$1,Sheet4!$B$2:$B$8408,Sheet3!$A$3)","v":6},{"$f":"+SUMIFS(Sheet4!$FV$2:$FV$8408,Sheet4!$C$2:$C$8408,Sheet3!$B9,Sheet4!$D$2:$D$8408,Sheet3!BY$3,Sheet4!$E$2:$E$8408,Sheet3!BY$4,Sheet4!$A$2:$A$8408,Sheet3!$B$1,Sheet4!$B$2:$B$8408,Sheet3!$A$3)","v":0},{"$f":"+SUMIFS(Sheet4!$FV$2:$FV$8408,Sheet4!$C$2:$C$8408,Sheet3!$B9,Sheet4!$D$2:$D$8408,Sheet3!BZ$3,Sheet4!$E$2:$E$8408,Sheet3!BZ$4,Sheet4!$A$2:$A$8408,Sheet3!$B$1,Sheet4!$B$2:$B$8408,Sheet3!$A$3)","v":0},{"$f":"+SUMIFS(Sheet4!$FV$2:$FV$8408,Sheet4!$C$2:$C$8408,Sheet3!$B9,Sheet4!$D$2:$D$8408,Sheet3!CA$3,Sheet4!$E$2:$E$8408,Sheet3!CA$4,Sheet4!$A$2:$A$8408,Sheet3!$B$1,Sheet4!$B$2:$B$8408,Sheet3!$A$3)","v":538},{"$f":"+SUMIFS(Sheet4!$FV$2:$FV$8408,Sheet4!$C$2:$C$8408,Sheet3!$B9,Sheet4!$D$2:$D$8408,Sheet3!CB$3,Sheet4!$E$2:$E$8408,Sheet3!CB$4,Sheet4!$A$2:$A$8408,Sheet3!$B$1,Sheet4!$B$2:$B$8408,Sheet3!$A$3)","v":53},{"$f":"+SUMIFS(Sheet4!$FV$2:$FV$8408,Sheet4!$C$2:$C$8408,Sheet3!$B9,Sheet4!$D$2:$D$8408,Sheet3!CC$3,Sheet4!$E$2:$E$8408,Sheet3!CC$4,Sheet4!$A$2:$A$8408,Sheet3!$B$1,Sheet4!$B$2:$B$8408,Sheet3!$A$3)","v":0},{"$f":"+SUMIFS(Sheet4!$FV$2:$FV$8408,Sheet4!$C$2:$C$8408,Sheet3!$B9,Sheet4!$D$2:$D$8408,Sheet3!CD$3,Sheet4!$E$2:$E$8408,Sheet3!CD$4,Sheet4!$A$2:$A$8408,Sheet3!$B$1,Sheet4!$B$2:$B$8408,Sheet3!$A$3)","v":0},{"$f":"+SUMIFS(Sheet4!$FV$2:$FV$8408,Sheet4!$C$2:$C$8408,Sheet3!$B9,Sheet4!$D$2:$D$8408,Sheet3!CE$3,Sheet4!$E$2:$E$8408,Sheet3!CE$4,Sheet4!$A$2:$A$8408,Sheet3!$B$1,Sheet4!$B$2:$B$8408,Sheet3!$A$3)","v":0},{"$f":"+SUMIFS(Sheet4!$FV$2:$FV$8408,Sheet4!$C$2:$C$8408,Sheet3!$B9,Sheet4!$D$2:$D$8408,Sheet3!CF$3,Sheet4!$E$2:$E$8408,Sheet3!CF$4,Sheet4!$A$2:$A$8408,Sheet3!$B$1,Sheet4!$B$2:$B$8408,Sheet3!$A$3)","v":795},{"$f":"+SUMIFS(Sheet4!$FV$2:$FV$8408,Sheet4!$C$2:$C$8408,Sheet3!$B9,Sheet4!$D$2:$D$8408,Sheet3!CG$3,Sheet4!$E$2:$E$8408,Sheet3!CG$4,Sheet4!$A$2:$A$8408,Sheet3!$B$1,Sheet4!$B$2:$B$8408,Sheet3!$A$3)","v":68},{"$f":"+SUMIFS(Sheet4!$FV$2:$FV$8408,Sheet4!$C$2:$C$8408,Sheet3!$B9,Sheet4!$D$2:$D$8408,Sheet3!CH$3,Sheet4!$E$2:$E$8408,Sheet3!CH$4,Sheet4!$A$2:$A$8408,Sheet3!$B$1,Sheet4!$B$2:$B$8408,Sheet3!$A$3)","v":0},{"$f":"+SUMIFS(Sheet4!$FV$2:$FV$8408,Sheet4!$C$2:$C$8408,Sheet3!$B9,Sheet4!$D$2:$D$8408,Sheet3!CI$3,Sheet4!$E$2:$E$8408,Sheet3!CI$4,Sheet4!$A$2:$A$8408,Sheet3!$B$1,Sheet4!$B$2:$B$8408,Sheet3!$A$3)","v":0},{"$f":"+SUMIFS(Sheet4!$FV$2:$FV$8408,Sheet4!$C$2:$C$8408,Sheet3!$B9,Sheet4!$D$2:$D$8408,Sheet3!CJ$3,Sheet4!$E$2:$E$8408,Sheet3!CJ$4,Sheet4!$A$2:$A$8408,Sheet3!$B$1,Sheet4!$B$2:$B$8408,Sheet3!$A$3)","v":0},{"$f":"+SUMIFS(Sheet4!$FV$2:$FV$8408,Sheet4!$C$2:$C$8408,Sheet3!$B9,Sheet4!$D$2:$D$8408,Sheet3!CK$3,Sheet4!$E$2:$E$8408,Sheet3!CK$4,Sheet4!$A$2:$A$8408,Sheet3!$B$1,Sheet4!$B$2:$B$8408,Sheet3!$A$3)","v":0},{"$f":"+SUMIFS(Sheet4!$FV$2:$FV$8408,Sheet4!$C$2:$C$8408,Sheet3!$B9,Sheet4!$D$2:$D$8408,Sheet3!CL$3,Sheet4!$E$2:$E$8408,Sheet3!CL$4,Sheet4!$A$2:$A$8408,Sheet3!$B$1,Sheet4!$B$2:$B$8408,Sheet3!$A$3)","v":0},{"$f":"+SUMIFS(Sheet4!$FV$2:$FV$8408,Sheet4!$C$2:$C$8408,Sheet3!$B9,Sheet4!$D$2:$D$8408,Sheet3!CM$3,Sheet4!$E$2:$E$8408,Sheet3!CM$4,Sheet4!$A$2:$A$8408,Sheet3!$B$1,Sheet4!$B$2:$B$8408,Sheet3!$A$3)","v":0},{"$f":"+SUMIFS(Sheet4!$FV$2:$FV$8408,Sheet4!$C$2:$C$8408,Sheet3!$B9,Sheet4!$D$2:$D$8408,Sheet3!CN$3,Sheet4!$E$2:$E$8408,Sheet3!CN$4,Sheet4!$A$2:$A$8408,Sheet3!$B$1,Sheet4!$B$2:$B$8408,Sheet3!$A$3)","v":0},{"$f":"+SUMIFS(Sheet4!$FV$2:$FV$8408,Sheet4!$C$2:$C$8408,Sheet3!$B9,Sheet4!$D$2:$D$8408,Sheet3!CO$3,Sheet4!$E$2:$E$8408,Sheet3!CO$4,Sheet4!$A$2:$A$8408,Sheet3!$B$1,Sheet4!$B$2:$B$8408,Sheet3!$A$3)","v":0},{"$f":"+SUMIFS(Sheet4!$FV$2:$FV$8408,Sheet4!$C$2:$C$8408,Sheet3!$B9,Sheet4!$D$2:$D$8408,Sheet3!CP$3,Sheet4!$E$2:$E$8408,Sheet3!CP$4,Sheet4!$A$2:$A$8408,Sheet3!$B$1,Sheet4!$B$2:$B$8408,Sheet3!$A$3)","v":0},{"$f":"+SUMIFS(Sheet4!$FV$2:$FV$8408,Sheet4!$C$2:$C$8408,Sheet3!$B9,Sheet4!$D$2:$D$8408,Sheet3!CQ$3,Sheet4!$E$2:$E$8408,Sheet3!CQ$4,Sheet4!$A$2:$A$8408,Sheet3!$B$1,Sheet4!$B$2:$B$8408,Sheet3!$A$3)","v":0},{"$f":"+SUMIFS(Sheet4!$FV$2:$FV$8408,Sheet4!$C$2:$C$8408,Sheet3!$B9,Sheet4!$D$2:$D$8408,Sheet3!CR$3,Sheet4!$E$2:$E$8408,Sheet3!CR$4,Sheet4!$A$2:$A$8408,Sheet3!$B$1,Sheet4!$B$2:$B$8408,Sheet3!$A$3)","v":0},{"$f":"+SUMIFS(Sheet4!$FV$2:$FV$8408,Sheet4!$C$2:$C$8408,Sheet3!$B9,Sheet4!$D$2:$D$8408,Sheet3!CS$3,Sheet4!$E$2:$E$8408,Sheet3!CS$4,Sheet4!$A$2:$A$8408,Sheet3!$B$1,Sheet4!$B$2:$B$8408,Sheet3!$A$3)","v":0},{"$f":"+SUMIFS(Sheet4!$FV$2:$FV$8408,Sheet4!$C$2:$C$8408,Sheet3!$B9,Sheet4!$D$2:$D$8408,Sheet3!CT$3,Sheet4!$E$2:$E$8408,Sheet3!CT$4,Sheet4!$A$2:$A$8408,Sheet3!$B$1,Sheet4!$B$2:$B$8408,Sheet3!$A$3)","v":0},{"$f":"+IF(SUMIFS(Sheet4!$FW$2:$FW$8408,Sheet4!$C$2:$C$8408,Sheet3!$B9,Sheet4!$D$2:$D$8408,Sheet3!CU$3,Sheet4!$A$2:$A$8408,Sheet3!$B$1,Sheet4!$B$2:$B$8408,Sheet3!$A$3)<3,0,SUMIFS(Sheet4!$FW$2:$FW$8408,Sheet4!$C$2:$C$8408,Sheet3!$B9,Sheet4!$D$2:$D$8408,Sheet3!CU$3,Sheet4!$A$2:$A$8408,Sheet3!$B$1,Sheet4!$B$2:$B$8408,Sheet3!$A$3))","v":4},{"$f":"+IF(SUMIFS(Sheet4!$FW$2:$FW$8408,Sheet4!$C$2:$C$8408,Sheet3!$B9,Sheet4!$D$2:$D$8408,Sheet3!CV$3,Sheet4!$A$2:$A$8408,Sheet3!$B$1,Sheet4!$B$2:$B$8408,Sheet3!$A$3)<3,0,SUMIFS(Sheet4!$FW$2:$FW$8408,Sheet4!$C$2:$C$8408,Sheet3!$B9,Sheet4!$D$2:$D$8408,Sheet3!CV$3,Sheet4!$A$2:$A$8408,Sheet3!$B$1,Sheet4!$B$2:$B$8408,Sheet3!$A$3))","v":967},{"$f":"+IF(SUMIFS(Sheet4!$FW$2:$FW$8408,Sheet4!$C$2:$C$8408,Sheet3!$B9,Sheet4!$D$2:$D$8408,Sheet3!CW$3,Sheet4!$A$2:$A$8408,Sheet3!$B$1,Sheet4!$B$2:$B$8408,Sheet3!$A$3)<3,0,SUMIFS(Sheet4!$FW$2:$FW$8408,Sheet4!$C$2:$C$8408,Sheet3!$B9,Sheet4!$D$2:$D$8408,Sheet3!CW$3,Sheet4!$A$2:$A$8408,Sheet3!$B$1,Sheet4!$B$2:$B$8408,Sheet3!$A$3))","v":337},{"$f":"+IF(SUMIFS(Sheet4!$FW$2:$FW$8408,Sheet4!$C$2:$C$8408,Sheet3!$B9,Sheet4!$D$2:$D$8408,Sheet3!CX$3,Sheet4!$A$2:$A$8408,Sheet3!$B$1,Sheet4!$B$2:$B$8408,Sheet3!$A$3)<3,0,SUMIFS(Sheet4!$FW$2:$FW$8408,Sheet4!$C$2:$C$8408,Sheet3!$B9,Sheet4!$D$2:$D$8408,Sheet3!CX$3,Sheet4!$A$2:$A$8408,Sheet3!$B$1,Sheet4!$B$2:$B$8408,Sheet3!$A$3))","v":0},{"$f":"+IF(SUMIFS(Sheet4!$FW$2:$FW$8408,Sheet4!$C$2:$C$8408,Sheet3!$B9,Sheet4!$D$2:$D$8408,Sheet3!CY$3,Sheet4!$A$2:$A$8408,Sheet3!$B$1,Sheet4!$B$2:$B$8408,Sheet3!$A$3)<3,0,SUMIFS(Sheet4!$FW$2:$FW$8408,Sheet4!$C$2:$C$8408,Sheet3!$B9,Sheet4!$D$2:$D$8408,Sheet3!CY$3,Sheet4!$A$2:$A$8408,Sheet3!$B$1,Sheet4!$B$2:$B$8408,Sheet3!$A$3))","v":0},{"$f":"+IF(SUMIFS(Sheet4!$FW$2:$FW$8408,Sheet4!$C$2:$C$8408,Sheet3!$B9,Sheet4!$D$2:$D$8408,Sheet3!CZ$3,Sheet4!$A$2:$A$8408,Sheet3!$B$1,Sheet4!$B$2:$B$8408,Sheet3!$A$3)<3,0,SUMIFS(Sheet4!$FW$2:$FW$8408,Sheet4!$C$2:$C$8408,Sheet3!$B9,Sheet4!$D$2:$D$8408,Sheet3!CZ$3,Sheet4!$A$2:$A$8408,Sheet3!$B$1,Sheet4!$B$2:$B$8408,Sheet3!$A$3))","v":462},{"$f":"+IF(SUMIFS(Sheet4!$FW$2:$FW$8408,Sheet4!$C$2:$C$8408,Sheet3!$B9,Sheet4!$D$2:$D$8408,Sheet3!DA$3,Sheet4!$A$2:$A$8408,Sheet3!$B$1,Sheet4!$B$2:$B$8408,Sheet3!$A$3)<3,0,SUMIFS(Sheet4!$FW$2:$FW$8408,Sheet4!$C$2:$C$8408,Sheet3!$B9,Sheet4!$D$2:$D$8408,Sheet3!DA$3,Sheet4!$A$2:$A$8408,Sheet3!$B$1,Sheet4!$B$2:$B$8408,Sheet3!$A$3))","v":141},{"$f":"+IF(SUMIFS(Sheet4!$FW$2:$FW$8408,Sheet4!$C$2:$C$8408,Sheet3!$B9,Sheet4!$D$2:$D$8408,Sheet3!DB$3,Sheet4!$A$2:$A$8408,Sheet3!$B$1,Sheet4!$B$2:$B$8408,Sheet3!$A$3)<3,0,SUMIFS(Sheet4!$FW$2:$FW$8408,Sheet4!$C$2:$C$8408,Sheet3!$B9,Sheet4!$D$2:$D$8408,Sheet3!DB$3,Sheet4!$A$2:$A$8408,Sheet3!$B$1,Sheet4!$B$2:$B$8408,Sheet3!$A$3))","v":239},{"$f":"+IF(SUMIFS(Sheet4!$FW$2:$FW$8408,Sheet4!$C$2:$C$8408,Sheet3!$B9,Sheet4!$D$2:$D$8408,Sheet3!DC$3,Sheet4!$A$2:$A$8408,Sheet3!$B$1,Sheet4!$B$2:$B$8408,Sheet3!$A$3)<3,0,SUMIFS(Sheet4!$FW$2:$FW$8408,Sheet4!$C$2:$C$8408,Sheet3!$B9,Sheet4!$D$2:$D$8408,Sheet3!DC$3,Sheet4!$A$2:$A$8408,Sheet3!$B$1,Sheet4!$B$2:$B$8408,Sheet3!$A$3))","v":4},{"$f":"+IF(SUMIFS(Sheet4!$FW$2:$FW$8408,Sheet4!$C$2:$C$8408,Sheet3!$B9,Sheet4!$D$2:$D$8408,Sheet3!DD$3,Sheet4!$A$2:$A$8408,Sheet3!$B$1,Sheet4!$B$2:$B$8408,Sheet3!$A$3)<3,0,SUMIFS(Sheet4!$FW$2:$FW$8408,Sheet4!$C$2:$C$8408,Sheet3!$B9,Sheet4!$D$2:$D$8408,Sheet3!DD$3,Sheet4!$A$2:$A$8408,Sheet3!$B$1,Sheet4!$B$2:$B$8408,Sheet3!$A$3))","v":2006},{"$f":"+IF(SUMIFS(Sheet4!$FW$2:$FW$8408,Sheet4!$C$2:$C$8408,Sheet3!$B9,Sheet4!$D$2:$D$8408,Sheet3!DE$3,Sheet4!$A$2:$A$8408,Sheet3!$B$1,Sheet4!$B$2:$B$8408,Sheet3!$A$3)<3,0,SUMIFS(Sheet4!$FW$2:$FW$8408,Sheet4!$C$2:$C$8408,Sheet3!$B9,Sheet4!$D$2:$D$8408,Sheet3!DE$3,Sheet4!$A$2:$A$8408,Sheet3!$B$1,Sheet4!$B$2:$B$8408,Sheet3!$A$3))","v":383},{"$f":"+IF(SUMIFS(Sheet4!$FW$2:$FW$8408,Sheet4!$C$2:$C$8408,Sheet3!$B9,Sheet4!$D$2:$D$8408,Sheet3!DF$3,Sheet4!$A$2:$A$8408,Sheet3!$B$1,Sheet4!$B$2:$B$8408,Sheet3!$A$3)<3,0,SUMIFS(Sheet4!$FW$2:$FW$8408,Sheet4!$C$2:$C$8408,Sheet3!$B9,Sheet4!$D$2:$D$8408,Sheet3!DF$3,Sheet4!$A$2:$A$8408,Sheet3!$B$1,Sheet4!$B$2:$B$8408,Sheet3!$A$3))","v":279},{"$f":"+IF(SUMIFS(Sheet4!$FW$2:$FW$8408,Sheet4!$C$2:$C$8408,Sheet3!$B9,Sheet4!$D$2:$D$8408,Sheet3!DG$3,Sheet4!$A$2:$A$8408,Sheet3!$B$1,Sheet4!$B$2:$B$8408,Sheet3!$A$3)<3,0,SUMIFS(Sheet4!$FW$2:$FW$8408,Sheet4!$C$2:$C$8408,Sheet3!$B9,Sheet4!$D$2:$D$8408,Sheet3!DG$3,Sheet4!$A$2:$A$8408,Sheet3!$B$1,Sheet4!$B$2:$B$8408,Sheet3!$A$3))","v":430},{"$f":"+IF(SUMIFS(Sheet4!$FW$2:$FW$8408,Sheet4!$C$2:$C$8408,Sheet3!$B9,Sheet4!$D$2:$D$8408,Sheet3!DH$3,Sheet4!$A$2:$A$8408,Sheet3!$B$1,Sheet4!$B$2:$B$8408,Sheet3!$A$3)<3,0,SUMIFS(Sheet4!$FW$2:$FW$8408,Sheet4!$C$2:$C$8408,Sheet3!$B9,Sheet4!$D$2:$D$8408,Sheet3!DH$3,Sheet4!$A$2:$A$8408,Sheet3!$B$1,Sheet4!$B$2:$B$8408,Sheet3!$A$3))","v":179},{"$f":"+IF(SUMIFS(Sheet4!$FW$2:$FW$8408,Sheet4!$C$2:$C$8408,Sheet3!$B9,Sheet4!$D$2:$D$8408,Sheet3!DI$3,Sheet4!$A$2:$A$8408,Sheet3!$B$1,Sheet4!$B$2:$B$8408,Sheet3!$A$3)<3,0,SUMIFS(Sheet4!$FW$2:$FW$8408,Sheet4!$C$2:$C$8408,Sheet3!$B9,Sheet4!$D$2:$D$8408,Sheet3!DI$3,Sheet4!$A$2:$A$8408,Sheet3!$B$1,Sheet4!$B$2:$B$8408,Sheet3!$A$3))","v":290},{"$f":"+IF(SUMIFS(Sheet4!$FW$2:$FW$8408,Sheet4!$C$2:$C$8408,Sheet3!$B9,Sheet4!$D$2:$D$8408,Sheet3!DJ$3,Sheet4!$A$2:$A$8408,Sheet3!$B$1,Sheet4!$B$2:$B$8408,Sheet3!$A$3)<3,0,SUMIFS(Sheet4!$FW$2:$FW$8408,Sheet4!$C$2:$C$8408,Sheet3!$B9,Sheet4!$D$2:$D$8408,Sheet3!DJ$3,Sheet4!$A$2:$A$8408,Sheet3!$B$1,Sheet4!$B$2:$B$8408,Sheet3!$A$3))","v":596},{"$f":"+IF(SUMIFS(Sheet4!$FW$2:$FW$8408,Sheet4!$C$2:$C$8408,Sheet3!$B9,Sheet4!$D$2:$D$8408,Sheet3!DK$3,Sheet4!$A$2:$A$8408,Sheet3!$B$1,Sheet4!$B$2:$B$8408,Sheet3!$A$3)<3,0,SUMIFS(Sheet4!$FW$2:$FW$8408,Sheet4!$C$2:$C$8408,Sheet3!$B9,Sheet4!$D$2:$D$8408,Sheet3!DK$3,Sheet4!$A$2:$A$8408,Sheet3!$B$1,Sheet4!$B$2:$B$8408,Sheet3!$A$3))","v":865},{"$f":"+IF(SUMIFS(Sheet4!$FW$2:$FW$8408,Sheet4!$C$2:$C$8408,Sheet3!$B9,Sheet4!$D$2:$D$8408,Sheet3!DL$3,Sheet4!$A$2:$A$8408,Sheet3!$B$1,Sheet4!$B$2:$B$8408,Sheet3!$A$3)<3,0,SUMIFS(Sheet4!$FW$2:$FW$8408,Sheet4!$C$2:$C$8408,Sheet3!$B9,Sheet4!$D$2:$D$8408,Sheet3!DL$3,Sheet4!$A$2:$A$8408,Sheet3!$B$1,Sheet4!$B$2:$B$8408,Sheet3!$A$3))","v":0},{"$f":"+IF(SUMIFS(Sheet4!$FW$2:$FW$8408,Sheet4!$C$2:$C$8408,Sheet3!$B9,Sheet4!$D$2:$D$8408,Sheet3!DM$3,Sheet4!$A$2:$A$8408,Sheet3!$B$1,Sheet4!$B$2:$B$8408,Sheet3!$A$3)<3,0,SUMIFS(Sheet4!$FW$2:$FW$8408,Sheet4!$C$2:$C$8408,Sheet3!$B9,Sheet4!$D$2:$D$8408,Sheet3!DM$3,Sheet4!$A$2:$A$8408,Sheet3!$B$1,Sheet4!$B$2:$B$8408,Sheet3!$A$3))","v":0},{"$f":"+IF(SUMIFS(Sheet4!$FW$2:$FW$8408,Sheet4!$C$2:$C$8408,Sheet3!$B9,Sheet4!$E$2:$E$8408,Sheet3!DN$4,Sheet4!$A$2:$A$8408,Sheet3!$B$1,Sheet4!$B$2:$B$8408,Sheet3!$A$3)<3,0,SUMIFS(Sheet4!$FW$2:$FW$8408,Sheet4!$C$2:$C$8408,Sheet3!$B9,Sheet4!$E$2:$E$8408,Sheet3!DN$4,Sheet4!$A$2:$A$8408,Sheet3!$B$1,Sheet4!$B$2:$B$8408,Sheet3!$A$3))","v":6332},{"$f":"+IF(SUMIFS(Sheet4!$FW$2:$FW$8408,Sheet4!$C$2:$C$8408,Sheet3!$B9,Sheet4!$E$2:$E$8408,Sheet3!DO$4,Sheet4!$A$2:$A$8408,Sheet3!$B$1,Sheet4!$B$2:$B$8408,Sheet3!$A$3)<3,0,SUMIFS(Sheet4!$FW$2:$FW$8408,Sheet4!$C$2:$C$8408,Sheet3!$B9,Sheet4!$E$2:$E$8408,Sheet3!DO$4,Sheet4!$A$2:$A$8408,Sheet3!$B$1,Sheet4!$B$2:$B$8408,Sheet3!$A$3))","v":802},{"$f":"+IF(SUMIFS(Sheet4!$FW$2:$FW$8408,Sheet4!$C$2:$C$8408,Sheet3!$B9,Sheet4!$E$2:$E$8408,Sheet3!DP$4,Sheet4!$A$2:$A$8408,Sheet3!$B$1,Sheet4!$B$2:$B$8408,Sheet3!$A$3)<3,0,SUMIFS(Sheet4!$FW$2:$FW$8408,Sheet4!$C$2:$C$8408,Sheet3!$B9,Sheet4!$E$2:$E$8408,Sheet3!DP$4,Sheet4!$A$2:$A$8408,Sheet3!$B$1,Sheet4!$B$2:$B$8408,Sheet3!$A$3))","v":49},{"$f":"+IF(SUMIFS(Sheet4!$FW$2:$FW$8408,Sheet4!$C$2:$C$8408,Sheet3!$B9,Sheet4!$E$2:$E$8408,Sheet3!DQ$4,Sheet4!$A$2:$A$8408,Sheet3!$B$1,Sheet4!$B$2:$B$8408,Sheet3!$A$3)<3,0,SUMIFS(Sheet4!$FW$2:$FW$8408,Sheet4!$C$2:$C$8408,Sheet3!$B9,Sheet4!$E$2:$E$8408,Sheet3!DQ$4,Sheet4!$A$2:$A$8408,Sheet3!$B$1,Sheet4!$B$2:$B$8408,Sheet3!$A$3))","v":0},{"$f":"+IF(SUMIFS(Sheet4!$FW$2:$FW$8408,Sheet4!$C$2:$C$8408,Sheet3!$B9,Sheet4!$E$2:$E$8408,Sheet3!DR$4,Sheet4!$A$2:$A$8408,Sheet3!$B$1,Sheet4!$B$2:$B$8408,Sheet3!$A$3)<3,0,SUMIFS(Sheet4!$FW$2:$FW$8408,Sheet4!$C$2:$C$8408,Sheet3!$B9,Sheet4!$E$2:$E$8408,Sheet3!DR$4,Sheet4!$A$2:$A$8408,Sheet3!$B$1,Sheet4!$B$2:$B$8408,Sheet3!$A$3))","v":0}]
[1,"119","Ave",{"$f":"+SUMIFS(Sheet4!$FV$2:$FV$8408,Sheet4!$C$2:$C$8408,Sheet3!$B10,Sheet4!$D$2:$D$8408,Sheet3!D$3,Sheet4!$E$2:$E$8408,Sheet3!D$4,Sheet4!$A$2:$A$8408,Sheet3!$B$1,Sheet4!$B$2:$B$8408,Sheet3!$A$3)","v":3},{"$f":"+SUMIFS(Sheet4!$FV$2:$FV$8408,Sheet4!$C$2:$C$8408,Sheet3!$B10,Sheet4!$D$2:$D$8408,Sheet3!E$3,Sheet4!$E$2:$E$8408,Sheet3!E$4,Sheet4!$A$2:$A$8408,Sheet3!$B$1,Sheet4!$B$2:$B$8408,Sheet3!$A$3)","v":0},{"$f":"+SUMIFS(Sheet4!$FV$2:$FV$8408,Sheet4!$C$2:$C$8408,Sheet3!$B10,Sheet4!$D$2:$D$8408,Sheet3!F$3,Sheet4!$E$2:$E$8408,Sheet3!F$4,Sheet4!$A$2:$A$8408,Sheet3!$B$1,Sheet4!$B$2:$B$8408,Sheet3!$A$3)","v":0},{"$f":"+SUMIFS(Sheet4!$FV$2:$FV$8408,Sheet4!$C$2:$C$8408,Sheet3!$B10,Sheet4!$D$2:$D$8408,Sheet3!G$3,Sheet4!$E$2:$E$8408,Sheet3!G$4,Sheet4!$A$2:$A$8408,Sheet3!$B$1,Sheet4!$B$2:$B$8408,Sheet3!$A$3)","v":0},{"$f":"+SUMIFS(Sheet4!$FV$2:$FV$8408,Sheet4!$C$2:$C$8408,Sheet3!$B10,Sheet4!$D$2:$D$8408,Sheet3!H$3,Sheet4!$E$2:$E$8408,Sheet3!H$4,Sheet4!$A$2:$A$8408,Sheet3!$B$1,Sheet4!$B$2:$B$8408,Sheet3!$A$3)","v":0},{"$f":"+SUMIFS(Sheet4!$FV$2:$FV$8408,Sheet4!$C$2:$C$8408,Sheet3!$B10,Sheet4!$D$2:$D$8408,Sheet3!I$3,Sheet4!$E$2:$E$8408,Sheet3!I$4,Sheet4!$A$2:$A$8408,Sheet3!$B$1,Sheet4!$B$2:$B$8408,Sheet3!$A$3)","v":390},{"$f":"+SUMIFS(Sheet4!$FV$2:$FV$8408,Sheet4!$C$2:$C$8408,Sheet3!$B10,Sheet4!$D$2:$D$8408,Sheet3!J$3,Sheet4!$E$2:$E$8408,Sheet3!J$4,Sheet4!$A$2:$A$8408,Sheet3!$B$1,Sheet4!$B$2:$B$8408,Sheet3!$A$3)","v":19},{"$f":"+SUMIFS(Sheet4!$FV$2:$FV$8408,Sheet4!$C$2:$C$8408,Sheet3!$B10,Sheet4!$D$2:$D$8408,Sheet3!K$3,Sheet4!$E$2:$E$8408,Sheet3!K$4,Sheet4!$A$2:$A$8408,Sheet3!$B$1,Sheet4!$B$2:$B$8408,Sheet3!$A$3)","v":0},{"$f":"+SUMIFS(Sheet4!$FV$2:$FV$8408,Sheet4!$C$2:$C$8408,Sheet3!$B10,Sheet4!$D$2:$D$8408,Sheet3!L$3,Sheet4!$E$2:$E$8408,Sheet3!L$4,Sheet4!$A$2:$A$8408,Sheet3!$B$1,Sheet4!$B$2:$B$8408,Sheet3!$A$3)","v":0},{"$f":"+SUMIFS(Sheet4!$FV$2:$FV$8408,Sheet4!$C$2:$C$8408,Sheet3!$B10,Sheet4!$D$2:$D$8408,Sheet3!M$3,Sheet4!$E$2:$E$8408,Sheet3!M$4,Sheet4!$A$2:$A$8408,Sheet3!$B$1,Sheet4!$B$2:$B$8408,Sheet3!$A$3)","v":0},{"$f":"+SUMIFS(Sheet4!$FV$2:$FV$8408,Sheet4!$C$2:$C$8408,Sheet3!$B10,Sheet4!$D$2:$D$8408,Sheet3!N$3,Sheet4!$E$2:$E$8408,Sheet3!N$4,Sheet4!$A$2:$A$8408,Sheet3!$B$1,Sheet4!$B$2:$B$8408,Sheet3!$A$3)","v":123},{"$f":"+SUMIFS(Sheet4!$FV$2:$FV$8408,Sheet4!$C$2:$C$8408,Sheet3!$B10,Sheet4!$D$2:$D$8408,Sheet3!O$3,Sheet4!$E$2:$E$8408,Sheet3!O$4,Sheet4!$A$2:$A$8408,Sheet3!$B$1,Sheet4!$B$2:$B$8408,Sheet3!$A$3)","v":4},{"$f":"+SUMIFS(Sheet4!$FV$2:$FV$8408,Sheet4!$C$2:$C$8408,Sheet3!$B10,Sheet4!$D$2:$D$8408,Sheet3!P$3,Sheet4!$E$2:$E$8408,Sheet3!P$4,Sheet4!$A$2:$A$8408,Sheet3!$B$1,Sheet4!$B$2:$B$8408,Sheet3!$A$3)","v":0},{"$f":"+SUMIFS(Sheet4!$FV$2:$FV$8408,Sheet4!$C$2:$C$8408,Sheet3!$B10,Sheet4!$D$2:$D$8408,Sheet3!Q$3,Sheet4!$E$2:$E$8408,Sheet3!Q$4,Sheet4!$A$2:$A$8408,Sheet3!$B$1,Sheet4!$B$2:$B$8408,Sheet3!$A$3)","v":0},{"$f":"+SUMIFS(Sheet4!$FV$2:$FV$8408,Sheet4!$C$2:$C$8408,Sheet3!$B10,Sheet4!$D$2:$D$8408,Sheet3!R$3,Sheet4!$E$2:$E$8408,Sheet3!R$4,Sheet4!$A$2:$A$8408,Sheet3!$B$1,Sheet4!$B$2:$B$8408,Sheet3!$A$3)","v":0},{"$f":"+SUMIFS(Sheet4!$FV$2:$FV$8408,Sheet4!$C$2:$C$8408,Sheet3!$B10,Sheet4!$D$2:$D$8408,Sheet3!S$3,Sheet4!$E$2:$E$8408,Sheet3!S$4,Sheet4!$A$2:$A$8408,Sheet3!$B$1,Sheet4!$B$2:$B$8408,Sheet3!$A$3)","v":0},{"$f":"+SUMIFS(Sheet4!$FV$2:$FV$8408,Sheet4!$C$2:$C$8408,Sheet3!$B10,Sheet4!$D$2:$D$8408,Sheet3!T$3,Sheet4!$E$2:$E$8408,Sheet3!T$4,Sheet4!$A$2:$A$8408,Sheet3!$B$1,Sheet4!$B$2:$B$8408,Sheet3!$A$3)","v":0},{"$f":"+SUMIFS(Sheet4!$FV$2:$FV$8408,Sheet4!$C$2:$C$8408,Sheet3!$B10,Sheet4!$D$2:$D$8408,Sheet3!U$3,Sheet4!$E$2:$E$8408,Sheet3!U$4,Sheet4!$A$2:$A$8408,Sheet3!$B$1,Sheet4!$B$2:$B$8408,Sheet3!$A$3)","v":0},{"$f":"+SUMIFS(Sheet4!$FV$2:$FV$8408,Sheet4!$C$2:$C$8408,Sheet3!$B10,Sheet4!$D$2:$D$8408,Sheet3!V$3,Sheet4!$E$2:$E$8408,Sheet3!V$4,Sheet4!$A$2:$A$8408,Sheet3!$B$1,Sheet4!$B$2:$B$8408,Sheet3!$A$3)","v":0},{"$f":"+SUMIFS(Sheet4!$FV$2:$FV$8408,Sheet4!$C$2:$C$8408,Sheet3!$B10,Sheet4!$D$2:$D$8408,Sheet3!W$3,Sheet4!$E$2:$E$8408,Sheet3!W$4,Sheet4!$A$2:$A$8408,Sheet3!$B$1,Sheet4!$B$2:$B$8408,Sheet3!$A$3)","v":0},{"$f":"+SUMIFS(Sheet4!$FV$2:$FV$8408,Sheet4!$C$2:$C$8408,Sheet3!$B10,Sheet4!$D$2:$D$8408,Sheet3!X$3,Sheet4!$E$2:$E$8408,Sheet3!X$4,Sheet4!$A$2:$A$8408,Sheet3!$B$1,Sheet4!$B$2:$B$8408,Sheet3!$A$3)","v":0},{"$f":"+SUMIFS(Sheet4!$FV$2:$FV$8408,Sheet4!$C$2:$C$8408,Sheet3!$B10,Sheet4!$D$2:$D$8408,Sheet3!Y$3,Sheet4!$E$2:$E$8408,Sheet3!Y$4,Sheet4!$A$2:$A$8408,Sheet3!$B$1,Sheet4!$B$2:$B$8408,Sheet3!$A$3)","v":0},{"$f":"+SUMIFS(Sheet4!$FV$2:$FV$8408,Sheet4!$C$2:$C$8408,Sheet3!$B10,Sheet4!$D$2:$D$8408,Sheet3!Z$3,Sheet4!$E$2:$E$8408,Sheet3!Z$4,Sheet4!$A$2:$A$8408,Sheet3!$B$1,Sheet4!$B$2:$B$8408,Sheet3!$A$3)","v":0},{"$f":"+SUMIFS(Sheet4!$FV$2:$FV$8408,Sheet4!$C$2:$C$8408,Sheet3!$B10,Sheet4!$D$2:$D$8408,Sheet3!AA$3,Sheet4!$E$2:$E$8408,Sheet3!AA$4,Sheet4!$A$2:$A$8408,Sheet3!$B$1,Sheet4!$B$2:$B$8408,Sheet3!$A$3)","v":0},{"$f":"+SUMIFS(Sheet4!$FV$2:$FV$8408,Sheet4!$C$2:$C$8408,Sheet3!$B10,Sheet4!$D$2:$D$8408,Sheet3!AB$3,Sheet4!$E$2:$E$8408,Sheet3!AB$4,Sheet4!$A$2:$A$8408,Sheet3!$B$1,Sheet4!$B$2:$B$8408,Sheet3!$A$3)","v":0},{"$f":"+SUMIFS(Sheet4!$FV$2:$FV$8408,Sheet4!$C$2:$C$8408,Sheet3!$B10,Sheet4!$D$2:$D$8408,Sheet3!AC$3,Sheet4!$E$2:$E$8408,Sheet3!AC$4,Sheet4!$A$2:$A$8408,Sheet3!$B$1,Sheet4!$B$2:$B$8408,Sheet3!$A$3)","v":136},{"$f":"+SUMIFS(Sheet4!$FV$2:$FV$8408,Sheet4!$C$2:$C$8408,Sheet3!$B10,Sheet4!$D$2:$D$8408,Sheet3!AD$3,Sheet4!$E$2:$E$8408,Sheet3!AD$4,Sheet4!$A$2:$A$8408,Sheet3!$B$1,Sheet4!$B$2:$B$8408,Sheet3!$A$3)","v":13},{"$f":"+SUMIFS(Sheet4!$FV$2:$FV$8408,Sheet4!$C$2:$C$8408,Sheet3!$B10,Sheet4!$D$2:$D$8408,Sheet3!AE$3,Sheet4!$E$2:$E$8408,Sheet3!AE$4,Sheet4!$A$2:$A$8408,Sheet3!$B$1,Sheet4!$B$2:$B$8408,Sheet3!$A$3)","v":0},{"$f":"+SUMIFS(Sheet4!$FV$2:$FV$8408,Sheet4!$C$2:$C$8408,Sheet3!$B10,Sheet4!$D$2:$D$8408,Sheet3!AF$3,Sheet4!$E$2:$E$8408,Sheet3!AF$4,Sheet4!$A$2:$A$8408,Sheet3!$B$1,Sheet4!$B$2:$B$8408,Sheet3!$A$3)","v":0},{"$f":"+SUMIFS(Sheet4!$FV$2:$FV$8408,Sheet4!$C$2:$C$8408,Sheet3!$B10,Sheet4!$D$2:$D$8408,Sheet3!AG$3,Sheet4!$E$2:$E$8408,Sheet3!AG$4,Sheet4!$A$2:$A$8408,Sheet3!$B$1,Sheet4!$B$2:$B$8408,Sheet3!$A$3)","v":0},{"$f":"+SUMIFS(Sheet4!$FV$2:$FV$8408,Sheet4!$C$2:$C$8408,Sheet3!$B10,Sheet4!$D$2:$D$8408,Sheet3!AH$3,Sheet4!$E$2:$E$8408,Sheet3!AH$4,Sheet4!$A$2:$A$8408,Sheet3!$B$1,Sheet4!$B$2:$B$8408,Sheet3!$A$3)","v":215},{"$f":"+SUMIFS(Sheet4!$FV$2:$FV$8408,Sheet4!$C$2:$C$8408,Sheet3!$B10,Sheet4!$D$2:$D$8408,Sheet3!AI$3,Sheet4!$E$2:$E$8408,Sheet3!AI$4,Sheet4!$A$2:$A$8408,Sheet3!$B$1,Sheet4!$B$2:$B$8408,Sheet3!$A$3)","v":81},{"$f":"+SUMIFS(Sheet4!$FV$2:$FV$8408,Sheet4!$C$2:$C$8408,Sheet3!$B10,Sheet4!$D$2:$D$8408,Sheet3!AJ$3,Sheet4!$E$2:$E$8408,Sheet3!AJ$4,Sheet4!$A$2:$A$8408,Sheet3!$B$1,Sheet4!$B$2:$B$8408,Sheet3!$A$3)","v":10},{"$f":"+SUMIFS(Sheet4!$FV$2:$FV$8408,Sheet4!$C$2:$C$8408,Sheet3!$B10,Sheet4!$D$2:$D$8408,Sheet3!AK$3,Sheet4!$E$2:$E$8408,Sheet3!AK$4,Sheet4!$A$2:$A$8408,Sheet3!$B$1,Sheet4!$B$2:$B$8408,Sheet3!$A$3)","v":0},{"$f":"+SUMIFS(Sheet4!$FV$2:$FV$8408,Sheet4!$C$2:$C$8408,Sheet3!$B10,Sheet4!$D$2:$D$8408,Sheet3!AL$3,Sheet4!$E$2:$E$8408,Sheet3!AL$4,Sheet4!$A$2:$A$8408,Sheet3!$B$1,Sheet4!$B$2:$B$8408,Sheet3!$A$3)","v":0},{"$f":"+SUMIFS(Sheet4!$FV$2:$FV$8408,Sheet4!$C$2:$C$8408,Sheet3!$B10,Sheet4!$D$2:$D$8408,Sheet3!AM$3,Sheet4!$E$2:$E$8408,Sheet3!AM$4,Sheet4!$A$2:$A$8408,Sheet3!$B$1,Sheet4!$B$2:$B$8408,Sheet3!$A$3)","v":159},{"$f":"+SUMIFS(Sheet4!$FV$2:$FV$8408,Sheet4!$C$2:$C$8408,Sheet3!$B10,Sheet4!$D$2:$D$8408,Sheet3!AN$3,Sheet4!$E$2:$E$8408,Sheet3!AN$4,Sheet4!$A$2:$A$8408,Sheet3!$B$1,Sheet4!$B$2:$B$8408,Sheet3!$A$3)","v":32},{"$f":"+SUMIFS(Sheet4!$FV$2:$FV$8408,Sheet4!$C$2:$C$8408,Sheet3!$B10,Sheet4!$D$2:$D$8408,Sheet3!AO$3,Sheet4!$E$2:$E$8408,Sheet3!AO$4,Sheet4!$A$2:$A$8408,Sheet3!$B$1,Sheet4!$B$2:$B$8408,Sheet3!$A$3)","v":3},{"$f":"+SUMIFS(Sheet4!$FV$2:$FV$8408,Sheet4!$C$2:$C$8408,Sheet3!$B10,Sheet4!$D$2:$D$8408,Sheet3!AP$3,Sheet4!$E$2:$E$8408,Sheet3!AP$4,Sheet4!$A$2:$A$8408,Sheet3!$B$1,Sheet4!$B$2:$B$8408,Sheet3!$A$3)","v":0},{"$f":"+SUMIFS(Sheet4!$FV$2:$FV$8408,Sheet4!$C$2:$C$8408,Sheet3!$B10,Sheet4!$D$2:$D$8408,Sheet3!AQ$3,Sheet4!$E$2:$E$8408,Sheet3!AQ$4,Sheet4!$A$2:$A$8408,Sheet3!$B$1,Sheet4!$B$2:$B$8408,Sheet3!$A$3)","v":0},{"$f":"+SUMIFS(Sheet4!$FV$2:$FV$8408,Sheet4!$C$2:$C$8408,Sheet3!$B10,Sheet4!$D$2:$D$8408,Sheet3!AR$3,Sheet4!$E$2:$E$8408,Sheet3!AR$4,Sheet4!$A$2:$A$8408,Sheet3!$B$1,Sheet4!$B$2:$B$8408,Sheet3!$A$3)","v":3},{"$f":"+SUMIFS(Sheet4!$FV$2:$FV$8408,Sheet4!$C$2:$C$8408,Sheet3!$B10,Sheet4!$D$2:$D$8408,Sheet3!AS$3,Sheet4!$E$2:$E$8408,Sheet3!AS$4,Sheet4!$A$2:$A$8408,Sheet3!$B$1,Sheet4!$B$2:$B$8408,Sheet3!$A$3)","v":0},{"$f":"+SUMIFS(Sheet4!$FV$2:$FV$8408,Sheet4!$C$2:$C$8408,Sheet3!$B10,Sheet4!$D$2:$D$8408,Sheet3!AT$3,Sheet4!$E$2:$E$8408,Sheet3!AT$4,Sheet4!$A$2:$A$8408,Sheet3!$B$1,Sheet4!$B$2:$B$8408,Sheet3!$A$3)","v":0},{"$f":"+SUMIFS(Sheet4!$FV$2:$FV$8408,Sheet4!$C$2:$C$8408,Sheet3!$B10,Sheet4!$D$2:$D$8408,Sheet3!AU$3,Sheet4!$E$2:$E$8408,Sheet3!AU$4,Sheet4!$A$2:$A$8408,Sheet3!$B$1,Sheet4!$B$2:$B$8408,Sheet3!$A$3)","v":0},{"$f":"+SUMIFS(Sheet4!$FV$2:$FV$8408,Sheet4!$C$2:$C$8408,Sheet3!$B10,Sheet4!$D$2:$D$8408,Sheet3!AV$3,Sheet4!$E$2:$E$8408,Sheet3!AV$4,Sheet4!$A$2:$A$8408,Sheet3!$B$1,Sheet4!$B$2:$B$8408,Sheet3!$A$3)","v":0},{"$f":"+SUMIFS(Sheet4!$FV$2:$FV$8408,Sheet4!$C$2:$C$8408,Sheet3!$B10,Sheet4!$D$2:$D$8408,Sheet3!AW$3,Sheet4!$E$2:$E$8408,Sheet3!AW$4,Sheet4!$A$2:$A$8408,Sheet3!$B$1,Sheet4!$B$2:$B$8408,Sheet3!$A$3)","v":777},{"$f":"+SUMIFS(Sheet4!$FV$2:$FV$8408,Sheet4!$C$2:$C$8408,Sheet3!$B10,Sheet4!$D$2:$D$8408,Sheet3!AX$3,Sheet4!$E$2:$E$8408,Sheet3!AX$4,Sheet4!$A$2:$A$8408,Sheet3!$B$1,Sheet4!$B$2:$B$8408,Sheet3!$A$3)","v":58},{"$f":"+SUMIFS(Sheet4!$FV$2:$FV$8408,Sheet4!$C$2:$C$8408,Sheet3!$B10,Sheet4!$D$2:$D$8408,Sheet3!AY$3,Sheet4!$E$2:$E$8408,Sheet3!AY$4,Sheet4!$A$2:$A$8408,Sheet3!$B$1,Sheet4!$B$2:$B$8408,Sheet3!$A$3)","v":4},{"$f":"+SUMIFS(Sheet4!$FV$2:$FV$8408,Sheet4!$C$2:$C$8408,Sheet3!$B10,Sheet4!$D$2:$D$8408,Sheet3!AZ$3,Sheet4!$E$2:$E$8408,Sheet3!AZ$4,Sheet4!$A$2:$A$8408,Sheet3!$B$1,Sheet4!$B$2:$B$8408,Sheet3!$A$3)","v":0},{"$f":"+SUMIFS(Sheet4!$FV$2:$FV$8408,Sheet4!$C$2:$C$8408,Sheet3!$B10,Sheet4!$D$2:$D$8408,Sheet3!BA$3,Sheet4!$E$2:$E$8408,Sheet3!BA$4,Sheet4!$A$2:$A$8408,Sheet3!$B$1,Sheet4!$B$2:$B$8408,Sheet3!$A$3)","v":0},{"$f":"+SUMIFS(Sheet4!$FV$2:$FV$8408,Sheet4!$C$2:$C$8408,Sheet3!$B10,Sheet4!$D$2:$D$8408,Sheet3!BB$3,Sheet4!$E$2:$E$8408,Sheet3!BB$4,Sheet4!$A$2:$A$8408,Sheet3!$B$1,Sheet4!$B$2:$B$8408,Sheet3!$A$3)","v":25},{"$f":"+SUMIFS(Sheet4!$FV$2:$FV$8408,Sheet4!$C$2:$C$8408,Sheet3!$B10,Sheet4!$D$2:$D$8408,Sheet3!BC$3,Sheet4!$E$2:$E$8408,Sheet3!BC$4,Sheet4!$A$2:$A$8408,Sheet3!$B$1,Sheet4!$B$2:$B$8408,Sheet3!$A$3)","v":95},{"$f":"+SUMIFS(Sheet4!$FV$2:$FV$8408,Sheet4!$C$2:$C$8408,Sheet3!$B10,Sheet4!$D$2:$D$8408,Sheet3!BD$3,Sheet4!$E$2:$E$8408,Sheet3!BD$4,Sheet4!$A$2:$A$8408,Sheet3!$B$1,Sheet4!$B$2:$B$8408,Sheet3!$A$3)","v":5},{"$f":"+SUMIFS(Sheet4!$FV$2:$FV$8408,Sheet4!$C$2:$C$8408,Sheet3!$B10,Sheet4!$D$2:$D$8408,Sheet3!BE$3,Sheet4!$E$2:$E$8408,Sheet3!BE$4,Sheet4!$A$2:$A$8408,Sheet3!$B$1,Sheet4!$B$2:$B$8408,Sheet3!$A$3)","v":0},{"$f":"+SUMIFS(Sheet4!$FV$2:$FV$8408,Sheet4!$C$2:$C$8408,Sheet3!$B10,Sheet4!$D$2:$D$8408,Sheet3!BF$3,Sheet4!$E$2:$E$8408,Sheet3!BF$4,Sheet4!$A$2:$A$8408,Sheet3!$B$1,Sheet4!$B$2:$B$8408,Sheet3!$A$3)","v":0},{"$f":"+SUMIFS(Sheet4!$FV$2:$FV$8408,Sheet4!$C$2:$C$8408,Sheet3!$B10,Sheet4!$D$2:$D$8408,Sheet3!BG$3,Sheet4!$E$2:$E$8408,Sheet3!BG$4,Sheet4!$A$2:$A$8408,Sheet3!$B$1,Sheet4!$B$2:$B$8408,Sheet3!$A$3)","v":163},{"$f":"+SUMIFS(Sheet4!$FV$2:$FV$8408,Sheet4!$C$2:$C$8408,Sheet3!$B10,Sheet4!$D$2:$D$8408,Sheet3!BH$3,Sheet4!$E$2:$E$8408,Sheet3!BH$4,Sheet4!$A$2:$A$8408,Sheet3!$B$1,Sheet4!$B$2:$B$8408,Sheet3!$A$3)","v":115},{"$f":"+SUMIFS(Sheet4!$FV$2:$FV$8408,Sheet4!$C$2:$C$8408,Sheet3!$B10,Sheet4!$D$2:$D$8408,Sheet3!BI$3,Sheet4!$E$2:$E$8408,Sheet3!BI$4,Sheet4!$A$2:$A$8408,Sheet3!$B$1,Sheet4!$B$2:$B$8408,Sheet3!$A$3)","v":0},{"$f":"+SUMIFS(Sheet4!$FV$2:$FV$8408,Sheet4!$C$2:$C$8408,Sheet3!$B10,Sheet4!$D$2:$D$8408,Sheet3!BJ$3,Sheet4!$E$2:$E$8408,Sheet3!BJ$4,Sheet4!$A$2:$A$8408,Sheet3!$B$1,Sheet4!$B$2:$B$8408,Sheet3!$A$3)","v":0},{"$f":"+SUMIFS(Sheet4!$FV$2:$FV$8408,Sheet4!$C$2:$C$8408,Sheet3!$B10,Sheet4!$D$2:$D$8408,Sheet3!BK$3,Sheet4!$E$2:$E$8408,Sheet3!BK$4,Sheet4!$A$2:$A$8408,Sheet3!$B$1,Sheet4!$B$2:$B$8408,Sheet3!$A$3)","v":0},{"$f":"+SUMIFS(Sheet4!$FV$2:$FV$8408,Sheet4!$C$2:$C$8408,Sheet3!$B10,Sheet4!$D$2:$D$8408,Sheet3!BL$3,Sheet4!$E$2:$E$8408,Sheet3!BL$4,Sheet4!$A$2:$A$8408,Sheet3!$B$1,Sheet4!$B$2:$B$8408,Sheet3!$A$3)","v":181},{"$f":"+SUMIFS(Sheet4!$FV$2:$FV$8408,Sheet4!$C$2:$C$8408,Sheet3!$B10,Sheet4!$D$2:$D$8408,Sheet3!BM$3,Sheet4!$E$2:$E$8408,Sheet3!BM$4,Sheet4!$A$2:$A$8408,Sheet3!$B$1,Sheet4!$B$2:$B$8408,Sheet3!$A$3)","v":26},{"$f":"+SUMIFS(Sheet4!$FV$2:$FV$8408,Sheet4!$C$2:$C$8408,Sheet3!$B10,Sheet4!$D$2:$D$8408,Sheet3!BN$3,Sheet4!$E$2:$E$8408,Sheet3!BN$4,Sheet4!$A$2:$A$8408,Sheet3!$B$1,Sheet4!$B$2:$B$8408,Sheet3!$A$3)","v":0},{"$f":"+SUMIFS(Sheet4!$FV$2:$FV$8408,Sheet4!$C$2:$C$8408,Sheet3!$B10,Sheet4!$D$2:$D$8408,Sheet3!BO$3,Sheet4!$E$2:$E$8408,Sheet3!BO$4,Sheet4!$A$2:$A$8408,Sheet3!$B$1,Sheet4!$B$2:$B$8408,Sheet3!$A$3)","v":0},{"$f":"+SUMIFS(Sheet4!$FV$2:$FV$8408,Sheet4!$C$2:$C$8408,Sheet3!$B10,Sheet4!$D$2:$D$8408,Sheet3!BP$3,Sheet4!$E$2:$E$8408,Sheet3!BP$4,Sheet4!$A$2:$A$8408,Sheet3!$B$1,Sheet4!$B$2:$B$8408,Sheet3!$A$3)","v":0},{"$f":"+SUMIFS(Sheet4!$FV$2:$FV$8408,Sheet4!$C$2:$C$8408,Sheet3!$B10,Sheet4!$D$2:$D$8408,Sheet3!BQ$3,Sheet4!$E$2:$E$8408,Sheet3!BQ$4,Sheet4!$A$2:$A$8408,Sheet3!$B$1,Sheet4!$B$2:$B$8408,Sheet3!$A$3)","v":246},{"$f":"+SUMIFS(Sheet4!$FV$2:$FV$8408,Sheet4!$C$2:$C$8408,Sheet3!$B10,Sheet4!$D$2:$D$8408,Sheet3!BR$3,Sheet4!$E$2:$E$8408,Sheet3!BR$4,Sheet4!$A$2:$A$8408,Sheet3!$B$1,Sheet4!$B$2:$B$8408,Sheet3!$A$3)","v":244},{"$f":"+SUMIFS(Sheet4!$FV$2:$FV$8408,Sheet4!$C$2:$C$8408,Sheet3!$B10,Sheet4!$D$2:$D$8408,Sheet3!BS$3,Sheet4!$E$2:$E$8408,Sheet3!BS$4,Sheet4!$A$2:$A$8408,Sheet3!$B$1,Sheet4!$B$2:$B$8408,Sheet3!$A$3)","v":16},{"$f":"+SUMIFS(Sheet4!$FV$2:$FV$8408,Sheet4!$C$2:$C$8408,Sheet3!$B10,Sheet4!$D$2:$D$8408,Sheet3!BT$3,Sheet4!$E$2:$E$8408,Sheet3!BT$4,Sheet4!$A$2:$A$8408,Sheet3!$B$1,Sheet4!$B$2:$B$8408,Sheet3!$A$3)","v":0},{"$f":"+SUMIFS(Sheet4!$FV$2:$FV$8408,Sheet4!$C$2:$C$8408,Sheet3!$B10,Sheet4!$D$2:$D$8408,Sheet3!BU$3,Sheet4!$E$2:$E$8408,Sheet3!BU$4,Sheet4!$A$2:$A$8408,Sheet3!$B$1,Sheet4!$B$2:$B$8408,Sheet3!$A$3)","v":0},{"$f":"+SUMIFS(Sheet4!$FV$2:$FV$8408,Sheet4!$C$2:$C$8408,Sheet3!$B10,Sheet4!$D$2:$D$8408,Sheet3!BV$3,Sheet4!$E$2:$E$8408,Sheet3!BV$4,Sheet4!$A$2:$A$8408,Sheet3!$B$1,Sheet4!$B$2:$B$8408,Sheet3!$A$3)","v":489},{"$f":"+SUMIFS(Sheet4!$FV$2:$FV$8408,Sheet4!$C$2:$C$8408,Sheet3!$B10,Sheet4!$D$2:$D$8408,Sheet3!BW$3,Sheet4!$E$2:$E$8408,Sheet3!BW$4,Sheet4!$A$2:$A$8408,Sheet3!$B$1,Sheet4!$B$2:$B$8408,Sheet3!$A$3)","v":210},{"$f":"+SUMIFS(Sheet4!$FV$2:$FV$8408,Sheet4!$C$2:$C$8408,Sheet3!$B10,Sheet4!$D$2:$D$8408,Sheet3!BX$3,Sheet4!$E$2:$E$8408,Sheet3!BX$4,Sheet4!$A$2:$A$8408,Sheet3!$B$1,Sheet4!$B$2:$B$8408,Sheet3!$A$3)","v":12},{"$f":"+SUMIFS(Sheet4!$FV$2:$FV$8408,Sheet4!$C$2:$C$8408,Sheet3!$B10,Sheet4!$D$2:$D$8408,Sheet3!BY$3,Sheet4!$E$2:$E$8408,Sheet3!BY$4,Sheet4!$A$2:$A$8408,Sheet3!$B$1,Sheet4!$B$2:$B$8408,Sheet3!$A$3)","v":0},{"$f":"+SUMIFS(Sheet4!$FV$2:$FV$8408,Sheet4!$C$2:$C$8408,Sheet3!$B10,Sheet4!$D$2:$D$8408,Sheet3!BZ$3,Sheet4!$E$2:$E$8408,Sheet3!BZ$4,Sheet4!$A$2:$A$8408,Sheet3!$B$1,Sheet4!$B$2:$B$8408,Sheet3!$A$3)","v":0},{"$f":"+SUMIFS(Sheet4!$FV$2:$FV$8408,Sheet4!$C$2:$C$8408,Sheet3!$B10,Sheet4!$D$2:$D$8408,Sheet3!CA$3,Sheet4!$E$2:$E$8408,Sheet3!CA$4,Sheet4!$A$2:$A$8408,Sheet3!$B$1,Sheet4!$B$2:$B$8408,Sheet3!$A$3)","v":392},{"$f":"+SUMIFS(Sheet4!$FV$2:$FV$8408,Sheet4!$C$2:$C$8408,Sheet3!$B10,Sheet4!$D$2:$D$8408,Sheet3!CB$3,Sheet4!$E$2:$E$8408,Sheet3!CB$4,Sheet4!$A$2:$A$8408,Sheet3!$B$1,Sheet4!$B$2:$B$8408,Sheet3!$A$3)","v":67},{"$f":"+SUMIFS(Sheet4!$FV$2:$FV$8408,Sheet4!$C$2:$C$8408,Sheet3!$B10,Sheet4!$D$2:$D$8408,Sheet3!CC$3,Sheet4!$E$2:$E$8408,Sheet3!CC$4,Sheet4!$A$2:$A$8408,Sheet3!$B$1,Sheet4!$B$2:$B$8408,Sheet3!$A$3)","v":6},{"$f":"+SUMIFS(Sheet4!$FV$2:$FV$8408,Sheet4!$C$2:$C$8408,Sheet3!$B10,Sheet4!$D$2:$D$8408,Sheet3!CD$3,Sheet4!$E$2:$E$8408,Sheet3!CD$4,Sheet4!$A$2:$A$8408,Sheet3!$B$1,Sheet4!$B$2:$B$8408,Sheet3!$A$3)","v":0},{"$f":"+SUMIFS(Sheet4!$FV$2:$FV$8408,Sheet4!$C$2:$C$8408,Sheet3!$B10,Sheet4!$D$2:$D$8408,Sheet3!CE$3,Sheet4!$E$2:$E$8408,Sheet3!CE$4,Sheet4!$A$2:$A$8408,Sheet3!$B$1,Sheet4!$B$2:$B$8408,Sheet3!$A$3)","v":0},{"$f":"+SUMIFS(Sheet4!$FV$2:$FV$8408,Sheet4!$C$2:$C$8408,Sheet3!$B10,Sheet4!$D$2:$D$8408,Sheet3!CF$3,Sheet4!$E$2:$E$8408,Sheet3!CF$4,Sheet4!$A$2:$A$8408,Sheet3!$B$1,Sheet4!$B$2:$B$8408,Sheet3!$A$3)","v":565},{"$f":"+SUMIFS(Sheet4!$FV$2:$FV$8408,Sheet4!$C$2:$C$8408,Sheet3!$B10,Sheet4!$D$2:$D$8408,Sheet3!CG$3,Sheet4!$E$2:$E$8408,Sheet3!CG$4,Sheet4!$A$2:$A$8408,Sheet3!$B$1,Sheet4!$B$2:$B$8408,Sheet3!$A$3)","v":51},{"$f":"+SUMIFS(Sheet4!$FV$2:$FV$8408,Sheet4!$C$2:$C$8408,Sheet3!$B10,Sheet4!$D$2:$D$8408,Sheet3!CH$3,Sheet4!$E$2:$E$8408,Sheet3!CH$4,Sheet4!$A$2:$A$8408,Sheet3!$B$1,Sheet4!$B$2:$B$8408,Sheet3!$A$3)","v":0},{"$f":"+SUMIFS(Sheet4!$FV$2:$FV$8408,Sheet4!$C$2:$C$8408,Sheet3!$B10,Sheet4!$D$2:$D$8408,Sheet3!CI$3,Sheet4!$E$2:$E$8408,Sheet3!CI$4,Sheet4!$A$2:$A$8408,Sheet3!$B$1,Sheet4!$B$2:$B$8408,Sheet3!$A$3)","v":0},{"$f":"+SUMIFS(Sheet4!$FV$2:$FV$8408,Sheet4!$C$2:$C$8408,Sheet3!$B10,Sheet4!$D$2:$D$8408,Sheet3!CJ$3,Sheet4!$E$2:$E$8408,Sheet3!CJ$4,Sheet4!$A$2:$A$8408,Sheet3!$B$1,Sheet4!$B$2:$B$8408,Sheet3!$A$3)","v":0},{"$f":"+SUMIFS(Sheet4!$FV$2:$FV$8408,Sheet4!$C$2:$C$8408,Sheet3!$B10,Sheet4!$D$2:$D$8408,Sheet3!CK$3,Sheet4!$E$2:$E$8408,Sheet3!CK$4,Sheet4!$A$2:$A$8408,Sheet3!$B$1,Sheet4!$B$2:$B$8408,Sheet3!$A$3)","v":0},{"$f":"+SUMIFS(Sheet4!$FV$2:$FV$8408,Sheet4!$C$2:$C$8408,Sheet3!$B10,Sheet4!$D$2:$D$8408,Sheet3!CL$3,Sheet4!$E$2:$E$8408,Sheet3!CL$4,Sheet4!$A$2:$A$8408,Sheet3!$B$1,Sheet4!$B$2:$B$8408,Sheet3!$A$3)","v":0},{"$f":"+SUMIFS(Sheet4!$FV$2:$FV$8408,Sheet4!$C$2:$C$8408,Sheet3!$B10,Sheet4!$D$2:$D$8408,Sheet3!CM$3,Sheet4!$E$2:$E$8408,Sheet3!CM$4,Sheet4!$A$2:$A$8408,Sheet3!$B$1,Sheet4!$B$2:$B$8408,Sheet3!$A$3)","v":0},{"$f":"+SUMIFS(Sheet4!$FV$2:$FV$8408,Sheet4!$C$2:$C$8408,Sheet3!$B10,Sheet4!$D$2:$D$8408,Sheet3!CN$3,Sheet4!$E$2:$E$8408,Sheet3!CN$4,Sheet4!$A$2:$A$8408,Sheet3!$B$1,Sheet4!$B$2:$B$8408,Sheet3!$A$3)","v":0},{"$f":"+SUMIFS(Sheet4!$FV$2:$FV$8408,Sheet4!$C$2:$C$8408,Sheet3!$B10,Sheet4!$D$2:$D$8408,Sheet3!CO$3,Sheet4!$E$2:$E$8408,Sheet3!CO$4,Sheet4!$A$2:$A$8408,Sheet3!$B$1,Sheet4!$B$2:$B$8408,Sheet3!$A$3)","v":0},{"$f":"+SUMIFS(Sheet4!$FV$2:$FV$8408,Sheet4!$C$2:$C$8408,Sheet3!$B10,Sheet4!$D$2:$D$8408,Sheet3!CP$3,Sheet4!$E$2:$E$8408,Sheet3!CP$4,Sheet4!$A$2:$A$8408,Sheet3!$B$1,Sheet4!$B$2:$B$8408,Sheet3!$A$3)","v":0},{"$f":"+SUMIFS(Sheet4!$FV$2:$FV$8408,Sheet4!$C$2:$C$8408,Sheet3!$B10,Sheet4!$D$2:$D$8408,Sheet3!CQ$3,Sheet4!$E$2:$E$8408,Sheet3!CQ$4,Sheet4!$A$2:$A$8408,Sheet3!$B$1,Sheet4!$B$2:$B$8408,Sheet3!$A$3)","v":0},{"$f":"+SUMIFS(Sheet4!$FV$2:$FV$8408,Sheet4!$C$2:$C$8408,Sheet3!$B10,Sheet4!$D$2:$D$8408,Sheet3!CR$3,Sheet4!$E$2:$E$8408,Sheet3!CR$4,Sheet4!$A$2:$A$8408,Sheet3!$B$1,Sheet4!$B$2:$B$8408,Sheet3!$A$3)","v":0},{"$f":"+SUMIFS(Sheet4!$FV$2:$FV$8408,Sheet4!$C$2:$C$8408,Sheet3!$B10,Sheet4!$D$2:$D$8408,Sheet3!CS$3,Sheet4!$E$2:$E$8408,Sheet3!CS$4,Sheet4!$A$2:$A$8408,Sheet3!$B$1,Sheet4!$B$2:$B$8408,Sheet3!$A$3)","v":0},{"$f":"+SUMIFS(Sheet4!$FV$2:$FV$8408,Sheet4!$C$2:$C$8408,Sheet3!$B10,Sheet4!$D$2:$D$8408,Sheet3!CT$3,Sheet4!$E$2:$E$8408,Sheet3!CT$4,Sheet4!$A$2:$A$8408,Sheet3!$B$1,Sheet4!$B$2:$B$8408,Sheet3!$A$3)","v":0},{"$f":"+IF(SUMIFS(Sheet4!$FW$2:$FW$8408,Sheet4!$C$2:$C$8408,Sheet3!$B10,Sheet4!$D$2:$D$8408,Sheet3!CU$3,Sheet4!$A$2:$A$8408,Sheet3!$B$1,Sheet4!$B$2:$B$8408,Sheet3!$A$3)<3,0,SUMIFS(Sheet4!$FW$2:$FW$8408,Sheet4!$C$2:$C$8408,Sheet3!$B10,Sheet4!$D$2:$D$8408,Sheet3!CU$3,Sheet4!$A$2:$A$8408,Sheet3!$B$1,Sheet4!$B$2:$B$8408,Sheet3!$A$3))","v":8},{"$f":"+IF(SUMIFS(Sheet4!$FW$2:$FW$8408,Sheet4!$C$2:$C$8408,Sheet3!$B10,Sheet4!$D$2:$D$8408,Sheet3!CV$3,Sheet4!$A$2:$A$8408,Sheet3!$B$1,Sheet4!$B$2:$B$8408,Sheet3!$A$3)<3,0,SUMIFS(Sheet4!$FW$2:$FW$8408,Sheet4!$C$2:$C$8408,Sheet3!$B10,Sheet4!$D$2:$D$8408,Sheet3!CV$3,Sheet4!$A$2:$A$8408,Sheet3!$B$1,Sheet4!$B$2:$B$8408,Sheet3!$A$3))","v":411},{"$f":"+IF(SUMIFS(Sheet4!$FW$2:$FW$8408,Sheet4!$C$2:$C$8408,Sheet3!$B10,Sheet4!$D$2:$D$8408,Sheet3!CW$3,Sheet4!$A$2:$A$8408,Sheet3!$B$1,Sheet4!$B$2:$B$8408,Sheet3!$A$3)<3,0,SUMIFS(Sheet4!$FW$2:$FW$8408,Sheet4!$C$2:$C$8408,Sheet3!$B10,Sheet4!$D$2:$D$8408,Sheet3!CW$3,Sheet4!$A$2:$A$8408,Sheet3!$B$1,Sheet4!$B$2:$B$8408,Sheet3!$A$3))","v":129},{"$f":"+IF(SUMIFS(Sheet4!$FW$2:$FW$8408,Sheet4!$C$2:$C$8408,Sheet3!$B10,Sheet4!$D$2:$D$8408,Sheet3!CX$3,Sheet4!$A$2:$A$8408,Sheet3!$B$1,Sheet4!$B$2:$B$8408,Sheet3!$A$3)<3,0,SUMIFS(Sheet4!$FW$2:$FW$8408,Sheet4!$C$2:$C$8408,Sheet3!$B10,Sheet4!$D$2:$D$8408,Sheet3!CX$3,Sheet4!$A$2:$A$8408,Sheet3!$B$1,Sheet4!$B$2:$B$8408,Sheet3!$A$3))","v":0},{"$f":"+IF(SUMIFS(Sheet4!$FW$2:$FW$8408,Sheet4!$C$2:$C$8408,Sheet3!$B10,Sheet4!$D$2:$D$8408,Sheet3!CY$3,Sheet4!$A$2:$A$8408,Sheet3!$B$1,Sheet4!$B$2:$B$8408,Sheet3!$A$3)<3,0,SUMIFS(Sheet4!$FW$2:$FW$8408,Sheet4!$C$2:$C$8408,Sheet3!$B10,Sheet4!$D$2:$D$8408,Sheet3!CY$3,Sheet4!$A$2:$A$8408,Sheet3!$B$1,Sheet4!$B$2:$B$8408,Sheet3!$A$3))","v":0},{"$f":"+IF(SUMIFS(Sheet4!$FW$2:$FW$8408,Sheet4!$C$2:$C$8408,Sheet3!$B10,Sheet4!$D$2:$D$8408,Sheet3!CZ$3,Sheet4!$A$2:$A$8408,Sheet3!$B$1,Sheet4!$B$2:$B$8408,Sheet3!$A$3)<3,0,SUMIFS(Sheet4!$FW$2:$FW$8408,Sheet4!$C$2:$C$8408,Sheet3!$B10,Sheet4!$D$2:$D$8408,Sheet3!CZ$3,Sheet4!$A$2:$A$8408,Sheet3!$B$1,Sheet4!$B$2:$B$8408,Sheet3!$A$3))","v":154},{"$f":"+IF(SUMIFS(Sheet4!$FW$2:$FW$8408,Sheet4!$C$2:$C$8408,Sheet3!$B10,Sheet4!$D$2:$D$8408,Sheet3!DA$3,Sheet4!$A$2:$A$8408,Sheet3!$B$1,Sheet4!$B$2:$B$8408,Sheet3!$A$3)<3,0,SUMIFS(Sheet4!$FW$2:$FW$8408,Sheet4!$C$2:$C$8408,Sheet3!$B10,Sheet4!$D$2:$D$8408,Sheet3!DA$3,Sheet4!$A$2:$A$8408,Sheet3!$B$1,Sheet4!$B$2:$B$8408,Sheet3!$A$3))","v":309},{"$f":"+IF(SUMIFS(Sheet4!$FW$2:$FW$8408,Sheet4!$C$2:$C$8408,Sheet3!$B10,Sheet4!$D$2:$D$8408,Sheet3!DB$3,Sheet4!$A$2:$A$8408,Sheet3!$B$1,Sheet4!$B$2:$B$8408,Sheet3!$A$3)<3,0,SUMIFS(Sheet4!$FW$2:$FW$8408,Sheet4!$C$2:$C$8408,Sheet3!$B10,Sheet4!$D$2:$D$8408,Sheet3!DB$3,Sheet4!$A$2:$A$8408,Sheet3!$B$1,Sheet4!$B$2:$B$8408,Sheet3!$A$3))","v":197},{"$f":"+IF(SUMIFS(Sheet4!$FW$2:$FW$8408,Sheet4!$C$2:$C$8408,Sheet3!$B10,Sheet4!$D$2:$D$8408,Sheet3!DC$3,Sheet4!$A$2:$A$8408,Sheet3!$B$1,Sheet4!$B$2:$B$8408,Sheet3!$A$3)<3,0,SUMIFS(Sheet4!$FW$2:$FW$8408,Sheet4!$C$2:$C$8408,Sheet3!$B10,Sheet4!$D$2:$D$8408,Sheet3!DC$3,Sheet4!$A$2:$A$8408,Sheet3!$B$1,Sheet4!$B$2:$B$8408,Sheet3!$A$3))","v":5},{"$f":"+IF(SUMIFS(Sheet4!$FW$2:$FW$8408,Sheet4!$C$2:$C$8408,Sheet3!$B10,Sheet4!$D$2:$D$8408,Sheet3!DD$3,Sheet4!$A$2:$A$8408,Sheet3!$B$1,Sheet4!$B$2:$B$8408,Sheet3!$A$3)<3,0,SUMIFS(Sheet4!$FW$2:$FW$8408,Sheet4!$C$2:$C$8408,Sheet3!$B10,Sheet4!$D$2:$D$8408,Sheet3!DD$3,Sheet4!$A$2:$A$8408,Sheet3!$B$1,Sheet4!$B$2:$B$8408,Sheet3!$A$3))","v":839},{"$f":"+IF(SUMIFS(Sheet4!$FW$2:$FW$8408,Sheet4!$C$2:$C$8408,Sheet3!$B10,Sheet4!$D$2:$D$8408,Sheet3!DE$3,Sheet4!$A$2:$A$8408,Sheet3!$B$1,Sheet4!$B$2:$B$8408,Sheet3!$A$3)<3,0,SUMIFS(Sheet4!$FW$2:$FW$8408,Sheet4!$C$2:$C$8408,Sheet3!$B10,Sheet4!$D$2:$D$8408,Sheet3!DE$3,Sheet4!$A$2:$A$8408,Sheet3!$B$1,Sheet4!$B$2:$B$8408,Sheet3!$A$3))","v":126},{"$f":"+IF(SUMIFS(Sheet4!$FW$2:$FW$8408,Sheet4!$C$2:$C$8408,Sheet3!$B10,Sheet4!$D$2:$D$8408,Sheet3!DF$3,Sheet4!$A$2:$A$8408,Sheet3!$B$1,Sheet4!$B$2:$B$8408,Sheet3!$A$3)<3,0,SUMIFS(Sheet4!$FW$2:$FW$8408,Sheet4!$C$2:$C$8408,Sheet3!$B10,Sheet4!$D$2:$D$8408,Sheet3!DF$3,Sheet4!$A$2:$A$8408,Sheet3!$B$1,Sheet4!$B$2:$B$8408,Sheet3!$A$3))","v":281},{"$f":"+IF(SUMIFS(Sheet4!$FW$2:$FW$8408,Sheet4!$C$2:$C$8408,Sheet3!$B10,Sheet4!$D$2:$D$8408,Sheet3!DG$3,Sheet4!$A$2:$A$8408,Sheet3!$B$1,Sheet4!$B$2:$B$8408,Sheet3!$A$3)<3,0,SUMIFS(Sheet4!$FW$2:$FW$8408,Sheet4!$C$2:$C$8408,Sheet3!$B10,Sheet4!$D$2:$D$8408,Sheet3!DG$3,Sheet4!$A$2:$A$8408,Sheet3!$B$1,Sheet4!$B$2:$B$8408,Sheet3!$A$3))","v":208},{"$f":"+IF(SUMIFS(Sheet4!$FW$2:$FW$8408,Sheet4!$C$2:$C$8408,Sheet3!$B10,Sheet4!$D$2:$D$8408,Sheet3!DH$3,Sheet4!$A$2:$A$8408,Sheet3!$B$1,Sheet4!$B$2:$B$8408,Sheet3!$A$3)<3,0,SUMIFS(Sheet4!$FW$2:$FW$8408,Sheet4!$C$2:$C$8408,Sheet3!$B10,Sheet4!$D$2:$D$8408,Sheet3!DH$3,Sheet4!$A$2:$A$8408,Sheet3!$B$1,Sheet4!$B$2:$B$8408,Sheet3!$A$3))","v":507},{"$f":"+IF(SUMIFS(Sheet4!$FW$2:$FW$8408,Sheet4!$C$2:$C$8408,Sheet3!$B10,Sheet4!$D$2:$D$8408,Sheet3!DI$3,Sheet4!$A$2:$A$8408,Sheet3!$B$1,Sheet4!$B$2:$B$8408,Sheet3!$A$3)<3,0,SUMIFS(Sheet4!$FW$2:$FW$8408,Sheet4!$C$2:$C$8408,Sheet3!$B10,Sheet4!$D$2:$D$8408,Sheet3!DI$3,Sheet4!$A$2:$A$8408,Sheet3!$B$1,Sheet4!$B$2:$B$8408,Sheet3!$A$3))","v":711},{"$f":"+IF(SUMIFS(Sheet4!$FW$2:$FW$8408,Sheet4!$C$2:$C$8408,Sheet3!$B10,Sheet4!$D$2:$D$8408,Sheet3!DJ$3,Sheet4!$A$2:$A$8408,Sheet3!$B$1,Sheet4!$B$2:$B$8408,Sheet3!$A$3)<3,0,SUMIFS(Sheet4!$FW$2:$FW$8408,Sheet4!$C$2:$C$8408,Sheet3!$B10,Sheet4!$D$2:$D$8408,Sheet3!DJ$3,Sheet4!$A$2:$A$8408,Sheet3!$B$1,Sheet4!$B$2:$B$8408,Sheet3!$A$3))","v":468},{"$f":"+IF(SUMIFS(Sheet4!$FW$2:$FW$8408,Sheet4!$C$2:$C$8408,Sheet3!$B10,Sheet4!$D$2:$D$8408,Sheet3!DK$3,Sheet4!$A$2:$A$8408,Sheet3!$B$1,Sheet4!$B$2:$B$8408,Sheet3!$A$3)<3,0,SUMIFS(Sheet4!$FW$2:$FW$8408,Sheet4!$C$2:$C$8408,Sheet3!$B10,Sheet4!$D$2:$D$8408,Sheet3!DK$3,Sheet4!$A$2:$A$8408,Sheet3!$B$1,Sheet4!$B$2:$B$8408,Sheet3!$A$3))","v":616},{"$f":"+IF(SUMIFS(Sheet4!$FW$2:$FW$8408,Sheet4!$C$2:$C$8408,Sheet3!$B10,Sheet4!$D$2:$D$8408,Sheet3!DL$3,Sheet4!$A$2:$A$8408,Sheet3!$B$1,Sheet4!$B$2:$B$8408,Sheet3!$A$3)<3,0,SUMIFS(Sheet4!$FW$2:$FW$8408,Sheet4!$C$2:$C$8408,Sheet3!$B10,Sheet4!$D$2:$D$8408,Sheet3!DL$3,Sheet4!$A$2:$A$8408,Sheet3!$B$1,Sheet4!$B$2:$B$8408,Sheet3!$A$3))","v":0},{"$f":"+IF(SUMIFS(Sheet4!$FW$2:$FW$8408,Sheet4!$C$2:$C$8408,Sheet3!$B10,Sheet4!$D$2:$D$8408,Sheet3!DM$3,Sheet4!$A$2:$A$8408,Sheet3!$B$1,Sheet4!$B$2:$B$8408,Sheet3!$A$3)<3,0,SUMIFS(Sheet4!$FW$2:$FW$8408,Sheet4!$C$2:$C$8408,Sheet3!$B10,Sheet4!$D$2:$D$8408,Sheet3!DM$3,Sheet4!$A$2:$A$8408,Sheet3!$B$1,Sheet4!$B$2:$B$8408,Sheet3!$A$3))","v":3},{"$f":"+IF(SUMIFS(Sheet4!$FW$2:$FW$8408,Sheet4!$C$2:$C$8408,Sheet3!$B10,Sheet4!$E$2:$E$8408,Sheet3!DN$4,Sheet4!$A$2:$A$8408,Sheet3!$B$1,Sheet4!$B$2:$B$8408,Sheet3!$A$3)<3,0,SUMIFS(Sheet4!$FW$2:$FW$8408,Sheet4!$C$2:$C$8408,Sheet3!$B10,Sheet4!$E$2:$E$8408,Sheet3!DN$4,Sheet4!$A$2:$A$8408,Sheet3!$B$1,Sheet4!$B$2:$B$8408,Sheet3!$A$3))","v":3884},{"$f":"+IF(SUMIFS(Sheet4!$FW$2:$FW$8408,Sheet4!$C$2:$C$8408,Sheet3!$B10,Sheet4!$E$2:$E$8408,Sheet3!DO$4,Sheet4!$A$2:$A$8408,Sheet3!$B$1,Sheet4!$B$2:$B$8408,Sheet3!$A$3)<3,0,SUMIFS(Sheet4!$FW$2:$FW$8408,Sheet4!$C$2:$C$8408,Sheet3!$B10,Sheet4!$E$2:$E$8408,Sheet3!DO$4,Sheet4!$A$2:$A$8408,Sheet3!$B$1,Sheet4!$B$2:$B$8408,Sheet3!$A$3))","v":1029},{"$f":"+IF(SUMIFS(Sheet4!$FW$2:$FW$8408,Sheet4!$C$2:$C$8408,Sheet3!$B10,Sheet4!$E$2:$E$8408,Sheet3!DP$4,Sheet4!$A$2:$A$8408,Sheet3!$B$1,Sheet4!$B$2:$B$8408,Sheet3!$A$3)<3,0,SUMIFS(Sheet4!$FW$2:$FW$8408,Sheet4!$C$2:$C$8408,Sheet3!$B10,Sheet4!$E$2:$E$8408,Sheet3!DP$4,Sheet4!$A$2:$A$8408,Sheet3!$B$1,Sheet4!$B$2:$B$8408,Sheet3!$A$3))","v":60},{"$f":"+IF(SUMIFS(Sheet4!$FW$2:$FW$8408,Sheet4!$C$2:$C$8408,Sheet3!$B10,Sheet4!$E$2:$E$8408,Sheet3!DQ$4,Sheet4!$A$2:$A$8408,Sheet3!$B$1,Sheet4!$B$2:$B$8408,Sheet3!$A$3)<3,0,SUMIFS(Sheet4!$FW$2:$FW$8408,Sheet4!$C$2:$C$8408,Sheet3!$B10,Sheet4!$E$2:$E$8408,Sheet3!DQ$4,Sheet4!$A$2:$A$8408,Sheet3!$B$1,Sheet4!$B$2:$B$8408,Sheet3!$A$3))","v":0},{"$f":"+IF(SUMIFS(Sheet4!$FW$2:$FW$8408,Sheet4!$C$2:$C$8408,Sheet3!$B10,Sheet4!$E$2:$E$8408,Sheet3!DR$4,Sheet4!$A$2:$A$8408,Sheet3!$B$1,Sheet4!$B$2:$B$8408,Sheet3!$A$3)<3,0,SUMIFS(Sheet4!$FW$2:$FW$8408,Sheet4!$C$2:$C$8408,Sheet3!$B10,Sheet4!$E$2:$E$8408,Sheet3!DR$4,Sheet4!$A$2:$A$8408,Sheet3!$B$1,Sheet4!$B$2:$B$8408,Sheet3!$A$3))","v":0}]
[1,"11A","Área Metropolitana do Porto",{"$f":"+SUMIFS(Sheet4!$FV$2:$FV$8408,Sheet4!$C$2:$C$8408,Sheet3!$B11,Sheet4!$D$2:$D$8408,Sheet3!D$3,Sheet4!$E$2:$E$8408,Sheet3!D$4,Sheet4!$A$2:$A$8408,Sheet3!$B$1,Sheet4!$B$2:$B$8408,Sheet3!$A$3)","v":0},{"$f":"+SUMIFS(Sheet4!$FV$2:$FV$8408,Sheet4!$C$2:$C$8408,Sheet3!$B11,Sheet4!$D$2:$D$8408,Sheet3!E$3,Sheet4!$E$2:$E$8408,Sheet3!E$4,Sheet4!$A$2:$A$8408,Sheet3!$B$1,Sheet4!$B$2:$B$8408,Sheet3!$A$3)","v":0},{"$f":"+SUMIFS(Sheet4!$FV$2:$FV$8408,Sheet4!$C$2:$C$8408,Sheet3!$B11,Sheet4!$D$2:$D$8408,Sheet3!F$3,Sheet4!$E$2:$E$8408,Sheet3!F$4,Sheet4!$A$2:$A$8408,Sheet3!$B$1,Sheet4!$B$2:$B$8408,Sheet3!$A$3)","v":0},{"$f":"+SUMIFS(Sheet4!$FV$2:$FV$8408,Sheet4!$C$2:$C$8408,Sheet3!$B11,Sheet4!$D$2:$D$8408,Sheet3!G$3,Sheet4!$E$2:$E$8408,Sheet3!G$4,Sheet4!$A$2:$A$8408,Sheet3!$B$1,Sheet4!$B$2:$B$8408,Sheet3!$A$3)","v":0},{"$f":"+SUMIFS(Sheet4!$FV$2:$FV$8408,Sheet4!$C$2:$C$8408,Sheet3!$B11,Sheet4!$D$2:$D$8408,Sheet3!H$3,Sheet4!$E$2:$E$8408,Sheet3!H$4,Sheet4!$A$2:$A$8408,Sheet3!$B$1,Sheet4!$B$2:$B$8408,Sheet3!$A$3)","v":0},{"$f":"+SUMIFS(Sheet4!$FV$2:$FV$8408,Sheet4!$C$2:$C$8408,Sheet3!$B11,Sheet4!$D$2:$D$8408,Sheet3!I$3,Sheet4!$E$2:$E$8408,Sheet3!I$4,Sheet4!$A$2:$A$8408,Sheet3!$B$1,Sheet4!$B$2:$B$8408,Sheet3!$A$3)","v":588},{"$f":"+SUMIFS(Sheet4!$FV$2:$FV$8408,Sheet4!$C$2:$C$8408,Sheet3!$B11,Sheet4!$D$2:$D$8408,Sheet3!J$3,Sheet4!$E$2:$E$8408,Sheet3!J$4,Sheet4!$A$2:$A$8408,Sheet3!$B$1,Sheet4!$B$2:$B$8408,Sheet3!$A$3)","v":30},{"$f":"+SUMIFS(Sheet4!$FV$2:$FV$8408,Sheet4!$C$2:$C$8408,Sheet3!$B11,Sheet4!$D$2:$D$8408,Sheet3!K$3,Sheet4!$E$2:$E$8408,Sheet3!K$4,Sheet4!$A$2:$A$8408,Sheet3!$B$1,Sheet4!$B$2:$B$8408,Sheet3!$A$3)","v":0},{"$f":"+SUMIFS(Sheet4!$FV$2:$FV$8408,Sheet4!$C$2:$C$8408,Sheet3!$B11,Sheet4!$D$2:$D$8408,Sheet3!L$3,Sheet4!$E$2:$E$8408,Sheet3!L$4,Sheet4!$A$2:$A$8408,Sheet3!$B$1,Sheet4!$B$2:$B$8408,Sheet3!$A$3)","v":0},{"$f":"+SUMIFS(Sheet4!$FV$2:$FV$8408,Sheet4!$C$2:$C$8408,Sheet3!$B11,Sheet4!$D$2:$D$8408,Sheet3!M$3,Sheet4!$E$2:$E$8408,Sheet3!M$4,Sheet4!$A$2:$A$8408,Sheet3!$B$1,Sheet4!$B$2:$B$8408,Sheet3!$A$3)","v":0},{"$f":"+SUMIFS(Sheet4!$FV$2:$FV$8408,Sheet4!$C$2:$C$8408,Sheet3!$B11,Sheet4!$D$2:$D$8408,Sheet3!N$3,Sheet4!$E$2:$E$8408,Sheet3!N$4,Sheet4!$A$2:$A$8408,Sheet3!$B$1,Sheet4!$B$2:$B$8408,Sheet3!$A$3)","v":46},{"$f":"+SUMIFS(Sheet4!$FV$2:$FV$8408,Sheet4!$C$2:$C$8408,Sheet3!$B11,Sheet4!$D$2:$D$8408,Sheet3!O$3,Sheet4!$E$2:$E$8408,Sheet3!O$4,Sheet4!$A$2:$A$8408,Sheet3!$B$1,Sheet4!$B$2:$B$8408,Sheet3!$A$3)","v":0},{"$f":"+SUMIFS(Sheet4!$FV$2:$FV$8408,Sheet4!$C$2:$C$8408,Sheet3!$B11,Sheet4!$D$2:$D$8408,Sheet3!P$3,Sheet4!$E$2:$E$8408,Sheet3!P$4,Sheet4!$A$2:$A$8408,Sheet3!$B$1,Sheet4!$B$2:$B$8408,Sheet3!$A$3)","v":0},{"$f":"+SUMIFS(Sheet4!$FV$2:$FV$8408,Sheet4!$C$2:$C$8408,Sheet3!$B11,Sheet4!$D$2:$D$8408,Sheet3!Q$3,Sheet4!$E$2:$E$8408,Sheet3!Q$4,Sheet4!$A$2:$A$8408,Sheet3!$B$1,Sheet4!$B$2:$B$8408,Sheet3!$A$3)","v":0},{"$f":"+SUMIFS(Sheet4!$FV$2:$FV$8408,Sheet4!$C$2:$C$8408,Sheet3!$B11,Sheet4!$D$2:$D$8408,Sheet3!R$3,Sheet4!$E$2:$E$8408,Sheet3!R$4,Sheet4!$A$2:$A$8408,Sheet3!$B$1,Sheet4!$B$2:$B$8408,Sheet3!$A$3)","v":0},{"$f":"+SUMIFS(Sheet4!$FV$2:$FV$8408,Sheet4!$C$2:$C$8408,Sheet3!$B11,Sheet4!$D$2:$D$8408,Sheet3!S$3,Sheet4!$E$2:$E$8408,Sheet3!S$4,Sheet4!$A$2:$A$8408,Sheet3!$B$1,Sheet4!$B$2:$B$8408,Sheet3!$A$3)","v":0},{"$f":"+SUMIFS(Sheet4!$FV$2:$FV$8408,Sheet4!$C$2:$C$8408,Sheet3!$B11,Sheet4!$D$2:$D$8408,Sheet3!T$3,Sheet4!$E$2:$E$8408,Sheet3!T$4,Sheet4!$A$2:$A$8408,Sheet3!$B$1,Sheet4!$B$2:$B$8408,Sheet3!$A$3)","v":0},{"$f":"+SUMIFS(Sheet4!$FV$2:$FV$8408,Sheet4!$C$2:$C$8408,Sheet3!$B11,Sheet4!$D$2:$D$8408,Sheet3!U$3,Sheet4!$E$2:$E$8408,Sheet3!U$4,Sheet4!$A$2:$A$8408,Sheet3!$B$1,Sheet4!$B$2:$B$8408,Sheet3!$A$3)","v":0},{"$f":"+SUMIFS(Sheet4!$FV$2:$FV$8408,Sheet4!$C$2:$C$8408,Sheet3!$B11,Sheet4!$D$2:$D$8408,Sheet3!V$3,Sheet4!$E$2:$E$8408,Sheet3!V$4,Sheet4!$A$2:$A$8408,Sheet3!$B$1,Sheet4!$B$2:$B$8408,Sheet3!$A$3)","v":0},{"$f":"+SUMIFS(Sheet4!$FV$2:$FV$8408,Sheet4!$C$2:$C$8408,Sheet3!$B11,Sheet4!$D$2:$D$8408,Sheet3!W$3,Sheet4!$E$2:$E$8408,Sheet3!W$4,Sheet4!$A$2:$A$8408,Sheet3!$B$1,Sheet4!$B$2:$B$8408,Sheet3!$A$3)","v":0},{"$f":"+SUMIFS(Sheet4!$FV$2:$FV$8408,Sheet4!$C$2:$C$8408,Sheet3!$B11,Sheet4!$D$2:$D$8408,Sheet3!X$3,Sheet4!$E$2:$E$8408,Sheet3!X$4,Sheet4!$A$2:$A$8408,Sheet3!$B$1,Sheet4!$B$2:$B$8408,Sheet3!$A$3)","v":0},{"$f":"+SUMIFS(Sheet4!$FV$2:$FV$8408,Sheet4!$C$2:$C$8408,Sheet3!$B11,Sheet4!$D$2:$D$8408,Sheet3!Y$3,Sheet4!$E$2:$E$8408,Sheet3!Y$4,Sheet4!$A$2:$A$8408,Sheet3!$B$1,Sheet4!$B$2:$B$8408,Sheet3!$A$3)","v":0},{"$f":"+SUMIFS(Sheet4!$FV$2:$FV$8408,Sheet4!$C$2:$C$8408,Sheet3!$B11,Sheet4!$D$2:$D$8408,Sheet3!Z$3,Sheet4!$E$2:$E$8408,Sheet3!Z$4,Sheet4!$A$2:$A$8408,Sheet3!$B$1,Sheet4!$B$2:$B$8408,Sheet3!$A$3)","v":0},{"$f":"+SUMIFS(Sheet4!$FV$2:$FV$8408,Sheet4!$C$2:$C$8408,Sheet3!$B11,Sheet4!$D$2:$D$8408,Sheet3!AA$3,Sheet4!$E$2:$E$8408,Sheet3!AA$4,Sheet4!$A$2:$A$8408,Sheet3!$B$1,Sheet4!$B$2:$B$8408,Sheet3!$A$3)","v":0},{"$f":"+SUMIFS(Sheet4!$FV$2:$FV$8408,Sheet4!$C$2:$C$8408,Sheet3!$B11,Sheet4!$D$2:$D$8408,Sheet3!AB$3,Sheet4!$E$2:$E$8408,Sheet3!AB$4,Sheet4!$A$2:$A$8408,Sheet3!$B$1,Sheet4!$B$2:$B$8408,Sheet3!$A$3)","v":0},{"$f":"+SUMIFS(Sheet4!$FV$2:$FV$8408,Sheet4!$C$2:$C$8408,Sheet3!$B11,Sheet4!$D$2:$D$8408,Sheet3!AC$3,Sheet4!$E$2:$E$8408,Sheet3!AC$4,Sheet4!$A$2:$A$8408,Sheet3!$B$1,Sheet4!$B$2:$B$8408,Sheet3!$A$3)","v":323},{"$f":"+SUMIFS(Sheet4!$FV$2:$FV$8408,Sheet4!$C$2:$C$8408,Sheet3!$B11,Sheet4!$D$2:$D$8408,Sheet3!AD$3,Sheet4!$E$2:$E$8408,Sheet3!AD$4,Sheet4!$A$2:$A$8408,Sheet3!$B$1,Sheet4!$B$2:$B$8408,Sheet3!$A$3)","v":15},{"$f":"+SUMIFS(Sheet4!$FV$2:$FV$8408,Sheet4!$C$2:$C$8408,Sheet3!$B11,Sheet4!$D$2:$D$8408,Sheet3!AE$3,Sheet4!$E$2:$E$8408,Sheet3!AE$4,Sheet4!$A$2:$A$8408,Sheet3!$B$1,Sheet4!$B$2:$B$8408,Sheet3!$A$3)","v":0},{"$f":"+SUMIFS(Sheet4!$FV$2:$FV$8408,Sheet4!$C$2:$C$8408,Sheet3!$B11,Sheet4!$D$2:$D$8408,Sheet3!AF$3,Sheet4!$E$2:$E$8408,Sheet3!AF$4,Sheet4!$A$2:$A$8408,Sheet3!$B$1,Sheet4!$B$2:$B$8408,Sheet3!$A$3)","v":0},{"$f":"+SUMIFS(Sheet4!$FV$2:$FV$8408,Sheet4!$C$2:$C$8408,Sheet3!$B11,Sheet4!$D$2:$D$8408,Sheet3!AG$3,Sheet4!$E$2:$E$8408,Sheet3!AG$4,Sheet4!$A$2:$A$8408,Sheet3!$B$1,Sheet4!$B$2:$B$8408,Sheet3!$A$3)","v":0},{"$f":"+SUMIFS(Sheet4!$FV$2:$FV$8408,Sheet4!$C$2:$C$8408,Sheet3!$B11,Sheet4!$D$2:$D$8408,Sheet3!AH$3,Sheet4!$E$2:$E$8408,Sheet3!AH$4,Sheet4!$A$2:$A$8408,Sheet3!$B$1,Sheet4!$B$2:$B$8408,Sheet3!$A$3)","v":78},{"$f":"+SUMIFS(Sheet4!$FV$2:$FV$8408,Sheet4!$C$2:$C$8408,Sheet3!$B11,Sheet4!$D$2:$D$8408,Sheet3!AI$3,Sheet4!$E$2:$E$8408,Sheet3!AI$4,Sheet4!$A$2:$A$8408,Sheet3!$B$1,Sheet4!$B$2:$B$8408,Sheet3!$A$3)","v":20},{"$f":"+SUMIFS(Sheet4!$FV$2:$FV$8408,Sheet4!$C$2:$C$8408,Sheet3!$B11,Sheet4!$D$2:$D$8408,Sheet3!AJ$3,Sheet4!$E$2:$E$8408,Sheet3!AJ$4,Sheet4!$A$2:$A$8408,Sheet3!$B$1,Sheet4!$B$2:$B$8408,Sheet3!$A$3)","v":5},{"$f":"+SUMIFS(Sheet4!$FV$2:$FV$8408,Sheet4!$C$2:$C$8408,Sheet3!$B11,Sheet4!$D$2:$D$8408,Sheet3!AK$3,Sheet4!$E$2:$E$8408,Sheet3!AK$4,Sheet4!$A$2:$A$8408,Sheet3!$B$1,Sheet4!$B$2:$B$8408,Sheet3!$A$3)","v":0},{"$f":"+SUMIFS(Sheet4!$FV$2:$FV$8408,Sheet4!$C$2:$C$8408,Sheet3!$B11,Sheet4!$D$2:$D$8408,Sheet3!AL$3,Sheet4!$E$2:$E$8408,Sheet3!AL$4,Sheet4!$A$2:$A$8408,Sheet3!$B$1,Sheet4!$B$2:$B$8408,Sheet3!$A$3)","v":0},{"$f":"+SUMIFS(Sheet4!$FV$2:$FV$8408,Sheet4!$C$2:$C$8408,Sheet3!$B11,Sheet4!$D$2:$D$8408,Sheet3!AM$3,Sheet4!$E$2:$E$8408,Sheet3!AM$4,Sheet4!$A$2:$A$8408,Sheet3!$B$1,Sheet4!$B$2:$B$8408,Sheet3!$A$3)","v":165},{"$f":"+SUMIFS(Sheet4!$FV$2:$FV$8408,Sheet4!$C$2:$C$8408,Sheet3!$B11,Sheet4!$D$2:$D$8408,Sheet3!AN$3,Sheet4!$E$2:$E$8408,Sheet3!AN$4,Sheet4!$A$2:$A$8408,Sheet3!$B$1,Sheet4!$B$2:$B$8408,Sheet3!$A$3)","v":36},{"$f":"+SUMIFS(Sheet4!$FV$2:$FV$8408,Sheet4!$C$2:$C$8408,Sheet3!$B11,Sheet4!$D$2:$D$8408,Sheet3!AO$3,Sheet4!$E$2:$E$8408,Sheet3!AO$4,Sheet4!$A$2:$A$8408,Sheet3!$B$1,Sheet4!$B$2:$B$8408,Sheet3!$A$3)","v":0},{"$f":"+SUMIFS(Sheet4!$FV$2:$FV$8408,Sheet4!$C$2:$C$8408,Sheet3!$B11,Sheet4!$D$2:$D$8408,Sheet3!AP$3,Sheet4!$E$2:$E$8408,Sheet3!AP$4,Sheet4!$A$2:$A$8408,Sheet3!$B$1,Sheet4!$B$2:$B$8408,Sheet3!$A$3)","v":0},{"$f":"+SUMIFS(Sheet4!$FV$2:$FV$8408,Sheet4!$C$2:$C$8408,Sheet3!$B11,Sheet4!$D$2:$D$8408,Sheet3!AQ$3,Sheet4!$E$2:$E$8408,Sheet3!AQ$4,Sheet4!$A$2:$A$8408,Sheet3!$B$1,Sheet4!$B$2:$B$8408,Sheet3!$A$3)","v":0},{"$f":"+SUMIFS(Sheet4!$FV$2:$FV$8408,Sheet4!$C$2:$C$8408,Sheet3!$B11,Sheet4!$D$2:$D$8408,Sheet3!AR$3,Sheet4!$E$2:$E$8408,Sheet3!AR$4,Sheet4!$A$2:$A$8408,Sheet3!$B$1,Sheet4!$B$2:$B$8408,Sheet3!$A$3)","v":0},{"$f":"+SUMIFS(Sheet4!$FV$2:$FV$8408,Sheet4!$C$2:$C$8408,Sheet3!$B11,Sheet4!$D$2:$D$8408,Sheet3!AS$3,Sheet4!$E$2:$E$8408,Sheet3!AS$4,Sheet4!$A$2:$A$8408,Sheet3!$B$1,Sheet4!$B$2:$B$8408,Sheet3!$A$3)","v":0},{"$f":"+SUMIFS(Sheet4!$FV$2:$FV$8408,Sheet4!$C$2:$C$8408,Sheet3!$B11,Sheet4!$D$2:$D$8408,Sheet3!AT$3,Sheet4!$E$2:$E$8408,Sheet3!AT$4,Sheet4!$A$2:$A$8408,Sheet3!$B$1,Sheet4!$B$2:$B$8408,Sheet3!$A$3)","v":0},{"$f":"+SUMIFS(Sheet4!$FV$2:$FV$8408,Sheet4!$C$2:$C$8408,Sheet3!$B11,Sheet4!$D$2:$D$8408,Sheet3!AU$3,Sheet4!$E$2:$E$8408,Sheet3!AU$4,Sheet4!$A$2:$A$8408,Sheet3!$B$1,Sheet4!$B$2:$B$8408,Sheet3!$A$3)","v":0},{"$f":"+SUMIFS(Sheet4!$FV$2:$FV$8408,Sheet4!$C$2:$C$8408,Sheet3!$B11,Sheet4!$D$2:$D$8408,Sheet3!AV$3,Sheet4!$E$2:$E$8408,Sheet3!AV$4,Sheet4!$A$2:$A$8408,Sheet3!$B$1,Sheet4!$B$2:$B$8408,Sheet3!$A$3)","v":0},{"$f":"+SUMIFS(Sheet4!$FV$2:$FV$8408,Sheet4!$C$2:$C$8408,Sheet3!$B11,Sheet4!$D$2:$D$8408,Sheet3!AW$3,Sheet4!$E$2:$E$8408,Sheet3!AW$4,Sheet4!$A$2:$A$8408,Sheet3!$B$1,Sheet4!$B$2:$B$8408,Sheet3!$A$3)","v":818},{"$f":"+SUMIFS(Sheet4!$FV$2:$FV$8408,Sheet4!$C$2:$C$8408,Sheet3!$B11,Sheet4!$D$2:$D$8408,Sheet3!AX$3,Sheet4!$E$2:$E$8408,Sheet3!AX$4,Sheet4!$A$2:$A$8408,Sheet3!$B$1,Sheet4!$B$2:$B$8408,Sheet3!$A$3)","v":47},{"$f":"+SUMIFS(Sheet4!$FV$2:$FV$8408,Sheet4!$C$2:$C$8408,Sheet3!$B11,Sheet4!$D$2:$D$8408,Sheet3!AY$3,Sheet4!$E$2:$E$8408,Sheet3!AY$4,Sheet4!$A$2:$A$8408,Sheet3!$B$1,Sheet4!$B$2:$B$8408,Sheet3!$A$3)","v":0},{"$f":"+SUMIFS(Sheet4!$FV$2:$FV$8408,Sheet4!$C$2:$C$8408,Sheet3!$B11,Sheet4!$D$2:$D$8408,Sheet3!AZ$3,Sheet4!$E$2:$E$8408,Sheet3!AZ$4,Sheet4!$A$2:$A$8408,Sheet3!$B$1,Sheet4!$B$2:$B$8408,Sheet3!$A$3)","v":0},{"$f":"+SUMIFS(Sheet4!$FV$2:$FV$8408,Sheet4!$C$2:$C$8408,Sheet3!$B11,Sheet4!$D$2:$D$8408,Sheet3!BA$3,Sheet4!$E$2:$E$8408,Sheet3!BA$4,Sheet4!$A$2:$A$8408,Sheet3!$B$1,Sheet4!$B$2:$B$8408,Sheet3!$A$3)","v":0},{"$f":"+SUMIFS(Sheet4!$FV$2:$FV$8408,Sheet4!$C$2:$C$8408,Sheet3!$B11,Sheet4!$D$2:$D$8408,Sheet3!BB$3,Sheet4!$E$2:$E$8408,Sheet3!BB$4,Sheet4!$A$2:$A$8408,Sheet3!$B$1,Sheet4!$B$2:$B$8408,Sheet3!$A$3)","v":93},{"$f":"+SUMIFS(Sheet4!$FV$2:$FV$8408,Sheet4!$C$2:$C$8408,Sheet3!$B11,Sheet4!$D$2:$D$8408,Sheet3!BC$3,Sheet4!$E$2:$E$8408,Sheet3!BC$4,Sheet4!$A$2:$A$8408,Sheet3!$B$1,Sheet4!$B$2:$B$8408,Sheet3!$A$3)","v":418},{"$f":"+SUMIFS(Sheet4!$FV$2:$FV$8408,Sheet4!$C$2:$C$8408,Sheet3!$B11,Sheet4!$D$2:$D$8408,Sheet3!BD$3,Sheet4!$E$2:$E$8408,Sheet3!BD$4,Sheet4!$A$2:$A$8408,Sheet3!$B$1,Sheet4!$B$2:$B$8408,Sheet3!$A$3)","v":33},{"$f":"+SUMIFS(Sheet4!$FV$2:$FV$8408,Sheet4!$C$2:$C$8408,Sheet3!$B11,Sheet4!$D$2:$D$8408,Sheet3!BE$3,Sheet4!$E$2:$E$8408,Sheet3!BE$4,Sheet4!$A$2:$A$8408,Sheet3!$B$1,Sheet4!$B$2:$B$8408,Sheet3!$A$3)","v":0},{"$f":"+SUMIFS(Sheet4!$FV$2:$FV$8408,Sheet4!$C$2:$C$8408,Sheet3!$B11,Sheet4!$D$2:$D$8408,Sheet3!BF$3,Sheet4!$E$2:$E$8408,Sheet3!BF$4,Sheet4!$A$2:$A$8408,Sheet3!$B$1,Sheet4!$B$2:$B$8408,Sheet3!$A$3)","v":0},{"$f":"+SUMIFS(Sheet4!$FV$2:$FV$8408,Sheet4!$C$2:$C$8408,Sheet3!$B11,Sheet4!$D$2:$D$8408,Sheet3!BG$3,Sheet4!$E$2:$E$8408,Sheet3!BG$4,Sheet4!$A$2:$A$8408,Sheet3!$B$1,Sheet4!$B$2:$B$8408,Sheet3!$A$3)","v":114},{"$f":"+SUMIFS(Sheet4!$FV$2:$FV$8408,Sheet4!$C$2:$C$8408,Sheet3!$B11,Sheet4!$D$2:$D$8408,Sheet3!BH$3,Sheet4!$E$2:$E$8408,Sheet3!BH$4,Sheet4!$A$2:$A$8408,Sheet3!$B$1,Sheet4!$B$2:$B$8408,Sheet3!$A$3)","v":48},{"$f":"+SUMIFS(Sheet4!$FV$2:$FV$8408,Sheet4!$C$2:$C$8408,Sheet3!$B11,Sheet4!$D$2:$D$8408,Sheet3!BI$3,Sheet4!$E$2:$E$8408,Sheet3!BI$4,Sheet4!$A$2:$A$8408,Sheet3!$B$1,Sheet4!$B$2:$B$8408,Sheet3!$A$3)","v":0},{"$f":"+SUMIFS(Sheet4!$FV$2:$FV$8408,Sheet4!$C$2:$C$8408,Sheet3!$B11,Sheet4!$D$2:$D$8408,Sheet3!BJ$3,Sheet4!$E$2:$E$8408,Sheet3!BJ$4,Sheet4!$A$2:$A$8408,Sheet3!$B$1,Sheet4!$B$2:$B$8408,Sheet3!$A$3)","v":0},{"$f":"+SUMIFS(Sheet4!$FV$2:$FV$8408,Sheet4!$C$2:$C$8408,Sheet3!$B11,Sheet4!$D$2:$D$8408,Sheet3!BK$3,Sheet4!$E$2:$E$8408,Sheet3!BK$4,Sheet4!$A$2:$A$8408,Sheet3!$B$1,Sheet4!$B$2:$B$8408,Sheet3!$A$3)","v":0},{"$f":"+SUMIFS(Sheet4!$FV$2:$FV$8408,Sheet4!$C$2:$C$8408,Sheet3!$B11,Sheet4!$D$2:$D$8408,Sheet3!BL$3,Sheet4!$E$2:$E$8408,Sheet3!BL$4,Sheet4!$A$2:$A$8408,Sheet3!$B$1,Sheet4!$B$2:$B$8408,Sheet3!$A$3)","v":237},{"$f":"+SUMIFS(Sheet4!$FV$2:$FV$8408,Sheet4!$C$2:$C$8408,Sheet3!$B11,Sheet4!$D$2:$D$8408,Sheet3!BM$3,Sheet4!$E$2:$E$8408,Sheet3!BM$4,Sheet4!$A$2:$A$8408,Sheet3!$B$1,Sheet4!$B$2:$B$8408,Sheet3!$A$3)","v":58},{"$f":"+SUMIFS(Sheet4!$FV$2:$FV$8408,Sheet4!$C$2:$C$8408,Sheet3!$B11,Sheet4!$D$2:$D$8408,Sheet3!BN$3,Sheet4!$E$2:$E$8408,Sheet3!BN$4,Sheet4!$A$2:$A$8408,Sheet3!$B$1,Sheet4!$B$2:$B$8408,Sheet3!$A$3)","v":0},{"$f":"+SUMIFS(Sheet4!$FV$2:$FV$8408,Sheet4!$C$2:$C$8408,Sheet3!$B11,Sheet4!$D$2:$D$8408,Sheet3!BO$3,Sheet4!$E$2:$E$8408,Sheet3!BO$4,Sheet4!$A$2:$A$8408,Sheet3!$B$1,Sheet4!$B$2:$B$8408,Sheet3!$A$3)","v":0},{"$f":"+SUMIFS(Sheet4!$FV$2:$FV$8408,Sheet4!$C$2:$C$8408,Sheet3!$B11,Sheet4!$D$2:$D$8408,Sheet3!BP$3,Sheet4!$E$2:$E$8408,Sheet3!BP$4,Sheet4!$A$2:$A$8408,Sheet3!$B$1,Sheet4!$B$2:$B$8408,Sheet3!$A$3)","v":0},{"$f":"+SUMIFS(Sheet4!$FV$2:$FV$8408,Sheet4!$C$2:$C$8408,Sheet3!$B11,Sheet4!$D$2:$D$8408,Sheet3!BQ$3,Sheet4!$E$2:$E$8408,Sheet3!BQ$4,Sheet4!$A$2:$A$8408,Sheet3!$B$1,Sheet4!$B$2:$B$8408,Sheet3!$A$3)","v":68},{"$f":"+SUMIFS(Sheet4!$FV$2:$FV$8408,Sheet4!$C$2:$C$8408,Sheet3!$B11,Sheet4!$D$2:$D$8408,Sheet3!BR$3,Sheet4!$E$2:$E$8408,Sheet3!BR$4,Sheet4!$A$2:$A$8408,Sheet3!$B$1,Sheet4!$B$2:$B$8408,Sheet3!$A$3)","v":37},{"$f":"+SUMIFS(Sheet4!$FV$2:$FV$8408,Sheet4!$C$2:$C$8408,Sheet3!$B11,Sheet4!$D$2:$D$8408,Sheet3!BS$3,Sheet4!$E$2:$E$8408,Sheet3!BS$4,Sheet4!$A$2:$A$8408,Sheet3!$B$1,Sheet4!$B$2:$B$8408,Sheet3!$A$3)","v":0},{"$f":"+SUMIFS(Sheet4!$FV$2:$FV$8408,Sheet4!$C$2:$C$8408,Sheet3!$B11,Sheet4!$D$2:$D$8408,Sheet3!BT$3,Sheet4!$E$2:$E$8408,Sheet3!BT$4,Sheet4!$A$2:$A$8408,Sheet3!$B$1,Sheet4!$B$2:$B$8408,Sheet3!$A$3)","v":0},{"$f":"+SUMIFS(Sheet4!$FV$2:$FV$8408,Sheet4!$C$2:$C$8408,Sheet3!$B11,Sheet4!$D$2:$D$8408,Sheet3!BU$3,Sheet4!$E$2:$E$8408,Sheet3!BU$4,Sheet4!$A$2:$A$8408,Sheet3!$B$1,Sheet4!$B$2:$B$8408,Sheet3!$A$3)","v":0},{"$f":"+SUMIFS(Sheet4!$FV$2:$FV$8408,Sheet4!$C$2:$C$8408,Sheet3!$B11,Sheet4!$D$2:$D$8408,Sheet3!BV$3,Sheet4!$E$2:$E$8408,Sheet3!BV$4,Sheet4!$A$2:$A$8408,Sheet3!$B$1,Sheet4!$B$2:$B$8408,Sheet3!$A$3)","v":100},{"$f":"+SUMIFS(Sheet4!$FV$2:$FV$8408,Sheet4!$C$2:$C$8408,Sheet3!$B11,Sheet4!$D$2:$D$8408,Sheet3!BW$3,Sheet4!$E$2:$E$8408,Sheet3!BW$4,Sheet4!$A$2:$A$8408,Sheet3!$B$1,Sheet4!$B$2:$B$8408,Sheet3!$A$3)","v":39},{"$f":"+SUMIFS(Sheet4!$FV$2:$FV$8408,Sheet4!$C$2:$C$8408,Sheet3!$B11,Sheet4!$D$2:$D$8408,Sheet3!BX$3,Sheet4!$E$2:$E$8408,Sheet3!BX$4,Sheet4!$A$2:$A$8408,Sheet3!$B$1,Sheet4!$B$2:$B$8408,Sheet3!$A$3)","v":5},{"$f":"+SUMIFS(Sheet4!$FV$2:$FV$8408,Sheet4!$C$2:$C$8408,Sheet3!$B11,Sheet4!$D$2:$D$8408,Sheet3!BY$3,Sheet4!$E$2:$E$8408,Sheet3!BY$4,Sheet4!$A$2:$A$8408,Sheet3!$B$1,Sheet4!$B$2:$B$8408,Sheet3!$A$3)","v":0},{"$f":"+SUMIFS(Sheet4!$FV$2:$FV$8408,Sheet4!$C$2:$C$8408,Sheet3!$B11,Sheet4!$D$2:$D$8408,Sheet3!BZ$3,Sheet4!$E$2:$E$8408,Sheet3!BZ$4,Sheet4!$A$2:$A$8408,Sheet3!$B$1,Sheet4!$B$2:$B$8408,Sheet3!$A$3)","v":0},{"$f":"+SUMIFS(Sheet4!$FV$2:$FV$8408,Sheet4!$C$2:$C$8408,Sheet3!$B11,Sheet4!$D$2:$D$8408,Sheet3!CA$3,Sheet4!$E$2:$E$8408,Sheet3!CA$4,Sheet4!$A$2:$A$8408,Sheet3!$B$1,Sheet4!$B$2:$B$8408,Sheet3!$A$3)","v":307},{"$f":"+SUMIFS(Sheet4!$FV$2:$FV$8408,Sheet4!$C$2:$C$8408,Sheet3!$B11,Sheet4!$D$2:$D$8408,Sheet3!CB$3,Sheet4!$E$2:$E$8408,Sheet3!CB$4,Sheet4!$A$2:$A$8408,Sheet3!$B$1,Sheet4!$B$2:$B$8408,Sheet3!$A$3)","v":30},{"$f":"+SUMIFS(Sheet4!$FV$2:$FV$8408,Sheet4!$C$2:$C$8408,Sheet3!$B11,Sheet4!$D$2:$D$8408,Sheet3!CC$3,Sheet4!$E$2:$E$8408,Sheet3!CC$4,Sheet4!$A$2:$A$8408,Sheet3!$B$1,Sheet4!$B$2:$B$8408,Sheet3!$A$3)","v":0},{"$f":"+SUMIFS(Sheet4!$FV$2:$FV$8408,Sheet4!$C$2:$C$8408,Sheet3!$B11,Sheet4!$D$2:$D$8408,Sheet3!CD$3,Sheet4!$E$2:$E$8408,Sheet3!CD$4,Sheet4!$A$2:$A$8408,Sheet3!$B$1,Sheet4!$B$2:$B$8408,Sheet3!$A$3)","v":0},{"$f":"+SUMIFS(Sheet4!$FV$2:$FV$8408,Sheet4!$C$2:$C$8408,Sheet3!$B11,Sheet4!$D$2:$D$8408,Sheet3!CE$3,Sheet4!$E$2:$E$8408,Sheet3!CE$4,Sheet4!$A$2:$A$8408,Sheet3!$B$1,Sheet4!$B$2:$B$8408,Sheet3!$A$3)","v":0},{"$f":"+SUMIFS(Sheet4!$FV$2:$FV$8408,Sheet4!$C$2:$C$8408,Sheet3!$B11,Sheet4!$D$2:$D$8408,Sheet3!CF$3,Sheet4!$E$2:$E$8408,Sheet3!CF$4,Sheet4!$A$2:$A$8408,Sheet3!$B$1,Sheet4!$B$2:$B$8408,Sheet3!$A$3)","v":700},{"$f":"+SUMIFS(Sheet4!$FV$2:$FV$8408,Sheet4!$C$2:$C$8408,Sheet3!$B11,Sheet4!$D$2:$D$8408,Sheet3!CG$3,Sheet4!$E$2:$E$8408,Sheet3!CG$4,Sheet4!$A$2:$A$8408,Sheet3!$B$1,Sheet4!$B$2:$B$8408,Sheet3!$A$3)","v":137},{"$f":"+SUMIFS(Sheet4!$FV$2:$FV$8408,Sheet4!$C$2:$C$8408,Sheet3!$B11,Sheet4!$D$2:$D$8408,Sheet3!CH$3,Sheet4!$E$2:$E$8408,Sheet3!CH$4,Sheet4!$A$2:$A$8408,Sheet3!$B$1,Sheet4!$B$2:$B$8408,Sheet3!$A$3)","v":0},{"$f":"+SUMIFS(Sheet4!$FV$2:$FV$8408,Sheet4!$C$2:$C$8408,Sheet3!$B11,Sheet4!$D$2:$D$8408,Sheet3!CI$3,Sheet4!$E$2:$E$8408,Sheet3!CI$4,Sheet4!$A$2:$A$8408,Sheet3!$B$1,Sheet4!$B$2:$B$8408,Sheet3!$A$3)","v":0},{"$f":"+SUMIFS(Sheet4!$FV$2:$FV$8408,Sheet4!$C$2:$C$8408,Sheet3!$B11,Sheet4!$D$2:$D$8408,Sheet3!CJ$3,Sheet4!$E$2:$E$8408,Sheet3!CJ$4,Sheet4!$A$2:$A$8408,Sheet3!$B$1,Sheet4!$B$2:$B$8408,Sheet3!$A$3)","v":0},{"$f":"+SUMIFS(Sheet4!$FV$2:$FV$8408,Sheet4!$C$2:$C$8408,Sheet3!$B11,Sheet4!$D$2:$D$8408,Sheet3!CK$3,Sheet4!$E$2:$E$8408,Sheet3!CK$4,Sheet4!$A$2:$A$8408,Sheet3!$B$1,Sheet4!$B$2:$B$8408,Sheet3!$A$3)","v":0},{"$f":"+SUMIFS(Sheet4!$FV$2:$FV$8408,Sheet4!$C$2:$C$8408,Sheet3!$B11,Sheet4!$D$2:$D$8408,Sheet3!CL$3,Sheet4!$E$2:$E$8408,Sheet3!CL$4,Sheet4!$A$2:$A$8408,Sheet3!$B$1,Sheet4!$B$2:$B$8408,Sheet3!$A$3)","v":0},{"$f":"+SUMIFS(Sheet4!$FV$2:$FV$8408,Sheet4!$C$2:$C$8408,Sheet3!$B11,Sheet4!$D$2:$D$8408,Sheet3!CM$3,Sheet4!$E$2:$E$8408,Sheet3!CM$4,Sheet4!$A$2:$A$8408,Sheet3!$B$1,Sheet4!$B$2:$B$8408,Sheet3!$A$3)","v":0},{"$f":"+SUMIFS(Sheet4!$FV$2:$FV$8408,Sheet4!$C$2:$C$8408,Sheet3!$B11,Sheet4!$D$2:$D$8408,Sheet3!CN$3,Sheet4!$E$2:$E$8408,Sheet3!CN$4,Sheet4!$A$2:$A$8408,Sheet3!$B$1,Sheet4!$B$2:$B$8408,Sheet3!$A$3)","v":0},{"$f":"+SUMIFS(Sheet4!$FV$2:$FV$8408,Sheet4!$C$2:$C$8408,Sheet3!$B11,Sheet4!$D$2:$D$8408,Sheet3!CO$3,Sheet4!$E$2:$E$8408,Sheet3!CO$4,Sheet4!$A$2:$A$8408,Sheet3!$B$1,Sheet4!$B$2:$B$8408,Sheet3!$A$3)","v":0},{"$f":"+SUMIFS(Sheet4!$FV$2:$FV$8408,Sheet4!$C$2:$C$8408,Sheet3!$B11,Sheet4!$D$2:$D$8408,Sheet3!CP$3,Sheet4!$E$2:$E$8408,Sheet3!CP$4,Sheet4!$A$2:$A$8408,Sheet3!$B$1,Sheet4!$B$2:$B$8408,Sheet3!$A$3)","v":7},{"$f":"+SUMIFS(Sheet4!$FV$2:$FV$8408,Sheet4!$C$2:$C$8408,Sheet3!$B11,Sheet4!$D$2:$D$8408,Sheet3!CQ$3,Sheet4!$E$2:$E$8408,Sheet3!CQ$4,Sheet4!$A$2:$A$8408,Sheet3!$B$1,Sheet4!$B$2:$B$8408,Sheet3!$A$3)","v":0},{"$f":"+SUMIFS(Sheet4!$FV$2:$FV$8408,Sheet4!$C$2:$C$8408,Sheet3!$B11,Sheet4!$D$2:$D$8408,Sheet3!CR$3,Sheet4!$E$2:$E$8408,Sheet3!CR$4,Sheet4!$A$2:$A$8408,Sheet3!$B$1,Sheet4!$B$2:$B$8408,Sheet3!$A$3)","v":0},{"$f":"+SUMIFS(Sheet4!$FV$2:$FV$8408,Sheet4!$C$2:$C$8408,Sheet3!$B11,Sheet4!$D$2:$D$8408,Sheet3!CS$3,Sheet4!$E$2:$E$8408,Sheet3!CS$4,Sheet4!$A$2:$A$8408,Sheet3!$B$1,Sheet4!$B$2:$B$8408,Sheet3!$A$3)","v":0},{"$f":"+SUMIFS(Sheet4!$FV$2:$FV$8408,Sheet4!$C$2:$C$8408,Sheet3!$B11,Sheet4!$D$2:$D$8408,Sheet3!CT$3,Sheet4!$E$2:$E$8408,Sheet3!CT$4,Sheet4!$A$2:$A$8408,Sheet3!$B$1,Sheet4!$B$2:$B$8408,Sheet3!$A$3)","v":0},{"$f":"+IF(SUMIFS(Sheet4!$FW$2:$FW$8408,Sheet4!$C$2:$C$8408,Sheet3!$B11,Sheet4!$D$2:$D$8408,Sheet3!CU$3,Sheet4!$A$2:$A$8408,Sheet3!$B$1,Sheet4!$B$2:$B$8408,Sheet3!$A$3)<3,0,SUMIFS(Sheet4!$FW$2:$FW$8408,Sheet4!$C$2:$C$8408,Sheet3!$B11,Sheet4!$D$2:$D$8408,Sheet3!CU$3,Sheet4!$A$2:$A$8408,Sheet3!$B$1,Sheet4!$B$2:$B$8408,Sheet3!$A$3))","v":0},{"$f":"+IF(SUMIFS(Sheet4!$FW$2:$FW$8408,Sheet4!$C$2:$C$8408,Sheet3!$B11,Sheet4!$D$2:$D$8408,Sheet3!CV$3,Sheet4!$A$2:$A$8408,Sheet3!$B$1,Sheet4!$B$2:$B$8408,Sheet3!$A$3)<3,0,SUMIFS(Sheet4!$FW$2:$FW$8408,Sheet4!$C$2:$C$8408,Sheet3!$B11,Sheet4!$D$2:$D$8408,Sheet3!CV$3,Sheet4!$A$2:$A$8408,Sheet3!$B$1,Sheet4!$B$2:$B$8408,Sheet3!$A$3))","v":624},{"$f":"+IF(SUMIFS(Sheet4!$FW$2:$FW$8408,Sheet4!$C$2:$C$8408,Sheet3!$B11,Sheet4!$D$2:$D$8408,Sheet3!CW$3,Sheet4!$A$2:$A$8408,Sheet3!$B$1,Sheet4!$B$2:$B$8408,Sheet3!$A$3)<3,0,SUMIFS(Sheet4!$FW$2:$FW$8408,Sheet4!$C$2:$C$8408,Sheet3!$B11,Sheet4!$D$2:$D$8408,Sheet3!CW$3,Sheet4!$A$2:$A$8408,Sheet3!$B$1,Sheet4!$B$2:$B$8408,Sheet3!$A$3))","v":48},{"$f":"+IF(SUMIFS(Sheet4!$FW$2:$FW$8408,Sheet4!$C$2:$C$8408,Sheet3!$B11,Sheet4!$D$2:$D$8408,Sheet3!CX$3,Sheet4!$A$2:$A$8408,Sheet3!$B$1,Sheet4!$B$2:$B$8408,Sheet3!$A$3)<3,0,SUMIFS(Sheet4!$FW$2:$FW$8408,Sheet4!$C$2:$C$8408,Sheet3!$B11,Sheet4!$D$2:$D$8408,Sheet3!CX$3,Sheet4!$A$2:$A$8408,Sheet3!$B$1,Sheet4!$B$2:$B$8408,Sheet3!$A$3))","v":0},{"$f":"+IF(SUMIFS(Sheet4!$FW$2:$FW$8408,Sheet4!$C$2:$C$8408,Sheet3!$B11,Sheet4!$D$2:$D$8408,Sheet3!CY$3,Sheet4!$A$2:$A$8408,Sheet3!$B$1,Sheet4!$B$2:$B$8408,Sheet3!$A$3)<3,0,SUMIFS(Sheet4!$FW$2:$FW$8408,Sheet4!$C$2:$C$8408,Sheet3!$B11,Sheet4!$D$2:$D$8408,Sheet3!CY$3,Sheet4!$A$2:$A$8408,Sheet3!$B$1,Sheet4!$B$2:$B$8408,Sheet3!$A$3))","v":0},{"$f":"+IF(SUMIFS(Sheet4!$FW$2:$FW$8408,Sheet4!$C$2:$C$8408,Sheet3!$B11,Sheet4!$D$2:$D$8408,Sheet3!CZ$3,Sheet4!$A$2:$A$8408,Sheet3!$B$1,Sheet4!$B$2:$B$8408,Sheet3!$A$3)<3,0,SUMIFS(Sheet4!$FW$2:$FW$8408,Sheet4!$C$2:$C$8408,Sheet3!$B11,Sheet4!$D$2:$D$8408,Sheet3!CZ$3,Sheet4!$A$2:$A$8408,Sheet3!$B$1,Sheet4!$B$2:$B$8408,Sheet3!$A$3))","v":340},{"$f":"+IF(SUMIFS(Sheet4!$FW$2:$FW$8408,Sheet4!$C$2:$C$8408,Sheet3!$B11,Sheet4!$D$2:$D$8408,Sheet3!DA$3,Sheet4!$A$2:$A$8408,Sheet3!$B$1,Sheet4!$B$2:$B$8408,Sheet3!$A$3)<3,0,SUMIFS(Sheet4!$FW$2:$FW$8408,Sheet4!$C$2:$C$8408,Sheet3!$B11,Sheet4!$D$2:$D$8408,Sheet3!DA$3,Sheet4!$A$2:$A$8408,Sheet3!$B$1,Sheet4!$B$2:$B$8408,Sheet3!$A$3))","v":106},{"$f":"+IF(SUMIFS(Sheet4!$FW$2:$FW$8408,Sheet4!$C$2:$C$8408,Sheet3!$B11,Sheet4!$D$2:$D$8408,Sheet3!DB$3,Sheet4!$A$2:$A$8408,Sheet3!$B$1,Sheet4!$B$2:$B$8408,Sheet3!$A$3)<3,0,SUMIFS(Sheet4!$FW$2:$FW$8408,Sheet4!$C$2:$C$8408,Sheet3!$B11,Sheet4!$D$2:$D$8408,Sheet3!DB$3,Sheet4!$A$2:$A$8408,Sheet3!$B$1,Sheet4!$B$2:$B$8408,Sheet3!$A$3))","v":204},{"$f":"+IF(SUMIFS(Sheet4!$FW$2:$FW$8408,Sheet4!$C$2:$C$8408,Sheet3!$B11,Sheet4!$D$2:$D$8408,Sheet3!DC$3,Sheet4!$A$2:$A$8408,Sheet3!$B$1,Sheet4!$B$2:$B$8408,Sheet3!$A$3)<3,0,SUMIFS(Sheet4!$FW$2:$FW$8408,Sheet4!$C$2:$C$8408,Sheet3!$B11,Sheet4!$D$2:$D$8408,Sheet3!DC$3,Sheet4!$A$2:$A$8408,Sheet3!$B$1,Sheet4!$B$2:$B$8408,Sheet3!$A$3))","v":0},{"$f":"+IF(SUMIFS(Sheet4!$FW$2:$FW$8408,Sheet4!$C$2:$C$8408,Sheet3!$B11,Sheet4!$D$2:$D$8408,Sheet3!DD$3,Sheet4!$A$2:$A$8408,Sheet3!$B$1,Sheet4!$B$2:$B$8408,Sheet3!$A$3)<3,0,SUMIFS(Sheet4!$FW$2:$FW$8408,Sheet4!$C$2:$C$8408,Sheet3!$B11,Sheet4!$D$2:$D$8408,Sheet3!DD$3,Sheet4!$A$2:$A$8408,Sheet3!$B$1,Sheet4!$B$2:$B$8408,Sheet3!$A$3))","v":868},{"$f":"+IF(SUMIFS(Sheet4!$FW$2:$FW$8408,Sheet4!$C$2:$C$8408,Sheet3!$B11,Sheet4!$D$2:$D$8408,Sheet3!DE$3,Sheet4!$A$2:$A$8408,Sheet3!$B$1,Sheet4!$B$2:$B$8408,Sheet3!$A$3)<3,0,SUMIFS(Sheet4!$FW$2:$FW$8408,Sheet4!$C$2:$C$8408,Sheet3!$B11,Sheet4!$D$2:$D$8408,Sheet3!DE$3,Sheet4!$A$2:$A$8408,Sheet3!$B$1,Sheet4!$B$2:$B$8408,Sheet3!$A$3))","v":546},{"$f":"+IF(SUMIFS(Sheet4!$FW$2:$FW$8408,Sheet4!$C$2:$C$8408,Sheet3!$B11,Sheet4!$D$2:$D$8408,Sheet3!DF$3,Sheet4!$A$2:$A$8408,Sheet3!$B$1,Sheet4!$B$2:$B$8408,Sheet3!$A$3)<3,0,SUMIFS(Sheet4!$FW$2:$FW$8408,Sheet4!$C$2:$C$8408,Sheet3!$B11,Sheet4!$D$2:$D$8408,Sheet3!DF$3,Sheet4!$A$2:$A$8408,Sheet3!$B$1,Sheet4!$B$2:$B$8408,Sheet3!$A$3))","v":163},{"$f":"+IF(SUMIFS(Sheet4!$FW$2:$FW$8408,Sheet4!$C$2:$C$8408,Sheet3!$B11,Sheet4!$D$2:$D$8408,Sheet3!DG$3,Sheet4!$A$2:$A$8408,Sheet3!$B$1,Sheet4!$B$2:$B$8408,Sheet3!$A$3)<3,0,SUMIFS(Sheet4!$FW$2:$FW$8408,Sheet4!$C$2:$C$8408,Sheet3!$B11,Sheet4!$D$2:$D$8408,Sheet3!DG$3,Sheet4!$A$2:$A$8408,Sheet3!$B$1,Sheet4!$B$2:$B$8408,Sheet3!$A$3))","v":300},{"$f":"+IF(SUMIFS(Sheet4!$FW$2:$FW$8408,Sheet4!$C$2:$C$8408,Sheet3!$B11,Sheet4!$D$2:$D$8408,Sheet3!DH$3,Sheet4!$A$2:$A$8408,Sheet3!$B$1,Sheet4!$B$2:$B$8408,Sheet3!$A$3)<3,0,SUMIFS(Sheet4!$FW$2:$FW$8408,Sheet4!$C$2:$C$8408,Sheet3!$B11,Sheet4!$D$2:$D$8408,Sheet3!DH$3,Sheet4!$A$2:$A$8408,Sheet3!$B$1,Sheet4!$B$2:$B$8408,Sheet3!$A$3))","v":107},{"$f":"+IF(SUMIFS(Sheet4!$FW$2:$FW$8408,Sheet4!$C$2:$C$8408,Sheet3!$B11,Sheet4!$D$2:$D$8408,Sheet3!DI$3,Sheet4!$A$2:$A$8408,Sheet3!$B$1,Sheet4!$B$2:$B$8408,Sheet3!$A$3)<3,0,SUMIFS(Sheet4!$FW$2:$FW$8408,Sheet4!$C$2:$C$8408,Sheet3!$B11,Sheet4!$D$2:$D$8408,Sheet3!DI$3,Sheet4!$A$2:$A$8408,Sheet3!$B$1,Sheet4!$B$2:$B$8408,Sheet3!$A$3))","v":148},{"$f":"+IF(SUMIFS(Sheet4!$FW$2:$FW$8408,Sheet4!$C$2:$C$8408,Sheet3!$B11,Sheet4!$D$2:$D$8408,Sheet3!DJ$3,Sheet4!$A$2:$A$8408,Sheet3!$B$1,Sheet4!$B$2:$B$8408,Sheet3!$A$3)<3,0,SUMIFS(Sheet4!$FW$2:$FW$8408,Sheet4!$C$2:$C$8408,Sheet3!$B11,Sheet4!$D$2:$D$8408,Sheet3!DJ$3,Sheet4!$A$2:$A$8408,Sheet3!$B$1,Sheet4!$B$2:$B$8408,Sheet3!$A$3))","v":341},{"$f":"+IF(SUMIFS(Sheet4!$FW$2:$FW$8408,Sheet4!$C$2:$C$8408,Sheet3!$B11,Sheet4!$D$2:$D$8408,Sheet3!DK$3,Sheet4!$A$2:$A$8408,Sheet3!$B$1,Sheet4!$B$2:$B$8408,Sheet3!$A$3)<3,0,SUMIFS(Sheet4!$FW$2:$FW$8408,Sheet4!$C$2:$C$8408,Sheet3!$B11,Sheet4!$D$2:$D$8408,Sheet3!DK$3,Sheet4!$A$2:$A$8408,Sheet3!$B$1,Sheet4!$B$2:$B$8408,Sheet3!$A$3))","v":840},{"$f":"+IF(SUMIFS(Sheet4!$FW$2:$FW$8408,Sheet4!$C$2:$C$8408,Sheet3!$B11,Sheet4!$D$2:$D$8408,Sheet3!DL$3,Sheet4!$A$2:$A$8408,Sheet3!$B$1,Sheet4!$B$2:$B$8408,Sheet3!$A$3)<3,0,SUMIFS(Sheet4!$FW$2:$FW$8408,Sheet4!$C$2:$C$8408,Sheet3!$B11,Sheet4!$D$2:$D$8408,Sheet3!DL$3,Sheet4!$A$2:$A$8408,Sheet3!$B$1,Sheet4!$B$2:$B$8408,Sheet3!$A$3))","v":0},{"$f":"+IF(SUMIFS(Sheet4!$FW$2:$FW$8408,Sheet4!$C$2:$C$8408,Sheet3!$B11,Sheet4!$D$2:$D$8408,Sheet3!DM$3,Sheet4!$A$2:$A$8408,Sheet3!$B$1,Sheet4!$B$2:$B$8408,Sheet3!$A$3)<3,0,SUMIFS(Sheet4!$FW$2:$FW$8408,Sheet4!$C$2:$C$8408,Sheet3!$B11,Sheet4!$D$2:$D$8408,Sheet3!DM$3,Sheet4!$A$2:$A$8408,Sheet3!$B$1,Sheet4!$B$2:$B$8408,Sheet3!$A$3))","v":8},{"$f":"+IF(SUMIFS(Sheet4!$FW$2:$FW$8408,Sheet4!$C$2:$C$8408,Sheet3!$B11,Sheet4!$E$2:$E$8408,Sheet3!DN$4,Sheet4!$A$2:$A$8408,Sheet3!$B$1,Sheet4!$B$2:$B$8408,Sheet3!$A$3)<3,0,SUMIFS(Sheet4!$FW$2:$FW$8408,Sheet4!$C$2:$C$8408,Sheet3!$B11,Sheet4!$E$2:$E$8408,Sheet3!DN$4,Sheet4!$A$2:$A$8408,Sheet3!$B$1,Sheet4!$B$2:$B$8408,Sheet3!$A$3))","v":3657},{"$f":"+IF(SUMIFS(Sheet4!$FW$2:$FW$8408,Sheet4!$C$2:$C$8408,Sheet3!$B11,Sheet4!$E$2:$E$8408,Sheet3!DO$4,Sheet4!$A$2:$A$8408,Sheet3!$B$1,Sheet4!$B$2:$B$8408,Sheet3!$A$3)<3,0,SUMIFS(Sheet4!$FW$2:$FW$8408,Sheet4!$C$2:$C$8408,Sheet3!$B11,Sheet4!$E$2:$E$8408,Sheet3!DO$4,Sheet4!$A$2:$A$8408,Sheet3!$B$1,Sheet4!$B$2:$B$8408,Sheet3!$A$3))","v":938},{"$f":"+IF(SUMIFS(Sheet4!$FW$2:$FW$8408,Sheet4!$C$2:$C$8408,Sheet3!$B11,Sheet4!$E$2:$E$8408,Sheet3!DP$4,Sheet4!$A$2:$A$8408,Sheet3!$B$1,Sheet4!$B$2:$B$8408,Sheet3!$A$3)<3,0,SUMIFS(Sheet4!$FW$2:$FW$8408,Sheet4!$C$2:$C$8408,Sheet3!$B11,Sheet4!$E$2:$E$8408,Sheet3!DP$4,Sheet4!$A$2:$A$8408,Sheet3!$B$1,Sheet4!$B$2:$B$8408,Sheet3!$A$3))","v":52},{"$f":"+IF(SUMIFS(Sheet4!$FW$2:$FW$8408,Sheet4!$C$2:$C$8408,Sheet3!$B11,Sheet4!$E$2:$E$8408,Sheet3!DQ$4,Sheet4!$A$2:$A$8408,Sheet3!$B$1,Sheet4!$B$2:$B$8408,Sheet3!$A$3)<3,0,SUMIFS(Sheet4!$FW$2:$FW$8408,Sheet4!$C$2:$C$8408,Sheet3!$B11,Sheet4!$E$2:$E$8408,Sheet3!DQ$4,Sheet4!$A$2:$A$8408,Sheet3!$B$1,Sheet4!$B$2:$B$8408,Sheet3!$A$3))","v":0},{"$f":"+IF(SUMIFS(Sheet4!$FW$2:$FW$8408,Sheet4!$C$2:$C$8408,Sheet3!$B11,Sheet4!$E$2:$E$8408,Sheet3!DR$4,Sheet4!$A$2:$A$8408,Sheet3!$B$1,Sheet4!$B$2:$B$8408,Sheet3!$A$3)<3,0,SUMIFS(Sheet4!$FW$2:$FW$8408,Sheet4!$C$2:$C$8408,Sheet3!$B11,Sheet4!$E$2:$E$8408,Sheet3!DR$4,Sheet4!$A$2:$A$8408,Sheet3!$B$1,Sheet4!$B$2:$B$8408,Sheet3!$A$3))","v":0}]
[1,"11B","Alto Tâmega",{"$f":"+SUMIFS(Sheet4!$FV$2:$FV$8408,Sheet4!$C$2:$C$8408,Sheet3!$B12,Sheet4!$D$2:$D$8408,Sheet3!D$3,Sheet4!$E$2:$E$8408,Sheet3!D$4,Sheet4!$A$2:$A$8408,Sheet3!$B$1,Sheet4!$B$2:$B$8408,Sheet3!$A$3)","v":15},{"$f":"+SUMIFS(Sheet4!$FV$2:$FV$8408,Sheet4!$C$2:$C$8408,Sheet3!$B12,Sheet4!$D$2:$D$8408,Sheet3!E$3,Sheet4!$E$2:$E$8408,Sheet3!E$4,Sheet4!$A$2:$A$8408,Sheet3!$B$1,Sheet4!$B$2:$B$8408,Sheet3!$A$3)","v":10},{"$f":"+SUMIFS(Sheet4!$FV$2:$FV$8408,Sheet4!$C$2:$C$8408,Sheet3!$B12,Sheet4!$D$2:$D$8408,Sheet3!F$3,Sheet4!$E$2:$E$8408,Sheet3!F$4,Sheet4!$A$2:$A$8408,Sheet3!$B$1,Sheet4!$B$2:$B$8408,Sheet3!$A$3)","v":0},{"$f":"+SUMIFS(Sheet4!$FV$2:$FV$8408,Sheet4!$C$2:$C$8408,Sheet3!$B12,Sheet4!$D$2:$D$8408,Sheet3!G$3,Sheet4!$E$2:$E$8408,Sheet3!G$4,Sheet4!$A$2:$A$8408,Sheet3!$B$1,Sheet4!$B$2:$B$8408,Sheet3!$A$3)","v":0},{"$f":"+SUMIFS(Sheet4!$FV$2:$FV$8408,Sheet4!$C$2:$C$8408,Sheet3!$B12,Sheet4!$D$2:$D$8408,Sheet3!H$3,Sheet4!$E$2:$E$8408,Sheet3!H$4,Sheet4!$A$2:$A$8408,Sheet3!$B$1,Sheet4!$B$2:$B$8408,Sheet3!$A$3)","v":0},{"$f":"+SUMIFS(Sheet4!$FV$2:$FV$8408,Sheet4!$C$2:$C$8408,Sheet3!$B12,Sheet4!$D$2:$D$8408,Sheet3!I$3,Sheet4!$E$2:$E$8408,Sheet3!I$4,Sheet4!$A$2:$A$8408,Sheet3!$B$1,Sheet4!$B$2:$B$8408,Sheet3!$A$3)","v":136},{"$f":"+SUMIFS(Sheet4!$FV$2:$FV$8408,Sheet4!$C$2:$C$8408,Sheet3!$B12,Sheet4!$D$2:$D$8408,Sheet3!J$3,Sheet4!$E$2:$E$8408,Sheet3!J$4,Sheet4!$A$2:$A$8408,Sheet3!$B$1,Sheet4!$B$2:$B$8408,Sheet3!$A$3)","v":30},{"$f":"+SUMIFS(Sheet4!$FV$2:$FV$8408,Sheet4!$C$2:$C$8408,Sheet3!$B12,Sheet4!$D$2:$D$8408,Sheet3!K$3,Sheet4!$E$2:$E$8408,Sheet3!K$4,Sheet4!$A$2:$A$8408,Sheet3!$B$1,Sheet4!$B$2:$B$8408,Sheet3!$A$3)","v":0},{"$f":"+SUMIFS(Sheet4!$FV$2:$FV$8408,Sheet4!$C$2:$C$8408,Sheet3!$B12,Sheet4!$D$2:$D$8408,Sheet3!L$3,Sheet4!$E$2:$E$8408,Sheet3!L$4,Sheet4!$A$2:$A$8408,Sheet3!$B$1,Sheet4!$B$2:$B$8408,Sheet3!$A$3)","v":0},{"$f":"+SUMIFS(Sheet4!$FV$2:$FV$8408,Sheet4!$C$2:$C$8408,Sheet3!$B12,Sheet4!$D$2:$D$8408,Sheet3!M$3,Sheet4!$E$2:$E$8408,Sheet3!M$4,Sheet4!$A$2:$A$8408,Sheet3!$B$1,Sheet4!$B$2:$B$8408,Sheet3!$A$3)","v":0},{"$f":"+SUMIFS(Sheet4!$FV$2:$FV$8408,Sheet4!$C$2:$C$8408,Sheet3!$B12,Sheet4!$D$2:$D$8408,Sheet3!N$3,Sheet4!$E$2:$E$8408,Sheet3!N$4,Sheet4!$A$2:$A$8408,Sheet3!$B$1,Sheet4!$B$2:$B$8408,Sheet3!$A$3)","v":440},{"$f":"+SUMIFS(Sheet4!$FV$2:$FV$8408,Sheet4!$C$2:$C$8408,Sheet3!$B12,Sheet4!$D$2:$D$8408,Sheet3!O$3,Sheet4!$E$2:$E$8408,Sheet3!O$4,Sheet4!$A$2:$A$8408,Sheet3!$B$1,Sheet4!$B$2:$B$8408,Sheet3!$A$3)","v":83},{"$f":"+SUMIFS(Sheet4!$FV$2:$FV$8408,Sheet4!$C$2:$C$8408,Sheet3!$B12,Sheet4!$D$2:$D$8408,Sheet3!P$3,Sheet4!$E$2:$E$8408,Sheet3!P$4,Sheet4!$A$2:$A$8408,Sheet3!$B$1,Sheet4!$B$2:$B$8408,Sheet3!$A$3)","v":0},{"$f":"+SUMIFS(Sheet4!$FV$2:$FV$8408,Sheet4!$C$2:$C$8408,Sheet3!$B12,Sheet4!$D$2:$D$8408,Sheet3!Q$3,Sheet4!$E$2:$E$8408,Sheet3!Q$4,Sheet4!$A$2:$A$8408,Sheet3!$B$1,Sheet4!$B$2:$B$8408,Sheet3!$A$3)","v":0},{"$f":"+SUMIFS(Sheet4!$FV$2:$FV$8408,Sheet4!$C$2:$C$8408,Sheet3!$B12,Sheet4!$D$2:$D$8408,Sheet3!R$3,Sheet4!$E$2:$E$8408,Sheet3!R$4,Sheet4!$A$2:$A$8408,Sheet3!$B$1,Sheet4!$B$2:$B$8408,Sheet3!$A$3)","v":0},{"$f":"+SUMIFS(Sheet4!$FV$2:$FV$8408,Sheet4!$C$2:$C$8408,Sheet3!$B12,Sheet4!$D$2:$D$8408,Sheet3!S$3,Sheet4!$E$2:$E$8408,Sheet3!S$4,Sheet4!$A$2:$A$8408,Sheet3!$B$1,Sheet4!$B$2:$B$8408,Sheet3!$A$3)","v":0},{"$f":"+SUMIFS(Sheet4!$FV$2:$FV$8408,Sheet4!$C$2:$C$8408,Sheet3!$B12,Sheet4!$D$2:$D$8408,Sheet3!T$3,Sheet4!$E$2:$E$8408,Sheet3!T$4,Sheet4!$A$2:$A$8408,Sheet3!$B$1,Sheet4!$B$2:$B$8408,Sheet3!$A$3)","v":0},{"$f":"+SUMIFS(Sheet4!$FV$2:$FV$8408,Sheet4!$C$2:$C$8408,Sheet3!$B12,Sheet4!$D$2:$D$8408,Sheet3!U$3,Sheet4!$E$2:$E$8408,Sheet3!U$4,Sheet4!$A$2:$A$8408,Sheet3!$B$1,Sheet4!$B$2:$B$8408,Sheet3!$A$3)","v":0},{"$f":"+SUMIFS(Sheet4!$FV$2:$FV$8408,Sheet4!$C$2:$C$8408,Sheet3!$B12,Sheet4!$D$2:$D$8408,Sheet3!V$3,Sheet4!$E$2:$E$8408,Sheet3!V$4,Sheet4!$A$2:$A$8408,Sheet3!$B$1,Sheet4!$B$2:$B$8408,Sheet3!$A$3)","v":0},{"$f":"+SUMIFS(Sheet4!$FV$2:$FV$8408,Sheet4!$C$2:$C$8408,Sheet3!$B12,Sheet4!$D$2:$D$8408,Sheet3!W$3,Sheet4!$E$2:$E$8408,Sheet3!W$4,Sheet4!$A$2:$A$8408,Sheet3!$B$1,Sheet4!$B$2:$B$8408,Sheet3!$A$3)","v":0},{"$f":"+SUMIFS(Sheet4!$FV$2:$FV$8408,Sheet4!$C$2:$C$8408,Sheet3!$B12,Sheet4!$D$2:$D$8408,Sheet3!X$3,Sheet4!$E$2:$E$8408,Sheet3!X$4,Sheet4!$A$2:$A$8408,Sheet3!$B$1,Sheet4!$B$2:$B$8408,Sheet3!$A$3)","v":0},{"$f":"+SUMIFS(Sheet4!$FV$2:$FV$8408,Sheet4!$C$2:$C$8408,Sheet3!$B12,Sheet4!$D$2:$D$8408,Sheet3!Y$3,Sheet4!$E$2:$E$8408,Sheet3!Y$4,Sheet4!$A$2:$A$8408,Sheet3!$B$1,Sheet4!$B$2:$B$8408,Sheet3!$A$3)","v":0},{"$f":"+SUMIFS(Sheet4!$FV$2:$FV$8408,Sheet4!$C$2:$C$8408,Sheet3!$B12,Sheet4!$D$2:$D$8408,Sheet3!Z$3,Sheet4!$E$2:$E$8408,Sheet3!Z$4,Sheet4!$A$2:$A$8408,Sheet3!$B$1,Sheet4!$B$2:$B$8408,Sheet3!$A$3)","v":0},{"$f":"+SUMIFS(Sheet4!$FV$2:$FV$8408,Sheet4!$C$2:$C$8408,Sheet3!$B12,Sheet4!$D$2:$D$8408,Sheet3!AA$3,Sheet4!$E$2:$E$8408,Sheet3!AA$4,Sheet4!$A$2:$A$8408,Sheet3!$B$1,Sheet4!$B$2:$B$8408,Sheet3!$A$3)","v":0},{"$f":"+SUMIFS(Sheet4!$FV$2:$FV$8408,Sheet4!$C$2:$C$8408,Sheet3!$B12,Sheet4!$D$2:$D$8408,Sheet3!AB$3,Sheet4!$E$2:$E$8408,Sheet3!AB$4,Sheet4!$A$2:$A$8408,Sheet3!$B$1,Sheet4!$B$2:$B$8408,Sheet3!$A$3)","v":0},{"$f":"+SUMIFS(Sheet4!$FV$2:$FV$8408,Sheet4!$C$2:$C$8408,Sheet3!$B12,Sheet4!$D$2:$D$8408,Sheet3!AC$3,Sheet4!$E$2:$E$8408,Sheet3!AC$4,Sheet4!$A$2:$A$8408,Sheet3!$B$1,Sheet4!$B$2:$B$8408,Sheet3!$A$3)","v":1225},{"$f":"+SUMIFS(Sheet4!$FV$2:$FV$8408,Sheet4!$C$2:$C$8408,Sheet3!$B12,Sheet4!$D$2:$D$8408,Sheet3!AD$3,Sheet4!$E$2:$E$8408,Sheet3!AD$4,Sheet4!$A$2:$A$8408,Sheet3!$B$1,Sheet4!$B$2:$B$8408,Sheet3!$A$3)","v":121},{"$f":"+SUMIFS(Sheet4!$FV$2:$FV$8408,Sheet4!$C$2:$C$8408,Sheet3!$B12,Sheet4!$D$2:$D$8408,Sheet3!AE$3,Sheet4!$E$2:$E$8408,Sheet3!AE$4,Sheet4!$A$2:$A$8408,Sheet3!$B$1,Sheet4!$B$2:$B$8408,Sheet3!$A$3)","v":0},{"$f":"+SUMIFS(Sheet4!$FV$2:$FV$8408,Sheet4!$C$2:$C$8408,Sheet3!$B12,Sheet4!$D$2:$D$8408,Sheet3!AF$3,Sheet4!$E$2:$E$8408,Sheet3!AF$4,Sheet4!$A$2:$A$8408,Sheet3!$B$1,Sheet4!$B$2:$B$8408,Sheet3!$A$3)","v":0},{"$f":"+SUMIFS(Sheet4!$FV$2:$FV$8408,Sheet4!$C$2:$C$8408,Sheet3!$B12,Sheet4!$D$2:$D$8408,Sheet3!AG$3,Sheet4!$E$2:$E$8408,Sheet3!AG$4,Sheet4!$A$2:$A$8408,Sheet3!$B$1,Sheet4!$B$2:$B$8408,Sheet3!$A$3)","v":0},{"$f":"+SUMIFS(Sheet4!$FV$2:$FV$8408,Sheet4!$C$2:$C$8408,Sheet3!$B12,Sheet4!$D$2:$D$8408,Sheet3!AH$3,Sheet4!$E$2:$E$8408,Sheet3!AH$4,Sheet4!$A$2:$A$8408,Sheet3!$B$1,Sheet4!$B$2:$B$8408,Sheet3!$A$3)","v":75},{"$f":"+SUMIFS(Sheet4!$FV$2:$FV$8408,Sheet4!$C$2:$C$8408,Sheet3!$B12,Sheet4!$D$2:$D$8408,Sheet3!AI$3,Sheet4!$E$2:$E$8408,Sheet3!AI$4,Sheet4!$A$2:$A$8408,Sheet3!$B$1,Sheet4!$B$2:$B$8408,Sheet3!$A$3)","v":30},{"$f":"+SUMIFS(Sheet4!$FV$2:$FV$8408,Sheet4!$C$2:$C$8408,Sheet3!$B12,Sheet4!$D$2:$D$8408,Sheet3!AJ$3,Sheet4!$E$2:$E$8408,Sheet3!AJ$4,Sheet4!$A$2:$A$8408,Sheet3!$B$1,Sheet4!$B$2:$B$8408,Sheet3!$A$3)","v":3},{"$f":"+SUMIFS(Sheet4!$FV$2:$FV$8408,Sheet4!$C$2:$C$8408,Sheet3!$B12,Sheet4!$D$2:$D$8408,Sheet3!AK$3,Sheet4!$E$2:$E$8408,Sheet3!AK$4,Sheet4!$A$2:$A$8408,Sheet3!$B$1,Sheet4!$B$2:$B$8408,Sheet3!$A$3)","v":0},{"$f":"+SUMIFS(Sheet4!$FV$2:$FV$8408,Sheet4!$C$2:$C$8408,Sheet3!$B12,Sheet4!$D$2:$D$8408,Sheet3!AL$3,Sheet4!$E$2:$E$8408,Sheet3!AL$4,Sheet4!$A$2:$A$8408,Sheet3!$B$1,Sheet4!$B$2:$B$8408,Sheet3!$A$3)","v":0},{"$f":"+SUMIFS(Sheet4!$FV$2:$FV$8408,Sheet4!$C$2:$C$8408,Sheet3!$B12,Sheet4!$D$2:$D$8408,Sheet3!AM$3,Sheet4!$E$2:$E$8408,Sheet3!AM$4,Sheet4!$A$2:$A$8408,Sheet3!$B$1,Sheet4!$B$2:$B$8408,Sheet3!$A$3)","v":1175},{"$f":"+SUMIFS(Sheet4!$FV$2:$FV$8408,Sheet4!$C$2:$C$8408,Sheet3!$B12,Sheet4!$D$2:$D$8408,Sheet3!AN$3,Sheet4!$E$2:$E$8408,Sheet3!AN$4,Sheet4!$A$2:$A$8408,Sheet3!$B$1,Sheet4!$B$2:$B$8408,Sheet3!$A$3)","v":466},{"$f":"+SUMIFS(Sheet4!$FV$2:$FV$8408,Sheet4!$C$2:$C$8408,Sheet3!$B12,Sheet4!$D$2:$D$8408,Sheet3!AO$3,Sheet4!$E$2:$E$8408,Sheet3!AO$4,Sheet4!$A$2:$A$8408,Sheet3!$B$1,Sheet4!$B$2:$B$8408,Sheet3!$A$3)","v":18},{"$f":"+SUMIFS(Sheet4!$FV$2:$FV$8408,Sheet4!$C$2:$C$8408,Sheet3!$B12,Sheet4!$D$2:$D$8408,Sheet3!AP$3,Sheet4!$E$2:$E$8408,Sheet3!AP$4,Sheet4!$A$2:$A$8408,Sheet3!$B$1,Sheet4!$B$2:$B$8408,Sheet3!$A$3)","v":0},{"$f":"+SUMIFS(Sheet4!$FV$2:$FV$8408,Sheet4!$C$2:$C$8408,Sheet3!$B12,Sheet4!$D$2:$D$8408,Sheet3!AQ$3,Sheet4!$E$2:$E$8408,Sheet3!AQ$4,Sheet4!$A$2:$A$8408,Sheet3!$B$1,Sheet4!$B$2:$B$8408,Sheet3!$A$3)","v":0},{"$f":"+SUMIFS(Sheet4!$FV$2:$FV$8408,Sheet4!$C$2:$C$8408,Sheet3!$B12,Sheet4!$D$2:$D$8408,Sheet3!AR$3,Sheet4!$E$2:$E$8408,Sheet3!AR$4,Sheet4!$A$2:$A$8408,Sheet3!$B$1,Sheet4!$B$2:$B$8408,Sheet3!$A$3)","v":236},{"$f":"+SUMIFS(Sheet4!$FV$2:$FV$8408,Sheet4!$C$2:$C$8408,Sheet3!$B12,Sheet4!$D$2:$D$8408,Sheet3!AS$3,Sheet4!$E$2:$E$8408,Sheet3!AS$4,Sheet4!$A$2:$A$8408,Sheet3!$B$1,Sheet4!$B$2:$B$8408,Sheet3!$A$3)","v":37},{"$f":"+SUMIFS(Sheet4!$FV$2:$FV$8408,Sheet4!$C$2:$C$8408,Sheet3!$B12,Sheet4!$D$2:$D$8408,Sheet3!AT$3,Sheet4!$E$2:$E$8408,Sheet3!AT$4,Sheet4!$A$2:$A$8408,Sheet3!$B$1,Sheet4!$B$2:$B$8408,Sheet3!$A$3)","v":7},{"$f":"+SUMIFS(Sheet4!$FV$2:$FV$8408,Sheet4!$C$2:$C$8408,Sheet3!$B12,Sheet4!$D$2:$D$8408,Sheet3!AU$3,Sheet4!$E$2:$E$8408,Sheet3!AU$4,Sheet4!$A$2:$A$8408,Sheet3!$B$1,Sheet4!$B$2:$B$8408,Sheet3!$A$3)","v":0},{"$f":"+SUMIFS(Sheet4!$FV$2:$FV$8408,Sheet4!$C$2:$C$8408,Sheet3!$B12,Sheet4!$D$2:$D$8408,Sheet3!AV$3,Sheet4!$E$2:$E$8408,Sheet3!AV$4,Sheet4!$A$2:$A$8408,Sheet3!$B$1,Sheet4!$B$2:$B$8408,Sheet3!$A$3)","v":0},{"$f":"+SUMIFS(Sheet4!$FV$2:$FV$8408,Sheet4!$C$2:$C$8408,Sheet3!$B12,Sheet4!$D$2:$D$8408,Sheet3!AW$3,Sheet4!$E$2:$E$8408,Sheet3!AW$4,Sheet4!$A$2:$A$8408,Sheet3!$B$1,Sheet4!$B$2:$B$8408,Sheet3!$A$3)","v":3217},{"$f":"+SUMIFS(Sheet4!$FV$2:$FV$8408,Sheet4!$C$2:$C$8408,Sheet3!$B12,Sheet4!$D$2:$D$8408,Sheet3!AX$3,Sheet4!$E$2:$E$8408,Sheet3!AX$4,Sheet4!$A$2:$A$8408,Sheet3!$B$1,Sheet4!$B$2:$B$8408,Sheet3!$A$3)","v":913},{"$f":"+SUMIFS(Sheet4!$FV$2:$FV$8408,Sheet4!$C$2:$C$8408,Sheet3!$B12,Sheet4!$D$2:$D$8408,Sheet3!AY$3,Sheet4!$E$2:$E$8408,Sheet3!AY$4,Sheet4!$A$2:$A$8408,Sheet3!$B$1,Sheet4!$B$2:$B$8408,Sheet3!$A$3)","v":19},{"$f":"+SUMIFS(Sheet4!$FV$2:$FV$8408,Sheet4!$C$2:$C$8408,Sheet3!$B12,Sheet4!$D$2:$D$8408,Sheet3!AZ$3,Sheet4!$E$2:$E$8408,Sheet3!AZ$4,Sheet4!$A$2:$A$8408,Sheet3!$B$1,Sheet4!$B$2:$B$8408,Sheet3!$A$3)","v":0},{"$f":"+SUMIFS(Sheet4!$FV$2:$FV$8408,Sheet4!$C$2:$C$8408,Sheet3!$B12,Sheet4!$D$2:$D$8408,Sheet3!BA$3,Sheet4!$E$2:$E$8408,Sheet3!BA$4,Sheet4!$A$2:$A$8408,Sheet3!$B$1,Sheet4!$B$2:$B$8408,Sheet3!$A$3)","v":0},{"$f":"+SUMIFS(Sheet4!$FV$2:$FV$8408,Sheet4!$C$2:$C$8408,Sheet3!$B12,Sheet4!$D$2:$D$8408,Sheet3!BB$3,Sheet4!$E$2:$E$8408,Sheet3!BB$4,Sheet4!$A$2:$A$8408,Sheet3!$B$1,Sheet4!$B$2:$B$8408,Sheet3!$A$3)","v":3},{"$f":"+SUMIFS(Sheet4!$FV$2:$FV$8408,Sheet4!$C$2:$C$8408,Sheet3!$B12,Sheet4!$D$2:$D$8408,Sheet3!BC$3,Sheet4!$E$2:$E$8408,Sheet3!BC$4,Sheet4!$A$2:$A$8408,Sheet3!$B$1,Sheet4!$B$2:$B$8408,Sheet3!$A$3)","v":33},{"$f":"+SUMIFS(Sheet4!$FV$2:$FV$8408,Sheet4!$C$2:$C$8408,Sheet3!$B12,Sheet4!$D$2:$D$8408,Sheet3!BD$3,Sheet4!$E$2:$E$8408,Sheet3!BD$4,Sheet4!$A$2:$A$8408,Sheet3!$B$1,Sheet4!$B$2:$B$8408,Sheet3!$A$3)","v":5},{"$f":"+SUMIFS(Sheet4!$FV$2:$FV$8408,Sheet4!$C$2:$C$8408,Sheet3!$B12,Sheet4!$D$2:$D$8408,Sheet3!BE$3,Sheet4!$E$2:$E$8408,Sheet3!BE$4,Sheet4!$A$2:$A$8408,Sheet3!$B$1,Sheet4!$B$2:$B$8408,Sheet3!$A$3)","v":0},{"$f":"+SUMIFS(Sheet4!$FV$2:$FV$8408,Sheet4!$C$2:$C$8408,Sheet3!$B12,Sheet4!$D$2:$D$8408,Sheet3!BF$3,Sheet4!$E$2:$E$8408,Sheet3!BF$4,Sheet4!$A$2:$A$8408,Sheet3!$B$1,Sheet4!$B$2:$B$8408,Sheet3!$A$3)","v":0},{"$f":"+SUMIFS(Sheet4!$FV$2:$FV$8408,Sheet4!$C$2:$C$8408,Sheet3!$B12,Sheet4!$D$2:$D$8408,Sheet3!BG$3,Sheet4!$E$2:$E$8408,Sheet3!BG$4,Sheet4!$A$2:$A$8408,Sheet3!$B$1,Sheet4!$B$2:$B$8408,Sheet3!$A$3)","v":112},{"$f":"+SUMIFS(Sheet4!$FV$2:$FV$8408,Sheet4!$C$2:$C$8408,Sheet3!$B12,Sheet4!$D$2:$D$8408,Sheet3!BH$3,Sheet4!$E$2:$E$8408,Sheet3!BH$4,Sheet4!$A$2:$A$8408,Sheet3!$B$1,Sheet4!$B$2:$B$8408,Sheet3!$A$3)","v":195},{"$f":"+SUMIFS(Sheet4!$FV$2:$FV$8408,Sheet4!$C$2:$C$8408,Sheet3!$B12,Sheet4!$D$2:$D$8408,Sheet3!BI$3,Sheet4!$E$2:$E$8408,Sheet3!BI$4,Sheet4!$A$2:$A$8408,Sheet3!$B$1,Sheet4!$B$2:$B$8408,Sheet3!$A$3)","v":24},{"$f":"+SUMIFS(Sheet4!$FV$2:$FV$8408,Sheet4!$C$2:$C$8408,Sheet3!$B12,Sheet4!$D$2:$D$8408,Sheet3!BJ$3,Sheet4!$E$2:$E$8408,Sheet3!BJ$4,Sheet4!$A$2:$A$8408,Sheet3!$B$1,Sheet4!$B$2:$B$8408,Sheet3!$A$3)","v":0},{"$f":"+SUMIFS(Sheet4!$FV$2:$FV$8408,Sheet4!$C$2:$C$8408,Sheet3!$B12,Sheet4!$D$2:$D$8408,Sheet3!BK$3,Sheet4!$E$2:$E$8408,Sheet3!BK$4,Sheet4!$A$2:$A$8408,Sheet3!$B$1,Sheet4!$B$2:$B$8408,Sheet3!$A$3)","v":0},{"$f":"+SUMIFS(Sheet4!$FV$2:$FV$8408,Sheet4!$C$2:$C$8408,Sheet3!$B12,Sheet4!$D$2:$D$8408,Sheet3!BL$3,Sheet4!$E$2:$E$8408,Sheet3!BL$4,Sheet4!$A$2:$A$8408,Sheet3!$B$1,Sheet4!$B$2:$B$8408,Sheet3!$A$3)","v":56},{"$f":"+SUMIFS(Sheet4!$FV$2:$FV$8408,Sheet4!$C$2:$C$8408,Sheet3!$B12,Sheet4!$D$2:$D$8408,Sheet3!BM$3,Sheet4!$E$2:$E$8408,Sheet3!BM$4,Sheet4!$A$2:$A$8408,Sheet3!$B$1,Sheet4!$B$2:$B$8408,Sheet3!$A$3)","v":19},{"$f":"+SUMIFS(Sheet4!$FV$2:$FV$8408,Sheet4!$C$2:$C$8408,Sheet3!$B12,Sheet4!$D$2:$D$8408,Sheet3!BN$3,Sheet4!$E$2:$E$8408,Sheet3!BN$4,Sheet4!$A$2:$A$8408,Sheet3!$B$1,Sheet4!$B$2:$B$8408,Sheet3!$A$3)","v":3},{"$f":"+SUMIFS(Sheet4!$FV$2:$FV$8408,Sheet4!$C$2:$C$8408,Sheet3!$B12,Sheet4!$D$2:$D$8408,Sheet3!BO$3,Sheet4!$E$2:$E$8408,Sheet3!BO$4,Sheet4!$A$2:$A$8408,Sheet3!$B$1,Sheet4!$B$2:$B$8408,Sheet3!$A$3)","v":0},{"$f":"+SUMIFS(Sheet4!$FV$2:$FV$8408,Sheet4!$C$2:$C$8408,Sheet3!$B12,Sheet4!$D$2:$D$8408,Sheet3!BP$3,Sheet4!$E$2:$E$8408,Sheet3!BP$4,Sheet4!$A$2:$A$8408,Sheet3!$B$1,Sheet4!$B$2:$B$8408,Sheet3!$A$3)","v":0},{"$f":"+SUMIFS(Sheet4!$FV$2:$FV$8408,Sheet4!$C$2:$C$8408,Sheet3!$B12,Sheet4!$D$2:$D$8408,Sheet3!BQ$3,Sheet4!$E$2:$E$8408,Sheet3!BQ$4,Sheet4!$A$2:$A$8408,Sheet3!$B$1,Sheet4!$B$2:$B$8408,Sheet3!$A$3)","v":274},{"$f":"+SUMIFS(Sheet4!$FV$2:$FV$8408,Sheet4!$C$2:$C$8408,Sheet3!$B12,Sheet4!$D$2:$D$8408,Sheet3!BR$3,Sheet4!$E$2:$E$8408,Sheet3!BR$4,Sheet4!$A$2:$A$8408,Sheet3!$B$1,Sheet4!$B$2:$B$8408,Sheet3!$A$3)","v":1000},{"$f":"+SUMIFS(Sheet4!$FV$2:$FV$8408,Sheet4!$C$2:$C$8408,Sheet3!$B12,Sheet4!$D$2:$D$8408,Sheet3!BS$3,Sheet4!$E$2:$E$8408,Sheet3!BS$4,Sheet4!$A$2:$A$8408,Sheet3!$B$1,Sheet4!$B$2:$B$8408,Sheet3!$A$3)","v":169},{"$f":"+SUMIFS(Sheet4!$FV$2:$FV$8408,Sheet4!$C$2:$C$8408,Sheet3!$B12,Sheet4!$D$2:$D$8408,Sheet3!BT$3,Sheet4!$E$2:$E$8408,Sheet3!BT$4,Sheet4!$A$2:$A$8408,Sheet3!$B$1,Sheet4!$B$2:$B$8408,Sheet3!$A$3)","v":8},{"$f":"+SUMIFS(Sheet4!$FV$2:$FV$8408,Sheet4!$C$2:$C$8408,Sheet3!$B12,Sheet4!$D$2:$D$8408,Sheet3!BU$3,Sheet4!$E$2:$E$8408,Sheet3!BU$4,Sheet4!$A$2:$A$8408,Sheet3!$B$1,Sheet4!$B$2:$B$8408,Sheet3!$A$3)","v":0},{"$f":"+SUMIFS(Sheet4!$FV$2:$FV$8408,Sheet4!$C$2:$C$8408,Sheet3!$B12,Sheet4!$D$2:$D$8408,Sheet3!BV$3,Sheet4!$E$2:$E$8408,Sheet3!BV$4,Sheet4!$A$2:$A$8408,Sheet3!$B$1,Sheet4!$B$2:$B$8408,Sheet3!$A$3)","v":859},{"$f":"+SUMIFS(Sheet4!$FV$2:$FV$8408,Sheet4!$C$2:$C$8408,Sheet3!$B12,Sheet4!$D$2:$D$8408,Sheet3!BW$3,Sheet4!$E$2:$E$8408,Sheet3!BW$4,Sheet4!$A$2:$A$8408,Sheet3!$B$1,Sheet4!$B$2:$B$8408,Sheet3!$A$3)","v":700},{"$f":"+SUMIFS(Sheet4!$FV$2:$FV$8408,Sheet4!$C$2:$C$8408,Sheet3!$B12,Sheet4!$D$2:$D$8408,Sheet3!BX$3,Sheet4!$E$2:$E$8408,Sheet3!BX$4,Sheet4!$A$2:$A$8408,Sheet3!$B$1,Sheet4!$B$2:$B$8408,Sheet3!$A$3)","v":51},{"$f":"+SUMIFS(Sheet4!$FV$2:$FV$8408,Sheet4!$C$2:$C$8408,Sheet3!$B12,Sheet4!$D$2:$D$8408,Sheet3!BY$3,Sheet4!$E$2:$E$8408,Sheet3!BY$4,Sheet4!$A$2:$A$8408,Sheet3!$B$1,Sheet4!$B$2:$B$8408,Sheet3!$A$3)","v":4},{"$f":"+SUMIFS(Sheet4!$FV$2:$FV$8408,Sheet4!$C$2:$C$8408,Sheet3!$B12,Sheet4!$D$2:$D$8408,Sheet3!BZ$3,Sheet4!$E$2:$E$8408,Sheet3!BZ$4,Sheet4!$A$2:$A$8408,Sheet3!$B$1,Sheet4!$B$2:$B$8408,Sheet3!$A$3)","v":0},{"$f":"+SUMIFS(Sheet4!$FV$2:$FV$8408,Sheet4!$C$2:$C$8408,Sheet3!$B12,Sheet4!$D$2:$D$8408,Sheet3!CA$3,Sheet4!$E$2:$E$8408,Sheet3!CA$4,Sheet4!$A$2:$A$8408,Sheet3!$B$1,Sheet4!$B$2:$B$8408,Sheet3!$A$3)","v":449},{"$f":"+SUMIFS(Sheet4!$FV$2:$FV$8408,Sheet4!$C$2:$C$8408,Sheet3!$B12,Sheet4!$D$2:$D$8408,Sheet3!CB$3,Sheet4!$E$2:$E$8408,Sheet3!CB$4,Sheet4!$A$2:$A$8408,Sheet3!$B$1,Sheet4!$B$2:$B$8408,Sheet3!$A$3)","v":410},{"$f":"+SUMIFS(Sheet4!$FV$2:$FV$8408,Sheet4!$C$2:$C$8408,Sheet3!$B12,Sheet4!$D$2:$D$8408,Sheet3!CC$3,Sheet4!$E$2:$E$8408,Sheet3!CC$4,Sheet4!$A$2:$A$8408,Sheet3!$B$1,Sheet4!$B$2:$B$8408,Sheet3!$A$3)","v":14},{"$f":"+SUMIFS(Sheet4!$FV$2:$FV$8408,Sheet4!$C$2:$C$8408,Sheet3!$B12,Sheet4!$D$2:$D$8408,Sheet3!CD$3,Sheet4!$E$2:$E$8408,Sheet3!CD$4,Sheet4!$A$2:$A$8408,Sheet3!$B$1,Sheet4!$B$2:$B$8408,Sheet3!$A$3)","v":0},{"$f":"+SUMIFS(Sheet4!$FV$2:$FV$8408,Sheet4!$C$2:$C$8408,Sheet3!$B12,Sheet4!$D$2:$D$8408,Sheet3!CE$3,Sheet4!$E$2:$E$8408,Sheet3!CE$4,Sheet4!$A$2:$A$8408,Sheet3!$B$1,Sheet4!$B$2:$B$8408,Sheet3!$A$3)","v":0},{"$f":"+SUMIFS(Sheet4!$FV$2:$FV$8408,Sheet4!$C$2:$C$8408,Sheet3!$B12,Sheet4!$D$2:$D$8408,Sheet3!CF$3,Sheet4!$E$2:$E$8408,Sheet3!CF$4,Sheet4!$A$2:$A$8408,Sheet3!$B$1,Sheet4!$B$2:$B$8408,Sheet3!$A$3)","v":400},{"$f":"+SUMIFS(Sheet4!$FV$2:$FV$8408,Sheet4!$C$2:$C$8408,Sheet3!$B12,Sheet4!$D$2:$D$8408,Sheet3!CG$3,Sheet4!$E$2:$E$8408,Sheet3!CG$4,Sheet4!$A$2:$A$8408,Sheet3!$B$1,Sheet4!$B$2:$B$8408,Sheet3!$A$3)","v":80},{"$f":"+SUMIFS(Sheet4!$FV$2:$FV$8408,Sheet4!$C$2:$C$8408,Sheet3!$B12,Sheet4!$D$2:$D$8408,Sheet3!CH$3,Sheet4!$E$2:$E$8408,Sheet3!CH$4,Sheet4!$A$2:$A$8408,Sheet3!$B$1,Sheet4!$B$2:$B$8408,Sheet3!$A$3)","v":3},{"$f":"+SUMIFS(Sheet4!$FV$2:$FV$8408,Sheet4!$C$2:$C$8408,Sheet3!$B12,Sheet4!$D$2:$D$8408,Sheet3!CI$3,Sheet4!$E$2:$E$8408,Sheet3!CI$4,Sheet4!$A$2:$A$8408,Sheet3!$B$1,Sheet4!$B$2:$B$8408,Sheet3!$A$3)","v":0},{"$f":"+SUMIFS(Sheet4!$FV$2:$FV$8408,Sheet4!$C$2:$C$8408,Sheet3!$B12,Sheet4!$D$2:$D$8408,Sheet3!CJ$3,Sheet4!$E$2:$E$8408,Sheet3!CJ$4,Sheet4!$A$2:$A$8408,Sheet3!$B$1,Sheet4!$B$2:$B$8408,Sheet3!$A$3)","v":0},{"$f":"+SUMIFS(Sheet4!$FV$2:$FV$8408,Sheet4!$C$2:$C$8408,Sheet3!$B12,Sheet4!$D$2:$D$8408,Sheet3!CK$3,Sheet4!$E$2:$E$8408,Sheet3!CK$4,Sheet4!$A$2:$A$8408,Sheet3!$B$1,Sheet4!$B$2:$B$8408,Sheet3!$A$3)","v":0},{"$f":"+SUMIFS(Sheet4!$FV$2:$FV$8408,Sheet4!$C$2:$C$8408,Sheet3!$B12,Sheet4!$D$2:$D$8408,Sheet3!CL$3,Sheet4!$E$2:$E$8408,Sheet3!CL$4,Sheet4!$A$2:$A$8408,Sheet3!$B$1,Sheet4!$B$2:$B$8408,Sheet3!$A$3)","v":0},{"$f":"+SUMIFS(Sheet4!$FV$2:$FV$8408,Sheet4!$C$2:$C$8408,Sheet3!$B12,Sheet4!$D$2:$D$8408,Sheet3!CM$3,Sheet4!$E$2:$E$8408,Sheet3!CM$4,Sheet4!$A$2:$A$8408,Sheet3!$B$1,Sheet4!$B$2:$B$8408,Sheet3!$A$3)","v":0},{"$f":"+SUMIFS(Sheet4!$FV$2:$FV$8408,Sheet4!$C$2:$C$8408,Sheet3!$B12,Sheet4!$D$2:$D$8408,Sheet3!CN$3,Sheet4!$E$2:$E$8408,Sheet3!CN$4,Sheet4!$A$2:$A$8408,Sheet3!$B$1,Sheet4!$B$2:$B$8408,Sheet3!$A$3)","v":0},{"$f":"+SUMIFS(Sheet4!$FV$2:$FV$8408,Sheet4!$C$2:$C$8408,Sheet3!$B12,Sheet4!$D$2:$D$8408,Sheet3!CO$3,Sheet4!$E$2:$E$8408,Sheet3!CO$4,Sheet4!$A$2:$A$8408,Sheet3!$B$1,Sheet4!$B$2:$B$8408,Sheet3!$A$3)","v":0},{"$f":"+SUMIFS(Sheet4!$FV$2:$FV$8408,Sheet4!$C$2:$C$8408,Sheet3!$B12,Sheet4!$D$2:$D$8408,Sheet3!CP$3,Sheet4!$E$2:$E$8408,Sheet3!CP$4,Sheet4!$A$2:$A$8408,Sheet3!$B$1,Sheet4!$B$2:$B$8408,Sheet3!$A$3)","v":46},{"$f":"+SUMIFS(Sheet4!$FV$2:$FV$8408,Sheet4!$C$2:$C$8408,Sheet3!$B12,Sheet4!$D$2:$D$8408,Sheet3!CQ$3,Sheet4!$E$2:$E$8408,Sheet3!CQ$4,Sheet4!$A$2:$A$8408,Sheet3!$B$1,Sheet4!$B$2:$B$8408,Sheet3!$A$3)","v":0},{"$f":"+SUMIFS(Sheet4!$FV$2:$FV$8408,Sheet4!$C$2:$C$8408,Sheet3!$B12,Sheet4!$D$2:$D$8408,Sheet3!CR$3,Sheet4!$E$2:$E$8408,Sheet3!CR$4,Sheet4!$A$2:$A$8408,Sheet3!$B$1,Sheet4!$B$2:$B$8408,Sheet3!$A$3)","v":0},{"$f":"+SUMIFS(Sheet4!$FV$2:$FV$8408,Sheet4!$C$2:$C$8408,Sheet3!$B12,Sheet4!$D$2:$D$8408,Sheet3!CS$3,Sheet4!$E$2:$E$8408,Sheet3!CS$4,Sheet4!$A$2:$A$8408,Sheet3!$B$1,Sheet4!$B$2:$B$8408,Sheet3!$A$3)","v":0},{"$f":"+SUMIFS(Sheet4!$FV$2:$FV$8408,Sheet4!$C$2:$C$8408,Sheet3!$B12,Sheet4!$D$2:$D$8408,Sheet3!CT$3,Sheet4!$E$2:$E$8408,Sheet3!CT$4,Sheet4!$A$2:$A$8408,Sheet3!$B$1,Sheet4!$B$2:$B$8408,Sheet3!$A$3)","v":0},{"$f":"+IF(SUMIFS(Sheet4!$FW$2:$FW$8408,Sheet4!$C$2:$C$8408,Sheet3!$B12,Sheet4!$D$2:$D$8408,Sheet3!CU$3,Sheet4!$A$2:$A$8408,Sheet3!$B$1,Sheet4!$B$2:$B$8408,Sheet3!$A$3)<3,0,SUMIFS(Sheet4!$FW$2:$FW$8408,Sheet4!$C$2:$C$8408,Sheet3!$B12,Sheet4!$D$2:$D$8408,Sheet3!CU$3,Sheet4!$A$2:$A$8408,Sheet3!$B$1,Sheet4!$B$2:$B$8408,Sheet3!$A$3))","v":27},{"$f":"+IF(SUMIFS(Sheet4!$FW$2:$FW$8408,Sheet4!$C$2:$C$8408,Sheet3!$B12,Sheet4!$D$2:$D$8408,Sheet3!CV$3,Sheet4!$A$2:$A$8408,Sheet3!$B$1,Sheet4!$B$2:$B$8408,Sheet3!$A$3)<3,0,SUMIFS(Sheet4!$FW$2:$FW$8408,Sheet4!$C$2:$C$8408,Sheet3!$B12,Sheet4!$D$2:$D$8408,Sheet3!CV$3,Sheet4!$A$2:$A$8408,Sheet3!$B$1,Sheet4!$B$2:$B$8408,Sheet3!$A$3))","v":169},{"$f":"+IF(SUMIFS(Sheet4!$FW$2:$FW$8408,Sheet4!$C$2:$C$8408,Sheet3!$B12,Sheet4!$D$2:$D$8408,Sheet3!CW$3,Sheet4!$A$2:$A$8408,Sheet3!$B$1,Sheet4!$B$2:$B$8408,Sheet3!$A$3)<3,0,SUMIFS(Sheet4!$FW$2:$FW$8408,Sheet4!$C$2:$C$8408,Sheet3!$B12,Sheet4!$D$2:$D$8408,Sheet3!CW$3,Sheet4!$A$2:$A$8408,Sheet3!$B$1,Sheet4!$B$2:$B$8408,Sheet3!$A$3))","v":524},{"$f":"+IF(SUMIFS(Sheet4!$FW$2:$FW$8408,Sheet4!$C$2:$C$8408,Sheet3!$B12,Sheet4!$D$2:$D$8408,Sheet3!CX$3,Sheet4!$A$2:$A$8408,Sheet3!$B$1,Sheet4!$B$2:$B$8408,Sheet3!$A$3)<3,0,SUMIFS(Sheet4!$FW$2:$FW$8408,Sheet4!$C$2:$C$8408,Sheet3!$B12,Sheet4!$D$2:$D$8408,Sheet3!CX$3,Sheet4!$A$2:$A$8408,Sheet3!$B$1,Sheet4!$B$2:$B$8408,Sheet3!$A$3))","v":0},{"$f":"+IF(SUMIFS(Sheet4!$FW$2:$FW$8408,Sheet4!$C$2:$C$8408,Sheet3!$B12,Sheet4!$D$2:$D$8408,Sheet3!CY$3,Sheet4!$A$2:$A$8408,Sheet3!$B$1,Sheet4!$B$2:$B$8408,Sheet3!$A$3)<3,0,SUMIFS(Sheet4!$FW$2:$FW$8408,Sheet4!$C$2:$C$8408,Sheet3!$B12,Sheet4!$D$2:$D$8408,Sheet3!CY$3,Sheet4!$A$2:$A$8408,Sheet3!$B$1,Sheet4!$B$2:$B$8408,Sheet3!$A$3))","v":0},{"$f":"+IF(SUMIFS(Sheet4!$FW$2:$FW$8408,Sheet4!$C$2:$C$8408,Sheet3!$B12,Sheet4!$D$2:$D$8408,Sheet3!CZ$3,Sheet4!$A$2:$A$8408,Sheet3!$B$1,Sheet4!$B$2:$B$8408,Sheet3!$A$3)<3,0,SUMIFS(Sheet4!$FW$2:$FW$8408,Sheet4!$C$2:$C$8408,Sheet3!$B12,Sheet4!$D$2:$D$8408,Sheet3!CZ$3,Sheet4!$A$2:$A$8408,Sheet3!$B$1,Sheet4!$B$2:$B$8408,Sheet3!$A$3))","v":1347},{"$f":"+IF(SUMIFS(Sheet4!$FW$2:$FW$8408,Sheet4!$C$2:$C$8408,Sheet3!$B12,Sheet4!$D$2:$D$8408,Sheet3!DA$3,Sheet4!$A$2:$A$8408,Sheet3!$B$1,Sheet4!$B$2:$B$8408,Sheet3!$A$3)<3,0,SUMIFS(Sheet4!$FW$2:$FW$8408,Sheet4!$C$2:$C$8408,Sheet3!$B12,Sheet4!$D$2:$D$8408,Sheet3!DA$3,Sheet4!$A$2:$A$8408,Sheet3!$B$1,Sheet4!$B$2:$B$8408,Sheet3!$A$3))","v":112},{"$f":"+IF(SUMIFS(Sheet4!$FW$2:$FW$8408,Sheet4!$C$2:$C$8408,Sheet3!$B12,Sheet4!$D$2:$D$8408,Sheet3!DB$3,Sheet4!$A$2:$A$8408,Sheet3!$B$1,Sheet4!$B$2:$B$8408,Sheet3!$A$3)<3,0,SUMIFS(Sheet4!$FW$2:$FW$8408,Sheet4!$C$2:$C$8408,Sheet3!$B12,Sheet4!$D$2:$D$8408,Sheet3!DB$3,Sheet4!$A$2:$A$8408,Sheet3!$B$1,Sheet4!$B$2:$B$8408,Sheet3!$A$3))","v":1659},{"$f":"+IF(SUMIFS(Sheet4!$FW$2:$FW$8408,Sheet4!$C$2:$C$8408,Sheet3!$B12,Sheet4!$D$2:$D$8408,Sheet3!DC$3,Sheet4!$A$2:$A$8408,Sheet3!$B$1,Sheet4!$B$2:$B$8408,Sheet3!$A$3)<3,0,SUMIFS(Sheet4!$FW$2:$FW$8408,Sheet4!$C$2:$C$8408,Sheet3!$B12,Sheet4!$D$2:$D$8408,Sheet3!DC$3,Sheet4!$A$2:$A$8408,Sheet3!$B$1,Sheet4!$B$2:$B$8408,Sheet3!$A$3))","v":284},{"$f":"+IF(SUMIFS(Sheet4!$FW$2:$FW$8408,Sheet4!$C$2:$C$8408,Sheet3!$B12,Sheet4!$D$2:$D$8408,Sheet3!DD$3,Sheet4!$A$2:$A$8408,Sheet3!$B$1,Sheet4!$B$2:$B$8408,Sheet3!$A$3)<3,0,SUMIFS(Sheet4!$FW$2:$FW$8408,Sheet4!$C$2:$C$8408,Sheet3!$B12,Sheet4!$D$2:$D$8408,Sheet3!DD$3,Sheet4!$A$2:$A$8408,Sheet3!$B$1,Sheet4!$B$2:$B$8408,Sheet3!$A$3))","v":4149},{"$f":"+IF(SUMIFS(Sheet4!$FW$2:$FW$8408,Sheet4!$C$2:$C$8408,Sheet3!$B12,Sheet4!$D$2:$D$8408,Sheet3!DE$3,Sheet4!$A$2:$A$8408,Sheet3!$B$1,Sheet4!$B$2:$B$8408,Sheet3!$A$3)<3,0,SUMIFS(Sheet4!$FW$2:$FW$8408,Sheet4!$C$2:$C$8408,Sheet3!$B12,Sheet4!$D$2:$D$8408,Sheet3!DE$3,Sheet4!$A$2:$A$8408,Sheet3!$B$1,Sheet4!$B$2:$B$8408,Sheet3!$A$3))","v":44},{"$f":"+IF(SUMIFS(Sheet4!$FW$2:$FW$8408,Sheet4!$C$2:$C$8408,Sheet3!$B12,Sheet4!$D$2:$D$8408,Sheet3!DF$3,Sheet4!$A$2:$A$8408,Sheet3!$B$1,Sheet4!$B$2:$B$8408,Sheet3!$A$3)<3,0,SUMIFS(Sheet4!$FW$2:$FW$8408,Sheet4!$C$2:$C$8408,Sheet3!$B12,Sheet4!$D$2:$D$8408,Sheet3!DF$3,Sheet4!$A$2:$A$8408,Sheet3!$B$1,Sheet4!$B$2:$B$8408,Sheet3!$A$3))","v":334},{"$f":"+IF(SUMIFS(Sheet4!$FW$2:$FW$8408,Sheet4!$C$2:$C$8408,Sheet3!$B12,Sheet4!$D$2:$D$8408,Sheet3!DG$3,Sheet4!$A$2:$A$8408,Sheet3!$B$1,Sheet4!$B$2:$B$8408,Sheet3!$A$3)<3,0,SUMIFS(Sheet4!$FW$2:$FW$8408,Sheet4!$C$2:$C$8408,Sheet3!$B12,Sheet4!$D$2:$D$8408,Sheet3!DG$3,Sheet4!$A$2:$A$8408,Sheet3!$B$1,Sheet4!$B$2:$B$8408,Sheet3!$A$3))","v":81},{"$f":"+IF(SUMIFS(Sheet4!$FW$2:$FW$8408,Sheet4!$C$2:$C$8408,Sheet3!$B12,Sheet4!$D$2:$D$8408,Sheet3!DH$3,Sheet4!$A$2:$A$8408,Sheet3!$B$1,Sheet4!$B$2:$B$8408,Sheet3!$A$3)<3,0,SUMIFS(Sheet4!$FW$2:$FW$8408,Sheet4!$C$2:$C$8408,Sheet3!$B12,Sheet4!$D$2:$D$8408,Sheet3!DH$3,Sheet4!$A$2:$A$8408,Sheet3!$B$1,Sheet4!$B$2:$B$8408,Sheet3!$A$3))","v":1451},{"$f":"+IF(SUMIFS(Sheet4!$FW$2:$FW$8408,Sheet4!$C$2:$C$8408,Sheet3!$B12,Sheet4!$D$2:$D$8408,Sheet3!DI$3,Sheet4!$A$2:$A$8408,Sheet3!$B$1,Sheet4!$B$2:$B$8408,Sheet3!$A$3)<3,0,SUMIFS(Sheet4!$FW$2:$FW$8408,Sheet4!$C$2:$C$8408,Sheet3!$B12,Sheet4!$D$2:$D$8408,Sheet3!DI$3,Sheet4!$A$2:$A$8408,Sheet3!$B$1,Sheet4!$B$2:$B$8408,Sheet3!$A$3))","v":1614},{"$f":"+IF(SUMIFS(Sheet4!$FW$2:$FW$8408,Sheet4!$C$2:$C$8408,Sheet3!$B12,Sheet4!$D$2:$D$8408,Sheet3!DJ$3,Sheet4!$A$2:$A$8408,Sheet3!$B$1,Sheet4!$B$2:$B$8408,Sheet3!$A$3)<3,0,SUMIFS(Sheet4!$FW$2:$FW$8408,Sheet4!$C$2:$C$8408,Sheet3!$B12,Sheet4!$D$2:$D$8408,Sheet3!DJ$3,Sheet4!$A$2:$A$8408,Sheet3!$B$1,Sheet4!$B$2:$B$8408,Sheet3!$A$3))","v":874},{"$f":"+IF(SUMIFS(Sheet4!$FW$2:$FW$8408,Sheet4!$C$2:$C$8408,Sheet3!$B12,Sheet4!$D$2:$D$8408,Sheet3!DK$3,Sheet4!$A$2:$A$8408,Sheet3!$B$1,Sheet4!$B$2:$B$8408,Sheet3!$A$3)<3,0,SUMIFS(Sheet4!$FW$2:$FW$8408,Sheet4!$C$2:$C$8408,Sheet3!$B12,Sheet4!$D$2:$D$8408,Sheet3!DK$3,Sheet4!$A$2:$A$8408,Sheet3!$B$1,Sheet4!$B$2:$B$8408,Sheet3!$A$3))","v":485},{"$f":"+IF(SUMIFS(Sheet4!$FW$2:$FW$8408,Sheet4!$C$2:$C$8408,Sheet3!$B12,Sheet4!$D$2:$D$8408,Sheet3!DL$3,Sheet4!$A$2:$A$8408,Sheet3!$B$1,Sheet4!$B$2:$B$8408,Sheet3!$A$3)<3,0,SUMIFS(Sheet4!$FW$2:$FW$8408,Sheet4!$C$2:$C$8408,Sheet3!$B12,Sheet4!$D$2:$D$8408,Sheet3!DL$3,Sheet4!$A$2:$A$8408,Sheet3!$B$1,Sheet4!$B$2:$B$8408,Sheet3!$A$3))","v":0},{"$f":"+IF(SUMIFS(Sheet4!$FW$2:$FW$8408,Sheet4!$C$2:$C$8408,Sheet3!$B12,Sheet4!$D$2:$D$8408,Sheet3!DM$3,Sheet4!$A$2:$A$8408,Sheet3!$B$1,Sheet4!$B$2:$B$8408,Sheet3!$A$3)<3,0,SUMIFS(Sheet4!$FW$2:$FW$8408,Sheet4!$C$2:$C$8408,Sheet3!$B12,Sheet4!$D$2:$D$8408,Sheet3!DM$3,Sheet4!$A$2:$A$8408,Sheet3!$B$1,Sheet4!$B$2:$B$8408,Sheet3!$A$3))","v":51},{"$f":"+IF(SUMIFS(Sheet4!$FW$2:$FW$8408,Sheet4!$C$2:$C$8408,Sheet3!$B12,Sheet4!$E$2:$E$8408,Sheet3!DN$4,Sheet4!$A$2:$A$8408,Sheet3!$B$1,Sheet4!$B$2:$B$8408,Sheet3!$A$3)<3,0,SUMIFS(Sheet4!$FW$2:$FW$8408,Sheet4!$C$2:$C$8408,Sheet3!$B12,Sheet4!$E$2:$E$8408,Sheet3!DN$4,Sheet4!$A$2:$A$8408,Sheet3!$B$1,Sheet4!$B$2:$B$8408,Sheet3!$A$3))","v":8728},{"$f":"+IF(SUMIFS(Sheet4!$FW$2:$FW$8408,Sheet4!$C$2:$C$8408,Sheet3!$B12,Sheet4!$E$2:$E$8408,Sheet3!DO$4,Sheet4!$A$2:$A$8408,Sheet3!$B$1,Sheet4!$B$2:$B$8408,Sheet3!$A$3)<3,0,SUMIFS(Sheet4!$FW$2:$FW$8408,Sheet4!$C$2:$C$8408,Sheet3!$B12,Sheet4!$E$2:$E$8408,Sheet3!DO$4,Sheet4!$A$2:$A$8408,Sheet3!$B$1,Sheet4!$B$2:$B$8408,Sheet3!$A$3))","v":4143},{"$f":"+IF(SUMIFS(Sheet4!$FW$2:$FW$8408,Sheet4!$C$2:$C$8408,Sheet3!$B12,Sheet4!$E$2:$E$8408,Sheet3!DP$4,Sheet4!$A$2:$A$8408,Sheet3!$B$1,Sheet4!$B$2:$B$8408,Sheet3!$A$3)<3,0,SUMIFS(Sheet4!$FW$2:$FW$8408,Sheet4!$C$2:$C$8408,Sheet3!$B12,Sheet4!$E$2:$E$8408,Sheet3!DP$4,Sheet4!$A$2:$A$8408,Sheet3!$B$1,Sheet4!$B$2:$B$8408,Sheet3!$A$3))","v":322},{"$f":"+IF(SUMIFS(Sheet4!$FW$2:$FW$8408,Sheet4!$C$2:$C$8408,Sheet3!$B12,Sheet4!$E$2:$E$8408,Sheet3!DQ$4,Sheet4!$A$2:$A$8408,Sheet3!$B$1,Sheet4!$B$2:$B$8408,Sheet3!$A$3)<3,0,SUMIFS(Sheet4!$FW$2:$FW$8408,Sheet4!$C$2:$C$8408,Sheet3!$B12,Sheet4!$E$2:$E$8408,Sheet3!DQ$4,Sheet4!$A$2:$A$8408,Sheet3!$B$1,Sheet4!$B$2:$B$8408,Sheet3!$A$3))","v":13},{"$f":"+IF(SUMIFS(Sheet4!$FW$2:$FW$8408,Sheet4!$C$2:$C$8408,Sheet3!$B12,Sheet4!$E$2:$E$8408,Sheet3!DR$4,Sheet4!$A$2:$A$8408,Sheet3!$B$1,Sheet4!$B$2:$B$8408,Sheet3!$A$3)<3,0,SUMIFS(Sheet4!$FW$2:$FW$8408,Sheet4!$C$2:$C$8408,Sheet3!$B12,Sheet4!$E$2:$E$8408,Sheet3!DR$4,Sheet4!$A$2:$A$8408,Sheet3!$B$1,Sheet4!$B$2:$B$8408,Sheet3!$A$3))","v":0}]
[1,"11C","Tâmega e Sousa",{"$f":"+SUMIFS(Sheet4!$FV$2:$FV$8408,Sheet4!$C$2:$C$8408,Sheet3!$B13,Sheet4!$D$2:$D$8408,Sheet3!D$3,Sheet4!$E$2:$E$8408,Sheet3!D$4,Sheet4!$A$2:$A$8408,Sheet3!$B$1,Sheet4!$B$2:$B$8408,Sheet3!$A$3)","v":3},{"$f":"+SUMIFS(Sheet4!$FV$2:$FV$8408,Sheet4!$C$2:$C$8408,Sheet3!$B13,Sheet4!$D$2:$D$8408,Sheet3!E$3,Sheet4!$E$2:$E$8408,Sheet3!E$4,Sheet4!$A$2:$A$8408,Sheet3!$B$1,Sheet4!$B$2:$B$8408,Sheet3!$A$3)","v":0},{"$f":"+SUMIFS(Sheet4!$FV$2:$FV$8408,Sheet4!$C$2:$C$8408,Sheet3!$B13,Sheet4!$D$2:$D$8408,Sheet3!F$3,Sheet4!$E$2:$E$8408,Sheet3!F$4,Sheet4!$A$2:$A$8408,Sheet3!$B$1,Sheet4!$B$2:$B$8408,Sheet3!$A$3)","v":0},{"$f":"+SUMIFS(Sheet4!$FV$2:$FV$8408,Sheet4!$C$2:$C$8408,Sheet3!$B13,Sheet4!$D$2:$D$8408,Sheet3!G$3,Sheet4!$E$2:$E$8408,Sheet3!G$4,Sheet4!$A$2:$A$8408,Sheet3!$B$1,Sheet4!$B$2:$B$8408,Sheet3!$A$3)","v":0},{"$f":"+SUMIFS(Sheet4!$FV$2:$FV$8408,Sheet4!$C$2:$C$8408,Sheet3!$B13,Sheet4!$D$2:$D$8408,Sheet3!H$3,Sheet4!$E$2:$E$8408,Sheet3!H$4,Sheet4!$A$2:$A$8408,Sheet3!$B$1,Sheet4!$B$2:$B$8408,Sheet3!$A$3)","v":0},{"$f":"+SUMIFS(Sheet4!$FV$2:$FV$8408,Sheet4!$C$2:$C$8408,Sheet3!$B13,Sheet4!$D$2:$D$8408,Sheet3!I$3,Sheet4!$E$2:$E$8408,Sheet3!I$4,Sheet4!$A$2:$A$8408,Sheet3!$B$1,Sheet4!$B$2:$B$8408,Sheet3!$A$3)","v":461},{"$f":"+SUMIFS(Sheet4!$FV$2:$FV$8408,Sheet4!$C$2:$C$8408,Sheet3!$B13,Sheet4!$D$2:$D$8408,Sheet3!J$3,Sheet4!$E$2:$E$8408,Sheet3!J$4,Sheet4!$A$2:$A$8408,Sheet3!$B$1,Sheet4!$B$2:$B$8408,Sheet3!$A$3)","v":12},{"$f":"+SUMIFS(Sheet4!$FV$2:$FV$8408,Sheet4!$C$2:$C$8408,Sheet3!$B13,Sheet4!$D$2:$D$8408,Sheet3!K$3,Sheet4!$E$2:$E$8408,Sheet3!K$4,Sheet4!$A$2:$A$8408,Sheet3!$B$1,Sheet4!$B$2:$B$8408,Sheet3!$A$3)","v":0},{"$f":"+SUMIFS(Sheet4!$FV$2:$FV$8408,Sheet4!$C$2:$C$8408,Sheet3!$B13,Sheet4!$D$2:$D$8408,Sheet3!L$3,Sheet4!$E$2:$E$8408,Sheet3!L$4,Sheet4!$A$2:$A$8408,Sheet3!$B$1,Sheet4!$B$2:$B$8408,Sheet3!$A$3)","v":0},{"$f":"+SUMIFS(Sheet4!$FV$2:$FV$8408,Sheet4!$C$2:$C$8408,Sheet3!$B13,Sheet4!$D$2:$D$8408,Sheet3!M$3,Sheet4!$E$2:$E$8408,Sheet3!M$4,Sheet4!$A$2:$A$8408,Sheet3!$B$1,Sheet4!$B$2:$B$8408,Sheet3!$A$3)","v":0},{"$f":"+SUMIFS(Sheet4!$FV$2:$FV$8408,Sheet4!$C$2:$C$8408,Sheet3!$B13,Sheet4!$D$2:$D$8408,Sheet3!N$3,Sheet4!$E$2:$E$8408,Sheet3!N$4,Sheet4!$A$2:$A$8408,Sheet3!$B$1,Sheet4!$B$2:$B$8408,Sheet3!$A$3)","v":30},{"$f":"+SUMIFS(Sheet4!$FV$2:$FV$8408,Sheet4!$C$2:$C$8408,Sheet3!$B13,Sheet4!$D$2:$D$8408,Sheet3!O$3,Sheet4!$E$2:$E$8408,Sheet3!O$4,Sheet4!$A$2:$A$8408,Sheet3!$B$1,Sheet4!$B$2:$B$8408,Sheet3!$A$3)","v":0},{"$f":"+SUMIFS(Sheet4!$FV$2:$FV$8408,Sheet4!$C$2:$C$8408,Sheet3!$B13,Sheet4!$D$2:$D$8408,Sheet3!P$3,Sheet4!$E$2:$E$8408,Sheet3!P$4,Sheet4!$A$2:$A$8408,Sheet3!$B$1,Sheet4!$B$2:$B$8408,Sheet3!$A$3)","v":0},{"$f":"+SUMIFS(Sheet4!$FV$2:$FV$8408,Sheet4!$C$2:$C$8408,Sheet3!$B13,Sheet4!$D$2:$D$8408,Sheet3!Q$3,Sheet4!$E$2:$E$8408,Sheet3!Q$4,Sheet4!$A$2:$A$8408,Sheet3!$B$1,Sheet4!$B$2:$B$8408,Sheet3!$A$3)","v":0},{"$f":"+SUMIFS(Sheet4!$FV$2:$FV$8408,Sheet4!$C$2:$C$8408,Sheet3!$B13,Sheet4!$D$2:$D$8408,Sheet3!R$3,Sheet4!$E$2:$E$8408,Sheet3!R$4,Sheet4!$A$2:$A$8408,Sheet3!$B$1,Sheet4!$B$2:$B$8408,Sheet3!$A$3)","v":0},{"$f":"+SUMIFS(Sheet4!$FV$2:$FV$8408,Sheet4!$C$2:$C$8408,Sheet3!$B13,Sheet4!$D$2:$D$8408,Sheet3!S$3,Sheet4!$E$2:$E$8408,Sheet3!S$4,Sheet4!$A$2:$A$8408,Sheet3!$B$1,Sheet4!$B$2:$B$8408,Sheet3!$A$3)","v":0},{"$f":"+SUMIFS(Sheet4!$FV$2:$FV$8408,Sheet4!$C$2:$C$8408,Sheet3!$B13,Sheet4!$D$2:$D$8408,Sheet3!T$3,Sheet4!$E$2:$E$8408,Sheet3!T$4,Sheet4!$A$2:$A$8408,Sheet3!$B$1,Sheet4!$B$2:$B$8408,Sheet3!$A$3)","v":0},{"$f":"+SUMIFS(Sheet4!$FV$2:$FV$8408,Sheet4!$C$2:$C$8408,Sheet3!$B13,Sheet4!$D$2:$D$8408,Sheet3!U$3,Sheet4!$E$2:$E$8408,Sheet3!U$4,Sheet4!$A$2:$A$8408,Sheet3!$B$1,Sheet4!$B$2:$B$8408,Sheet3!$A$3)","v":0},{"$f":"+SUMIFS(Sheet4!$FV$2:$FV$8408,Sheet4!$C$2:$C$8408,Sheet3!$B13,Sheet4!$D$2:$D$8408,Sheet3!V$3,Sheet4!$E$2:$E$8408,Sheet3!V$4,Sheet4!$A$2:$A$8408,Sheet3!$B$1,Sheet4!$B$2:$B$8408,Sheet3!$A$3)","v":0},{"$f":"+SUMIFS(Sheet4!$FV$2:$FV$8408,Sheet4!$C$2:$C$8408,Sheet3!$B13,Sheet4!$D$2:$D$8408,Sheet3!W$3,Sheet4!$E$2:$E$8408,Sheet3!W$4,Sheet4!$A$2:$A$8408,Sheet3!$B$1,Sheet4!$B$2:$B$8408,Sheet3!$A$3)","v":0},{"$f":"+SUMIFS(Sheet4!$FV$2:$FV$8408,Sheet4!$C$2:$C$8408,Sheet3!$B13,Sheet4!$D$2:$D$8408,Sheet3!X$3,Sheet4!$E$2:$E$8408,Sheet3!X$4,Sheet4!$A$2:$A$8408,Sheet3!$B$1,Sheet4!$B$2:$B$8408,Sheet3!$A$3)","v":0},{"$f":"+SUMIFS(Sheet4!$FV$2:$FV$8408,Sheet4!$C$2:$C$8408,Sheet3!$B13,Sheet4!$D$2:$D$8408,Sheet3!Y$3,Sheet4!$E$2:$E$8408,Sheet3!Y$4,Sheet4!$A$2:$A$8408,Sheet3!$B$1,Sheet4!$B$2:$B$8408,Sheet3!$A$3)","v":0},{"$f":"+SUMIFS(Sheet4!$FV$2:$FV$8408,Sheet4!$C$2:$C$8408,Sheet3!$B13,Sheet4!$D$2:$D$8408,Sheet3!Z$3,Sheet4!$E$2:$E$8408,Sheet3!Z$4,Sheet4!$A$2:$A$8408,Sheet3!$B$1,Sheet4!$B$2:$B$8408,Sheet3!$A$3)","v":0},{"$f":"+SUMIFS(Sheet4!$FV$2:$FV$8408,Sheet4!$C$2:$C$8408,Sheet3!$B13,Sheet4!$D$2:$D$8408,Sheet3!AA$3,Sheet4!$E$2:$E$8408,Sheet3!AA$4,Sheet4!$A$2:$A$8408,Sheet3!$B$1,Sheet4!$B$2:$B$8408,Sheet3!$A$3)","v":0},{"$f":"+SUMIFS(Sheet4!$FV$2:$FV$8408,Sheet4!$C$2:$C$8408,Sheet3!$B13,Sheet4!$D$2:$D$8408,Sheet3!AB$3,Sheet4!$E$2:$E$8408,Sheet3!AB$4,Sheet4!$A$2:$A$8408,Sheet3!$B$1,Sheet4!$B$2:$B$8408,Sheet3!$A$3)","v":0},{"$f":"+SUMIFS(Sheet4!$FV$2:$FV$8408,Sheet4!$C$2:$C$8408,Sheet3!$B13,Sheet4!$D$2:$D$8408,Sheet3!AC$3,Sheet4!$E$2:$E$8408,Sheet3!AC$4,Sheet4!$A$2:$A$8408,Sheet3!$B$1,Sheet4!$B$2:$B$8408,Sheet3!$A$3)","v":425},{"$f":"+SUMIFS(Sheet4!$FV$2:$FV$8408,Sheet4!$C$2:$C$8408,Sheet3!$B13,Sheet4!$D$2:$D$8408,Sheet3!AD$3,Sheet4!$E$2:$E$8408,Sheet3!AD$4,Sheet4!$A$2:$A$8408,Sheet3!$B$1,Sheet4!$B$2:$B$8408,Sheet3!$A$3)","v":14},{"$f":"+SUMIFS(Sheet4!$FV$2:$FV$8408,Sheet4!$C$2:$C$8408,Sheet3!$B13,Sheet4!$D$2:$D$8408,Sheet3!AE$3,Sheet4!$E$2:$E$8408,Sheet3!AE$4,Sheet4!$A$2:$A$8408,Sheet3!$B$1,Sheet4!$B$2:$B$8408,Sheet3!$A$3)","v":0},{"$f":"+SUMIFS(Sheet4!$FV$2:$FV$8408,Sheet4!$C$2:$C$8408,Sheet3!$B13,Sheet4!$D$2:$D$8408,Sheet3!AF$3,Sheet4!$E$2:$E$8408,Sheet3!AF$4,Sheet4!$A$2:$A$8408,Sheet3!$B$1,Sheet4!$B$2:$B$8408,Sheet3!$A$3)","v":0},{"$f":"+SUMIFS(Sheet4!$FV$2:$FV$8408,Sheet4!$C$2:$C$8408,Sheet3!$B13,Sheet4!$D$2:$D$8408,Sheet3!AG$3,Sheet4!$E$2:$E$8408,Sheet3!AG$4,Sheet4!$A$2:$A$8408,Sheet3!$B$1,Sheet4!$B$2:$B$8408,Sheet3!$A$3)","v":0},{"$f":"+SUMIFS(Sheet4!$FV$2:$FV$8408,Sheet4!$C$2:$C$8408,Sheet3!$B13,Sheet4!$D$2:$D$8408,Sheet3!AH$3,Sheet4!$E$2:$E$8408,Sheet3!AH$4,Sheet4!$A$2:$A$8408,Sheet3!$B$1,Sheet4!$B$2:$B$8408,Sheet3!$A$3)","v":677},{"$f":"+SUMIFS(Sheet4!$FV$2:$FV$8408,Sheet4!$C$2:$C$8408,Sheet3!$B13,Sheet4!$D$2:$D$8408,Sheet3!AI$3,Sheet4!$E$2:$E$8408,Sheet3!AI$4,Sheet4!$A$2:$A$8408,Sheet3!$B$1,Sheet4!$B$2:$B$8408,Sheet3!$A$3)","v":244},{"$f":"+SUMIFS(Sheet4!$FV$2:$FV$8408,Sheet4!$C$2:$C$8408,Sheet3!$B13,Sheet4!$D$2:$D$8408,Sheet3!AJ$3,Sheet4!$E$2:$E$8408,Sheet3!AJ$4,Sheet4!$A$2:$A$8408,Sheet3!$B$1,Sheet4!$B$2:$B$8408,Sheet3!$A$3)","v":25},{"$f":"+SUMIFS(Sheet4!$FV$2:$FV$8408,Sheet4!$C$2:$C$8408,Sheet3!$B13,Sheet4!$D$2:$D$8408,Sheet3!AK$3,Sheet4!$E$2:$E$8408,Sheet3!AK$4,Sheet4!$A$2:$A$8408,Sheet3!$B$1,Sheet4!$B$2:$B$8408,Sheet3!$A$3)","v":0},{"$f":"+SUMIFS(Sheet4!$FV$2:$FV$8408,Sheet4!$C$2:$C$8408,Sheet3!$B13,Sheet4!$D$2:$D$8408,Sheet3!AL$3,Sheet4!$E$2:$E$8408,Sheet3!AL$4,Sheet4!$A$2:$A$8408,Sheet3!$B$1,Sheet4!$B$2:$B$8408,Sheet3!$A$3)","v":0},{"$f":"+SUMIFS(Sheet4!$FV$2:$FV$8408,Sheet4!$C$2:$C$8408,Sheet3!$B13,Sheet4!$D$2:$D$8408,Sheet3!AM$3,Sheet4!$E$2:$E$8408,Sheet3!AM$4,Sheet4!$A$2:$A$8408,Sheet3!$B$1,Sheet4!$B$2:$B$8408,Sheet3!$A$3)","v":506},{"$f":"+SUMIFS(Sheet4!$FV$2:$FV$8408,Sheet4!$C$2:$C$8408,Sheet3!$B13,Sheet4!$D$2:$D$8408,Sheet3!AN$3,Sheet4!$E$2:$E$8408,Sheet3!AN$4,Sheet4!$A$2:$A$8408,Sheet3!$B$1,Sheet4!$B$2:$B$8408,Sheet3!$A$3)","v":148},{"$f":"+SUMIFS(Sheet4!$FV$2:$FV$8408,Sheet4!$C$2:$C$8408,Sheet3!$B13,Sheet4!$D$2:$D$8408,Sheet3!AO$3,Sheet4!$E$2:$E$8408,Sheet3!AO$4,Sheet4!$A$2:$A$8408,Sheet3!$B$1,Sheet4!$B$2:$B$8408,Sheet3!$A$3)","v":4},{"$f":"+SUMIFS(Sheet4!$FV$2:$FV$8408,Sheet4!$C$2:$C$8408,Sheet3!$B13,Sheet4!$D$2:$D$8408,Sheet3!AP$3,Sheet4!$E$2:$E$8408,Sheet3!AP$4,Sheet4!$A$2:$A$8408,Sheet3!$B$1,Sheet4!$B$2:$B$8408,Sheet3!$A$3)","v":0},{"$f":"+SUMIFS(Sheet4!$FV$2:$FV$8408,Sheet4!$C$2:$C$8408,Sheet3!$B13,Sheet4!$D$2:$D$8408,Sheet3!AQ$3,Sheet4!$E$2:$E$8408,Sheet3!AQ$4,Sheet4!$A$2:$A$8408,Sheet3!$B$1,Sheet4!$B$2:$B$8408,Sheet3!$A$3)","v":0},{"$f":"+SUMIFS(Sheet4!$FV$2:$FV$8408,Sheet4!$C$2:$C$8408,Sheet3!$B13,Sheet4!$D$2:$D$8408,Sheet3!AR$3,Sheet4!$E$2:$E$8408,Sheet3!AR$4,Sheet4!$A$2:$A$8408,Sheet3!$B$1,Sheet4!$B$2:$B$8408,Sheet3!$A$3)","v":13},{"$f":"+SUMIFS(Sheet4!$FV$2:$FV$8408,Sheet4!$C$2:$C$8408,Sheet3!$B13,Sheet4!$D$2:$D$8408,Sheet3!AS$3,Sheet4!$E$2:$E$8408,Sheet3!AS$4,Sheet4!$A$2:$A$8408,Sheet3!$B$1,Sheet4!$B$2:$B$8408,Sheet3!$A$3)","v":0},{"$f":"+SUMIFS(Sheet4!$FV$2:$FV$8408,Sheet4!$C$2:$C$8408,Sheet3!$B13,Sheet4!$D$2:$D$8408,Sheet3!AT$3,Sheet4!$E$2:$E$8408,Sheet3!AT$4,Sheet4!$A$2:$A$8408,Sheet3!$B$1,Sheet4!$B$2:$B$8408,Sheet3!$A$3)","v":0},{"$f":"+SUMIFS(Sheet4!$FV$2:$FV$8408,Sheet4!$C$2:$C$8408,Sheet3!$B13,Sheet4!$D$2:$D$8408,Sheet3!AU$3,Sheet4!$E$2:$E$8408,Sheet3!AU$4,Sheet4!$A$2:$A$8408,Sheet3!$B$1,Sheet4!$B$2:$B$8408,Sheet3!$A$3)","v":0},{"$f":"+SUMIFS(Sheet4!$FV$2:$FV$8408,Sheet4!$C$2:$C$8408,Sheet3!$B13,Sheet4!$D$2:$D$8408,Sheet3!AV$3,Sheet4!$E$2:$E$8408,Sheet3!AV$4,Sheet4!$A$2:$A$8408,Sheet3!$B$1,Sheet4!$B$2:$B$8408,Sheet3!$A$3)","v":0},{"$f":"+SUMIFS(Sheet4!$FV$2:$FV$8408,Sheet4!$C$2:$C$8408,Sheet3!$B13,Sheet4!$D$2:$D$8408,Sheet3!AW$3,Sheet4!$E$2:$E$8408,Sheet3!AW$4,Sheet4!$A$2:$A$8408,Sheet3!$B$1,Sheet4!$B$2:$B$8408,Sheet3!$A$3)","v":2510},{"$f":"+SUMIFS(Sheet4!$FV$2:$FV$8408,Sheet4!$C$2:$C$8408,Sheet3!$B13,Sheet4!$D$2:$D$8408,Sheet3!AX$3,Sheet4!$E$2:$E$8408,Sheet3!AX$4,Sheet4!$A$2:$A$8408,Sheet3!$B$1,Sheet4!$B$2:$B$8408,Sheet3!$A$3)","v":170},{"$f":"+SUMIFS(Sheet4!$FV$2:$FV$8408,Sheet4!$C$2:$C$8408,Sheet3!$B13,Sheet4!$D$2:$D$8408,Sheet3!AY$3,Sheet4!$E$2:$E$8408,Sheet3!AY$4,Sheet4!$A$2:$A$8408,Sheet3!$B$1,Sheet4!$B$2:$B$8408,Sheet3!$A$3)","v":4},{"$f":"+SUMIFS(Sheet4!$FV$2:$FV$8408,Sheet4!$C$2:$C$8408,Sheet3!$B13,Sheet4!$D$2:$D$8408,Sheet3!AZ$3,Sheet4!$E$2:$E$8408,Sheet3!AZ$4,Sheet4!$A$2:$A$8408,Sheet3!$B$1,Sheet4!$B$2:$B$8408,Sheet3!$A$3)","v":0},{"$f":"+SUMIFS(Sheet4!$FV$2:$FV$8408,Sheet4!$C$2:$C$8408,Sheet3!$B13,Sheet4!$D$2:$D$8408,Sheet3!BA$3,Sheet4!$E$2:$E$8408,Sheet3!BA$4,Sheet4!$A$2:$A$8408,Sheet3!$B$1,Sheet4!$B$2:$B$8408,Sheet3!$A$3)","v":0},{"$f":"+SUMIFS(Sheet4!$FV$2:$FV$8408,Sheet4!$C$2:$C$8408,Sheet3!$B13,Sheet4!$D$2:$D$8408,Sheet3!BB$3,Sheet4!$E$2:$E$8408,Sheet3!BB$4,Sheet4!$A$2:$A$8408,Sheet3!$B$1,Sheet4!$B$2:$B$8408,Sheet3!$A$3)","v":3},{"$f":"+SUMIFS(Sheet4!$FV$2:$FV$8408,Sheet4!$C$2:$C$8408,Sheet3!$B13,Sheet4!$D$2:$D$8408,Sheet3!BC$3,Sheet4!$E$2:$E$8408,Sheet3!BC$4,Sheet4!$A$2:$A$8408,Sheet3!$B$1,Sheet4!$B$2:$B$8408,Sheet3!$A$3)","v":20},{"$f":"+SUMIFS(Sheet4!$FV$2:$FV$8408,Sheet4!$C$2:$C$8408,Sheet3!$B13,Sheet4!$D$2:$D$8408,Sheet3!BD$3,Sheet4!$E$2:$E$8408,Sheet3!BD$4,Sheet4!$A$2:$A$8408,Sheet3!$B$1,Sheet4!$B$2:$B$8408,Sheet3!$A$3)","v":0},{"$f":"+SUMIFS(Sheet4!$FV$2:$FV$8408,Sheet4!$C$2:$C$8408,Sheet3!$B13,Sheet4!$D$2:$D$8408,Sheet3!BE$3,Sheet4!$E$2:$E$8408,Sheet3!BE$4,Sheet4!$A$2:$A$8408,Sheet3!$B$1,Sheet4!$B$2:$B$8408,Sheet3!$A$3)","v":0},{"$f":"+SUMIFS(Sheet4!$FV$2:$FV$8408,Sheet4!$C$2:$C$8408,Sheet3!$B13,Sheet4!$D$2:$D$8408,Sheet3!BF$3,Sheet4!$E$2:$E$8408,Sheet3!BF$4,Sheet4!$A$2:$A$8408,Sheet3!$B$1,Sheet4!$B$2:$B$8408,Sheet3!$A$3)","v":0},{"$f":"+SUMIFS(Sheet4!$FV$2:$FV$8408,Sheet4!$C$2:$C$8408,Sheet3!$B13,Sheet4!$D$2:$D$8408,Sheet3!BG$3,Sheet4!$E$2:$E$8408,Sheet3!BG$4,Sheet4!$A$2:$A$8408,Sheet3!$B$1,Sheet4!$B$2:$B$8408,Sheet3!$A$3)","v":147},{"$f":"+SUMIFS(Sheet4!$FV$2:$FV$8408,Sheet4!$C$2:$C$8408,Sheet3!$B13,Sheet4!$D$2:$D$8408,Sheet3!BH$3,Sheet4!$E$2:$E$8408,Sheet3!BH$4,Sheet4!$A$2:$A$8408,Sheet3!$B$1,Sheet4!$B$2:$B$8408,Sheet3!$A$3)","v":48},{"$f":"+SUMIFS(Sheet4!$FV$2:$FV$8408,Sheet4!$C$2:$C$8408,Sheet3!$B13,Sheet4!$D$2:$D$8408,Sheet3!BI$3,Sheet4!$E$2:$E$8408,Sheet3!BI$4,Sheet4!$A$2:$A$8408,Sheet3!$B$1,Sheet4!$B$2:$B$8408,Sheet3!$A$3)","v":4},{"$f":"+SUMIFS(Sheet4!$FV$2:$FV$8408,Sheet4!$C$2:$C$8408,Sheet3!$B13,Sheet4!$D$2:$D$8408,Sheet3!BJ$3,Sheet4!$E$2:$E$8408,Sheet3!BJ$4,Sheet4!$A$2:$A$8408,Sheet3!$B$1,Sheet4!$B$2:$B$8408,Sheet3!$A$3)","v":0},{"$f":"+SUMIFS(Sheet4!$FV$2:$FV$8408,Sheet4!$C$2:$C$8408,Sheet3!$B13,Sheet4!$D$2:$D$8408,Sheet3!BK$3,Sheet4!$E$2:$E$8408,Sheet3!BK$4,Sheet4!$A$2:$A$8408,Sheet3!$B$1,Sheet4!$B$2:$B$8408,Sheet3!$A$3)","v":0},{"$f":"+SUMIFS(Sheet4!$FV$2:$FV$8408,Sheet4!$C$2:$C$8408,Sheet3!$B13,Sheet4!$D$2:$D$8408,Sheet3!BL$3,Sheet4!$E$2:$E$8408,Sheet3!BL$4,Sheet4!$A$2:$A$8408,Sheet3!$B$1,Sheet4!$B$2:$B$8408,Sheet3!$A$3)","v":135},{"$f":"+SUMIFS(Sheet4!$FV$2:$FV$8408,Sheet4!$C$2:$C$8408,Sheet3!$B13,Sheet4!$D$2:$D$8408,Sheet3!BM$3,Sheet4!$E$2:$E$8408,Sheet3!BM$4,Sheet4!$A$2:$A$8408,Sheet3!$B$1,Sheet4!$B$2:$B$8408,Sheet3!$A$3)","v":21},{"$f":"+SUMIFS(Sheet4!$FV$2:$FV$8408,Sheet4!$C$2:$C$8408,Sheet3!$B13,Sheet4!$D$2:$D$8408,Sheet3!BN$3,Sheet4!$E$2:$E$8408,Sheet3!BN$4,Sheet4!$A$2:$A$8408,Sheet3!$B$1,Sheet4!$B$2:$B$8408,Sheet3!$A$3)","v":0},{"$f":"+SUMIFS(Sheet4!$FV$2:$FV$8408,Sheet4!$C$2:$C$8408,Sheet3!$B13,Sheet4!$D$2:$D$8408,Sheet3!BO$3,Sheet4!$E$2:$E$8408,Sheet3!BO$4,Sheet4!$A$2:$A$8408,Sheet3!$B$1,Sheet4!$B$2:$B$8408,Sheet3!$A$3)","v":0},{"$f":"+SUMIFS(Sheet4!$FV$2:$FV$8408,Sheet4!$C$2:$C$8408,Sheet3!$B13,Sheet4!$D$2:$D$8408,Sheet3!BP$3,Sheet4!$E$2:$E$8408,Sheet3!BP$4,Sheet4!$A$2:$A$8408,Sheet3!$B$1,Sheet4!$B$2:$B$8408,Sheet3!$A$3)","v":0},{"$f":"+SUMIFS(Sheet4!$FV$2:$FV$8408,Sheet4!$C$2:$C$8408,Sheet3!$B13,Sheet4!$D$2:$D$8408,Sheet3!BQ$3,Sheet4!$E$2:$E$8408,Sheet3!BQ$4,Sheet4!$A$2:$A$8408,Sheet3!$B$1,Sheet4!$B$2:$B$8408,Sheet3!$A$3)","v":54},{"$f":"+SUMIFS(Sheet4!$FV$2:$FV$8408,Sheet4!$C$2:$C$8408,Sheet3!$B13,Sheet4!$D$2:$D$8408,Sheet3!BR$3,Sheet4!$E$2:$E$8408,Sheet3!BR$4,Sheet4!$A$2:$A$8408,Sheet3!$B$1,Sheet4!$B$2:$B$8408,Sheet3!$A$3)","v":44},{"$f":"+SUMIFS(Sheet4!$FV$2:$FV$8408,Sheet4!$C$2:$C$8408,Sheet3!$B13,Sheet4!$D$2:$D$8408,Sheet3!BS$3,Sheet4!$E$2:$E$8408,Sheet3!BS$4,Sheet4!$A$2:$A$8408,Sheet3!$B$1,Sheet4!$B$2:$B$8408,Sheet3!$A$3)","v":7},{"$f":"+SUMIFS(Sheet4!$FV$2:$FV$8408,Sheet4!$C$2:$C$8408,Sheet3!$B13,Sheet4!$D$2:$D$8408,Sheet3!BT$3,Sheet4!$E$2:$E$8408,Sheet3!BT$4,Sheet4!$A$2:$A$8408,Sheet3!$B$1,Sheet4!$B$2:$B$8408,Sheet3!$A$3)","v":0},{"$f":"+SUMIFS(Sheet4!$FV$2:$FV$8408,Sheet4!$C$2:$C$8408,Sheet3!$B13,Sheet4!$D$2:$D$8408,Sheet3!BU$3,Sheet4!$E$2:$E$8408,Sheet3!BU$4,Sheet4!$A$2:$A$8408,Sheet3!$B$1,Sheet4!$B$2:$B$8408,Sheet3!$A$3)","v":0},{"$f":"+SUMIFS(Sheet4!$FV$2:$FV$8408,Sheet4!$C$2:$C$8408,Sheet3!$B13,Sheet4!$D$2:$D$8408,Sheet3!BV$3,Sheet4!$E$2:$E$8408,Sheet3!BV$4,Sheet4!$A$2:$A$8408,Sheet3!$B$1,Sheet4!$B$2:$B$8408,Sheet3!$A$3)","v":276},{"$f":"+SUMIFS(Sheet4!$FV$2:$FV$8408,Sheet4!$C$2:$C$8408,Sheet3!$B13,Sheet4!$D$2:$D$8408,Sheet3!BW$3,Sheet4!$E$2:$E$8408,Sheet3!BW$4,Sheet4!$A$2:$A$8408,Sheet3!$B$1,Sheet4!$B$2:$B$8408,Sheet3!$A$3)","v":44},{"$f":"+SUMIFS(Sheet4!$FV$2:$FV$8408,Sheet4!$C$2:$C$8408,Sheet3!$B13,Sheet4!$D$2:$D$8408,Sheet3!BX$3,Sheet4!$E$2:$E$8408,Sheet3!BX$4,Sheet4!$A$2:$A$8408,Sheet3!$B$1,Sheet4!$B$2:$B$8408,Sheet3!$A$3)","v":7},{"$f":"+SUMIFS(Sheet4!$FV$2:$FV$8408,Sheet4!$C$2:$C$8408,Sheet3!$B13,Sheet4!$D$2:$D$8408,Sheet3!BY$3,Sheet4!$E$2:$E$8408,Sheet3!BY$4,Sheet4!$A$2:$A$8408,Sheet3!$B$1,Sheet4!$B$2:$B$8408,Sheet3!$A$3)","v":0},{"$f":"+SUMIFS(Sheet4!$FV$2:$FV$8408,Sheet4!$C$2:$C$8408,Sheet3!$B13,Sheet4!$D$2:$D$8408,Sheet3!BZ$3,Sheet4!$E$2:$E$8408,Sheet3!BZ$4,Sheet4!$A$2:$A$8408,Sheet3!$B$1,Sheet4!$B$2:$B$8408,Sheet3!$A$3)","v":0},{"$f":"+SUMIFS(Sheet4!$FV$2:$FV$8408,Sheet4!$C$2:$C$8408,Sheet3!$B13,Sheet4!$D$2:$D$8408,Sheet3!CA$3,Sheet4!$E$2:$E$8408,Sheet3!CA$4,Sheet4!$A$2:$A$8408,Sheet3!$B$1,Sheet4!$B$2:$B$8408,Sheet3!$A$3)","v":613},{"$f":"+SUMIFS(Sheet4!$FV$2:$FV$8408,Sheet4!$C$2:$C$8408,Sheet3!$B13,Sheet4!$D$2:$D$8408,Sheet3!CB$3,Sheet4!$E$2:$E$8408,Sheet3!CB$4,Sheet4!$A$2:$A$8408,Sheet3!$B$1,Sheet4!$B$2:$B$8408,Sheet3!$A$3)","v":57},{"$f":"+SUMIFS(Sheet4!$FV$2:$FV$8408,Sheet4!$C$2:$C$8408,Sheet3!$B13,Sheet4!$D$2:$D$8408,Sheet3!CC$3,Sheet4!$E$2:$E$8408,Sheet3!CC$4,Sheet4!$A$2:$A$8408,Sheet3!$B$1,Sheet4!$B$2:$B$8408,Sheet3!$A$3)","v":0},{"$f":"+SUMIFS(Sheet4!$FV$2:$FV$8408,Sheet4!$C$2:$C$8408,Sheet3!$B13,Sheet4!$D$2:$D$8408,Sheet3!CD$3,Sheet4!$E$2:$E$8408,Sheet3!CD$4,Sheet4!$A$2:$A$8408,Sheet3!$B$1,Sheet4!$B$2:$B$8408,Sheet3!$A$3)","v":0},{"$f":"+SUMIFS(Sheet4!$FV$2:$FV$8408,Sheet4!$C$2:$C$8408,Sheet3!$B13,Sheet4!$D$2:$D$8408,Sheet3!CE$3,Sheet4!$E$2:$E$8408,Sheet3!CE$4,Sheet4!$A$2:$A$8408,Sheet3!$B$1,Sheet4!$B$2:$B$8408,Sheet3!$A$3)","v":0},{"$f":"+SUMIFS(Sheet4!$FV$2:$FV$8408,Sheet4!$C$2:$C$8408,Sheet3!$B13,Sheet4!$D$2:$D$8408,Sheet3!CF$3,Sheet4!$E$2:$E$8408,Sheet3!CF$4,Sheet4!$A$2:$A$8408,Sheet3!$B$1,Sheet4!$B$2:$B$8408,Sheet3!$A$3)","v":252},{"$f":"+SUMIFS(Sheet4!$FV$2:$FV$8408,Sheet4!$C$2:$C$8408,Sheet3!$B13,Sheet4!$D$2:$D$8408,Sheet3!CG$3,Sheet4!$E$2:$E$8408,Sheet3!CG$4,Sheet4!$A$2:$A$8408,Sheet3!$B$1,Sheet4!$B$2:$B$8408,Sheet3!$A$3)","v":24},{"$f":"+SUMIFS(Sheet4!$FV$2:$FV$8408,Sheet4!$C$2:$C$8408,Sheet3!$B13,Sheet4!$D$2:$D$8408,Sheet3!CH$3,Sheet4!$E$2:$E$8408,Sheet3!CH$4,Sheet4!$A$2:$A$8408,Sheet3!$B$1,Sheet4!$B$2:$B$8408,Sheet3!$A$3)","v":0},{"$f":"+SUMIFS(Sheet4!$FV$2:$FV$8408,Sheet4!$C$2:$C$8408,Sheet3!$B13,Sheet4!$D$2:$D$8408,Sheet3!CI$3,Sheet4!$E$2:$E$8408,Sheet3!CI$4,Sheet4!$A$2:$A$8408,Sheet3!$B$1,Sheet4!$B$2:$B$8408,Sheet3!$A$3)","v":0},{"$f":"+SUMIFS(Sheet4!$FV$2:$FV$8408,Sheet4!$C$2:$C$8408,Sheet3!$B13,Sheet4!$D$2:$D$8408,Sheet3!CJ$3,Sheet4!$E$2:$E$8408,Sheet3!CJ$4,Sheet4!$A$2:$A$8408,Sheet3!$B$1,Sheet4!$B$2:$B$8408,Sheet3!$A$3)","v":0},{"$f":"+SUMIFS(Sheet4!$FV$2:$FV$8408,Sheet4!$C$2:$C$8408,Sheet3!$B13,Sheet4!$D$2:$D$8408,Sheet3!CK$3,Sheet4!$E$2:$E$8408,Sheet3!CK$4,Sheet4!$A$2:$A$8408,Sheet3!$B$1,Sheet4!$B$2:$B$8408,Sheet3!$A$3)","v":0},{"$f":"+SUMIFS(Sheet4!$FV$2:$FV$8408,Sheet4!$C$2:$C$8408,Sheet3!$B13,Sheet4!$D$2:$D$8408,Sheet3!CL$3,Sheet4!$E$2:$E$8408,Sheet3!CL$4,Sheet4!$A$2:$A$8408,Sheet3!$B$1,Sheet4!$B$2:$B$8408,Sheet3!$A$3)","v":0},{"$f":"+SUMIFS(Sheet4!$FV$2:$FV$8408,Sheet4!$C$2:$C$8408,Sheet3!$B13,Sheet4!$D$2:$D$8408,Sheet3!CM$3,Sheet4!$E$2:$E$8408,Sheet3!CM$4,Sheet4!$A$2:$A$8408,Sheet3!$B$1,Sheet4!$B$2:$B$8408,Sheet3!$A$3)","v":0},{"$f":"+SUMIFS(Sheet4!$FV$2:$FV$8408,Sheet4!$C$2:$C$8408,Sheet3!$B13,Sheet4!$D$2:$D$8408,Sheet3!CN$3,Sheet4!$E$2:$E$8408,Sheet3!CN$4,Sheet4!$A$2:$A$8408,Sheet3!$B$1,Sheet4!$B$2:$B$8408,Sheet3!$A$3)","v":0},{"$f":"+SUMIFS(Sheet4!$FV$2:$FV$8408,Sheet4!$C$2:$C$8408,Sheet3!$B13,Sheet4!$D$2:$D$8408,Sheet3!CO$3,Sheet4!$E$2:$E$8408,Sheet3!CO$4,Sheet4!$A$2:$A$8408,Sheet3!$B$1,Sheet4!$B$2:$B$8408,Sheet3!$A$3)","v":0},{"$f":"+SUMIFS(Sheet4!$FV$2:$FV$8408,Sheet4!$C$2:$C$8408,Sheet3!$B13,Sheet4!$D$2:$D$8408,Sheet3!CP$3,Sheet4!$E$2:$E$8408,Sheet3!CP$4,Sheet4!$A$2:$A$8408,Sheet3!$B$1,Sheet4!$B$2:$B$8408,Sheet3!$A$3)","v":0},{"$f":"+SUMIFS(Sheet4!$FV$2:$FV$8408,Sheet4!$C$2:$C$8408,Sheet3!$B13,Sheet4!$D$2:$D$8408,Sheet3!CQ$3,Sheet4!$E$2:$E$8408,Sheet3!CQ$4,Sheet4!$A$2:$A$8408,Sheet3!$B$1,Sheet4!$B$2:$B$8408,Sheet3!$A$3)","v":0},{"$f":"+SUMIFS(Sheet4!$FV$2:$FV$8408,Sheet4!$C$2:$C$8408,Sheet3!$B13,Sheet4!$D$2:$D$8408,Sheet3!CR$3,Sheet4!$E$2:$E$8408,Sheet3!CR$4,Sheet4!$A$2:$A$8408,Sheet3!$B$1,Sheet4!$B$2:$B$8408,Sheet3!$A$3)","v":0},{"$f":"+SUMIFS(Sheet4!$FV$2:$FV$8408,Sheet4!$C$2:$C$8408,Sheet3!$B13,Sheet4!$D$2:$D$8408,Sheet3!CS$3,Sheet4!$E$2:$E$8408,Sheet3!CS$4,Sheet4!$A$2:$A$8408,Sheet3!$B$1,Sheet4!$B$2:$B$8408,Sheet3!$A$3)","v":0},{"$f":"+SUMIFS(Sheet4!$FV$2:$FV$8408,Sheet4!$C$2:$C$8408,Sheet3!$B13,Sheet4!$D$2:$D$8408,Sheet3!CT$3,Sheet4!$E$2:$E$8408,Sheet3!CT$4,Sheet4!$A$2:$A$8408,Sheet3!$B$1,Sheet4!$B$2:$B$8408,Sheet3!$A$3)","v":0},{"$f":"+IF(SUMIFS(Sheet4!$FW$2:$FW$8408,Sheet4!$C$2:$C$8408,Sheet3!$B13,Sheet4!$D$2:$D$8408,Sheet3!CU$3,Sheet4!$A$2:$A$8408,Sheet3!$B$1,Sheet4!$B$2:$B$8408,Sheet3!$A$3)<3,0,SUMIFS(Sheet4!$FW$2:$FW$8408,Sheet4!$C$2:$C$8408,Sheet3!$B13,Sheet4!$D$2:$D$8408,Sheet3!CU$3,Sheet4!$A$2:$A$8408,Sheet3!$B$1,Sheet4!$B$2:$B$8408,Sheet3!$A$3))","v":6},{"$f":"+IF(SUMIFS(Sheet4!$FW$2:$FW$8408,Sheet4!$C$2:$C$8408,Sheet3!$B13,Sheet4!$D$2:$D$8408,Sheet3!CV$3,Sheet4!$A$2:$A$8408,Sheet3!$B$1,Sheet4!$B$2:$B$8408,Sheet3!$A$3)<3,0,SUMIFS(Sheet4!$FW$2:$FW$8408,Sheet4!$C$2:$C$8408,Sheet3!$B13,Sheet4!$D$2:$D$8408,Sheet3!CV$3,Sheet4!$A$2:$A$8408,Sheet3!$B$1,Sheet4!$B$2:$B$8408,Sheet3!$A$3))","v":476},{"$f":"+IF(SUMIFS(Sheet4!$FW$2:$FW$8408,Sheet4!$C$2:$C$8408,Sheet3!$B13,Sheet4!$D$2:$D$8408,Sheet3!CW$3,Sheet4!$A$2:$A$8408,Sheet3!$B$1,Sheet4!$B$2:$B$8408,Sheet3!$A$3)<3,0,SUMIFS(Sheet4!$FW$2:$FW$8408,Sheet4!$C$2:$C$8408,Sheet3!$B13,Sheet4!$D$2:$D$8408,Sheet3!CW$3,Sheet4!$A$2:$A$8408,Sheet3!$B$1,Sheet4!$B$2:$B$8408,Sheet3!$A$3))","v":32},{"$f":"+IF(SUMIFS(Sheet4!$FW$2:$FW$8408,Sheet4!$C$2:$C$8408,Sheet3!$B13,Sheet4!$D$2:$D$8408,Sheet3!CX$3,Sheet4!$A$2:$A$8408,Sheet3!$B$1,Sheet4!$B$2:$B$8408,Sheet3!$A$3)<3,0,SUMIFS(Sheet4!$FW$2:$FW$8408,Sheet4!$C$2:$C$8408,Sheet3!$B13,Sheet4!$D$2:$D$8408,Sheet3!CX$3,Sheet4!$A$2:$A$8408,Sheet3!$B$1,Sheet4!$B$2:$B$8408,Sheet3!$A$3))","v":0},{"$f":"+IF(SUMIFS(Sheet4!$FW$2:$FW$8408,Sheet4!$C$2:$C$8408,Sheet3!$B13,Sheet4!$D$2:$D$8408,Sheet3!CY$3,Sheet4!$A$2:$A$8408,Sheet3!$B$1,Sheet4!$B$2:$B$8408,Sheet3!$A$3)<3,0,SUMIFS(Sheet4!$FW$2:$FW$8408,Sheet4!$C$2:$C$8408,Sheet3!$B13,Sheet4!$D$2:$D$8408,Sheet3!CY$3,Sheet4!$A$2:$A$8408,Sheet3!$B$1,Sheet4!$B$2:$B$8408,Sheet3!$A$3))","v":0},{"$f":"+IF(SUMIFS(Sheet4!$FW$2:$FW$8408,Sheet4!$C$2:$C$8408,Sheet3!$B13,Sheet4!$D$2:$D$8408,Sheet3!CZ$3,Sheet4!$A$2:$A$8408,Sheet3!$B$1,Sheet4!$B$2:$B$8408,Sheet3!$A$3)<3,0,SUMIFS(Sheet4!$FW$2:$FW$8408,Sheet4!$C$2:$C$8408,Sheet3!$B13,Sheet4!$D$2:$D$8408,Sheet3!CZ$3,Sheet4!$A$2:$A$8408,Sheet3!$B$1,Sheet4!$B$2:$B$8408,Sheet3!$A$3))","v":444},{"$f":"+IF(SUMIFS(Sheet4!$FW$2:$FW$8408,Sheet4!$C$2:$C$8408,Sheet3!$B13,Sheet4!$D$2:$D$8408,Sheet3!DA$3,Sheet4!$A$2:$A$8408,Sheet3!$B$1,Sheet4!$B$2:$B$8408,Sheet3!$A$3)<3,0,SUMIFS(Sheet4!$FW$2:$FW$8408,Sheet4!$C$2:$C$8408,Sheet3!$B13,Sheet4!$D$2:$D$8408,Sheet3!DA$3,Sheet4!$A$2:$A$8408,Sheet3!$B$1,Sheet4!$B$2:$B$8408,Sheet3!$A$3))","v":949},{"$f":"+IF(SUMIFS(Sheet4!$FW$2:$FW$8408,Sheet4!$C$2:$C$8408,Sheet3!$B13,Sheet4!$D$2:$D$8408,Sheet3!DB$3,Sheet4!$A$2:$A$8408,Sheet3!$B$1,Sheet4!$B$2:$B$8408,Sheet3!$A$3)<3,0,SUMIFS(Sheet4!$FW$2:$FW$8408,Sheet4!$C$2:$C$8408,Sheet3!$B13,Sheet4!$D$2:$D$8408,Sheet3!DB$3,Sheet4!$A$2:$A$8408,Sheet3!$B$1,Sheet4!$B$2:$B$8408,Sheet3!$A$3))","v":660},{"$f":"+IF(SUMIFS(Sheet4!$FW$2:$FW$8408,Sheet4!$C$2:$C$8408,Sheet3!$B13,Sheet4!$D$2:$D$8408,Sheet3!DC$3,Sheet4!$A$2:$A$8408,Sheet3!$B$1,Sheet4!$B$2:$B$8408,Sheet3!$A$3)<3,0,SUMIFS(Sheet4!$FW$2:$FW$8408,Sheet4!$C$2:$C$8408,Sheet3!$B13,Sheet4!$D$2:$D$8408,Sheet3!DC$3,Sheet4!$A$2:$A$8408,Sheet3!$B$1,Sheet4!$B$2:$B$8408,Sheet3!$A$3))","v":14},{"$f":"+IF(SUMIFS(Sheet4!$FW$2:$FW$8408,Sheet4!$C$2:$C$8408,Sheet3!$B13,Sheet4!$D$2:$D$8408,Sheet3!DD$3,Sheet4!$A$2:$A$8408,Sheet3!$B$1,Sheet4!$B$2:$B$8408,Sheet3!$A$3)<3,0,SUMIFS(Sheet4!$FW$2:$FW$8408,Sheet4!$C$2:$C$8408,Sheet3!$B13,Sheet4!$D$2:$D$8408,Sheet3!DD$3,Sheet4!$A$2:$A$8408,Sheet3!$B$1,Sheet4!$B$2:$B$8408,Sheet3!$A$3))","v":2684},{"$f":"+IF(SUMIFS(Sheet4!$FW$2:$FW$8408,Sheet4!$C$2:$C$8408,Sheet3!$B13,Sheet4!$D$2:$D$8408,Sheet3!DE$3,Sheet4!$A$2:$A$8408,Sheet3!$B$1,Sheet4!$B$2:$B$8408,Sheet3!$A$3)<3,0,SUMIFS(Sheet4!$FW$2:$FW$8408,Sheet4!$C$2:$C$8408,Sheet3!$B13,Sheet4!$D$2:$D$8408,Sheet3!DE$3,Sheet4!$A$2:$A$8408,Sheet3!$B$1,Sheet4!$B$2:$B$8408,Sheet3!$A$3))","v":28},{"$f":"+IF(SUMIFS(Sheet4!$FW$2:$FW$8408,Sheet4!$C$2:$C$8408,Sheet3!$B13,Sheet4!$D$2:$D$8408,Sheet3!DF$3,Sheet4!$A$2:$A$8408,Sheet3!$B$1,Sheet4!$B$2:$B$8408,Sheet3!$A$3)<3,0,SUMIFS(Sheet4!$FW$2:$FW$8408,Sheet4!$C$2:$C$8408,Sheet3!$B13,Sheet4!$D$2:$D$8408,Sheet3!DF$3,Sheet4!$A$2:$A$8408,Sheet3!$B$1,Sheet4!$B$2:$B$8408,Sheet3!$A$3))","v":202},{"$f":"+IF(SUMIFS(Sheet4!$FW$2:$FW$8408,Sheet4!$C$2:$C$8408,Sheet3!$B13,Sheet4!$D$2:$D$8408,Sheet3!DG$3,Sheet4!$A$2:$A$8408,Sheet3!$B$1,Sheet4!$B$2:$B$8408,Sheet3!$A$3)<3,0,SUMIFS(Sheet4!$FW$2:$FW$8408,Sheet4!$C$2:$C$8408,Sheet3!$B13,Sheet4!$D$2:$D$8408,Sheet3!DG$3,Sheet4!$A$2:$A$8408,Sheet3!$B$1,Sheet4!$B$2:$B$8408,Sheet3!$A$3))","v":160},{"$f":"+IF(SUMIFS(Sheet4!$FW$2:$FW$8408,Sheet4!$C$2:$C$8408,Sheet3!$B13,Sheet4!$D$2:$D$8408,Sheet3!DH$3,Sheet4!$A$2:$A$8408,Sheet3!$B$1,Sheet4!$B$2:$B$8408,Sheet3!$A$3)<3,0,SUMIFS(Sheet4!$FW$2:$FW$8408,Sheet4!$C$2:$C$8408,Sheet3!$B13,Sheet4!$D$2:$D$8408,Sheet3!DH$3,Sheet4!$A$2:$A$8408,Sheet3!$B$1,Sheet4!$B$2:$B$8408,Sheet3!$A$3))","v":107},{"$f":"+IF(SUMIFS(Sheet4!$FW$2:$FW$8408,Sheet4!$C$2:$C$8408,Sheet3!$B13,Sheet4!$D$2:$D$8408,Sheet3!DI$3,Sheet4!$A$2:$A$8408,Sheet3!$B$1,Sheet4!$B$2:$B$8408,Sheet3!$A$3)<3,0,SUMIFS(Sheet4!$FW$2:$FW$8408,Sheet4!$C$2:$C$8408,Sheet3!$B13,Sheet4!$D$2:$D$8408,Sheet3!DI$3,Sheet4!$A$2:$A$8408,Sheet3!$B$1,Sheet4!$B$2:$B$8408,Sheet3!$A$3))","v":331},{"$f":"+IF(SUMIFS(Sheet4!$FW$2:$FW$8408,Sheet4!$C$2:$C$8408,Sheet3!$B13,Sheet4!$D$2:$D$8408,Sheet3!DJ$3,Sheet4!$A$2:$A$8408,Sheet3!$B$1,Sheet4!$B$2:$B$8408,Sheet3!$A$3)<3,0,SUMIFS(Sheet4!$FW$2:$FW$8408,Sheet4!$C$2:$C$8408,Sheet3!$B13,Sheet4!$D$2:$D$8408,Sheet3!DJ$3,Sheet4!$A$2:$A$8408,Sheet3!$B$1,Sheet4!$B$2:$B$8408,Sheet3!$A$3))","v":672},{"$f":"+IF(SUMIFS(Sheet4!$FW$2:$FW$8408,Sheet4!$C$2:$C$8408,Sheet3!$B13,Sheet4!$D$2:$D$8408,Sheet3!DK$3,Sheet4!$A$2:$A$8408,Sheet3!$B$1,Sheet4!$B$2:$B$8408,Sheet3!$A$3)<3,0,SUMIFS(Sheet4!$FW$2:$FW$8408,Sheet4!$C$2:$C$8408,Sheet3!$B13,Sheet4!$D$2:$D$8408,Sheet3!DK$3,Sheet4!$A$2:$A$8408,Sheet3!$B$1,Sheet4!$B$2:$B$8408,Sheet3!$A$3))","v":278},{"$f":"+IF(SUMIFS(Sheet4!$FW$2:$FW$8408,Sheet4!$C$2:$C$8408,Sheet3!$B13,Sheet4!$D$2:$D$8408,Sheet3!DL$3,Sheet4!$A$2:$A$8408,Sheet3!$B$1,Sheet4!$B$2:$B$8408,Sheet3!$A$3)<3,0,SUMIFS(Sheet4!$FW$2:$FW$8408,Sheet4!$C$2:$C$8408,Sheet3!$B13,Sheet4!$D$2:$D$8408,Sheet3!DL$3,Sheet4!$A$2:$A$8408,Sheet3!$B$1,Sheet4!$B$2:$B$8408,Sheet3!$A$3))","v":0},{"$f":"+IF(SUMIFS(Sheet4!$FW$2:$FW$8408,Sheet4!$C$2:$C$8408,Sheet3!$B13,Sheet4!$D$2:$D$8408,Sheet3!DM$3,Sheet4!$A$2:$A$8408,Sheet3!$B$1,Sheet4!$B$2:$B$8408,Sheet3!$A$3)<3,0,SUMIFS(Sheet4!$FW$2:$FW$8408,Sheet4!$C$2:$C$8408,Sheet3!$B13,Sheet4!$D$2:$D$8408,Sheet3!DM$3,Sheet4!$A$2:$A$8408,Sheet3!$B$1,Sheet4!$B$2:$B$8408,Sheet3!$A$3))","v":0},{"$f":"+IF(SUMIFS(Sheet4!$FW$2:$FW$8408,Sheet4!$C$2:$C$8408,Sheet3!$B13,Sheet4!$E$2:$E$8408,Sheet3!DN$4,Sheet4!$A$2:$A$8408,Sheet3!$B$1,Sheet4!$B$2:$B$8408,Sheet3!$A$3)<3,0,SUMIFS(Sheet4!$FW$2:$FW$8408,Sheet4!$C$2:$C$8408,Sheet3!$B13,Sheet4!$E$2:$E$8408,Sheet3!DN$4,Sheet4!$A$2:$A$8408,Sheet3!$B$1,Sheet4!$B$2:$B$8408,Sheet3!$A$3))","v":6117},{"$f":"+IF(SUMIFS(Sheet4!$FW$2:$FW$8408,Sheet4!$C$2:$C$8408,Sheet3!$B13,Sheet4!$E$2:$E$8408,Sheet3!DO$4,Sheet4!$A$2:$A$8408,Sheet3!$B$1,Sheet4!$B$2:$B$8408,Sheet3!$A$3)<3,0,SUMIFS(Sheet4!$FW$2:$FW$8408,Sheet4!$C$2:$C$8408,Sheet3!$B13,Sheet4!$E$2:$E$8408,Sheet3!DO$4,Sheet4!$A$2:$A$8408,Sheet3!$B$1,Sheet4!$B$2:$B$8408,Sheet3!$A$3))","v":865},{"$f":"+IF(SUMIFS(Sheet4!$FW$2:$FW$8408,Sheet4!$C$2:$C$8408,Sheet3!$B13,Sheet4!$E$2:$E$8408,Sheet3!DP$4,Sheet4!$A$2:$A$8408,Sheet3!$B$1,Sheet4!$B$2:$B$8408,Sheet3!$A$3)<3,0,SUMIFS(Sheet4!$FW$2:$FW$8408,Sheet4!$C$2:$C$8408,Sheet3!$B13,Sheet4!$E$2:$E$8408,Sheet3!DP$4,Sheet4!$A$2:$A$8408,Sheet3!$B$1,Sheet4!$B$2:$B$8408,Sheet3!$A$3))","v":62},{"$f":"+IF(SUMIFS(Sheet4!$FW$2:$FW$8408,Sheet4!$C$2:$C$8408,Sheet3!$B13,Sheet4!$E$2:$E$8408,Sheet3!DQ$4,Sheet4!$A$2:$A$8408,Sheet3!$B$1,Sheet4!$B$2:$B$8408,Sheet3!$A$3)<3,0,SUMIFS(Sheet4!$FW$2:$FW$8408,Sheet4!$C$2:$C$8408,Sheet3!$B13,Sheet4!$E$2:$E$8408,Sheet3!DQ$4,Sheet4!$A$2:$A$8408,Sheet3!$B$1,Sheet4!$B$2:$B$8408,Sheet3!$A$3))","v":0},{"$f":"+IF(SUMIFS(Sheet4!$FW$2:$FW$8408,Sheet4!$C$2:$C$8408,Sheet3!$B13,Sheet4!$E$2:$E$8408,Sheet3!DR$4,Sheet4!$A$2:$A$8408,Sheet3!$B$1,Sheet4!$B$2:$B$8408,Sheet3!$A$3)<3,0,SUMIFS(Sheet4!$FW$2:$FW$8408,Sheet4!$C$2:$C$8408,Sheet3!$B13,Sheet4!$E$2:$E$8408,Sheet3!DR$4,Sheet4!$A$2:$A$8408,Sheet3!$B$1,Sheet4!$B$2:$B$8408,Sheet3!$A$3))","v":0}]
[3,"11D","Douro",{"$f":"+SUMIFS(Sheet4!$FV$2:$FV$8408,Sheet4!$C$2:$C$8408,Sheet3!$B14,Sheet4!$D$2:$D$8408,Sheet3!D$3,Sheet4!$E$2:$E$8408,Sheet3!D$4,Sheet4!$A$2:$A$8408,Sheet3!$B$1,Sheet4!$B$2:$B$8408,Sheet3!$A$3)","v":4},{"$f":"+SUMIFS(Sheet4!$FV$2:$FV$8408,Sheet4!$C$2:$C$8408,Sheet3!$B14,Sheet4!$D$2:$D$8408,Sheet3!E$3,Sheet4!$E$2:$E$8408,Sheet3!E$4,Sheet4!$A$2:$A$8408,Sheet3!$B$1,Sheet4!$B$2:$B$8408,Sheet3!$A$3)","v":0},{"$f":"+SUMIFS(Sheet4!$FV$2:$FV$8408,Sheet4!$C$2:$C$8408,Sheet3!$B14,Sheet4!$D$2:$D$8408,Sheet3!F$3,Sheet4!$E$2:$E$8408,Sheet3!F$4,Sheet4!$A$2:$A$8408,Sheet3!$B$1,Sheet4!$B$2:$B$8408,Sheet3!$A$3)","v":0},{"$f":"+SUMIFS(Sheet4!$FV$2:$FV$8408,Sheet4!$C$2:$C$8408,Sheet3!$B14,Sheet4!$D$2:$D$8408,Sheet3!G$3,Sheet4!$E$2:$E$8408,Sheet3!G$4,Sheet4!$A$2:$A$8408,Sheet3!$B$1,Sheet4!$B$2:$B$8408,Sheet3!$A$3)","v":0},{"$f":"+SUMIFS(Sheet4!$FV$2:$FV$8408,Sheet4!$C$2:$C$8408,Sheet3!$B14,Sheet4!$D$2:$D$8408,Sheet3!H$3,Sheet4!$E$2:$E$8408,Sheet3!H$4,Sheet4!$A$2:$A$8408,Sheet3!$B$1,Sheet4!$B$2:$B$8408,Sheet3!$A$3)","v":0},{"$f":"+SUMIFS(Sheet4!$FV$2:$FV$8408,Sheet4!$C$2:$C$8408,Sheet3!$B14,Sheet4!$D$2:$D$8408,Sheet3!I$3,Sheet4!$E$2:$E$8408,Sheet3!I$4,Sheet4!$A$2:$A$8408,Sheet3!$B$1,Sheet4!$B$2:$B$8408,Sheet3!$A$3)","v":17},{"$f":"+SUMIFS(Sheet4!$FV$2:$FV$8408,Sheet4!$C$2:$C$8408,Sheet3!$B14,Sheet4!$D$2:$D$8408,Sheet3!J$3,Sheet4!$E$2:$E$8408,Sheet3!J$4,Sheet4!$A$2:$A$8408,Sheet3!$B$1,Sheet4!$B$2:$B$8408,Sheet3!$A$3)","v":0},{"$f":"+SUMIFS(Sheet4!$FV$2:$FV$8408,Sheet4!$C$2:$C$8408,Sheet3!$B14,Sheet4!$D$2:$D$8408,Sheet3!K$3,Sheet4!$E$2:$E$8408,Sheet3!K$4,Sheet4!$A$2:$A$8408,Sheet3!$B$1,Sheet4!$B$2:$B$8408,Sheet3!$A$3)","v":0},{"$f":"+SUMIFS(Sheet4!$FV$2:$FV$8408,Sheet4!$C$2:$C$8408,Sheet3!$B14,Sheet4!$D$2:$D$8408,Sheet3!L$3,Sheet4!$E$2:$E$8408,Sheet3!L$4,Sheet4!$A$2:$A$8408,Sheet3!$B$1,Sheet4!$B$2:$B$8408,Sheet3!$A$3)","v":0},{"$f":"+SUMIFS(Sheet4!$FV$2:$FV$8408,Sheet4!$C$2:$C$8408,Sheet3!$B14,Sheet4!$D$2:$D$8408,Sheet3!M$3,Sheet4!$E$2:$E$8408,Sheet3!M$4,Sheet4!$A$2:$A$8408,Sheet3!$B$1,Sheet4!$B$2:$B$8408,Sheet3!$A$3)","v":0},{"$f":"+SUMIFS(Sheet4!$FV$2:$FV$8408,Sheet4!$C$2:$C$8408,Sheet3!$B14,Sheet4!$D$2:$D$8408,Sheet3!N$3,Sheet4!$E$2:$E$8408,Sheet3!N$4,Sheet4!$A$2:$A$8408,Sheet3!$B$1,Sheet4!$B$2:$B$8408,Sheet3!$A$3)","v":135},{"$f":"+SUMIFS(Sheet4!$FV$2:$FV$8408,Sheet4!$C$2:$C$8408,Sheet3!$B14,Sheet4!$D$2:$D$8408,Sheet3!O$3,Sheet4!$E$2:$E$8408,Sheet3!O$4,Sheet4!$A$2:$A$8408,Sheet3!$B$1,Sheet4!$B$2:$B$8408,Sheet3!$A$3)","v":36},{"$f":"+SUMIFS(Sheet4!$FV$2:$FV$8408,Sheet4!$C$2:$C$8408,Sheet3!$B14,Sheet4!$D$2:$D$8408,Sheet3!P$3,Sheet4!$E$2:$E$8408,Sheet3!P$4,Sheet4!$A$2:$A$8408,Sheet3!$B$1,Sheet4!$B$2:$B$8408,Sheet3!$A$3)","v":0},{"$f":"+SUMIFS(Sheet4!$FV$2:$FV$8408,Sheet4!$C$2:$C$8408,Sheet3!$B14,Sheet4!$D$2:$D$8408,Sheet3!Q$3,Sheet4!$E$2:$E$8408,Sheet3!Q$4,Sheet4!$A$2:$A$8408,Sheet3!$B$1,Sheet4!$B$2:$B$8408,Sheet3!$A$3)","v":0},{"$f":"+SUMIFS(Sheet4!$FV$2:$FV$8408,Sheet4!$C$2:$C$8408,Sheet3!$B14,Sheet4!$D$2:$D$8408,Sheet3!R$3,Sheet4!$E$2:$E$8408,Sheet3!R$4,Sheet4!$A$2:$A$8408,Sheet3!$B$1,Sheet4!$B$2:$B$8408,Sheet3!$A$3)","v":0},{"$f":"+SUMIFS(Sheet4!$FV$2:$FV$8408,Sheet4!$C$2:$C$8408,Sheet3!$B14,Sheet4!$D$2:$D$8408,Sheet3!S$3,Sheet4!$E$2:$E$8408,Sheet3!S$4,Sheet4!$A$2:$A$8408,Sheet3!$B$1,Sheet4!$B$2:$B$8408,Sheet3!$A$3)","v":0},{"$f":"+SUMIFS(Sheet4!$FV$2:$FV$8408,Sheet4!$C$2:$C$8408,Sheet3!$B14,Sheet4!$D$2:$D$8408,Sheet3!T$3,Sheet4!$E$2:$E$8408,Sheet3!T$4,Sheet4!$A$2:$A$8408,Sheet3!$B$1,Sheet4!$B$2:$B$8408,Sheet3!$A$3)","v":0},{"$f":"+SUMIFS(Sheet4!$FV$2:$FV$8408,Sheet4!$C$2:$C$8408,Sheet3!$B14,Sheet4!$D$2:$D$8408,Sheet3!U$3,Sheet4!$E$2:$E$8408,Sheet3!U$4,Sheet4!$A$2:$A$8408,Sheet3!$B$1,Sheet4!$B$2:$B$8408,Sheet3!$A$3)","v":0},{"$f":"+SUMIFS(Sheet4!$FV$2:$FV$8408,Sheet4!$C$2:$C$8408,Sheet3!$B14,Sheet4!$D$2:$D$8408,Sheet3!V$3,Sheet4!$E$2:$E$8408,Sheet3!V$4,Sheet4!$A$2:$A$8408,Sheet3!$B$1,Sheet4!$B$2:$B$8408,Sheet3!$A$3)","v":0},{"$f":"+SUMIFS(Sheet4!$FV$2:$FV$8408,Sheet4!$C$2:$C$8408,Sheet3!$B14,Sheet4!$D$2:$D$8408,Sheet3!W$3,Sheet4!$E$2:$E$8408,Sheet3!W$4,Sheet4!$A$2:$A$8408,Sheet3!$B$1,Sheet4!$B$2:$B$8408,Sheet3!$A$3)","v":0},{"$f":"+SUMIFS(Sheet4!$FV$2:$FV$8408,Sheet4!$C$2:$C$8408,Sheet3!$B14,Sheet4!$D$2:$D$8408,Sheet3!X$3,Sheet4!$E$2:$E$8408,Sheet3!X$4,Sheet4!$A$2:$A$8408,Sheet3!$B$1,Sheet4!$B$2:$B$8408,Sheet3!$A$3)","v":0},{"$f":"+SUMIFS(Sheet4!$FV$2:$FV$8408,Sheet4!$C$2:$C$8408,Sheet3!$B14,Sheet4!$D$2:$D$8408,Sheet3!Y$3,Sheet4!$E$2:$E$8408,Sheet3!Y$4,Sheet4!$A$2:$A$8408,Sheet3!$B$1,Sheet4!$B$2:$B$8408,Sheet3!$A$3)","v":0},{"$f":"+SUMIFS(Sheet4!$FV$2:$FV$8408,Sheet4!$C$2:$C$8408,Sheet3!$B14,Sheet4!$D$2:$D$8408,Sheet3!Z$3,Sheet4!$E$2:$E$8408,Sheet3!Z$4,Sheet4!$A$2:$A$8408,Sheet3!$B$1,Sheet4!$B$2:$B$8408,Sheet3!$A$3)","v":0},{"$f":"+SUMIFS(Sheet4!$FV$2:$FV$8408,Sheet4!$C$2:$C$8408,Sheet3!$B14,Sheet4!$D$2:$D$8408,Sheet3!AA$3,Sheet4!$E$2:$E$8408,Sheet3!AA$4,Sheet4!$A$2:$A$8408,Sheet3!$B$1,Sheet4!$B$2:$B$8408,Sheet3!$A$3)","v":0},{"$f":"+SUMIFS(Sheet4!$FV$2:$FV$8408,Sheet4!$C$2:$C$8408,Sheet3!$B14,Sheet4!$D$2:$D$8408,Sheet3!AB$3,Sheet4!$E$2:$E$8408,Sheet3!AB$4,Sheet4!$A$2:$A$8408,Sheet3!$B$1,Sheet4!$B$2:$B$8408,Sheet3!$A$3)","v":0},{"$f":"+SUMIFS(Sheet4!$FV$2:$FV$8408,Sheet4!$C$2:$C$8408,Sheet3!$B14,Sheet4!$D$2:$D$8408,Sheet3!AC$3,Sheet4!$E$2:$E$8408,Sheet3!AC$4,Sheet4!$A$2:$A$8408,Sheet3!$B$1,Sheet4!$B$2:$B$8408,Sheet3!$A$3)","v":1696},{"$f":"+SUMIFS(Sheet4!$FV$2:$FV$8408,Sheet4!$C$2:$C$8408,Sheet3!$B14,Sheet4!$D$2:$D$8408,Sheet3!AD$3,Sheet4!$E$2:$E$8408,Sheet3!AD$4,Sheet4!$A$2:$A$8408,Sheet3!$B$1,Sheet4!$B$2:$B$8408,Sheet3!$A$3)","v":139},{"$f":"+SUMIFS(Sheet4!$FV$2:$FV$8408,Sheet4!$C$2:$C$8408,Sheet3!$B14,Sheet4!$D$2:$D$8408,Sheet3!AE$3,Sheet4!$E$2:$E$8408,Sheet3!AE$4,Sheet4!$A$2:$A$8408,Sheet3!$B$1,Sheet4!$B$2:$B$8408,Sheet3!$A$3)","v":7},{"$f":"+SUMIFS(Sheet4!$FV$2:$FV$8408,Sheet4!$C$2:$C$8408,Sheet3!$B14,Sheet4!$D$2:$D$8408,Sheet3!AF$3,Sheet4!$E$2:$E$8408,Sheet3!AF$4,Sheet4!$A$2:$A$8408,Sheet3!$B$1,Sheet4!$B$2:$B$8408,Sheet3!$A$3)","v":0},{"$f":"+SUMIFS(Sheet4!$FV$2:$FV$8408,Sheet4!$C$2:$C$8408,Sheet3!$B14,Sheet4!$D$2:$D$8408,Sheet3!AG$3,Sheet4!$E$2:$E$8408,Sheet3!AG$4,Sheet4!$A$2:$A$8408,Sheet3!$B$1,Sheet4!$B$2:$B$8408,Sheet3!$A$3)","v":0},{"$f":"+SUMIFS(Sheet4!$FV$2:$FV$8408,Sheet4!$C$2:$C$8408,Sheet3!$B14,Sheet4!$D$2:$D$8408,Sheet3!AH$3,Sheet4!$E$2:$E$8408,Sheet3!AH$4,Sheet4!$A$2:$A$8408,Sheet3!$B$1,Sheet4!$B$2:$B$8408,Sheet3!$A$3)","v":3898},{"$f":"+SUMIFS(Sheet4!$FV$2:$FV$8408,Sheet4!$C$2:$C$8408,Sheet3!$B14,Sheet4!$D$2:$D$8408,Sheet3!AI$3,Sheet4!$E$2:$E$8408,Sheet3!AI$4,Sheet4!$A$2:$A$8408,Sheet3!$B$1,Sheet4!$B$2:$B$8408,Sheet3!$A$3)","v":1648},{"$f":"+SUMIFS(Sheet4!$FV$2:$FV$8408,Sheet4!$C$2:$C$8408,Sheet3!$B14,Sheet4!$D$2:$D$8408,Sheet3!AJ$3,Sheet4!$E$2:$E$8408,Sheet3!AJ$4,Sheet4!$A$2:$A$8408,Sheet3!$B$1,Sheet4!$B$2:$B$8408,Sheet3!$A$3)","v":237},{"$f":"+SUMIFS(Sheet4!$FV$2:$FV$8408,Sheet4!$C$2:$C$8408,Sheet3!$B14,Sheet4!$D$2:$D$8408,Sheet3!AK$3,Sheet4!$E$2:$E$8408,Sheet3!AK$4,Sheet4!$A$2:$A$8408,Sheet3!$B$1,Sheet4!$B$2:$B$8408,Sheet3!$A$3)","v":11},{"$f":"+SUMIFS(Sheet4!$FV$2:$FV$8408,Sheet4!$C$2:$C$8408,Sheet3!$B14,Sheet4!$D$2:$D$8408,Sheet3!AL$3,Sheet4!$E$2:$E$8408,Sheet3!AL$4,Sheet4!$A$2:$A$8408,Sheet3!$B$1,Sheet4!$B$2:$B$8408,Sheet3!$A$3)","v":0},{"$f":"+SUMIFS(Sheet4!$FV$2:$FV$8408,Sheet4!$C$2:$C$8408,Sheet3!$B14,Sheet4!$D$2:$D$8408,Sheet3!AM$3,Sheet4!$E$2:$E$8408,Sheet3!AM$4,Sheet4!$A$2:$A$8408,Sheet3!$B$1,Sheet4!$B$2:$B$8408,Sheet3!$A$3)","v":976},{"$f":"+SUMIFS(Sheet4!$FV$2:$FV$8408,Sheet4!$C$2:$C$8408,Sheet3!$B14,Sheet4!$D$2:$D$8408,Sheet3!AN$3,Sheet4!$E$2:$E$8408,Sheet3!AN$4,Sheet4!$A$2:$A$8408,Sheet3!$B$1,Sheet4!$B$2:$B$8408,Sheet3!$A$3)","v":688},{"$f":"+SUMIFS(Sheet4!$FV$2:$FV$8408,Sheet4!$C$2:$C$8408,Sheet3!$B14,Sheet4!$D$2:$D$8408,Sheet3!AO$3,Sheet4!$E$2:$E$8408,Sheet3!AO$4,Sheet4!$A$2:$A$8408,Sheet3!$B$1,Sheet4!$B$2:$B$8408,Sheet3!$A$3)","v":76},{"$f":"+SUMIFS(Sheet4!$FV$2:$FV$8408,Sheet4!$C$2:$C$8408,Sheet3!$B14,Sheet4!$D$2:$D$8408,Sheet3!AP$3,Sheet4!$E$2:$E$8408,Sheet3!AP$4,Sheet4!$A$2:$A$8408,Sheet3!$B$1,Sheet4!$B$2:$B$8408,Sheet3!$A$3)","v":0},{"$f":"+SUMIFS(Sheet4!$FV$2:$FV$8408,Sheet4!$C$2:$C$8408,Sheet3!$B14,Sheet4!$D$2:$D$8408,Sheet3!AQ$3,Sheet4!$E$2:$E$8408,Sheet3!AQ$4,Sheet4!$A$2:$A$8408,Sheet3!$B$1,Sheet4!$B$2:$B$8408,Sheet3!$A$3)","v":0},{"$f":"+SUMIFS(Sheet4!$FV$2:$FV$8408,Sheet4!$C$2:$C$8408,Sheet3!$B14,Sheet4!$D$2:$D$8408,Sheet3!AR$3,Sheet4!$E$2:$E$8408,Sheet3!AR$4,Sheet4!$A$2:$A$8408,Sheet3!$B$1,Sheet4!$B$2:$B$8408,Sheet3!$A$3)","v":604},{"$f":"+SUMIFS(Sheet4!$FV$2:$FV$8408,Sheet4!$C$2:$C$8408,Sheet3!$B14,Sheet4!$D$2:$D$8408,Sheet3!AS$3,Sheet4!$E$2:$E$8408,Sheet3!AS$4,Sheet4!$A$2:$A$8408,Sheet3!$B$1,Sheet4!$B$2:$B$8408,Sheet3!$A$3)","v":61},{"$f":"+SUMIFS(Sheet4!$FV$2:$FV$8408,Sheet4!$C$2:$C$8408,Sheet3!$B14,Sheet4!$D$2:$D$8408,Sheet3!AT$3,Sheet4!$E$2:$E$8408,Sheet3!AT$4,Sheet4!$A$2:$A$8408,Sheet3!$B$1,Sheet4!$B$2:$B$8408,Sheet3!$A$3)","v":7},{"$f":"+SUMIFS(Sheet4!$FV$2:$FV$8408,Sheet4!$C$2:$C$8408,Sheet3!$B14,Sheet4!$D$2:$D$8408,Sheet3!AU$3,Sheet4!$E$2:$E$8408,Sheet3!AU$4,Sheet4!$A$2:$A$8408,Sheet3!$B$1,Sheet4!$B$2:$B$8408,Sheet3!$A$3)","v":0},{"$f":"+SUMIFS(Sheet4!$FV$2:$FV$8408,Sheet4!$C$2:$C$8408,Sheet3!$B14,Sheet4!$D$2:$D$8408,Sheet3!AV$3,Sheet4!$E$2:$E$8408,Sheet3!AV$4,Sheet4!$A$2:$A$8408,Sheet3!$B$1,Sheet4!$B$2:$B$8408,Sheet3!$A$3)","v":0},{"$f":"+SUMIFS(Sheet4!$FV$2:$FV$8408,Sheet4!$C$2:$C$8408,Sheet3!$B14,Sheet4!$D$2:$D$8408,Sheet3!AW$3,Sheet4!$E$2:$E$8408,Sheet3!AW$4,Sheet4!$A$2:$A$8408,Sheet3!$B$1,Sheet4!$B$2:$B$8408,Sheet3!$A$3)","v":6454},{"$f":"+SUMIFS(Sheet4!$FV$2:$FV$8408,Sheet4!$C$2:$C$8408,Sheet3!$B14,Sheet4!$D$2:$D$8408,Sheet3!AX$3,Sheet4!$E$2:$E$8408,Sheet3!AX$4,Sheet4!$A$2:$A$8408,Sheet3!$B$1,Sheet4!$B$2:$B$8408,Sheet3!$A$3)","v":1637},{"$f":"+SUMIFS(Sheet4!$FV$2:$FV$8408,Sheet4!$C$2:$C$8408,Sheet3!$B14,Sheet4!$D$2:$D$8408,Sheet3!AY$3,Sheet4!$E$2:$E$8408,Sheet3!AY$4,Sheet4!$A$2:$A$8408,Sheet3!$B$1,Sheet4!$B$2:$B$8408,Sheet3!$A$3)","v":139},{"$f":"+SUMIFS(Sheet4!$FV$2:$FV$8408,Sheet4!$C$2:$C$8408,Sheet3!$B14,Sheet4!$D$2:$D$8408,Sheet3!AZ$3,Sheet4!$E$2:$E$8408,Sheet3!AZ$4,Sheet4!$A$2:$A$8408,Sheet3!$B$1,Sheet4!$B$2:$B$8408,Sheet3!$A$3)","v":0},{"$f":"+SUMIFS(Sheet4!$FV$2:$FV$8408,Sheet4!$C$2:$C$8408,Sheet3!$B14,Sheet4!$D$2:$D$8408,Sheet3!BA$3,Sheet4!$E$2:$E$8408,Sheet3!BA$4,Sheet4!$A$2:$A$8408,Sheet3!$B$1,Sheet4!$B$2:$B$8408,Sheet3!$A$3)","v":0},{"$f":"+SUMIFS(Sheet4!$FV$2:$FV$8408,Sheet4!$C$2:$C$8408,Sheet3!$B14,Sheet4!$D$2:$D$8408,Sheet3!BB$3,Sheet4!$E$2:$E$8408,Sheet3!BB$4,Sheet4!$A$2:$A$8408,Sheet3!$B$1,Sheet4!$B$2:$B$8408,Sheet3!$A$3)","v":18},{"$f":"+SUMIFS(Sheet4!$FV$2:$FV$8408,Sheet4!$C$2:$C$8408,Sheet3!$B14,Sheet4!$D$2:$D$8408,Sheet3!BC$3,Sheet4!$E$2:$E$8408,Sheet3!BC$4,Sheet4!$A$2:$A$8408,Sheet3!$B$1,Sheet4!$B$2:$B$8408,Sheet3!$A$3)","v":35},{"$f":"+SUMIFS(Sheet4!$FV$2:$FV$8408,Sheet4!$C$2:$C$8408,Sheet3!$B14,Sheet4!$D$2:$D$8408,Sheet3!BD$3,Sheet4!$E$2:$E$8408,Sheet3!BD$4,Sheet4!$A$2:$A$8408,Sheet3!$B$1,Sheet4!$B$2:$B$8408,Sheet3!$A$3)","v":4},{"$f":"+SUMIFS(Sheet4!$FV$2:$FV$8408,Sheet4!$C$2:$C$8408,Sheet3!$B14,Sheet4!$D$2:$D$8408,Sheet3!BE$3,Sheet4!$E$2:$E$8408,Sheet3!BE$4,Sheet4!$A$2:$A$8408,Sheet3!$B$1,Sheet4!$B$2:$B$8408,Sheet3!$A$3)","v":0},{"$f":"+SUMIFS(Sheet4!$FV$2:$FV$8408,Sheet4!$C$2:$C$8408,Sheet3!$B14,Sheet4!$D$2:$D$8408,Sheet3!BF$3,Sheet4!$E$2:$E$8408,Sheet3!BF$4,Sheet4!$A$2:$A$8408,Sheet3!$B$1,Sheet4!$B$2:$B$8408,Sheet3!$A$3)","v":0},{"$f":"+SUMIFS(Sheet4!$FV$2:$FV$8408,Sheet4!$C$2:$C$8408,Sheet3!$B14,Sheet4!$D$2:$D$8408,Sheet3!BG$3,Sheet4!$E$2:$E$8408,Sheet3!BG$4,Sheet4!$A$2:$A$8408,Sheet3!$B$1,Sheet4!$B$2:$B$8408,Sheet3!$A$3)","v":52},{"$f":"+SUMIFS(Sheet4!$FV$2:$FV$8408,Sheet4!$C$2:$C$8408,Sheet3!$B14,Sheet4!$D$2:$D$8408,Sheet3!BH$3,Sheet4!$E$2:$E$8408,Sheet3!BH$4,Sheet4!$A$2:$A$8408,Sheet3!$B$1,Sheet4!$B$2:$B$8408,Sheet3!$A$3)","v":32},{"$f":"+SUMIFS(Sheet4!$FV$2:$FV$8408,Sheet4!$C$2:$C$8408,Sheet3!$B14,Sheet4!$D$2:$D$8408,Sheet3!BI$3,Sheet4!$E$2:$E$8408,Sheet3!BI$4,Sheet4!$A$2:$A$8408,Sheet3!$B$1,Sheet4!$B$2:$B$8408,Sheet3!$A$3)","v":4},{"$f":"+SUMIFS(Sheet4!$FV$2:$FV$8408,Sheet4!$C$2:$C$8408,Sheet3!$B14,Sheet4!$D$2:$D$8408,Sheet3!BJ$3,Sheet4!$E$2:$E$8408,Sheet3!BJ$4,Sheet4!$A$2:$A$8408,Sheet3!$B$1,Sheet4!$B$2:$B$8408,Sheet3!$A$3)","v":0},{"$f":"+SUMIFS(Sheet4!$FV$2:$FV$8408,Sheet4!$C$2:$C$8408,Sheet3!$B14,Sheet4!$D$2:$D$8408,Sheet3!BK$3,Sheet4!$E$2:$E$8408,Sheet3!BK$4,Sheet4!$A$2:$A$8408,Sheet3!$B$1,Sheet4!$B$2:$B$8408,Sheet3!$A$3)","v":0},{"$f":"+SUMIFS(Sheet4!$FV$2:$FV$8408,Sheet4!$C$2:$C$8408,Sheet3!$B14,Sheet4!$D$2:$D$8408,Sheet3!BL$3,Sheet4!$E$2:$E$8408,Sheet3!BL$4,Sheet4!$A$2:$A$8408,Sheet3!$B$1,Sheet4!$B$2:$B$8408,Sheet3!$A$3)","v":18},{"$f":"+SUMIFS(Sheet4!$FV$2:$FV$8408,Sheet4!$C$2:$C$8408,Sheet3!$B14,Sheet4!$D$2:$D$8408,Sheet3!BM$3,Sheet4!$E$2:$E$8408,Sheet3!BM$4,Sheet4!$A$2:$A$8408,Sheet3!$B$1,Sheet4!$B$2:$B$8408,Sheet3!$A$3)","v":5},{"$f":"+SUMIFS(Sheet4!$FV$2:$FV$8408,Sheet4!$C$2:$C$8408,Sheet3!$B14,Sheet4!$D$2:$D$8408,Sheet3!BN$3,Sheet4!$E$2:$E$8408,Sheet3!BN$4,Sheet4!$A$2:$A$8408,Sheet3!$B$1,Sheet4!$B$2:$B$8408,Sheet3!$A$3)","v":0},{"$f":"+SUMIFS(Sheet4!$FV$2:$FV$8408,Sheet4!$C$2:$C$8408,Sheet3!$B14,Sheet4!$D$2:$D$8408,Sheet3!BO$3,Sheet4!$E$2:$E$8408,Sheet3!BO$4,Sheet4!$A$2:$A$8408,Sheet3!$B$1,Sheet4!$B$2:$B$8408,Sheet3!$A$3)","v":0},{"$f":"+SUMIFS(Sheet4!$FV$2:$FV$8408,Sheet4!$C$2:$C$8408,Sheet3!$B14,Sheet4!$D$2:$D$8408,Sheet3!BP$3,Sheet4!$E$2:$E$8408,Sheet3!BP$4,Sheet4!$A$2:$A$8408,Sheet3!$B$1,Sheet4!$B$2:$B$8408,Sheet3!$A$3)","v":0},{"$f":"+SUMIFS(Sheet4!$FV$2:$FV$8408,Sheet4!$C$2:$C$8408,Sheet3!$B14,Sheet4!$D$2:$D$8408,Sheet3!BQ$3,Sheet4!$E$2:$E$8408,Sheet3!BQ$4,Sheet4!$A$2:$A$8408,Sheet3!$B$1,Sheet4!$B$2:$B$8408,Sheet3!$A$3)","v":133},{"$f":"+SUMIFS(Sheet4!$FV$2:$FV$8408,Sheet4!$C$2:$C$8408,Sheet3!$B14,Sheet4!$D$2:$D$8408,Sheet3!BR$3,Sheet4!$E$2:$E$8408,Sheet3!BR$4,Sheet4!$A$2:$A$8408,Sheet3!$B$1,Sheet4!$B$2:$B$8408,Sheet3!$A$3)","v":113},{"$f":"+SUMIFS(Sheet4!$FV$2:$FV$8408,Sheet4!$C$2:$C$8408,Sheet3!$B14,Sheet4!$D$2:$D$8408,Sheet3!BS$3,Sheet4!$E$2:$E$8408,Sheet3!BS$4,Sheet4!$A$2:$A$8408,Sheet3!$B$1,Sheet4!$B$2:$B$8408,Sheet3!$A$3)","v":18},{"$f":"+SUMIFS(Sheet4!$FV$2:$FV$8408,Sheet4!$C$2:$C$8408,Sheet3!$B14,Sheet4!$D$2:$D$8408,Sheet3!BT$3,Sheet4!$E$2:$E$8408,Sheet3!BT$4,Sheet4!$A$2:$A$8408,Sheet3!$B$1,Sheet4!$B$2:$B$8408,Sheet3!$A$3)","v":0},{"$f":"+SUMIFS(Sheet4!$FV$2:$FV$8408,Sheet4!$C$2:$C$8408,Sheet3!$B14,Sheet4!$D$2:$D$8408,Sheet3!BU$3,Sheet4!$E$2:$E$8408,Sheet3!BU$4,Sheet4!$A$2:$A$8408,Sheet3!$B$1,Sheet4!$B$2:$B$8408,Sheet3!$A$3)","v":0},{"$f":"+SUMIFS(Sheet4!$FV$2:$FV$8408,Sheet4!$C$2:$C$8408,Sheet3!$B14,Sheet4!$D$2:$D$8408,Sheet3!BV$3,Sheet4!$E$2:$E$8408,Sheet3!BV$4,Sheet4!$A$2:$A$8408,Sheet3!$B$1,Sheet4!$B$2:$B$8408,Sheet3!$A$3)","v":554},{"$f":"+SUMIFS(Sheet4!$FV$2:$FV$8408,Sheet4!$C$2:$C$8408,Sheet3!$B14,Sheet4!$D$2:$D$8408,Sheet3!BW$3,Sheet4!$E$2:$E$8408,Sheet3!BW$4,Sheet4!$A$2:$A$8408,Sheet3!$B$1,Sheet4!$B$2:$B$8408,Sheet3!$A$3)","v":233},{"$f":"+SUMIFS(Sheet4!$FV$2:$FV$8408,Sheet4!$C$2:$C$8408,Sheet3!$B14,Sheet4!$D$2:$D$8408,Sheet3!BX$3,Sheet4!$E$2:$E$8408,Sheet3!BX$4,Sheet4!$A$2:$A$8408,Sheet3!$B$1,Sheet4!$B$2:$B$8408,Sheet3!$A$3)","v":18},{"$f":"+SUMIFS(Sheet4!$FV$2:$FV$8408,Sheet4!$C$2:$C$8408,Sheet3!$B14,Sheet4!$D$2:$D$8408,Sheet3!BY$3,Sheet4!$E$2:$E$8408,Sheet3!BY$4,Sheet4!$A$2:$A$8408,Sheet3!$B$1,Sheet4!$B$2:$B$8408,Sheet3!$A$3)","v":0},{"$f":"+SUMIFS(Sheet4!$FV$2:$FV$8408,Sheet4!$C$2:$C$8408,Sheet3!$B14,Sheet4!$D$2:$D$8408,Sheet3!BZ$3,Sheet4!$E$2:$E$8408,Sheet3!BZ$4,Sheet4!$A$2:$A$8408,Sheet3!$B$1,Sheet4!$B$2:$B$8408,Sheet3!$A$3)","v":0},{"$f":"+SUMIFS(Sheet4!$FV$2:$FV$8408,Sheet4!$C$2:$C$8408,Sheet3!$B14,Sheet4!$D$2:$D$8408,Sheet3!CA$3,Sheet4!$E$2:$E$8408,Sheet3!CA$4,Sheet4!$A$2:$A$8408,Sheet3!$B$1,Sheet4!$B$2:$B$8408,Sheet3!$A$3)","v":322},{"$f":"+SUMIFS(Sheet4!$FV$2:$FV$8408,Sheet4!$C$2:$C$8408,Sheet3!$B14,Sheet4!$D$2:$D$8408,Sheet3!CB$3,Sheet4!$E$2:$E$8408,Sheet3!CB$4,Sheet4!$A$2:$A$8408,Sheet3!$B$1,Sheet4!$B$2:$B$8408,Sheet3!$A$3)","v":138},{"$f":"+SUMIFS(Sheet4!$FV$2:$FV$8408,Sheet4!$C$2:$C$8408,Sheet3!$B14,Sheet4!$D$2:$D$8408,Sheet3!CC$3,Sheet4!$E$2:$E$8408,Sheet3!CC$4,Sheet4!$A$2:$A$8408,Sheet3!$B$1,Sheet4!$B$2:$B$8408,Sheet3!$A$3)","v":16},{"$f":"+SUMIFS(Sheet4!$FV$2:$FV$8408,Sheet4!$C$2:$C$8408,Sheet3!$B14,Sheet4!$D$2:$D$8408,Sheet3!CD$3,Sheet4!$E$2:$E$8408,Sheet3!CD$4,Sheet4!$A$2:$A$8408,Sheet3!$B$1,Sheet4!$B$2:$B$8408,Sheet3!$A$3)","v":0},{"$f":"+SUMIFS(Sheet4!$FV$2:$FV$8408,Sheet4!$C$2:$C$8408,Sheet3!$B14,Sheet4!$D$2:$D$8408,Sheet3!CE$3,Sheet4!$E$2:$E$8408,Sheet3!CE$4,Sheet4!$A$2:$A$8408,Sheet3!$B$1,Sheet4!$B$2:$B$8408,Sheet3!$A$3)","v":0},{"$f":"+SUMIFS(Sheet4!$FV$2:$FV$8408,Sheet4!$C$2:$C$8408,Sheet3!$B14,Sheet4!$D$2:$D$8408,Sheet3!CF$3,Sheet4!$E$2:$E$8408,Sheet3!CF$4,Sheet4!$A$2:$A$8408,Sheet3!$B$1,Sheet4!$B$2:$B$8408,Sheet3!$A$3)","v":77},{"$f":"+SUMIFS(Sheet4!$FV$2:$FV$8408,Sheet4!$C$2:$C$8408,Sheet3!$B14,Sheet4!$D$2:$D$8408,Sheet3!CG$3,Sheet4!$E$2:$E$8408,Sheet3!CG$4,Sheet4!$A$2:$A$8408,Sheet3!$B$1,Sheet4!$B$2:$B$8408,Sheet3!$A$3)","v":15},{"$f":"+SUMIFS(Sheet4!$FV$2:$FV$8408,Sheet4!$C$2:$C$8408,Sheet3!$B14,Sheet4!$D$2:$D$8408,Sheet3!CH$3,Sheet4!$E$2:$E$8408,Sheet3!CH$4,Sheet4!$A$2:$A$8408,Sheet3!$B$1,Sheet4!$B$2:$B$8408,Sheet3!$A$3)","v":0},{"$f":"+SUMIFS(Sheet4!$FV$2:$FV$8408,Sheet4!$C$2:$C$8408,Sheet3!$B14,Sheet4!$D$2:$D$8408,Sheet3!CI$3,Sheet4!$E$2:$E$8408,Sheet3!CI$4,Sheet4!$A$2:$A$8408,Sheet3!$B$1,Sheet4!$B$2:$B$8408,Sheet3!$A$3)","v":0},{"$f":"+SUMIFS(Sheet4!$FV$2:$FV$8408,Sheet4!$C$2:$C$8408,Sheet3!$B14,Sheet4!$D$2:$D$8408,Sheet3!CJ$3,Sheet4!$E$2:$E$8408,Sheet3!CJ$4,Sheet4!$A$2:$A$8408,Sheet3!$B$1,Sheet4!$B$2:$B$8408,Sheet3!$A$3)","v":0},{"$f":"+SUMIFS(Sheet4!$FV$2:$FV$8408,Sheet4!$C$2:$C$8408,Sheet3!$B14,Sheet4!$D$2:$D$8408,Sheet3!CK$3,Sheet4!$E$2:$E$8408,Sheet3!CK$4,Sheet4!$A$2:$A$8408,Sheet3!$B$1,Sheet4!$B$2:$B$8408,Sheet3!$A$3)","v":0},{"$f":"+SUMIFS(Sheet4!$FV$2:$FV$8408,Sheet4!$C$2:$C$8408,Sheet3!$B14,Sheet4!$D$2:$D$8408,Sheet3!CL$3,Sheet4!$E$2:$E$8408,Sheet3!CL$4,Sheet4!$A$2:$A$8408,Sheet3!$B$1,Sheet4!$B$2:$B$8408,Sheet3!$A$3)","v":0},{"$f":"+SUMIFS(Sheet4!$FV$2:$FV$8408,Sheet4!$C$2:$C$8408,Sheet3!$B14,Sheet4!$D$2:$D$8408,Sheet3!CM$3,Sheet4!$E$2:$E$8408,Sheet3!CM$4,Sheet4!$A$2:$A$8408,Sheet3!$B$1,Sheet4!$B$2:$B$8408,Sheet3!$A$3)","v":0},{"$f":"+SUMIFS(Sheet4!$FV$2:$FV$8408,Sheet4!$C$2:$C$8408,Sheet3!$B14,Sheet4!$D$2:$D$8408,Sheet3!CN$3,Sheet4!$E$2:$E$8408,Sheet3!CN$4,Sheet4!$A$2:$A$8408,Sheet3!$B$1,Sheet4!$B$2:$B$8408,Sheet3!$A$3)","v":0},{"$f":"+SUMIFS(Sheet4!$FV$2:$FV$8408,Sheet4!$C$2:$C$8408,Sheet3!$B14,Sheet4!$D$2:$D$8408,Sheet3!CO$3,Sheet4!$E$2:$E$8408,Sheet3!CO$4,Sheet4!$A$2:$A$8408,Sheet3!$B$1,Sheet4!$B$2:$B$8408,Sheet3!$A$3)","v":0},{"$f":"+SUMIFS(Sheet4!$FV$2:$FV$8408,Sheet4!$C$2:$C$8408,Sheet3!$B14,Sheet4!$D$2:$D$8408,Sheet3!CP$3,Sheet4!$E$2:$E$8408,Sheet3!CP$4,Sheet4!$A$2:$A$8408,Sheet3!$B$1,Sheet4!$B$2:$B$8408,Sheet3!$A$3)","v":31},{"$f":"+SUMIFS(Sheet4!$FV$2:$FV$8408,Sheet4!$C$2:$C$8408,Sheet3!$B14,Sheet4!$D$2:$D$8408,Sheet3!CQ$3,Sheet4!$E$2:$E$8408,Sheet3!CQ$4,Sheet4!$A$2:$A$8408,Sheet3!$B$1,Sheet4!$B$2:$B$8408,Sheet3!$A$3)","v":0},{"$f":"+SUMIFS(Sheet4!$FV$2:$FV$8408,Sheet4!$C$2:$C$8408,Sheet3!$B14,Sheet4!$D$2:$D$8408,Sheet3!CR$3,Sheet4!$E$2:$E$8408,Sheet3!CR$4,Sheet4!$A$2:$A$8408,Sheet3!$B$1,Sheet4!$B$2:$B$8408,Sheet3!$A$3)","v":0},{"$f":"+SUMIFS(Sheet4!$FV$2:$FV$8408,Sheet4!$C$2:$C$8408,Sheet3!$B14,Sheet4!$D$2:$D$8408,Sheet3!CS$3,Sheet4!$E$2:$E$8408,Sheet3!CS$4,Sheet4!$A$2:$A$8408,Sheet3!$B$1,Sheet4!$B$2:$B$8408,Sheet3!$A$3)","v":0},{"$f":"+SUMIFS(Sheet4!$FV$2:$FV$8408,Sheet4!$C$2:$C$8408,Sheet3!$B14,Sheet4!$D$2:$D$8408,Sheet3!CT$3,Sheet4!$E$2:$E$8408,Sheet3!CT$4,Sheet4!$A$2:$A$8408,Sheet3!$B$1,Sheet4!$B$2:$B$8408,Sheet3!$A$3)","v":0},{"$f":"+IF(SUMIFS(Sheet4!$FW$2:$FW$8408,Sheet4!$C$2:$C$8408,Sheet3!$B14,Sheet4!$D$2:$D$8408,Sheet3!CU$3,Sheet4!$A$2:$A$8408,Sheet3!$B$1,Sheet4!$B$2:$B$8408,Sheet3!$A$3)<3,0,SUMIFS(Sheet4!$FW$2:$FW$8408,Sheet4!$C$2:$C$8408,Sheet3!$B14,Sheet4!$D$2:$D$8408,Sheet3!CU$3,Sheet4!$A$2:$A$8408,Sheet3!$B$1,Sheet4!$B$2:$B$8408,Sheet3!$A$3))","v":7},{"$f":"+IF(SUMIFS(Sheet4!$FW$2:$FW$8408,Sheet4!$C$2:$C$8408,Sheet3!$B14,Sheet4!$D$2:$D$8408,Sheet3!CV$3,Sheet4!$A$2:$A$8408,Sheet3!$B$1,Sheet4!$B$2:$B$8408,Sheet3!$A$3)<3,0,SUMIFS(Sheet4!$FW$2:$FW$8408,Sheet4!$C$2:$C$8408,Sheet3!$B14,Sheet4!$D$2:$D$8408,Sheet3!CV$3,Sheet4!$A$2:$A$8408,Sheet3!$B$1,Sheet4!$B$2:$B$8408,Sheet3!$A$3))","v":22},{"$f":"+IF(SUMIFS(Sheet4!$FW$2:$FW$8408,Sheet4!$C$2:$C$8408,Sheet3!$B14,Sheet4!$D$2:$D$8408,Sheet3!CW$3,Sheet4!$A$2:$A$8408,Sheet3!$B$1,Sheet4!$B$2:$B$8408,Sheet3!$A$3)<3,0,SUMIFS(Sheet4!$FW$2:$FW$8408,Sheet4!$C$2:$C$8408,Sheet3!$B14,Sheet4!$D$2:$D$8408,Sheet3!CW$3,Sheet4!$A$2:$A$8408,Sheet3!$B$1,Sheet4!$B$2:$B$8408,Sheet3!$A$3))","v":171},{"$f":"+IF(SUMIFS(Sheet4!$FW$2:$FW$8408,Sheet4!$C$2:$C$8408,Sheet3!$B14,Sheet4!$D$2:$D$8408,Sheet3!CX$3,Sheet4!$A$2:$A$8408,Sheet3!$B$1,Sheet4!$B$2:$B$8408,Sheet3!$A$3)<3,0,SUMIFS(Sheet4!$FW$2:$FW$8408,Sheet4!$C$2:$C$8408,Sheet3!$B14,Sheet4!$D$2:$D$8408,Sheet3!CX$3,Sheet4!$A$2:$A$8408,Sheet3!$B$1,Sheet4!$B$2:$B$8408,Sheet3!$A$3))","v":0},{"$f":"+IF(SUMIFS(Sheet4!$FW$2:$FW$8408,Sheet4!$C$2:$C$8408,Sheet3!$B14,Sheet4!$D$2:$D$8408,Sheet3!CY$3,Sheet4!$A$2:$A$8408,Sheet3!$B$1,Sheet4!$B$2:$B$8408,Sheet3!$A$3)<3,0,SUMIFS(Sheet4!$FW$2:$FW$8408,Sheet4!$C$2:$C$8408,Sheet3!$B14,Sheet4!$D$2:$D$8408,Sheet3!CY$3,Sheet4!$A$2:$A$8408,Sheet3!$B$1,Sheet4!$B$2:$B$8408,Sheet3!$A$3))","v":4},{"$f":"+IF(SUMIFS(Sheet4!$FW$2:$FW$8408,Sheet4!$C$2:$C$8408,Sheet3!$B14,Sheet4!$D$2:$D$8408,Sheet3!CZ$3,Sheet4!$A$2:$A$8408,Sheet3!$B$1,Sheet4!$B$2:$B$8408,Sheet3!$A$3)<3,0,SUMIFS(Sheet4!$FW$2:$FW$8408,Sheet4!$C$2:$C$8408,Sheet3!$B14,Sheet4!$D$2:$D$8408,Sheet3!CZ$3,Sheet4!$A$2:$A$8408,Sheet3!$B$1,Sheet4!$B$2:$B$8408,Sheet3!$A$3))","v":1842},{"$f":"+IF(SUMIFS(Sheet4!$FW$2:$FW$8408,Sheet4!$C$2:$C$8408,Sheet3!$B14,Sheet4!$D$2:$D$8408,Sheet3!DA$3,Sheet4!$A$2:$A$8408,Sheet3!$B$1,Sheet4!$B$2:$B$8408,Sheet3!$A$3)<3,0,SUMIFS(Sheet4!$FW$2:$FW$8408,Sheet4!$C$2:$C$8408,Sheet3!$B14,Sheet4!$D$2:$D$8408,Sheet3!DA$3,Sheet4!$A$2:$A$8408,Sheet3!$B$1,Sheet4!$B$2:$B$8408,Sheet3!$A$3))","v":5794},{"$f":"+IF(SUMIFS(Sheet4!$FW$2:$FW$8408,Sheet4!$C$2:$C$8408,Sheet3!$B14,Sheet4!$D$2:$D$8408,Sheet3!DB$3,Sheet4!$A$2:$A$8408,Sheet3!$B$1,Sheet4!$B$2:$B$8408,Sheet3!$A$3)<3,0,SUMIFS(Sheet4!$FW$2:$FW$8408,Sheet4!$C$2:$C$8408,Sheet3!$B14,Sheet4!$D$2:$D$8408,Sheet3!DB$3,Sheet4!$A$2:$A$8408,Sheet3!$B$1,Sheet4!$B$2:$B$8408,Sheet3!$A$3))","v":1741},{"$f":"+IF(SUMIFS(Sheet4!$FW$2:$FW$8408,Sheet4!$C$2:$C$8408,Sheet3!$B14,Sheet4!$D$2:$D$8408,Sheet3!DC$3,Sheet4!$A$2:$A$8408,Sheet3!$B$1,Sheet4!$B$2:$B$8408,Sheet3!$A$3)<3,0,SUMIFS(Sheet4!$FW$2:$FW$8408,Sheet4!$C$2:$C$8408,Sheet3!$B14,Sheet4!$D$2:$D$8408,Sheet3!DC$3,Sheet4!$A$2:$A$8408,Sheet3!$B$1,Sheet4!$B$2:$B$8408,Sheet3!$A$3))","v":674},{"$f":"+IF(SUMIFS(Sheet4!$FW$2:$FW$8408,Sheet4!$C$2:$C$8408,Sheet3!$B14,Sheet4!$D$2:$D$8408,Sheet3!DD$3,Sheet4!$A$2:$A$8408,Sheet3!$B$1,Sheet4!$B$2:$B$8408,Sheet3!$A$3)<3,0,SUMIFS(Sheet4!$FW$2:$FW$8408,Sheet4!$C$2:$C$8408,Sheet3!$B14,Sheet4!$D$2:$D$8408,Sheet3!DD$3,Sheet4!$A$2:$A$8408,Sheet3!$B$1,Sheet4!$B$2:$B$8408,Sheet3!$A$3))","v":8230},{"$f":"+IF(SUMIFS(Sheet4!$FW$2:$FW$8408,Sheet4!$C$2:$C$8408,Sheet3!$B14,Sheet4!$D$2:$D$8408,Sheet3!DE$3,Sheet4!$A$2:$A$8408,Sheet3!$B$1,Sheet4!$B$2:$B$8408,Sheet3!$A$3)<3,0,SUMIFS(Sheet4!$FW$2:$FW$8408,Sheet4!$C$2:$C$8408,Sheet3!$B14,Sheet4!$D$2:$D$8408,Sheet3!DE$3,Sheet4!$A$2:$A$8408,Sheet3!$B$1,Sheet4!$B$2:$B$8408,Sheet3!$A$3))","v":59},{"$f":"+IF(SUMIFS(Sheet4!$FW$2:$FW$8408,Sheet4!$C$2:$C$8408,Sheet3!$B14,Sheet4!$D$2:$D$8408,Sheet3!DF$3,Sheet4!$A$2:$A$8408,Sheet3!$B$1,Sheet4!$B$2:$B$8408,Sheet3!$A$3)<3,0,SUMIFS(Sheet4!$FW$2:$FW$8408,Sheet4!$C$2:$C$8408,Sheet3!$B14,Sheet4!$D$2:$D$8408,Sheet3!DF$3,Sheet4!$A$2:$A$8408,Sheet3!$B$1,Sheet4!$B$2:$B$8408,Sheet3!$A$3))","v":93},{"$f":"+IF(SUMIFS(Sheet4!$FW$2:$FW$8408,Sheet4!$C$2:$C$8408,Sheet3!$B14,Sheet4!$D$2:$D$8408,Sheet3!DG$3,Sheet4!$A$2:$A$8408,Sheet3!$B$1,Sheet4!$B$2:$B$8408,Sheet3!$A$3)<3,0,SUMIFS(Sheet4!$FW$2:$FW$8408,Sheet4!$C$2:$C$8408,Sheet3!$B14,Sheet4!$D$2:$D$8408,Sheet3!DG$3,Sheet4!$A$2:$A$8408,Sheet3!$B$1,Sheet4!$B$2:$B$8408,Sheet3!$A$3))","v":25},{"$f":"+IF(SUMIFS(Sheet4!$FW$2:$FW$8408,Sheet4!$C$2:$C$8408,Sheet3!$B14,Sheet4!$D$2:$D$8408,Sheet3!DH$3,Sheet4!$A$2:$A$8408,Sheet3!$B$1,Sheet4!$B$2:$B$8408,Sheet3!$A$3)<3,0,SUMIFS(Sheet4!$FW$2:$FW$8408,Sheet4!$C$2:$C$8408,Sheet3!$B14,Sheet4!$D$2:$D$8408,Sheet3!DH$3,Sheet4!$A$2:$A$8408,Sheet3!$B$1,Sheet4!$B$2:$B$8408,Sheet3!$A$3))","v":266},{"$f":"+IF(SUMIFS(Sheet4!$FW$2:$FW$8408,Sheet4!$C$2:$C$8408,Sheet3!$B14,Sheet4!$D$2:$D$8408,Sheet3!DI$3,Sheet4!$A$2:$A$8408,Sheet3!$B$1,Sheet4!$B$2:$B$8408,Sheet3!$A$3)<3,0,SUMIFS(Sheet4!$FW$2:$FW$8408,Sheet4!$C$2:$C$8408,Sheet3!$B14,Sheet4!$D$2:$D$8408,Sheet3!DI$3,Sheet4!$A$2:$A$8408,Sheet3!$B$1,Sheet4!$B$2:$B$8408,Sheet3!$A$3))","v":806},{"$f":"+IF(SUMIFS(Sheet4!$FW$2:$FW$8408,Sheet4!$C$2:$C$8408,Sheet3!$B14,Sheet4!$D$2:$D$8408,Sheet3!DJ$3,Sheet4!$A$2:$A$8408,Sheet3!$B$1,Sheet4!$B$2:$B$8408,Sheet3!$A$3)<3,0,SUMIFS(Sheet4!$FW$2:$FW$8408,Sheet4!$C$2:$C$8408,Sheet3!$B14,Sheet4!$D$2:$D$8408,Sheet3!DJ$3,Sheet4!$A$2:$A$8408,Sheet3!$B$1,Sheet4!$B$2:$B$8408,Sheet3!$A$3))","v":478},{"$f":"+IF(SUMIFS(Sheet4!$FW$2:$FW$8408,Sheet4!$C$2:$C$8408,Sheet3!$B14,Sheet4!$D$2:$D$8408,Sheet3!DK$3,Sheet4!$A$2:$A$8408,Sheet3!$B$1,Sheet4!$B$2:$B$8408,Sheet3!$A$3)<3,0,SUMIFS(Sheet4!$FW$2:$FW$8408,Sheet4!$C$2:$C$8408,Sheet3!$B14,Sheet4!$D$2:$D$8408,Sheet3!DK$3,Sheet4!$A$2:$A$8408,Sheet3!$B$1,Sheet4!$B$2:$B$8408,Sheet3!$A$3))","v":98},{"$f":"+IF(SUMIFS(Sheet4!$FW$2:$FW$8408,Sheet4!$C$2:$C$8408,Sheet3!$B14,Sheet4!$D$2:$D$8408,Sheet3!DL$3,Sheet4!$A$2:$A$8408,Sheet3!$B$1,Sheet4!$B$2:$B$8408,Sheet3!$A$3)<3,0,SUMIFS(Sheet4!$FW$2:$FW$8408,Sheet4!$C$2:$C$8408,Sheet3!$B14,Sheet4!$D$2:$D$8408,Sheet3!DL$3,Sheet4!$A$2:$A$8408,Sheet3!$B$1,Sheet4!$B$2:$B$8408,Sheet3!$A$3))","v":0},{"$f":"+IF(SUMIFS(Sheet4!$FW$2:$FW$8408,Sheet4!$C$2:$C$8408,Sheet3!$B14,Sheet4!$D$2:$D$8408,Sheet3!DM$3,Sheet4!$A$2:$A$8408,Sheet3!$B$1,Sheet4!$B$2:$B$8408,Sheet3!$A$3)<3,0,SUMIFS(Sheet4!$FW$2:$FW$8408,Sheet4!$C$2:$C$8408,Sheet3!$B14,Sheet4!$D$2:$D$8408,Sheet3!DM$3,Sheet4!$A$2:$A$8408,Sheet3!$B$1,Sheet4!$B$2:$B$8408,Sheet3!$A$3))","v":33},{"$f":"+IF(SUMIFS(Sheet4!$FW$2:$FW$8408,Sheet4!$C$2:$C$8408,Sheet3!$B14,Sheet4!$E$2:$E$8408,Sheet3!DN$4,Sheet4!$A$2:$A$8408,Sheet3!$B$1,Sheet4!$B$2:$B$8408,Sheet3!$A$3)<3,0,SUMIFS(Sheet4!$FW$2:$FW$8408,Sheet4!$C$2:$C$8408,Sheet3!$B14,Sheet4!$E$2:$E$8408,Sheet3!DN$4,Sheet4!$A$2:$A$8408,Sheet3!$B$1,Sheet4!$B$2:$B$8408,Sheet3!$A$3))","v":15004},{"$f":"+IF(SUMIFS(Sheet4!$FW$2:$FW$8408,Sheet4!$C$2:$C$8408,Sheet3!$B14,Sheet4!$E$2:$E$8408,Sheet3!DO$4,Sheet4!$A$2:$A$8408,Sheet3!$B$1,Sheet4!$B$2:$B$8408,Sheet3!$A$3)<3,0,SUMIFS(Sheet4!$FW$2:$FW$8408,Sheet4!$C$2:$C$8408,Sheet3!$B14,Sheet4!$E$2:$E$8408,Sheet3!DO$4,Sheet4!$A$2:$A$8408,Sheet3!$B$1,Sheet4!$B$2:$B$8408,Sheet3!$A$3))","v":4796},{"$f":"+IF(SUMIFS(Sheet4!$FW$2:$FW$8408,Sheet4!$C$2:$C$8408,Sheet3!$B14,Sheet4!$E$2:$E$8408,Sheet3!DP$4,Sheet4!$A$2:$A$8408,Sheet3!$B$1,Sheet4!$B$2:$B$8408,Sheet3!$A$3)<3,0,SUMIFS(Sheet4!$FW$2:$FW$8408,Sheet4!$C$2:$C$8408,Sheet3!$B14,Sheet4!$E$2:$E$8408,Sheet3!DP$4,Sheet4!$A$2:$A$8408,Sheet3!$B$1,Sheet4!$B$2:$B$8408,Sheet3!$A$3))","v":532},{"$f":"+IF(SUMIFS(Sheet4!$FW$2:$FW$8408,Sheet4!$C$2:$C$8408,Sheet3!$B14,Sheet4!$E$2:$E$8408,Sheet3!DQ$4,Sheet4!$A$2:$A$8408,Sheet3!$B$1,Sheet4!$B$2:$B$8408,Sheet3!$A$3)<3,0,SUMIFS(Sheet4!$FW$2:$FW$8408,Sheet4!$C$2:$C$8408,Sheet3!$B14,Sheet4!$E$2:$E$8408,Sheet3!DQ$4,Sheet4!$A$2:$A$8408,Sheet3!$B$1,Sheet4!$B$2:$B$8408,Sheet3!$A$3))","v":11},{"$f":"+IF(SUMIFS(Sheet4!$FW$2:$FW$8408,Sheet4!$C$2:$C$8408,Sheet3!$B14,Sheet4!$E$2:$E$8408,Sheet3!DR$4,Sheet4!$A$2:$A$8408,Sheet3!$B$1,Sheet4!$B$2:$B$8408,Sheet3!$A$3)<3,0,SUMIFS(Sheet4!$FW$2:$FW$8408,Sheet4!$C$2:$C$8408,Sheet3!$B14,Sheet4!$E$2:$E$8408,Sheet3!DR$4,Sheet4!$A$2:$A$8408,Sheet3!$B$1,Sheet4!$B$2:$B$8408,Sheet3!$A$3))","v":0}]
[3,"11E","Terras de Trás-os-Montes",{"$f":"+SUMIFS(Sheet4!$FV$2:$FV$8408,Sheet4!$C$2:$C$8408,Sheet3!$B15,Sheet4!$D$2:$D$8408,Sheet3!D$3,Sheet4!$E$2:$E$8408,Sheet3!D$4,Sheet4!$A$2:$A$8408,Sheet3!$B$1,Sheet4!$B$2:$B$8408,Sheet3!$A$3)","v":53},{"$f":"+SUMIFS(Sheet4!$FV$2:$FV$8408,Sheet4!$C$2:$C$8408,Sheet3!$B15,Sheet4!$D$2:$D$8408,Sheet3!E$3,Sheet4!$E$2:$E$8408,Sheet3!E$4,Sheet4!$A$2:$A$8408,Sheet3!$B$1,Sheet4!$B$2:$B$8408,Sheet3!$A$3)","v":16},{"$f":"+SUMIFS(Sheet4!$FV$2:$FV$8408,Sheet4!$C$2:$C$8408,Sheet3!$B15,Sheet4!$D$2:$D$8408,Sheet3!F$3,Sheet4!$E$2:$E$8408,Sheet3!F$4,Sheet4!$A$2:$A$8408,Sheet3!$B$1,Sheet4!$B$2:$B$8408,Sheet3!$A$3)","v":4},{"$f":"+SUMIFS(Sheet4!$FV$2:$FV$8408,Sheet4!$C$2:$C$8408,Sheet3!$B15,Sheet4!$D$2:$D$8408,Sheet3!G$3,Sheet4!$E$2:$E$8408,Sheet3!G$4,Sheet4!$A$2:$A$8408,Sheet3!$B$1,Sheet4!$B$2:$B$8408,Sheet3!$A$3)","v":0},{"$f":"+SUMIFS(Sheet4!$FV$2:$FV$8408,Sheet4!$C$2:$C$8408,Sheet3!$B15,Sheet4!$D$2:$D$8408,Sheet3!H$3,Sheet4!$E$2:$E$8408,Sheet3!H$4,Sheet4!$A$2:$A$8408,Sheet3!$B$1,Sheet4!$B$2:$B$8408,Sheet3!$A$3)","v":0},{"$f":"+SUMIFS(Sheet4!$FV$2:$FV$8408,Sheet4!$C$2:$C$8408,Sheet3!$B15,Sheet4!$D$2:$D$8408,Sheet3!I$3,Sheet4!$E$2:$E$8408,Sheet3!I$4,Sheet4!$A$2:$A$8408,Sheet3!$B$1,Sheet4!$B$2:$B$8408,Sheet3!$A$3)","v":4},{"$f":"+SUMIFS(Sheet4!$FV$2:$FV$8408,Sheet4!$C$2:$C$8408,Sheet3!$B15,Sheet4!$D$2:$D$8408,Sheet3!J$3,Sheet4!$E$2:$E$8408,Sheet3!J$4,Sheet4!$A$2:$A$8408,Sheet3!$B$1,Sheet4!$B$2:$B$8408,Sheet3!$A$3)","v":3},{"$f":"+SUMIFS(Sheet4!$FV$2:$FV$8408,Sheet4!$C$2:$C$8408,Sheet3!$B15,Sheet4!$D$2:$D$8408,Sheet3!K$3,Sheet4!$E$2:$E$8408,Sheet3!K$4,Sheet4!$A$2:$A$8408,Sheet3!$B$1,Sheet4!$B$2:$B$8408,Sheet3!$A$3)","v":0},{"$f":"+SUMIFS(Sheet4!$FV$2:$FV$8408,Sheet4!$C$2:$C$8408,Sheet3!$B15,Sheet4!$D$2:$D$8408,Sheet3!L$3,Sheet4!$E$2:$E$8408,Sheet3!L$4,Sheet4!$A$2:$A$8408,Sheet3!$B$1,Sheet4!$B$2:$B$8408,Sheet3!$A$3)","v":0},{"$f":"+SUMIFS(Sheet4!$FV$2:$FV$8408,Sheet4!$C$2:$C$8408,Sheet3!$B15,Sheet4!$D$2:$D$8408,Sheet3!M$3,Sheet4!$E$2:$E$8408,Sheet3!M$4,Sheet4!$A$2:$A$8408,Sheet3!$B$1,Sheet4!$B$2:$B$8408,Sheet3!$A$3)","v":0},{"$f":"+SUMIFS(Sheet4!$FV$2:$FV$8408,Sheet4!$C$2:$C$8408,Sheet3!$B15,Sheet4!$D$2:$D$8408,Sheet3!N$3,Sheet4!$E$2:$E$8408,Sheet3!N$4,Sheet4!$A$2:$A$8408,Sheet3!$B$1,Sheet4!$B$2:$B$8408,Sheet3!$A$3)","v":367},{"$f":"+SUMIFS(Sheet4!$FV$2:$FV$8408,Sheet4!$C$2:$C$8408,Sheet3!$B15,Sheet4!$D$2:$D$8408,Sheet3!O$3,Sheet4!$E$2:$E$8408,Sheet3!O$4,Sheet4!$A$2:$A$8408,Sheet3!$B$1,Sheet4!$B$2:$B$8408,Sheet3!$A$3)","v":329},{"$f":"+SUMIFS(Sheet4!$FV$2:$FV$8408,Sheet4!$C$2:$C$8408,Sheet3!$B15,Sheet4!$D$2:$D$8408,Sheet3!P$3,Sheet4!$E$2:$E$8408,Sheet3!P$4,Sheet4!$A$2:$A$8408,Sheet3!$B$1,Sheet4!$B$2:$B$8408,Sheet3!$A$3)","v":27},{"$f":"+SUMIFS(Sheet4!$FV$2:$FV$8408,Sheet4!$C$2:$C$8408,Sheet3!$B15,Sheet4!$D$2:$D$8408,Sheet3!Q$3,Sheet4!$E$2:$E$8408,Sheet3!Q$4,Sheet4!$A$2:$A$8408,Sheet3!$B$1,Sheet4!$B$2:$B$8408,Sheet3!$A$3)","v":0},{"$f":"+SUMIFS(Sheet4!$FV$2:$FV$8408,Sheet4!$C$2:$C$8408,Sheet3!$B15,Sheet4!$D$2:$D$8408,Sheet3!R$3,Sheet4!$E$2:$E$8408,Sheet3!R$4,Sheet4!$A$2:$A$8408,Sheet3!$B$1,Sheet4!$B$2:$B$8408,Sheet3!$A$3)","v":0},{"$f":"+SUMIFS(Sheet4!$FV$2:$FV$8408,Sheet4!$C$2:$C$8408,Sheet3!$B15,Sheet4!$D$2:$D$8408,Sheet3!S$3,Sheet4!$E$2:$E$8408,Sheet3!S$4,Sheet4!$A$2:$A$8408,Sheet3!$B$1,Sheet4!$B$2:$B$8408,Sheet3!$A$3)","v":0},{"$f":"+SUMIFS(Sheet4!$FV$2:$FV$8408,Sheet4!$C$2:$C$8408,Sheet3!$B15,Sheet4!$D$2:$D$8408,Sheet3!T$3,Sheet4!$E$2:$E$8408,Sheet3!T$4,Sheet4!$A$2:$A$8408,Sheet3!$B$1,Sheet4!$B$2:$B$8408,Sheet3!$A$3)","v":0},{"$f":"+SUMIFS(Sheet4!$FV$2:$FV$8408,Sheet4!$C$2:$C$8408,Sheet3!$B15,Sheet4!$D$2:$D$8408,Sheet3!U$3,Sheet4!$E$2:$E$8408,Sheet3!U$4,Sheet4!$A$2:$A$8408,Sheet3!$B$1,Sheet4!$B$2:$B$8408,Sheet3!$A$3)","v":0},{"$f":"+SUMIFS(Sheet4!$FV$2:$FV$8408,Sheet4!$C$2:$C$8408,Sheet3!$B15,Sheet4!$D$2:$D$8408,Sheet3!V$3,Sheet4!$E$2:$E$8408,Sheet3!V$4,Sheet4!$A$2:$A$8408,Sheet3!$B$1,Sheet4!$B$2:$B$8408,Sheet3!$A$3)","v":0},{"$f":"+SUMIFS(Sheet4!$FV$2:$FV$8408,Sheet4!$C$2:$C$8408,Sheet3!$B15,Sheet4!$D$2:$D$8408,Sheet3!W$3,Sheet4!$E$2:$E$8408,Sheet3!W$4,Sheet4!$A$2:$A$8408,Sheet3!$B$1,Sheet4!$B$2:$B$8408,Sheet3!$A$3)","v":0},{"$f":"+SUMIFS(Sheet4!$FV$2:$FV$8408,Sheet4!$C$2:$C$8408,Sheet3!$B15,Sheet4!$D$2:$D$8408,Sheet3!X$3,Sheet4!$E$2:$E$8408,Sheet3!X$4,Sheet4!$A$2:$A$8408,Sheet3!$B$1,Sheet4!$B$2:$B$8408,Sheet3!$A$3)","v":4},{"$f":"+SUMIFS(Sheet4!$FV$2:$FV$8408,Sheet4!$C$2:$C$8408,Sheet3!$B15,Sheet4!$D$2:$D$8408,Sheet3!Y$3,Sheet4!$E$2:$E$8408,Sheet3!Y$4,Sheet4!$A$2:$A$8408,Sheet3!$B$1,Sheet4!$B$2:$B$8408,Sheet3!$A$3)","v":5},{"$f":"+SUMIFS(Sheet4!$FV$2:$FV$8408,Sheet4!$C$2:$C$8408,Sheet3!$B15,Sheet4!$D$2:$D$8408,Sheet3!Z$3,Sheet4!$E$2:$E$8408,Sheet3!Z$4,Sheet4!$A$2:$A$8408,Sheet3!$B$1,Sheet4!$B$2:$B$8408,Sheet3!$A$3)","v":0},{"$f":"+SUMIFS(Sheet4!$FV$2:$FV$8408,Sheet4!$C$2:$C$8408,Sheet3!$B15,Sheet4!$D$2:$D$8408,Sheet3!AA$3,Sheet4!$E$2:$E$8408,Sheet3!AA$4,Sheet4!$A$2:$A$8408,Sheet3!$B$1,Sheet4!$B$2:$B$8408,Sheet3!$A$3)","v":0},{"$f":"+SUMIFS(Sheet4!$FV$2:$FV$8408,Sheet4!$C$2:$C$8408,Sheet3!$B15,Sheet4!$D$2:$D$8408,Sheet3!AB$3,Sheet4!$E$2:$E$8408,Sheet3!AB$4,Sheet4!$A$2:$A$8408,Sheet3!$B$1,Sheet4!$B$2:$B$8408,Sheet3!$A$3)","v":0},{"$f":"+SUMIFS(Sheet4!$FV$2:$FV$8408,Sheet4!$C$2:$C$8408,Sheet3!$B15,Sheet4!$D$2:$D$8408,Sheet3!AC$3,Sheet4!$E$2:$E$8408,Sheet3!AC$4,Sheet4!$A$2:$A$8408,Sheet3!$B$1,Sheet4!$B$2:$B$8408,Sheet3!$A$3)","v":3232},{"$f":"+SUMIFS(Sheet4!$FV$2:$FV$8408,Sheet4!$C$2:$C$8408,Sheet3!$B15,Sheet4!$D$2:$D$8408,Sheet3!AD$3,Sheet4!$E$2:$E$8408,Sheet3!AD$4,Sheet4!$A$2:$A$8408,Sheet3!$B$1,Sheet4!$B$2:$B$8408,Sheet3!$A$3)","v":1637},{"$f":"+SUMIFS(Sheet4!$FV$2:$FV$8408,Sheet4!$C$2:$C$8408,Sheet3!$B15,Sheet4!$D$2:$D$8408,Sheet3!AE$3,Sheet4!$E$2:$E$8408,Sheet3!AE$4,Sheet4!$A$2:$A$8408,Sheet3!$B$1,Sheet4!$B$2:$B$8408,Sheet3!$A$3)","v":174},{"$f":"+SUMIFS(Sheet4!$FV$2:$FV$8408,Sheet4!$C$2:$C$8408,Sheet3!$B15,Sheet4!$D$2:$D$8408,Sheet3!AF$3,Sheet4!$E$2:$E$8408,Sheet3!AF$4,Sheet4!$A$2:$A$8408,Sheet3!$B$1,Sheet4!$B$2:$B$8408,Sheet3!$A$3)","v":0},{"$f":"+SUMIFS(Sheet4!$FV$2:$FV$8408,Sheet4!$C$2:$C$8408,Sheet3!$B15,Sheet4!$D$2:$D$8408,Sheet3!AG$3,Sheet4!$E$2:$E$8408,Sheet3!AG$4,Sheet4!$A$2:$A$8408,Sheet3!$B$1,Sheet4!$B$2:$B$8408,Sheet3!$A$3)","v":0},{"$f":"+SUMIFS(Sheet4!$FV$2:$FV$8408,Sheet4!$C$2:$C$8408,Sheet3!$B15,Sheet4!$D$2:$D$8408,Sheet3!AH$3,Sheet4!$E$2:$E$8408,Sheet3!AH$4,Sheet4!$A$2:$A$8408,Sheet3!$B$1,Sheet4!$B$2:$B$8408,Sheet3!$A$3)","v":119},{"$f":"+SUMIFS(Sheet4!$FV$2:$FV$8408,Sheet4!$C$2:$C$8408,Sheet3!$B15,Sheet4!$D$2:$D$8408,Sheet3!AI$3,Sheet4!$E$2:$E$8408,Sheet3!AI$4,Sheet4!$A$2:$A$8408,Sheet3!$B$1,Sheet4!$B$2:$B$8408,Sheet3!$A$3)","v":68},{"$f":"+SUMIFS(Sheet4!$FV$2:$FV$8408,Sheet4!$C$2:$C$8408,Sheet3!$B15,Sheet4!$D$2:$D$8408,Sheet3!AJ$3,Sheet4!$E$2:$E$8408,Sheet3!AJ$4,Sheet4!$A$2:$A$8408,Sheet3!$B$1,Sheet4!$B$2:$B$8408,Sheet3!$A$3)","v":10},{"$f":"+SUMIFS(Sheet4!$FV$2:$FV$8408,Sheet4!$C$2:$C$8408,Sheet3!$B15,Sheet4!$D$2:$D$8408,Sheet3!AK$3,Sheet4!$E$2:$E$8408,Sheet3!AK$4,Sheet4!$A$2:$A$8408,Sheet3!$B$1,Sheet4!$B$2:$B$8408,Sheet3!$A$3)","v":0},{"$f":"+SUMIFS(Sheet4!$FV$2:$FV$8408,Sheet4!$C$2:$C$8408,Sheet3!$B15,Sheet4!$D$2:$D$8408,Sheet3!AL$3,Sheet4!$E$2:$E$8408,Sheet3!AL$4,Sheet4!$A$2:$A$8408,Sheet3!$B$1,Sheet4!$B$2:$B$8408,Sheet3!$A$3)","v":0},{"$f":"+SUMIFS(Sheet4!$FV$2:$FV$8408,Sheet4!$C$2:$C$8408,Sheet3!$B15,Sheet4!$D$2:$D$8408,Sheet3!AM$3,Sheet4!$E$2:$E$8408,Sheet3!AM$4,Sheet4!$A$2:$A$8408,Sheet3!$B$1,Sheet4!$B$2:$B$8408,Sheet3!$A$3)","v":1405},{"$f":"+SUMIFS(Sheet4!$FV$2:$FV$8408,Sheet4!$C$2:$C$8408,Sheet3!$B15,Sheet4!$D$2:$D$8408,Sheet3!AN$3,Sheet4!$E$2:$E$8408,Sheet3!AN$4,Sheet4!$A$2:$A$8408,Sheet3!$B$1,Sheet4!$B$2:$B$8408,Sheet3!$A$3)","v":1272},{"$f":"+SUMIFS(Sheet4!$FV$2:$FV$8408,Sheet4!$C$2:$C$8408,Sheet3!$B15,Sheet4!$D$2:$D$8408,Sheet3!AO$3,Sheet4!$E$2:$E$8408,Sheet3!AO$4,Sheet4!$A$2:$A$8408,Sheet3!$B$1,Sheet4!$B$2:$B$8408,Sheet3!$A$3)","v":129},{"$f":"+SUMIFS(Sheet4!$FV$2:$FV$8408,Sheet4!$C$2:$C$8408,Sheet3!$B15,Sheet4!$D$2:$D$8408,Sheet3!AP$3,Sheet4!$E$2:$E$8408,Sheet3!AP$4,Sheet4!$A$2:$A$8408,Sheet3!$B$1,Sheet4!$B$2:$B$8408,Sheet3!$A$3)","v":0},{"$f":"+SUMIFS(Sheet4!$FV$2:$FV$8408,Sheet4!$C$2:$C$8408,Sheet3!$B15,Sheet4!$D$2:$D$8408,Sheet3!AQ$3,Sheet4!$E$2:$E$8408,Sheet3!AQ$4,Sheet4!$A$2:$A$8408,Sheet3!$B$1,Sheet4!$B$2:$B$8408,Sheet3!$A$3)","v":0},{"$f":"+SUMIFS(Sheet4!$FV$2:$FV$8408,Sheet4!$C$2:$C$8408,Sheet3!$B15,Sheet4!$D$2:$D$8408,Sheet3!AR$3,Sheet4!$E$2:$E$8408,Sheet3!AR$4,Sheet4!$A$2:$A$8408,Sheet3!$B$1,Sheet4!$B$2:$B$8408,Sheet3!$A$3)","v":1820},{"$f":"+SUMIFS(Sheet4!$FV$2:$FV$8408,Sheet4!$C$2:$C$8408,Sheet3!$B15,Sheet4!$D$2:$D$8408,Sheet3!AS$3,Sheet4!$E$2:$E$8408,Sheet3!AS$4,Sheet4!$A$2:$A$8408,Sheet3!$B$1,Sheet4!$B$2:$B$8408,Sheet3!$A$3)","v":463},{"$f":"+SUMIFS(Sheet4!$FV$2:$FV$8408,Sheet4!$C$2:$C$8408,Sheet3!$B15,Sheet4!$D$2:$D$8408,Sheet3!AT$3,Sheet4!$E$2:$E$8408,Sheet3!AT$4,Sheet4!$A$2:$A$8408,Sheet3!$B$1,Sheet4!$B$2:$B$8408,Sheet3!$A$3)","v":91},{"$f":"+SUMIFS(Sheet4!$FV$2:$FV$8408,Sheet4!$C$2:$C$8408,Sheet3!$B15,Sheet4!$D$2:$D$8408,Sheet3!AU$3,Sheet4!$E$2:$E$8408,Sheet3!AU$4,Sheet4!$A$2:$A$8408,Sheet3!$B$1,Sheet4!$B$2:$B$8408,Sheet3!$A$3)","v":0},{"$f":"+SUMIFS(Sheet4!$FV$2:$FV$8408,Sheet4!$C$2:$C$8408,Sheet3!$B15,Sheet4!$D$2:$D$8408,Sheet3!AV$3,Sheet4!$E$2:$E$8408,Sheet3!AV$4,Sheet4!$A$2:$A$8408,Sheet3!$B$1,Sheet4!$B$2:$B$8408,Sheet3!$A$3)","v":0},{"$f":"+SUMIFS(Sheet4!$FV$2:$FV$8408,Sheet4!$C$2:$C$8408,Sheet3!$B15,Sheet4!$D$2:$D$8408,Sheet3!AW$3,Sheet4!$E$2:$E$8408,Sheet3!AW$4,Sheet4!$A$2:$A$8408,Sheet3!$B$1,Sheet4!$B$2:$B$8408,Sheet3!$A$3)","v":5648},{"$f":"+SUMIFS(Sheet4!$FV$2:$FV$8408,Sheet4!$C$2:$C$8408,Sheet3!$B15,Sheet4!$D$2:$D$8408,Sheet3!AX$3,Sheet4!$E$2:$E$8408,Sheet3!AX$4,Sheet4!$A$2:$A$8408,Sheet3!$B$1,Sheet4!$B$2:$B$8408,Sheet3!$A$3)","v":4712},{"$f":"+SUMIFS(Sheet4!$FV$2:$FV$8408,Sheet4!$C$2:$C$8408,Sheet3!$B15,Sheet4!$D$2:$D$8408,Sheet3!AY$3,Sheet4!$E$2:$E$8408,Sheet3!AY$4,Sheet4!$A$2:$A$8408,Sheet3!$B$1,Sheet4!$B$2:$B$8408,Sheet3!$A$3)","v":495},{"$f":"+SUMIFS(Sheet4!$FV$2:$FV$8408,Sheet4!$C$2:$C$8408,Sheet3!$B15,Sheet4!$D$2:$D$8408,Sheet3!AZ$3,Sheet4!$E$2:$E$8408,Sheet3!AZ$4,Sheet4!$A$2:$A$8408,Sheet3!$B$1,Sheet4!$B$2:$B$8408,Sheet3!$A$3)","v":0},{"$f":"+SUMIFS(Sheet4!$FV$2:$FV$8408,Sheet4!$C$2:$C$8408,Sheet3!$B15,Sheet4!$D$2:$D$8408,Sheet3!BA$3,Sheet4!$E$2:$E$8408,Sheet3!BA$4,Sheet4!$A$2:$A$8408,Sheet3!$B$1,Sheet4!$B$2:$B$8408,Sheet3!$A$3)","v":0},{"$f":"+SUMIFS(Sheet4!$FV$2:$FV$8408,Sheet4!$C$2:$C$8408,Sheet3!$B15,Sheet4!$D$2:$D$8408,Sheet3!BB$3,Sheet4!$E$2:$E$8408,Sheet3!BB$4,Sheet4!$A$2:$A$8408,Sheet3!$B$1,Sheet4!$B$2:$B$8408,Sheet3!$A$3)","v":0},{"$f":"+SUMIFS(Sheet4!$FV$2:$FV$8408,Sheet4!$C$2:$C$8408,Sheet3!$B15,Sheet4!$D$2:$D$8408,Sheet3!BC$3,Sheet4!$E$2:$E$8408,Sheet3!BC$4,Sheet4!$A$2:$A$8408,Sheet3!$B$1,Sheet4!$B$2:$B$8408,Sheet3!$A$3)","v":0},{"$f":"+SUMIFS(Sheet4!$FV$2:$FV$8408,Sheet4!$C$2:$C$8408,Sheet3!$B15,Sheet4!$D$2:$D$8408,Sheet3!BD$3,Sheet4!$E$2:$E$8408,Sheet3!BD$4,Sheet4!$A$2:$A$8408,Sheet3!$B$1,Sheet4!$B$2:$B$8408,Sheet3!$A$3)","v":14},{"$f":"+SUMIFS(Sheet4!$FV$2:$FV$8408,Sheet4!$C$2:$C$8408,Sheet3!$B15,Sheet4!$D$2:$D$8408,Sheet3!BE$3,Sheet4!$E$2:$E$8408,Sheet3!BE$4,Sheet4!$A$2:$A$8408,Sheet3!$B$1,Sheet4!$B$2:$B$8408,Sheet3!$A$3)","v":0},{"$f":"+SUMIFS(Sheet4!$FV$2:$FV$8408,Sheet4!$C$2:$C$8408,Sheet3!$B15,Sheet4!$D$2:$D$8408,Sheet3!BF$3,Sheet4!$E$2:$E$8408,Sheet3!BF$4,Sheet4!$A$2:$A$8408,Sheet3!$B$1,Sheet4!$B$2:$B$8408,Sheet3!$A$3)","v":0},{"$f":"+SUMIFS(Sheet4!$FV$2:$FV$8408,Sheet4!$C$2:$C$8408,Sheet3!$B15,Sheet4!$D$2:$D$8408,Sheet3!BG$3,Sheet4!$E$2:$E$8408,Sheet3!BG$4,Sheet4!$A$2:$A$8408,Sheet3!$B$1,Sheet4!$B$2:$B$8408,Sheet3!$A$3)","v":15},{"$f":"+SUMIFS(Sheet4!$FV$2:$FV$8408,Sheet4!$C$2:$C$8408,Sheet3!$B15,Sheet4!$D$2:$D$8408,Sheet3!BH$3,Sheet4!$E$2:$E$8408,Sheet3!BH$4,Sheet4!$A$2:$A$8408,Sheet3!$B$1,Sheet4!$B$2:$B$8408,Sheet3!$A$3)","v":53},{"$f":"+SUMIFS(Sheet4!$FV$2:$FV$8408,Sheet4!$C$2:$C$8408,Sheet3!$B15,Sheet4!$D$2:$D$8408,Sheet3!BI$3,Sheet4!$E$2:$E$8408,Sheet3!BI$4,Sheet4!$A$2:$A$8408,Sheet3!$B$1,Sheet4!$B$2:$B$8408,Sheet3!$A$3)","v":52},{"$f":"+SUMIFS(Sheet4!$FV$2:$FV$8408,Sheet4!$C$2:$C$8408,Sheet3!$B15,Sheet4!$D$2:$D$8408,Sheet3!BJ$3,Sheet4!$E$2:$E$8408,Sheet3!BJ$4,Sheet4!$A$2:$A$8408,Sheet3!$B$1,Sheet4!$B$2:$B$8408,Sheet3!$A$3)","v":0},{"$f":"+SUMIFS(Sheet4!$FV$2:$FV$8408,Sheet4!$C$2:$C$8408,Sheet3!$B15,Sheet4!$D$2:$D$8408,Sheet3!BK$3,Sheet4!$E$2:$E$8408,Sheet3!BK$4,Sheet4!$A$2:$A$8408,Sheet3!$B$1,Sheet4!$B$2:$B$8408,Sheet3!$A$3)","v":0},{"$f":"+SUMIFS(Sheet4!$FV$2:$FV$8408,Sheet4!$C$2:$C$8408,Sheet3!$B15,Sheet4!$D$2:$D$8408,Sheet3!BL$3,Sheet4!$E$2:$E$8408,Sheet3!BL$4,Sheet4!$A$2:$A$8408,Sheet3!$B$1,Sheet4!$B$2:$B$8408,Sheet3!$A$3)","v":30},{"$f":"+SUMIFS(Sheet4!$FV$2:$FV$8408,Sheet4!$C$2:$C$8408,Sheet3!$B15,Sheet4!$D$2:$D$8408,Sheet3!BM$3,Sheet4!$E$2:$E$8408,Sheet3!BM$4,Sheet4!$A$2:$A$8408,Sheet3!$B$1,Sheet4!$B$2:$B$8408,Sheet3!$A$3)","v":16},{"$f":"+SUMIFS(Sheet4!$FV$2:$FV$8408,Sheet4!$C$2:$C$8408,Sheet3!$B15,Sheet4!$D$2:$D$8408,Sheet3!BN$3,Sheet4!$E$2:$E$8408,Sheet3!BN$4,Sheet4!$A$2:$A$8408,Sheet3!$B$1,Sheet4!$B$2:$B$8408,Sheet3!$A$3)","v":0},{"$f":"+SUMIFS(Sheet4!$FV$2:$FV$8408,Sheet4!$C$2:$C$8408,Sheet3!$B15,Sheet4!$D$2:$D$8408,Sheet3!BO$3,Sheet4!$E$2:$E$8408,Sheet3!BO$4,Sheet4!$A$2:$A$8408,Sheet3!$B$1,Sheet4!$B$2:$B$8408,Sheet3!$A$3)","v":0},{"$f":"+SUMIFS(Sheet4!$FV$2:$FV$8408,Sheet4!$C$2:$C$8408,Sheet3!$B15,Sheet4!$D$2:$D$8408,Sheet3!BP$3,Sheet4!$E$2:$E$8408,Sheet3!BP$4,Sheet4!$A$2:$A$8408,Sheet3!$B$1,Sheet4!$B$2:$B$8408,Sheet3!$A$3)","v":0},{"$f":"+SUMIFS(Sheet4!$FV$2:$FV$8408,Sheet4!$C$2:$C$8408,Sheet3!$B15,Sheet4!$D$2:$D$8408,Sheet3!BQ$3,Sheet4!$E$2:$E$8408,Sheet3!BQ$4,Sheet4!$A$2:$A$8408,Sheet3!$B$1,Sheet4!$B$2:$B$8408,Sheet3!$A$3)","v":0},{"$f":"+SUMIFS(Sheet4!$FV$2:$FV$8408,Sheet4!$C$2:$C$8408,Sheet3!$B15,Sheet4!$D$2:$D$8408,Sheet3!BR$3,Sheet4!$E$2:$E$8408,Sheet3!BR$4,Sheet4!$A$2:$A$8408,Sheet3!$B$1,Sheet4!$B$2:$B$8408,Sheet3!$A$3)","v":48},{"$f":"+SUMIFS(Sheet4!$FV$2:$FV$8408,Sheet4!$C$2:$C$8408,Sheet3!$B15,Sheet4!$D$2:$D$8408,Sheet3!BS$3,Sheet4!$E$2:$E$8408,Sheet3!BS$4,Sheet4!$A$2:$A$8408,Sheet3!$B$1,Sheet4!$B$2:$B$8408,Sheet3!$A$3)","v":54},{"$f":"+SUMIFS(Sheet4!$FV$2:$FV$8408,Sheet4!$C$2:$C$8408,Sheet3!$B15,Sheet4!$D$2:$D$8408,Sheet3!BT$3,Sheet4!$E$2:$E$8408,Sheet3!BT$4,Sheet4!$A$2:$A$8408,Sheet3!$B$1,Sheet4!$B$2:$B$8408,Sheet3!$A$3)","v":3},{"$f":"+SUMIFS(Sheet4!$FV$2:$FV$8408,Sheet4!$C$2:$C$8408,Sheet3!$B15,Sheet4!$D$2:$D$8408,Sheet3!BU$3,Sheet4!$E$2:$E$8408,Sheet3!BU$4,Sheet4!$A$2:$A$8408,Sheet3!$B$1,Sheet4!$B$2:$B$8408,Sheet3!$A$3)","v":0},{"$f":"+SUMIFS(Sheet4!$FV$2:$FV$8408,Sheet4!$C$2:$C$8408,Sheet3!$B15,Sheet4!$D$2:$D$8408,Sheet3!BV$3,Sheet4!$E$2:$E$8408,Sheet3!BV$4,Sheet4!$A$2:$A$8408,Sheet3!$B$1,Sheet4!$B$2:$B$8408,Sheet3!$A$3)","v":266},{"$f":"+SUMIFS(Sheet4!$FV$2:$FV$8408,Sheet4!$C$2:$C$8408,Sheet3!$B15,Sheet4!$D$2:$D$8408,Sheet3!BW$3,Sheet4!$E$2:$E$8408,Sheet3!BW$4,Sheet4!$A$2:$A$8408,Sheet3!$B$1,Sheet4!$B$2:$B$8408,Sheet3!$A$3)","v":374},{"$f":"+SUMIFS(Sheet4!$FV$2:$FV$8408,Sheet4!$C$2:$C$8408,Sheet3!$B15,Sheet4!$D$2:$D$8408,Sheet3!BX$3,Sheet4!$E$2:$E$8408,Sheet3!BX$4,Sheet4!$A$2:$A$8408,Sheet3!$B$1,Sheet4!$B$2:$B$8408,Sheet3!$A$3)","v":91},{"$f":"+SUMIFS(Sheet4!$FV$2:$FV$8408,Sheet4!$C$2:$C$8408,Sheet3!$B15,Sheet4!$D$2:$D$8408,Sheet3!BY$3,Sheet4!$E$2:$E$8408,Sheet3!BY$4,Sheet4!$A$2:$A$8408,Sheet3!$B$1,Sheet4!$B$2:$B$8408,Sheet3!$A$3)","v":0},{"$f":"+SUMIFS(Sheet4!$FV$2:$FV$8408,Sheet4!$C$2:$C$8408,Sheet3!$B15,Sheet4!$D$2:$D$8408,Sheet3!BZ$3,Sheet4!$E$2:$E$8408,Sheet3!BZ$4,Sheet4!$A$2:$A$8408,Sheet3!$B$1,Sheet4!$B$2:$B$8408,Sheet3!$A$3)","v":0},{"$f":"+SUMIFS(Sheet4!$FV$2:$FV$8408,Sheet4!$C$2:$C$8408,Sheet3!$B15,Sheet4!$D$2:$D$8408,Sheet3!CA$3,Sheet4!$E$2:$E$8408,Sheet3!CA$4,Sheet4!$A$2:$A$8408,Sheet3!$B$1,Sheet4!$B$2:$B$8408,Sheet3!$A$3)","v":153},{"$f":"+SUMIFS(Sheet4!$FV$2:$FV$8408,Sheet4!$C$2:$C$8408,Sheet3!$B15,Sheet4!$D$2:$D$8408,Sheet3!CB$3,Sheet4!$E$2:$E$8408,Sheet3!CB$4,Sheet4!$A$2:$A$8408,Sheet3!$B$1,Sheet4!$B$2:$B$8408,Sheet3!$A$3)","v":538},{"$f":"+SUMIFS(Sheet4!$FV$2:$FV$8408,Sheet4!$C$2:$C$8408,Sheet3!$B15,Sheet4!$D$2:$D$8408,Sheet3!CC$3,Sheet4!$E$2:$E$8408,Sheet3!CC$4,Sheet4!$A$2:$A$8408,Sheet3!$B$1,Sheet4!$B$2:$B$8408,Sheet3!$A$3)","v":289},{"$f":"+SUMIFS(Sheet4!$FV$2:$FV$8408,Sheet4!$C$2:$C$8408,Sheet3!$B15,Sheet4!$D$2:$D$8408,Sheet3!CD$3,Sheet4!$E$2:$E$8408,Sheet3!CD$4,Sheet4!$A$2:$A$8408,Sheet3!$B$1,Sheet4!$B$2:$B$8408,Sheet3!$A$3)","v":0},{"$f":"+SUMIFS(Sheet4!$FV$2:$FV$8408,Sheet4!$C$2:$C$8408,Sheet3!$B15,Sheet4!$D$2:$D$8408,Sheet3!CE$3,Sheet4!$E$2:$E$8408,Sheet3!CE$4,Sheet4!$A$2:$A$8408,Sheet3!$B$1,Sheet4!$B$2:$B$8408,Sheet3!$A$3)","v":0},{"$f":"+SUMIFS(Sheet4!$FV$2:$FV$8408,Sheet4!$C$2:$C$8408,Sheet3!$B15,Sheet4!$D$2:$D$8408,Sheet3!CF$3,Sheet4!$E$2:$E$8408,Sheet3!CF$4,Sheet4!$A$2:$A$8408,Sheet3!$B$1,Sheet4!$B$2:$B$8408,Sheet3!$A$3)","v":130},{"$f":"+SUMIFS(Sheet4!$FV$2:$FV$8408,Sheet4!$C$2:$C$8408,Sheet3!$B15,Sheet4!$D$2:$D$8408,Sheet3!CG$3,Sheet4!$E$2:$E$8408,Sheet3!CG$4,Sheet4!$A$2:$A$8408,Sheet3!$B$1,Sheet4!$B$2:$B$8408,Sheet3!$A$3)","v":70},{"$f":"+SUMIFS(Sheet4!$FV$2:$FV$8408,Sheet4!$C$2:$C$8408,Sheet3!$B15,Sheet4!$D$2:$D$8408,Sheet3!CH$3,Sheet4!$E$2:$E$8408,Sheet3!CH$4,Sheet4!$A$2:$A$8408,Sheet3!$B$1,Sheet4!$B$2:$B$8408,Sheet3!$A$3)","v":8},{"$f":"+SUMIFS(Sheet4!$FV$2:$FV$8408,Sheet4!$C$2:$C$8408,Sheet3!$B15,Sheet4!$D$2:$D$8408,Sheet3!CI$3,Sheet4!$E$2:$E$8408,Sheet3!CI$4,Sheet4!$A$2:$A$8408,Sheet3!$B$1,Sheet4!$B$2:$B$8408,Sheet3!$A$3)","v":0},{"$f":"+SUMIFS(Sheet4!$FV$2:$FV$8408,Sheet4!$C$2:$C$8408,Sheet3!$B15,Sheet4!$D$2:$D$8408,Sheet3!CJ$3,Sheet4!$E$2:$E$8408,Sheet3!CJ$4,Sheet4!$A$2:$A$8408,Sheet3!$B$1,Sheet4!$B$2:$B$8408,Sheet3!$A$3)","v":0},{"$f":"+SUMIFS(Sheet4!$FV$2:$FV$8408,Sheet4!$C$2:$C$8408,Sheet3!$B15,Sheet4!$D$2:$D$8408,Sheet3!CK$3,Sheet4!$E$2:$E$8408,Sheet3!CK$4,Sheet4!$A$2:$A$8408,Sheet3!$B$1,Sheet4!$B$2:$B$8408,Sheet3!$A$3)","v":0},{"$f":"+SUMIFS(Sheet4!$FV$2:$FV$8408,Sheet4!$C$2:$C$8408,Sheet3!$B15,Sheet4!$D$2:$D$8408,Sheet3!CL$3,Sheet4!$E$2:$E$8408,Sheet3!CL$4,Sheet4!$A$2:$A$8408,Sheet3!$B$1,Sheet4!$B$2:$B$8408,Sheet3!$A$3)","v":0},{"$f":"+SUMIFS(Sheet4!$FV$2:$FV$8408,Sheet4!$C$2:$C$8408,Sheet3!$B15,Sheet4!$D$2:$D$8408,Sheet3!CM$3,Sheet4!$E$2:$E$8408,Sheet3!CM$4,Sheet4!$A$2:$A$8408,Sheet3!$B$1,Sheet4!$B$2:$B$8408,Sheet3!$A$3)","v":0},{"$f":"+SUMIFS(Sheet4!$FV$2:$FV$8408,Sheet4!$C$2:$C$8408,Sheet3!$B15,Sheet4!$D$2:$D$8408,Sheet3!CN$3,Sheet4!$E$2:$E$8408,Sheet3!CN$4,Sheet4!$A$2:$A$8408,Sheet3!$B$1,Sheet4!$B$2:$B$8408,Sheet3!$A$3)","v":0},{"$f":"+SUMIFS(Sheet4!$FV$2:$FV$8408,Sheet4!$C$2:$C$8408,Sheet3!$B15,Sheet4!$D$2:$D$8408,Sheet3!CO$3,Sheet4!$E$2:$E$8408,Sheet3!CO$4,Sheet4!$A$2:$A$8408,Sheet3!$B$1,Sheet4!$B$2:$B$8408,Sheet3!$A$3)","v":0},{"$f":"+SUMIFS(Sheet4!$FV$2:$FV$8408,Sheet4!$C$2:$C$8408,Sheet3!$B15,Sheet4!$D$2:$D$8408,Sheet3!CP$3,Sheet4!$E$2:$E$8408,Sheet3!CP$4,Sheet4!$A$2:$A$8408,Sheet3!$B$1,Sheet4!$B$2:$B$8408,Sheet3!$A$3)","v":3},{"$f":"+SUMIFS(Sheet4!$FV$2:$FV$8408,Sheet4!$C$2:$C$8408,Sheet3!$B15,Sheet4!$D$2:$D$8408,Sheet3!CQ$3,Sheet4!$E$2:$E$8408,Sheet3!CQ$4,Sheet4!$A$2:$A$8408,Sheet3!$B$1,Sheet4!$B$2:$B$8408,Sheet3!$A$3)","v":0},{"$f":"+SUMIFS(Sheet4!$FV$2:$FV$8408,Sheet4!$C$2:$C$8408,Sheet3!$B15,Sheet4!$D$2:$D$8408,Sheet3!CR$3,Sheet4!$E$2:$E$8408,Sheet3!CR$4,Sheet4!$A$2:$A$8408,Sheet3!$B$1,Sheet4!$B$2:$B$8408,Sheet3!$A$3)","v":0},{"$f":"+SUMIFS(Sheet4!$FV$2:$FV$8408,Sheet4!$C$2:$C$8408,Sheet3!$B15,Sheet4!$D$2:$D$8408,Sheet3!CS$3,Sheet4!$E$2:$E$8408,Sheet3!CS$4,Sheet4!$A$2:$A$8408,Sheet3!$B$1,Sheet4!$B$2:$B$8408,Sheet3!$A$3)","v":0},{"$f":"+SUMIFS(Sheet4!$FV$2:$FV$8408,Sheet4!$C$2:$C$8408,Sheet3!$B15,Sheet4!$D$2:$D$8408,Sheet3!CT$3,Sheet4!$E$2:$E$8408,Sheet3!CT$4,Sheet4!$A$2:$A$8408,Sheet3!$B$1,Sheet4!$B$2:$B$8408,Sheet3!$A$3)","v":0},{"$f":"+IF(SUMIFS(Sheet4!$FW$2:$FW$8408,Sheet4!$C$2:$C$8408,Sheet3!$B15,Sheet4!$D$2:$D$8408,Sheet3!CU$3,Sheet4!$A$2:$A$8408,Sheet3!$B$1,Sheet4!$B$2:$B$8408,Sheet3!$A$3)<3,0,SUMIFS(Sheet4!$FW$2:$FW$8408,Sheet4!$C$2:$C$8408,Sheet3!$B15,Sheet4!$D$2:$D$8408,Sheet3!CU$3,Sheet4!$A$2:$A$8408,Sheet3!$B$1,Sheet4!$B$2:$B$8408,Sheet3!$A$3))","v":76},{"$f":"+IF(SUMIFS(Sheet4!$FW$2:$FW$8408,Sheet4!$C$2:$C$8408,Sheet3!$B15,Sheet4!$D$2:$D$8408,Sheet3!CV$3,Sheet4!$A$2:$A$8408,Sheet3!$B$1,Sheet4!$B$2:$B$8408,Sheet3!$A$3)<3,0,SUMIFS(Sheet4!$FW$2:$FW$8408,Sheet4!$C$2:$C$8408,Sheet3!$B15,Sheet4!$D$2:$D$8408,Sheet3!CV$3,Sheet4!$A$2:$A$8408,Sheet3!$B$1,Sheet4!$B$2:$B$8408,Sheet3!$A$3))","v":9},{"$f":"+IF(SUMIFS(Sheet4!$FW$2:$FW$8408,Sheet4!$C$2:$C$8408,Sheet3!$B15,Sheet4!$D$2:$D$8408,Sheet3!CW$3,Sheet4!$A$2:$A$8408,Sheet3!$B$1,Sheet4!$B$2:$B$8408,Sheet3!$A$3)<3,0,SUMIFS(Sheet4!$FW$2:$FW$8408,Sheet4!$C$2:$C$8408,Sheet3!$B15,Sheet4!$D$2:$D$8408,Sheet3!CW$3,Sheet4!$A$2:$A$8408,Sheet3!$B$1,Sheet4!$B$2:$B$8408,Sheet3!$A$3))","v":727},{"$f":"+IF(SUMIFS(Sheet4!$FW$2:$FW$8408,Sheet4!$C$2:$C$8408,Sheet3!$B15,Sheet4!$D$2:$D$8408,Sheet3!CX$3,Sheet4!$A$2:$A$8408,Sheet3!$B$1,Sheet4!$B$2:$B$8408,Sheet3!$A$3)<3,0,SUMIFS(Sheet4!$FW$2:$FW$8408,Sheet4!$C$2:$C$8408,Sheet3!$B15,Sheet4!$D$2:$D$8408,Sheet3!CX$3,Sheet4!$A$2:$A$8408,Sheet3!$B$1,Sheet4!$B$2:$B$8408,Sheet3!$A$3))","v":0},{"$f":"+IF(SUMIFS(Sheet4!$FW$2:$FW$8408,Sheet4!$C$2:$C$8408,Sheet3!$B15,Sheet4!$D$2:$D$8408,Sheet3!CY$3,Sheet4!$A$2:$A$8408,Sheet3!$B$1,Sheet4!$B$2:$B$8408,Sheet3!$A$3)<3,0,SUMIFS(Sheet4!$FW$2:$FW$8408,Sheet4!$C$2:$C$8408,Sheet3!$B15,Sheet4!$D$2:$D$8408,Sheet3!CY$3,Sheet4!$A$2:$A$8408,Sheet3!$B$1,Sheet4!$B$2:$B$8408,Sheet3!$A$3))","v":12},{"$f":"+IF(SUMIFS(Sheet4!$FW$2:$FW$8408,Sheet4!$C$2:$C$8408,Sheet3!$B15,Sheet4!$D$2:$D$8408,Sheet3!CZ$3,Sheet4!$A$2:$A$8408,Sheet3!$B$1,Sheet4!$B$2:$B$8408,Sheet3!$A$3)<3,0,SUMIFS(Sheet4!$FW$2:$FW$8408,Sheet4!$C$2:$C$8408,Sheet3!$B15,Sheet4!$D$2:$D$8408,Sheet3!CZ$3,Sheet4!$A$2:$A$8408,Sheet3!$B$1,Sheet4!$B$2:$B$8408,Sheet3!$A$3))","v":5045},{"$f":"+IF(SUMIFS(Sheet4!$FW$2:$FW$8408,Sheet4!$C$2:$C$8408,Sheet3!$B15,Sheet4!$D$2:$D$8408,Sheet3!DA$3,Sheet4!$A$2:$A$8408,Sheet3!$B$1,Sheet4!$B$2:$B$8408,Sheet3!$A$3)<3,0,SUMIFS(Sheet4!$FW$2:$FW$8408,Sheet4!$C$2:$C$8408,Sheet3!$B15,Sheet4!$D$2:$D$8408,Sheet3!DA$3,Sheet4!$A$2:$A$8408,Sheet3!$B$1,Sheet4!$B$2:$B$8408,Sheet3!$A$3))","v":201},{"$f":"+IF(SUMIFS(Sheet4!$FW$2:$FW$8408,Sheet4!$C$2:$C$8408,Sheet3!$B15,Sheet4!$D$2:$D$8408,Sheet3!DB$3,Sheet4!$A$2:$A$8408,Sheet3!$B$1,Sheet4!$B$2:$B$8408,Sheet3!$A$3)<3,0,SUMIFS(Sheet4!$FW$2:$FW$8408,Sheet4!$C$2:$C$8408,Sheet3!$B15,Sheet4!$D$2:$D$8408,Sheet3!DB$3,Sheet4!$A$2:$A$8408,Sheet3!$B$1,Sheet4!$B$2:$B$8408,Sheet3!$A$3))","v":2807},{"$f":"+IF(SUMIFS(Sheet4!$FW$2:$FW$8408,Sheet4!$C$2:$C$8408,Sheet3!$B15,Sheet4!$D$2:$D$8408,Sheet3!DC$3,Sheet4!$A$2:$A$8408,Sheet3!$B$1,Sheet4!$B$2:$B$8408,Sheet3!$A$3)<3,0,SUMIFS(Sheet4!$FW$2:$FW$8408,Sheet4!$C$2:$C$8408,Sheet3!$B15,Sheet4!$D$2:$D$8408,Sheet3!DC$3,Sheet4!$A$2:$A$8408,Sheet3!$B$1,Sheet4!$B$2:$B$8408,Sheet3!$A$3))","v":2377},{"$f":"+IF(SUMIFS(Sheet4!$FW$2:$FW$8408,Sheet4!$C$2:$C$8408,Sheet3!$B15,Sheet4!$D$2:$D$8408,Sheet3!DD$3,Sheet4!$A$2:$A$8408,Sheet3!$B$1,Sheet4!$B$2:$B$8408,Sheet3!$A$3)<3,0,SUMIFS(Sheet4!$FW$2:$FW$8408,Sheet4!$C$2:$C$8408,Sheet3!$B15,Sheet4!$D$2:$D$8408,Sheet3!DD$3,Sheet4!$A$2:$A$8408,Sheet3!$B$1,Sheet4!$B$2:$B$8408,Sheet3!$A$3))","v":10857},{"$f":"+IF(SUMIFS(Sheet4!$FW$2:$FW$8408,Sheet4!$C$2:$C$8408,Sheet3!$B15,Sheet4!$D$2:$D$8408,Sheet3!DE$3,Sheet4!$A$2:$A$8408,Sheet3!$B$1,Sheet4!$B$2:$B$8408,Sheet3!$A$3)<3,0,SUMIFS(Sheet4!$FW$2:$FW$8408,Sheet4!$C$2:$C$8408,Sheet3!$B15,Sheet4!$D$2:$D$8408,Sheet3!DE$3,Sheet4!$A$2:$A$8408,Sheet3!$B$1,Sheet4!$B$2:$B$8408,Sheet3!$A$3))","v":18},{"$f":"+IF(SUMIFS(Sheet4!$FW$2:$FW$8408,Sheet4!$C$2:$C$8408,Sheet3!$B15,Sheet4!$D$2:$D$8408,Sheet3!DF$3,Sheet4!$A$2:$A$8408,Sheet3!$B$1,Sheet4!$B$2:$B$8408,Sheet3!$A$3)<3,0,SUMIFS(Sheet4!$FW$2:$FW$8408,Sheet4!$C$2:$C$8408,Sheet3!$B15,Sheet4!$D$2:$D$8408,Sheet3!DF$3,Sheet4!$A$2:$A$8408,Sheet3!$B$1,Sheet4!$B$2:$B$8408,Sheet3!$A$3))","v":123},{"$f":"+IF(SUMIFS(Sheet4!$FW$2:$FW$8408,Sheet4!$C$2:$C$8408,Sheet3!$B15,Sheet4!$D$2:$D$8408,Sheet3!DG$3,Sheet4!$A$2:$A$8408,Sheet3!$B$1,Sheet4!$B$2:$B$8408,Sheet3!$A$3)<3,0,SUMIFS(Sheet4!$FW$2:$FW$8408,Sheet4!$C$2:$C$8408,Sheet3!$B15,Sheet4!$D$2:$D$8408,Sheet3!DG$3,Sheet4!$A$2:$A$8408,Sheet3!$B$1,Sheet4!$B$2:$B$8408,Sheet3!$A$3))","v":47},{"$f":"+IF(SUMIFS(Sheet4!$FW$2:$FW$8408,Sheet4!$C$2:$C$8408,Sheet3!$B15,Sheet4!$D$2:$D$8408,Sheet3!DH$3,Sheet4!$A$2:$A$8408,Sheet3!$B$1,Sheet4!$B$2:$B$8408,Sheet3!$A$3)<3,0,SUMIFS(Sheet4!$FW$2:$FW$8408,Sheet4!$C$2:$C$8408,Sheet3!$B15,Sheet4!$D$2:$D$8408,Sheet3!DH$3,Sheet4!$A$2:$A$8408,Sheet3!$B$1,Sheet4!$B$2:$B$8408,Sheet3!$A$3))","v":114},{"$f":"+IF(SUMIFS(Sheet4!$FW$2:$FW$8408,Sheet4!$C$2:$C$8408,Sheet3!$B15,Sheet4!$D$2:$D$8408,Sheet3!DI$3,Sheet4!$A$2:$A$8408,Sheet3!$B$1,Sheet4!$B$2:$B$8408,Sheet3!$A$3)<3,0,SUMIFS(Sheet4!$FW$2:$FW$8408,Sheet4!$C$2:$C$8408,Sheet3!$B15,Sheet4!$D$2:$D$8408,Sheet3!DI$3,Sheet4!$A$2:$A$8408,Sheet3!$B$1,Sheet4!$B$2:$B$8408,Sheet3!$A$3))","v":732},{"$f":"+IF(SUMIFS(Sheet4!$FW$2:$FW$8408,Sheet4!$C$2:$C$8408,Sheet3!$B15,Sheet4!$D$2:$D$8408,Sheet3!DJ$3,Sheet4!$A$2:$A$8408,Sheet3!$B$1,Sheet4!$B$2:$B$8408,Sheet3!$A$3)<3,0,SUMIFS(Sheet4!$FW$2:$FW$8408,Sheet4!$C$2:$C$8408,Sheet3!$B15,Sheet4!$D$2:$D$8408,Sheet3!DJ$3,Sheet4!$A$2:$A$8408,Sheet3!$B$1,Sheet4!$B$2:$B$8408,Sheet3!$A$3))","v":982},{"$f":"+IF(SUMIFS(Sheet4!$FW$2:$FW$8408,Sheet4!$C$2:$C$8408,Sheet3!$B15,Sheet4!$D$2:$D$8408,Sheet3!DK$3,Sheet4!$A$2:$A$8408,Sheet3!$B$1,Sheet4!$B$2:$B$8408,Sheet3!$A$3)<3,0,SUMIFS(Sheet4!$FW$2:$FW$8408,Sheet4!$C$2:$C$8408,Sheet3!$B15,Sheet4!$D$2:$D$8408,Sheet3!DK$3,Sheet4!$A$2:$A$8408,Sheet3!$B$1,Sheet4!$B$2:$B$8408,Sheet3!$A$3))","v":210},{"$f":"+IF(SUMIFS(Sheet4!$FW$2:$FW$8408,Sheet4!$C$2:$C$8408,Sheet3!$B15,Sheet4!$D$2:$D$8408,Sheet3!DL$3,Sheet4!$A$2:$A$8408,Sheet3!$B$1,Sheet4!$B$2:$B$8408,Sheet3!$A$3)<3,0,SUMIFS(Sheet4!$FW$2:$FW$8408,Sheet4!$C$2:$C$8408,Sheet3!$B15,Sheet4!$D$2:$D$8408,Sheet3!DL$3,Sheet4!$A$2:$A$8408,Sheet3!$B$1,Sheet4!$B$2:$B$8408,Sheet3!$A$3))","v":0},{"$f":"+IF(SUMIFS(Sheet4!$FW$2:$FW$8408,Sheet4!$C$2:$C$8408,Sheet3!$B15,Sheet4!$D$2:$D$8408,Sheet3!DM$3,Sheet4!$A$2:$A$8408,Sheet3!$B$1,Sheet4!$B$2:$B$8408,Sheet3!$A$3)<3,0,SUMIFS(Sheet4!$FW$2:$FW$8408,Sheet4!$C$2:$C$8408,Sheet3!$B15,Sheet4!$D$2:$D$8408,Sheet3!DM$3,Sheet4!$A$2:$A$8408,Sheet3!$B$1,Sheet4!$B$2:$B$8408,Sheet3!$A$3))","v":5},{"$f":"+IF(SUMIFS(Sheet4!$FW$2:$FW$8408,Sheet4!$C$2:$C$8408,Sheet3!$B15,Sheet4!$E$2:$E$8408,Sheet3!DN$4,Sheet4!$A$2:$A$8408,Sheet3!$B$1,Sheet4!$B$2:$B$8408,Sheet3!$A$3)<3,0,SUMIFS(Sheet4!$FW$2:$FW$8408,Sheet4!$C$2:$C$8408,Sheet3!$B15,Sheet4!$E$2:$E$8408,Sheet3!DN$4,Sheet4!$A$2:$A$8408,Sheet3!$B$1,Sheet4!$B$2:$B$8408,Sheet3!$A$3))","v":13267},{"$f":"+IF(SUMIFS(Sheet4!$FW$2:$FW$8408,Sheet4!$C$2:$C$8408,Sheet3!$B15,Sheet4!$E$2:$E$8408,Sheet3!DO$4,Sheet4!$A$2:$A$8408,Sheet3!$B$1,Sheet4!$B$2:$B$8408,Sheet3!$A$3)<3,0,SUMIFS(Sheet4!$FW$2:$FW$8408,Sheet4!$C$2:$C$8408,Sheet3!$B15,Sheet4!$E$2:$E$8408,Sheet3!DO$4,Sheet4!$A$2:$A$8408,Sheet3!$B$1,Sheet4!$B$2:$B$8408,Sheet3!$A$3))","v":9614},{"$f":"+IF(SUMIFS(Sheet4!$FW$2:$FW$8408,Sheet4!$C$2:$C$8408,Sheet3!$B15,Sheet4!$E$2:$E$8408,Sheet3!DP$4,Sheet4!$A$2:$A$8408,Sheet3!$B$1,Sheet4!$B$2:$B$8408,Sheet3!$A$3)<3,0,SUMIFS(Sheet4!$FW$2:$FW$8408,Sheet4!$C$2:$C$8408,Sheet3!$B15,Sheet4!$E$2:$E$8408,Sheet3!DP$4,Sheet4!$A$2:$A$8408,Sheet3!$B$1,Sheet4!$B$2:$B$8408,Sheet3!$A$3))","v":1452},{"$f":"+IF(SUMIFS(Sheet4!$FW$2:$FW$8408,Sheet4!$C$2:$C$8408,Sheet3!$B15,Sheet4!$E$2:$E$8408,Sheet3!DQ$4,Sheet4!$A$2:$A$8408,Sheet3!$B$1,Sheet4!$B$2:$B$8408,Sheet3!$A$3)<3,0,SUMIFS(Sheet4!$FW$2:$FW$8408,Sheet4!$C$2:$C$8408,Sheet3!$B15,Sheet4!$E$2:$E$8408,Sheet3!DQ$4,Sheet4!$A$2:$A$8408,Sheet3!$B$1,Sheet4!$B$2:$B$8408,Sheet3!$A$3))","v":8},{"$f":"+IF(SUMIFS(Sheet4!$FW$2:$FW$8408,Sheet4!$C$2:$C$8408,Sheet3!$B15,Sheet4!$E$2:$E$8408,Sheet3!DR$4,Sheet4!$A$2:$A$8408,Sheet3!$B$1,Sheet4!$B$2:$B$8408,Sheet3!$A$3)<3,0,SUMIFS(Sheet4!$FW$2:$FW$8408,Sheet4!$C$2:$C$8408,Sheet3!$B15,Sheet4!$E$2:$E$8408,Sheet3!DR$4,Sheet4!$A$2:$A$8408,Sheet3!$B$1,Sheet4!$B$2:$B$8408,Sheet3!$A$3))","v":0}]
[3,"16B","Oeste",{"$f":"+SUMIFS(Sheet4!$FV$2:$FV$8408,Sheet4!$C$2:$C$8408,Sheet3!$B16,Sheet4!$D$2:$D$8408,Sheet3!D$3,Sheet4!$E$2:$E$8408,Sheet3!D$4,Sheet4!$A$2:$A$8408,Sheet3!$B$1,Sheet4!$B$2:$B$8408,Sheet3!$A$3)","v":56},{"$f":"+SUMIFS(Sheet4!$FV$2:$FV$8408,Sheet4!$C$2:$C$8408,Sheet3!$B16,Sheet4!$D$2:$D$8408,Sheet3!E$3,Sheet4!$E$2:$E$8408,Sheet3!E$4,Sheet4!$A$2:$A$8408,Sheet3!$B$1,Sheet4!$B$2:$B$8408,Sheet3!$A$3)","v":13},{"$f":"+SUMIFS(Sheet4!$FV$2:$FV$8408,Sheet4!$C$2:$C$8408,Sheet3!$B16,Sheet4!$D$2:$D$8408,Sheet3!F$3,Sheet4!$E$2:$E$8408,Sheet3!F$4,Sheet4!$A$2:$A$8408,Sheet3!$B$1,Sheet4!$B$2:$B$8408,Sheet3!$A$3)","v":5},{"$f":"+SUMIFS(Sheet4!$FV$2:$FV$8408,Sheet4!$C$2:$C$8408,Sheet3!$B16,Sheet4!$D$2:$D$8408,Sheet3!G$3,Sheet4!$E$2:$E$8408,Sheet3!G$4,Sheet4!$A$2:$A$8408,Sheet3!$B$1,Sheet4!$B$2:$B$8408,Sheet3!$A$3)","v":0},{"$f":"+SUMIFS(Sheet4!$FV$2:$FV$8408,Sheet4!$C$2:$C$8408,Sheet3!$B16,Sheet4!$D$2:$D$8408,Sheet3!H$3,Sheet4!$E$2:$E$8408,Sheet3!H$4,Sheet4!$A$2:$A$8408,Sheet3!$B$1,Sheet4!$B$2:$B$8408,Sheet3!$A$3)","v":0},{"$f":"+SUMIFS(Sheet4!$FV$2:$FV$8408,Sheet4!$C$2:$C$8408,Sheet3!$B16,Sheet4!$D$2:$D$8408,Sheet3!I$3,Sheet4!$E$2:$E$8408,Sheet3!I$4,Sheet4!$A$2:$A$8408,Sheet3!$B$1,Sheet4!$B$2:$B$8408,Sheet3!$A$3)","v":4},{"$f":"+SUMIFS(Sheet4!$FV$2:$FV$8408,Sheet4!$C$2:$C$8408,Sheet3!$B16,Sheet4!$D$2:$D$8408,Sheet3!J$3,Sheet4!$E$2:$E$8408,Sheet3!J$4,Sheet4!$A$2:$A$8408,Sheet3!$B$1,Sheet4!$B$2:$B$8408,Sheet3!$A$3)","v":4},{"$f":"+SUMIFS(Sheet4!$FV$2:$FV$8408,Sheet4!$C$2:$C$8408,Sheet3!$B16,Sheet4!$D$2:$D$8408,Sheet3!K$3,Sheet4!$E$2:$E$8408,Sheet3!K$4,Sheet4!$A$2:$A$8408,Sheet3!$B$1,Sheet4!$B$2:$B$8408,Sheet3!$A$3)","v":0},{"$f":"+SUMIFS(Sheet4!$FV$2:$FV$8408,Sheet4!$C$2:$C$8408,Sheet3!$B16,Sheet4!$D$2:$D$8408,Sheet3!L$3,Sheet4!$E$2:$E$8408,Sheet3!L$4,Sheet4!$A$2:$A$8408,Sheet3!$B$1,Sheet4!$B$2:$B$8408,Sheet3!$A$3)","v":0},{"$f":"+SUMIFS(Sheet4!$FV$2:$FV$8408,Sheet4!$C$2:$C$8408,Sheet3!$B16,Sheet4!$D$2:$D$8408,Sheet3!M$3,Sheet4!$E$2:$E$8408,Sheet3!M$4,Sheet4!$A$2:$A$8408,Sheet3!$B$1,Sheet4!$B$2:$B$8408,Sheet3!$A$3)","v":0},{"$f":"+SUMIFS(Sheet4!$FV$2:$FV$8408,Sheet4!$C$2:$C$8408,Sheet3!$B16,Sheet4!$D$2:$D$8408,Sheet3!N$3,Sheet4!$E$2:$E$8408,Sheet3!N$4,Sheet4!$A$2:$A$8408,Sheet3!$B$1,Sheet4!$B$2:$B$8408,Sheet3!$A$3)","v":34},{"$f":"+SUMIFS(Sheet4!$FV$2:$FV$8408,Sheet4!$C$2:$C$8408,Sheet3!$B16,Sheet4!$D$2:$D$8408,Sheet3!O$3,Sheet4!$E$2:$E$8408,Sheet3!O$4,Sheet4!$A$2:$A$8408,Sheet3!$B$1,Sheet4!$B$2:$B$8408,Sheet3!$A$3)","v":27},{"$f":"+SUMIFS(Sheet4!$FV$2:$FV$8408,Sheet4!$C$2:$C$8408,Sheet3!$B16,Sheet4!$D$2:$D$8408,Sheet3!P$3,Sheet4!$E$2:$E$8408,Sheet3!P$4,Sheet4!$A$2:$A$8408,Sheet3!$B$1,Sheet4!$B$2:$B$8408,Sheet3!$A$3)","v":0},{"$f":"+SUMIFS(Sheet4!$FV$2:$FV$8408,Sheet4!$C$2:$C$8408,Sheet3!$B16,Sheet4!$D$2:$D$8408,Sheet3!Q$3,Sheet4!$E$2:$E$8408,Sheet3!Q$4,Sheet4!$A$2:$A$8408,Sheet3!$B$1,Sheet4!$B$2:$B$8408,Sheet3!$A$3)","v":0},{"$f":"+SUMIFS(Sheet4!$FV$2:$FV$8408,Sheet4!$C$2:$C$8408,Sheet3!$B16,Sheet4!$D$2:$D$8408,Sheet3!R$3,Sheet4!$E$2:$E$8408,Sheet3!R$4,Sheet4!$A$2:$A$8408,Sheet3!$B$1,Sheet4!$B$2:$B$8408,Sheet3!$A$3)","v":0},{"$f":"+SUMIFS(Sheet4!$FV$2:$FV$8408,Sheet4!$C$2:$C$8408,Sheet3!$B16,Sheet4!$D$2:$D$8408,Sheet3!S$3,Sheet4!$E$2:$E$8408,Sheet3!S$4,Sheet4!$A$2:$A$8408,Sheet3!$B$1,Sheet4!$B$2:$B$8408,Sheet3!$A$3)","v":0},{"$f":"+SUMIFS(Sheet4!$FV$2:$FV$8408,Sheet4!$C$2:$C$8408,Sheet3!$B16,Sheet4!$D$2:$D$8408,Sheet3!T$3,Sheet4!$E$2:$E$8408,Sheet3!T$4,Sheet4!$A$2:$A$8408,Sheet3!$B$1,Sheet4!$B$2:$B$8408,Sheet3!$A$3)","v":0},{"$f":"+SUMIFS(Sheet4!$FV$2:$FV$8408,Sheet4!$C$2:$C$8408,Sheet3!$B16,Sheet4!$D$2:$D$8408,Sheet3!U$3,Sheet4!$E$2:$E$8408,Sheet3!U$4,Sheet4!$A$2:$A$8408,Sheet3!$B$1,Sheet4!$B$2:$B$8408,Sheet3!$A$3)","v":0},{"$f":"+SUMIFS(Sheet4!$FV$2:$FV$8408,Sheet4!$C$2:$C$8408,Sheet3!$B16,Sheet4!$D$2:$D$8408,Sheet3!V$3,Sheet4!$E$2:$E$8408,Sheet3!V$4,Sheet4!$A$2:$A$8408,Sheet3!$B$1,Sheet4!$B$2:$B$8408,Sheet3!$A$3)","v":0},{"$f":"+SUMIFS(Sheet4!$FV$2:$FV$8408,Sheet4!$C$2:$C$8408,Sheet3!$B16,Sheet4!$D$2:$D$8408,Sheet3!W$3,Sheet4!$E$2:$E$8408,Sheet3!W$4,Sheet4!$A$2:$A$8408,Sheet3!$B$1,Sheet4!$B$2:$B$8408,Sheet3!$A$3)","v":0},{"$f":"+SUMIFS(Sheet4!$FV$2:$FV$8408,Sheet4!$C$2:$C$8408,Sheet3!$B16,Sheet4!$D$2:$D$8408,Sheet3!X$3,Sheet4!$E$2:$E$8408,Sheet3!X$4,Sheet4!$A$2:$A$8408,Sheet3!$B$1,Sheet4!$B$2:$B$8408,Sheet3!$A$3)","v":0},{"$f":"+SUMIFS(Sheet4!$FV$2:$FV$8408,Sheet4!$C$2:$C$8408,Sheet3!$B16,Sheet4!$D$2:$D$8408,Sheet3!Y$3,Sheet4!$E$2:$E$8408,Sheet3!Y$4,Sheet4!$A$2:$A$8408,Sheet3!$B$1,Sheet4!$B$2:$B$8408,Sheet3!$A$3)","v":0},{"$f":"+SUMIFS(Sheet4!$FV$2:$FV$8408,Sheet4!$C$2:$C$8408,Sheet3!$B16,Sheet4!$D$2:$D$8408,Sheet3!Z$3,Sheet4!$E$2:$E$8408,Sheet3!Z$4,Sheet4!$A$2:$A$8408,Sheet3!$B$1,Sheet4!$B$2:$B$8408,Sheet3!$A$3)","v":0},{"$f":"+SUMIFS(Sheet4!$FV$2:$FV$8408,Sheet4!$C$2:$C$8408,Sheet3!$B16,Sheet4!$D$2:$D$8408,Sheet3!AA$3,Sheet4!$E$2:$E$8408,Sheet3!AA$4,Sheet4!$A$2:$A$8408,Sheet3!$B$1,Sheet4!$B$2:$B$8408,Sheet3!$A$3)","v":0},{"$f":"+SUMIFS(Sheet4!$FV$2:$FV$8408,Sheet4!$C$2:$C$8408,Sheet3!$B16,Sheet4!$D$2:$D$8408,Sheet3!AB$3,Sheet4!$E$2:$E$8408,Sheet3!AB$4,Sheet4!$A$2:$A$8408,Sheet3!$B$1,Sheet4!$B$2:$B$8408,Sheet3!$A$3)","v":0},{"$f":"+SUMIFS(Sheet4!$FV$2:$FV$8408,Sheet4!$C$2:$C$8408,Sheet3!$B16,Sheet4!$D$2:$D$8408,Sheet3!AC$3,Sheet4!$E$2:$E$8408,Sheet3!AC$4,Sheet4!$A$2:$A$8408,Sheet3!$B$1,Sheet4!$B$2:$B$8408,Sheet3!$A$3)","v":115},{"$f":"+SUMIFS(Sheet4!$FV$2:$FV$8408,Sheet4!$C$2:$C$8408,Sheet3!$B16,Sheet4!$D$2:$D$8408,Sheet3!AD$3,Sheet4!$E$2:$E$8408,Sheet3!AD$4,Sheet4!$A$2:$A$8408,Sheet3!$B$1,Sheet4!$B$2:$B$8408,Sheet3!$A$3)","v":79},{"$f":"+SUMIFS(Sheet4!$FV$2:$FV$8408,Sheet4!$C$2:$C$8408,Sheet3!$B16,Sheet4!$D$2:$D$8408,Sheet3!AE$3,Sheet4!$E$2:$E$8408,Sheet3!AE$4,Sheet4!$A$2:$A$8408,Sheet3!$B$1,Sheet4!$B$2:$B$8408,Sheet3!$A$3)","v":4},{"$f":"+SUMIFS(Sheet4!$FV$2:$FV$8408,Sheet4!$C$2:$C$8408,Sheet3!$B16,Sheet4!$D$2:$D$8408,Sheet3!AF$3,Sheet4!$E$2:$E$8408,Sheet3!AF$4,Sheet4!$A$2:$A$8408,Sheet3!$B$1,Sheet4!$B$2:$B$8408,Sheet3!$A$3)","v":0},{"$f":"+SUMIFS(Sheet4!$FV$2:$FV$8408,Sheet4!$C$2:$C$8408,Sheet3!$B16,Sheet4!$D$2:$D$8408,Sheet3!AG$3,Sheet4!$E$2:$E$8408,Sheet3!AG$4,Sheet4!$A$2:$A$8408,Sheet3!$B$1,Sheet4!$B$2:$B$8408,Sheet3!$A$3)","v":0},{"$f":"+SUMIFS(Sheet4!$FV$2:$FV$8408,Sheet4!$C$2:$C$8408,Sheet3!$B16,Sheet4!$D$2:$D$8408,Sheet3!AH$3,Sheet4!$E$2:$E$8408,Sheet3!AH$4,Sheet4!$A$2:$A$8408,Sheet3!$B$1,Sheet4!$B$2:$B$8408,Sheet3!$A$3)","v":62},{"$f":"+SUMIFS(Sheet4!$FV$2:$FV$8408,Sheet4!$C$2:$C$8408,Sheet3!$B16,Sheet4!$D$2:$D$8408,Sheet3!AI$3,Sheet4!$E$2:$E$8408,Sheet3!AI$4,Sheet4!$A$2:$A$8408,Sheet3!$B$1,Sheet4!$B$2:$B$8408,Sheet3!$A$3)","v":149},{"$f":"+SUMIFS(Sheet4!$FV$2:$FV$8408,Sheet4!$C$2:$C$8408,Sheet3!$B16,Sheet4!$D$2:$D$8408,Sheet3!AJ$3,Sheet4!$E$2:$E$8408,Sheet3!AJ$4,Sheet4!$A$2:$A$8408,Sheet3!$B$1,Sheet4!$B$2:$B$8408,Sheet3!$A$3)","v":69},{"$f":"+SUMIFS(Sheet4!$FV$2:$FV$8408,Sheet4!$C$2:$C$8408,Sheet3!$B16,Sheet4!$D$2:$D$8408,Sheet3!AK$3,Sheet4!$E$2:$E$8408,Sheet3!AK$4,Sheet4!$A$2:$A$8408,Sheet3!$B$1,Sheet4!$B$2:$B$8408,Sheet3!$A$3)","v":0},{"$f":"+SUMIFS(Sheet4!$FV$2:$FV$8408,Sheet4!$C$2:$C$8408,Sheet3!$B16,Sheet4!$D$2:$D$8408,Sheet3!AL$3,Sheet4!$E$2:$E$8408,Sheet3!AL$4,Sheet4!$A$2:$A$8408,Sheet3!$B$1,Sheet4!$B$2:$B$8408,Sheet3!$A$3)","v":0},{"$f":"+SUMIFS(Sheet4!$FV$2:$FV$8408,Sheet4!$C$2:$C$8408,Sheet3!$B16,Sheet4!$D$2:$D$8408,Sheet3!AM$3,Sheet4!$E$2:$E$8408,Sheet3!AM$4,Sheet4!$A$2:$A$8408,Sheet3!$B$1,Sheet4!$B$2:$B$8408,Sheet3!$A$3)","v":199},{"$f":"+SUMIFS(Sheet4!$FV$2:$FV$8408,Sheet4!$C$2:$C$8408,Sheet3!$B16,Sheet4!$D$2:$D$8408,Sheet3!AN$3,Sheet4!$E$2:$E$8408,Sheet3!AN$4,Sheet4!$A$2:$A$8408,Sheet3!$B$1,Sheet4!$B$2:$B$8408,Sheet3!$A$3)","v":400},{"$f":"+SUMIFS(Sheet4!$FV$2:$FV$8408,Sheet4!$C$2:$C$8408,Sheet3!$B16,Sheet4!$D$2:$D$8408,Sheet3!AO$3,Sheet4!$E$2:$E$8408,Sheet3!AO$4,Sheet4!$A$2:$A$8408,Sheet3!$B$1,Sheet4!$B$2:$B$8408,Sheet3!$A$3)","v":103},{"$f":"+SUMIFS(Sheet4!$FV$2:$FV$8408,Sheet4!$C$2:$C$8408,Sheet3!$B16,Sheet4!$D$2:$D$8408,Sheet3!AP$3,Sheet4!$E$2:$E$8408,Sheet3!AP$4,Sheet4!$A$2:$A$8408,Sheet3!$B$1,Sheet4!$B$2:$B$8408,Sheet3!$A$3)","v":0},{"$f":"+SUMIFS(Sheet4!$FV$2:$FV$8408,Sheet4!$C$2:$C$8408,Sheet3!$B16,Sheet4!$D$2:$D$8408,Sheet3!AQ$3,Sheet4!$E$2:$E$8408,Sheet3!AQ$4,Sheet4!$A$2:$A$8408,Sheet3!$B$1,Sheet4!$B$2:$B$8408,Sheet3!$A$3)","v":0},{"$f":"+SUMIFS(Sheet4!$FV$2:$FV$8408,Sheet4!$C$2:$C$8408,Sheet3!$B16,Sheet4!$D$2:$D$8408,Sheet3!AR$3,Sheet4!$E$2:$E$8408,Sheet3!AR$4,Sheet4!$A$2:$A$8408,Sheet3!$B$1,Sheet4!$B$2:$B$8408,Sheet3!$A$3)","v":0},{"$f":"+SUMIFS(Sheet4!$FV$2:$FV$8408,Sheet4!$C$2:$C$8408,Sheet3!$B16,Sheet4!$D$2:$D$8408,Sheet3!AS$3,Sheet4!$E$2:$E$8408,Sheet3!AS$4,Sheet4!$A$2:$A$8408,Sheet3!$B$1,Sheet4!$B$2:$B$8408,Sheet3!$A$3)","v":0},{"$f":"+SUMIFS(Sheet4!$FV$2:$FV$8408,Sheet4!$C$2:$C$8408,Sheet3!$B16,Sheet4!$D$2:$D$8408,Sheet3!AT$3,Sheet4!$E$2:$E$8408,Sheet3!AT$4,Sheet4!$A$2:$A$8408,Sheet3!$B$1,Sheet4!$B$2:$B$8408,Sheet3!$A$3)","v":0},{"$f":"+SUMIFS(Sheet4!$FV$2:$FV$8408,Sheet4!$C$2:$C$8408,Sheet3!$B16,Sheet4!$D$2:$D$8408,Sheet3!AU$3,Sheet4!$E$2:$E$8408,Sheet3!AU$4,Sheet4!$A$2:$A$8408,Sheet3!$B$1,Sheet4!$B$2:$B$8408,Sheet3!$A$3)","v":0},{"$f":"+SUMIFS(Sheet4!$FV$2:$FV$8408,Sheet4!$C$2:$C$8408,Sheet3!$B16,Sheet4!$D$2:$D$8408,Sheet3!AV$3,Sheet4!$E$2:$E$8408,Sheet3!AV$4,Sheet4!$A$2:$A$8408,Sheet3!$B$1,Sheet4!$B$2:$B$8408,Sheet3!$A$3)","v":0},{"$f":"+SUMIFS(Sheet4!$FV$2:$FV$8408,Sheet4!$C$2:$C$8408,Sheet3!$B16,Sheet4!$D$2:$D$8408,Sheet3!AW$3,Sheet4!$E$2:$E$8408,Sheet3!AW$4,Sheet4!$A$2:$A$8408,Sheet3!$B$1,Sheet4!$B$2:$B$8408,Sheet3!$A$3)","v":119},{"$f":"+SUMIFS(Sheet4!$FV$2:$FV$8408,Sheet4!$C$2:$C$8408,Sheet3!$B16,Sheet4!$D$2:$D$8408,Sheet3!AX$3,Sheet4!$E$2:$E$8408,Sheet3!AX$4,Sheet4!$A$2:$A$8408,Sheet3!$B$1,Sheet4!$B$2:$B$8408,Sheet3!$A$3)","v":99},{"$f":"+SUMIFS(Sheet4!$FV$2:$FV$8408,Sheet4!$C$2:$C$8408,Sheet3!$B16,Sheet4!$D$2:$D$8408,Sheet3!AY$3,Sheet4!$E$2:$E$8408,Sheet3!AY$4,Sheet4!$A$2:$A$8408,Sheet3!$B$1,Sheet4!$B$2:$B$8408,Sheet3!$A$3)","v":24},{"$f":"+SUMIFS(Sheet4!$FV$2:$FV$8408,Sheet4!$C$2:$C$8408,Sheet3!$B16,Sheet4!$D$2:$D$8408,Sheet3!AZ$3,Sheet4!$E$2:$E$8408,Sheet3!AZ$4,Sheet4!$A$2:$A$8408,Sheet3!$B$1,Sheet4!$B$2:$B$8408,Sheet3!$A$3)","v":0},{"$f":"+SUMIFS(Sheet4!$FV$2:$FV$8408,Sheet4!$C$2:$C$8408,Sheet3!$B16,Sheet4!$D$2:$D$8408,Sheet3!BA$3,Sheet4!$E$2:$E$8408,Sheet3!BA$4,Sheet4!$A$2:$A$8408,Sheet3!$B$1,Sheet4!$B$2:$B$8408,Sheet3!$A$3)","v":0},{"$f":"+SUMIFS(Sheet4!$FV$2:$FV$8408,Sheet4!$C$2:$C$8408,Sheet3!$B16,Sheet4!$D$2:$D$8408,Sheet3!BB$3,Sheet4!$E$2:$E$8408,Sheet3!BB$4,Sheet4!$A$2:$A$8408,Sheet3!$B$1,Sheet4!$B$2:$B$8408,Sheet3!$A$3)","v":0},{"$f":"+SUMIFS(Sheet4!$FV$2:$FV$8408,Sheet4!$C$2:$C$8408,Sheet3!$B16,Sheet4!$D$2:$D$8408,Sheet3!BC$3,Sheet4!$E$2:$E$8408,Sheet3!BC$4,Sheet4!$A$2:$A$8408,Sheet3!$B$1,Sheet4!$B$2:$B$8408,Sheet3!$A$3)","v":4},{"$f":"+SUMIFS(Sheet4!$FV$2:$FV$8408,Sheet4!$C$2:$C$8408,Sheet3!$B16,Sheet4!$D$2:$D$8408,Sheet3!BD$3,Sheet4!$E$2:$E$8408,Sheet3!BD$4,Sheet4!$A$2:$A$8408,Sheet3!$B$1,Sheet4!$B$2:$B$8408,Sheet3!$A$3)","v":0},{"$f":"+SUMIFS(Sheet4!$FV$2:$FV$8408,Sheet4!$C$2:$C$8408,Sheet3!$B16,Sheet4!$D$2:$D$8408,Sheet3!BE$3,Sheet4!$E$2:$E$8408,Sheet3!BE$4,Sheet4!$A$2:$A$8408,Sheet3!$B$1,Sheet4!$B$2:$B$8408,Sheet3!$A$3)","v":0},{"$f":"+SUMIFS(Sheet4!$FV$2:$FV$8408,Sheet4!$C$2:$C$8408,Sheet3!$B16,Sheet4!$D$2:$D$8408,Sheet3!BF$3,Sheet4!$E$2:$E$8408,Sheet3!BF$4,Sheet4!$A$2:$A$8408,Sheet3!$B$1,Sheet4!$B$2:$B$8408,Sheet3!$A$3)","v":0},{"$f":"+SUMIFS(Sheet4!$FV$2:$FV$8408,Sheet4!$C$2:$C$8408,Sheet3!$B16,Sheet4!$D$2:$D$8408,Sheet3!BG$3,Sheet4!$E$2:$E$8408,Sheet3!BG$4,Sheet4!$A$2:$A$8408,Sheet3!$B$1,Sheet4!$B$2:$B$8408,Sheet3!$A$3)","v":5},{"$f":"+SUMIFS(Sheet4!$FV$2:$FV$8408,Sheet4!$C$2:$C$8408,Sheet3!$B16,Sheet4!$D$2:$D$8408,Sheet3!BH$3,Sheet4!$E$2:$E$8408,Sheet3!BH$4,Sheet4!$A$2:$A$8408,Sheet3!$B$1,Sheet4!$B$2:$B$8408,Sheet3!$A$3)","v":9},{"$f":"+SUMIFS(Sheet4!$FV$2:$FV$8408,Sheet4!$C$2:$C$8408,Sheet3!$B16,Sheet4!$D$2:$D$8408,Sheet3!BI$3,Sheet4!$E$2:$E$8408,Sheet3!BI$4,Sheet4!$A$2:$A$8408,Sheet3!$B$1,Sheet4!$B$2:$B$8408,Sheet3!$A$3)","v":5},{"$f":"+SUMIFS(Sheet4!$FV$2:$FV$8408,Sheet4!$C$2:$C$8408,Sheet3!$B16,Sheet4!$D$2:$D$8408,Sheet3!BJ$3,Sheet4!$E$2:$E$8408,Sheet3!BJ$4,Sheet4!$A$2:$A$8408,Sheet3!$B$1,Sheet4!$B$2:$B$8408,Sheet3!$A$3)","v":0},{"$f":"+SUMIFS(Sheet4!$FV$2:$FV$8408,Sheet4!$C$2:$C$8408,Sheet3!$B16,Sheet4!$D$2:$D$8408,Sheet3!BK$3,Sheet4!$E$2:$E$8408,Sheet3!BK$4,Sheet4!$A$2:$A$8408,Sheet3!$B$1,Sheet4!$B$2:$B$8408,Sheet3!$A$3)","v":0},{"$f":"+SUMIFS(Sheet4!$FV$2:$FV$8408,Sheet4!$C$2:$C$8408,Sheet3!$B16,Sheet4!$D$2:$D$8408,Sheet3!BL$3,Sheet4!$E$2:$E$8408,Sheet3!BL$4,Sheet4!$A$2:$A$8408,Sheet3!$B$1,Sheet4!$B$2:$B$8408,Sheet3!$A$3)","v":71},{"$f":"+SUMIFS(Sheet4!$FV$2:$FV$8408,Sheet4!$C$2:$C$8408,Sheet3!$B16,Sheet4!$D$2:$D$8408,Sheet3!BM$3,Sheet4!$E$2:$E$8408,Sheet3!BM$4,Sheet4!$A$2:$A$8408,Sheet3!$B$1,Sheet4!$B$2:$B$8408,Sheet3!$A$3)","v":24},{"$f":"+SUMIFS(Sheet4!$FV$2:$FV$8408,Sheet4!$C$2:$C$8408,Sheet3!$B16,Sheet4!$D$2:$D$8408,Sheet3!BN$3,Sheet4!$E$2:$E$8408,Sheet3!BN$4,Sheet4!$A$2:$A$8408,Sheet3!$B$1,Sheet4!$B$2:$B$8408,Sheet3!$A$3)","v":3},{"$f":"+SUMIFS(Sheet4!$FV$2:$FV$8408,Sheet4!$C$2:$C$8408,Sheet3!$B16,Sheet4!$D$2:$D$8408,Sheet3!BO$3,Sheet4!$E$2:$E$8408,Sheet3!BO$4,Sheet4!$A$2:$A$8408,Sheet3!$B$1,Sheet4!$B$2:$B$8408,Sheet3!$A$3)","v":0},{"$f":"+SUMIFS(Sheet4!$FV$2:$FV$8408,Sheet4!$C$2:$C$8408,Sheet3!$B16,Sheet4!$D$2:$D$8408,Sheet3!BP$3,Sheet4!$E$2:$E$8408,Sheet3!BP$4,Sheet4!$A$2:$A$8408,Sheet3!$B$1,Sheet4!$B$2:$B$8408,Sheet3!$A$3)","v":0},{"$f":"+SUMIFS(Sheet4!$FV$2:$FV$8408,Sheet4!$C$2:$C$8408,Sheet3!$B16,Sheet4!$D$2:$D$8408,Sheet3!BQ$3,Sheet4!$E$2:$E$8408,Sheet3!BQ$4,Sheet4!$A$2:$A$8408,Sheet3!$B$1,Sheet4!$B$2:$B$8408,Sheet3!$A$3)","v":7},{"$f":"+SUMIFS(Sheet4!$FV$2:$FV$8408,Sheet4!$C$2:$C$8408,Sheet3!$B16,Sheet4!$D$2:$D$8408,Sheet3!BR$3,Sheet4!$E$2:$E$8408,Sheet3!BR$4,Sheet4!$A$2:$A$8408,Sheet3!$B$1,Sheet4!$B$2:$B$8408,Sheet3!$A$3)","v":9},{"$f":"+SUMIFS(Sheet4!$FV$2:$FV$8408,Sheet4!$C$2:$C$8408,Sheet3!$B16,Sheet4!$D$2:$D$8408,Sheet3!BS$3,Sheet4!$E$2:$E$8408,Sheet3!BS$4,Sheet4!$A$2:$A$8408,Sheet3!$B$1,Sheet4!$B$2:$B$8408,Sheet3!$A$3)","v":6},{"$f":"+SUMIFS(Sheet4!$FV$2:$FV$8408,Sheet4!$C$2:$C$8408,Sheet3!$B16,Sheet4!$D$2:$D$8408,Sheet3!BT$3,Sheet4!$E$2:$E$8408,Sheet3!BT$4,Sheet4!$A$2:$A$8408,Sheet3!$B$1,Sheet4!$B$2:$B$8408,Sheet3!$A$3)","v":0},{"$f":"+SUMIFS(Sheet4!$FV$2:$FV$8408,Sheet4!$C$2:$C$8408,Sheet3!$B16,Sheet4!$D$2:$D$8408,Sheet3!BU$3,Sheet4!$E$2:$E$8408,Sheet3!BU$4,Sheet4!$A$2:$A$8408,Sheet3!$B$1,Sheet4!$B$2:$B$8408,Sheet3!$A$3)","v":0},{"$f":"+SUMIFS(Sheet4!$FV$2:$FV$8408,Sheet4!$C$2:$C$8408,Sheet3!$B16,Sheet4!$D$2:$D$8408,Sheet3!BV$3,Sheet4!$E$2:$E$8408,Sheet3!BV$4,Sheet4!$A$2:$A$8408,Sheet3!$B$1,Sheet4!$B$2:$B$8408,Sheet3!$A$3)","v":450},{"$f":"+SUMIFS(Sheet4!$FV$2:$FV$8408,Sheet4!$C$2:$C$8408,Sheet3!$B16,Sheet4!$D$2:$D$8408,Sheet3!BW$3,Sheet4!$E$2:$E$8408,Sheet3!BW$4,Sheet4!$A$2:$A$8408,Sheet3!$B$1,Sheet4!$B$2:$B$8408,Sheet3!$A$3)","v":28},{"$f":"+SUMIFS(Sheet4!$FV$2:$FV$8408,Sheet4!$C$2:$C$8408,Sheet3!$B16,Sheet4!$D$2:$D$8408,Sheet3!BX$3,Sheet4!$E$2:$E$8408,Sheet3!BX$4,Sheet4!$A$2:$A$8408,Sheet3!$B$1,Sheet4!$B$2:$B$8408,Sheet3!$A$3)","v":3},{"$f":"+SUMIFS(Sheet4!$FV$2:$FV$8408,Sheet4!$C$2:$C$8408,Sheet3!$B16,Sheet4!$D$2:$D$8408,Sheet3!BY$3,Sheet4!$E$2:$E$8408,Sheet3!BY$4,Sheet4!$A$2:$A$8408,Sheet3!$B$1,Sheet4!$B$2:$B$8408,Sheet3!$A$3)","v":0},{"$f":"+SUMIFS(Sheet4!$FV$2:$FV$8408,Sheet4!$C$2:$C$8408,Sheet3!$B16,Sheet4!$D$2:$D$8408,Sheet3!BZ$3,Sheet4!$E$2:$E$8408,Sheet3!BZ$4,Sheet4!$A$2:$A$8408,Sheet3!$B$1,Sheet4!$B$2:$B$8408,Sheet3!$A$3)","v":0},{"$f":"+SUMIFS(Sheet4!$FV$2:$FV$8408,Sheet4!$C$2:$C$8408,Sheet3!$B16,Sheet4!$D$2:$D$8408,Sheet3!CA$3,Sheet4!$E$2:$E$8408,Sheet3!CA$4,Sheet4!$A$2:$A$8408,Sheet3!$B$1,Sheet4!$B$2:$B$8408,Sheet3!$A$3)","v":52},{"$f":"+SUMIFS(Sheet4!$FV$2:$FV$8408,Sheet4!$C$2:$C$8408,Sheet3!$B16,Sheet4!$D$2:$D$8408,Sheet3!CB$3,Sheet4!$E$2:$E$8408,Sheet3!CB$4,Sheet4!$A$2:$A$8408,Sheet3!$B$1,Sheet4!$B$2:$B$8408,Sheet3!$A$3)","v":21},{"$f":"+SUMIFS(Sheet4!$FV$2:$FV$8408,Sheet4!$C$2:$C$8408,Sheet3!$B16,Sheet4!$D$2:$D$8408,Sheet3!CC$3,Sheet4!$E$2:$E$8408,Sheet3!CC$4,Sheet4!$A$2:$A$8408,Sheet3!$B$1,Sheet4!$B$2:$B$8408,Sheet3!$A$3)","v":0},{"$f":"+SUMIFS(Sheet4!$FV$2:$FV$8408,Sheet4!$C$2:$C$8408,Sheet3!$B16,Sheet4!$D$2:$D$8408,Sheet3!CD$3,Sheet4!$E$2:$E$8408,Sheet3!CD$4,Sheet4!$A$2:$A$8408,Sheet3!$B$1,Sheet4!$B$2:$B$8408,Sheet3!$A$3)","v":0},{"$f":"+SUMIFS(Sheet4!$FV$2:$FV$8408,Sheet4!$C$2:$C$8408,Sheet3!$B16,Sheet4!$D$2:$D$8408,Sheet3!CE$3,Sheet4!$E$2:$E$8408,Sheet3!CE$4,Sheet4!$A$2:$A$8408,Sheet3!$B$1,Sheet4!$B$2:$B$8408,Sheet3!$A$3)","v":0},{"$f":"+SUMIFS(Sheet4!$FV$2:$FV$8408,Sheet4!$C$2:$C$8408,Sheet3!$B16,Sheet4!$D$2:$D$8408,Sheet3!CF$3,Sheet4!$E$2:$E$8408,Sheet3!CF$4,Sheet4!$A$2:$A$8408,Sheet3!$B$1,Sheet4!$B$2:$B$8408,Sheet3!$A$3)","v":150},{"$f":"+SUMIFS(Sheet4!$FV$2:$FV$8408,Sheet4!$C$2:$C$8408,Sheet3!$B16,Sheet4!$D$2:$D$8408,Sheet3!CG$3,Sheet4!$E$2:$E$8408,Sheet3!CG$4,Sheet4!$A$2:$A$8408,Sheet3!$B$1,Sheet4!$B$2:$B$8408,Sheet3!$A$3)","v":44},{"$f":"+SUMIFS(Sheet4!$FV$2:$FV$8408,Sheet4!$C$2:$C$8408,Sheet3!$B16,Sheet4!$D$2:$D$8408,Sheet3!CH$3,Sheet4!$E$2:$E$8408,Sheet3!CH$4,Sheet4!$A$2:$A$8408,Sheet3!$B$1,Sheet4!$B$2:$B$8408,Sheet3!$A$3)","v":12},{"$f":"+SUMIFS(Sheet4!$FV$2:$FV$8408,Sheet4!$C$2:$C$8408,Sheet3!$B16,Sheet4!$D$2:$D$8408,Sheet3!CI$3,Sheet4!$E$2:$E$8408,Sheet3!CI$4,Sheet4!$A$2:$A$8408,Sheet3!$B$1,Sheet4!$B$2:$B$8408,Sheet3!$A$3)","v":0},{"$f":"+SUMIFS(Sheet4!$FV$2:$FV$8408,Sheet4!$C$2:$C$8408,Sheet3!$B16,Sheet4!$D$2:$D$8408,Sheet3!CJ$3,Sheet4!$E$2:$E$8408,Sheet3!CJ$4,Sheet4!$A$2:$A$8408,Sheet3!$B$1,Sheet4!$B$2:$B$8408,Sheet3!$A$3)","v":0},{"$f":"+SUMIFS(Sheet4!$FV$2:$FV$8408,Sheet4!$C$2:$C$8408,Sheet3!$B16,Sheet4!$D$2:$D$8408,Sheet3!CK$3,Sheet4!$E$2:$E$8408,Sheet3!CK$4,Sheet4!$A$2:$A$8408,Sheet3!$B$1,Sheet4!$B$2:$B$8408,Sheet3!$A$3)","v":0},{"$f":"+SUMIFS(Sheet4!$FV$2:$FV$8408,Sheet4!$C$2:$C$8408,Sheet3!$B16,Sheet4!$D$2:$D$8408,Sheet3!CL$3,Sheet4!$E$2:$E$8408,Sheet3!CL$4,Sheet4!$A$2:$A$8408,Sheet3!$B$1,Sheet4!$B$2:$B$8408,Sheet3!$A$3)","v":0},{"$f":"+SUMIFS(Sheet4!$FV$2:$FV$8408,Sheet4!$C$2:$C$8408,Sheet3!$B16,Sheet4!$D$2:$D$8408,Sheet3!CM$3,Sheet4!$E$2:$E$8408,Sheet3!CM$4,Sheet4!$A$2:$A$8408,Sheet3!$B$1,Sheet4!$B$2:$B$8408,Sheet3!$A$3)","v":0},{"$f":"+SUMIFS(Sheet4!$FV$2:$FV$8408,Sheet4!$C$2:$C$8408,Sheet3!$B16,Sheet4!$D$2:$D$8408,Sheet3!CN$3,Sheet4!$E$2:$E$8408,Sheet3!CN$4,Sheet4!$A$2:$A$8408,Sheet3!$B$1,Sheet4!$B$2:$B$8408,Sheet3!$A$3)","v":0},{"$f":"+SUMIFS(Sheet4!$FV$2:$FV$8408,Sheet4!$C$2:$C$8408,Sheet3!$B16,Sheet4!$D$2:$D$8408,Sheet3!CO$3,Sheet4!$E$2:$E$8408,Sheet3!CO$4,Sheet4!$A$2:$A$8408,Sheet3!$B$1,Sheet4!$B$2:$B$8408,Sheet3!$A$3)","v":0},{"$f":"+SUMIFS(Sheet4!$FV$2:$FV$8408,Sheet4!$C$2:$C$8408,Sheet3!$B16,Sheet4!$D$2:$D$8408,Sheet3!CP$3,Sheet4!$E$2:$E$8408,Sheet3!CP$4,Sheet4!$A$2:$A$8408,Sheet3!$B$1,Sheet4!$B$2:$B$8408,Sheet3!$A$3)","v":14},{"$f":"+SUMIFS(Sheet4!$FV$2:$FV$8408,Sheet4!$C$2:$C$8408,Sheet3!$B16,Sheet4!$D$2:$D$8408,Sheet3!CQ$3,Sheet4!$E$2:$E$8408,Sheet3!CQ$4,Sheet4!$A$2:$A$8408,Sheet3!$B$1,Sheet4!$B$2:$B$8408,Sheet3!$A$3)","v":8},{"$f":"+SUMIFS(Sheet4!$FV$2:$FV$8408,Sheet4!$C$2:$C$8408,Sheet3!$B16,Sheet4!$D$2:$D$8408,Sheet3!CR$3,Sheet4!$E$2:$E$8408,Sheet3!CR$4,Sheet4!$A$2:$A$8408,Sheet3!$B$1,Sheet4!$B$2:$B$8408,Sheet3!$A$3)","v":0},{"$f":"+SUMIFS(Sheet4!$FV$2:$FV$8408,Sheet4!$C$2:$C$8408,Sheet3!$B16,Sheet4!$D$2:$D$8408,Sheet3!CS$3,Sheet4!$E$2:$E$8408,Sheet3!CS$4,Sheet4!$A$2:$A$8408,Sheet3!$B$1,Sheet4!$B$2:$B$8408,Sheet3!$A$3)","v":0},{"$f":"+SUMIFS(Sheet4!$FV$2:$FV$8408,Sheet4!$C$2:$C$8408,Sheet3!$B16,Sheet4!$D$2:$D$8408,Sheet3!CT$3,Sheet4!$E$2:$E$8408,Sheet3!CT$4,Sheet4!$A$2:$A$8408,Sheet3!$B$1,Sheet4!$B$2:$B$8408,Sheet3!$A$3)","v":0},{"$f":"+IF(SUMIFS(Sheet4!$FW$2:$FW$8408,Sheet4!$C$2:$C$8408,Sheet3!$B16,Sheet4!$D$2:$D$8408,Sheet3!CU$3,Sheet4!$A$2:$A$8408,Sheet3!$B$1,Sheet4!$B$2:$B$8408,Sheet3!$A$3)<3,0,SUMIFS(Sheet4!$FW$2:$FW$8408,Sheet4!$C$2:$C$8408,Sheet3!$B16,Sheet4!$D$2:$D$8408,Sheet3!CU$3,Sheet4!$A$2:$A$8408,Sheet3!$B$1,Sheet4!$B$2:$B$8408,Sheet3!$A$3))","v":75},{"$f":"+IF(SUMIFS(Sheet4!$FW$2:$FW$8408,Sheet4!$C$2:$C$8408,Sheet3!$B16,Sheet4!$D$2:$D$8408,Sheet3!CV$3,Sheet4!$A$2:$A$8408,Sheet3!$B$1,Sheet4!$B$2:$B$8408,Sheet3!$A$3)<3,0,SUMIFS(Sheet4!$FW$2:$FW$8408,Sheet4!$C$2:$C$8408,Sheet3!$B16,Sheet4!$D$2:$D$8408,Sheet3!CV$3,Sheet4!$A$2:$A$8408,Sheet3!$B$1,Sheet4!$B$2:$B$8408,Sheet3!$A$3))","v":14},{"$f":"+IF(SUMIFS(Sheet4!$FW$2:$FW$8408,Sheet4!$C$2:$C$8408,Sheet3!$B16,Sheet4!$D$2:$D$8408,Sheet3!CW$3,Sheet4!$A$2:$A$8408,Sheet3!$B$1,Sheet4!$B$2:$B$8408,Sheet3!$A$3)<3,0,SUMIFS(Sheet4!$FW$2:$FW$8408,Sheet4!$C$2:$C$8408,Sheet3!$B16,Sheet4!$D$2:$D$8408,Sheet3!CW$3,Sheet4!$A$2:$A$8408,Sheet3!$B$1,Sheet4!$B$2:$B$8408,Sheet3!$A$3))","v":69},{"$f":"+IF(SUMIFS(Sheet4!$FW$2:$FW$8408,Sheet4!$C$2:$C$8408,Sheet3!$B16,Sheet4!$D$2:$D$8408,Sheet3!CX$3,Sheet4!$A$2:$A$8408,Sheet3!$B$1,Sheet4!$B$2:$B$8408,Sheet3!$A$3)<3,0,SUMIFS(Sheet4!$FW$2:$FW$8408,Sheet4!$C$2:$C$8408,Sheet3!$B16,Sheet4!$D$2:$D$8408,Sheet3!CX$3,Sheet4!$A$2:$A$8408,Sheet3!$B$1,Sheet4!$B$2:$B$8408,Sheet3!$A$3))","v":0},{"$f":"+IF(SUMIFS(Sheet4!$FW$2:$FW$8408,Sheet4!$C$2:$C$8408,Sheet3!$B16,Sheet4!$D$2:$D$8408,Sheet3!CY$3,Sheet4!$A$2:$A$8408,Sheet3!$B$1,Sheet4!$B$2:$B$8408,Sheet3!$A$3)<3,0,SUMIFS(Sheet4!$FW$2:$FW$8408,Sheet4!$C$2:$C$8408,Sheet3!$B16,Sheet4!$D$2:$D$8408,Sheet3!CY$3,Sheet4!$A$2:$A$8408,Sheet3!$B$1,Sheet4!$B$2:$B$8408,Sheet3!$A$3))","v":3},{"$f":"+IF(SUMIFS(Sheet4!$FW$2:$FW$8408,Sheet4!$C$2:$C$8408,Sheet3!$B16,Sheet4!$D$2:$D$8408,Sheet3!CZ$3,Sheet4!$A$2:$A$8408,Sheet3!$B$1,Sheet4!$B$2:$B$8408,Sheet3!$A$3)<3,0,SUMIFS(Sheet4!$FW$2:$FW$8408,Sheet4!$C$2:$C$8408,Sheet3!$B16,Sheet4!$D$2:$D$8408,Sheet3!CZ$3,Sheet4!$A$2:$A$8408,Sheet3!$B$1,Sheet4!$B$2:$B$8408,Sheet3!$A$3))","v":201},{"$f":"+IF(SUMIFS(Sheet4!$FW$2:$FW$8408,Sheet4!$C$2:$C$8408,Sheet3!$B16,Sheet4!$D$2:$D$8408,Sheet3!DA$3,Sheet4!$A$2:$A$8408,Sheet3!$B$1,Sheet4!$B$2:$B$8408,Sheet3!$A$3)<3,0,SUMIFS(Sheet4!$FW$2:$FW$8408,Sheet4!$C$2:$C$8408,Sheet3!$B16,Sheet4!$D$2:$D$8408,Sheet3!DA$3,Sheet4!$A$2:$A$8408,Sheet3!$B$1,Sheet4!$B$2:$B$8408,Sheet3!$A$3))","v":283},{"$f":"+IF(SUMIFS(Sheet4!$FW$2:$FW$8408,Sheet4!$C$2:$C$8408,Sheet3!$B16,Sheet4!$D$2:$D$8408,Sheet3!DB$3,Sheet4!$A$2:$A$8408,Sheet3!$B$1,Sheet4!$B$2:$B$8408,Sheet3!$A$3)<3,0,SUMIFS(Sheet4!$FW$2:$FW$8408,Sheet4!$C$2:$C$8408,Sheet3!$B16,Sheet4!$D$2:$D$8408,Sheet3!DB$3,Sheet4!$A$2:$A$8408,Sheet3!$B$1,Sheet4!$B$2:$B$8408,Sheet3!$A$3))","v":703},{"$f":"+IF(SUMIFS(Sheet4!$FW$2:$FW$8408,Sheet4!$C$2:$C$8408,Sheet3!$B16,Sheet4!$D$2:$D$8408,Sheet3!DC$3,Sheet4!$A$2:$A$8408,Sheet3!$B$1,Sheet4!$B$2:$B$8408,Sheet3!$A$3)<3,0,SUMIFS(Sheet4!$FW$2:$FW$8408,Sheet4!$C$2:$C$8408,Sheet3!$B16,Sheet4!$D$2:$D$8408,Sheet3!DC$3,Sheet4!$A$2:$A$8408,Sheet3!$B$1,Sheet4!$B$2:$B$8408,Sheet3!$A$3))","v":3},{"$f":"+IF(SUMIFS(Sheet4!$FW$2:$FW$8408,Sheet4!$C$2:$C$8408,Sheet3!$B16,Sheet4!$D$2:$D$8408,Sheet3!DD$3,Sheet4!$A$2:$A$8408,Sheet3!$B$1,Sheet4!$B$2:$B$8408,Sheet3!$A$3)<3,0,SUMIFS(Sheet4!$FW$2:$FW$8408,Sheet4!$C$2:$C$8408,Sheet3!$B16,Sheet4!$D$2:$D$8408,Sheet3!DD$3,Sheet4!$A$2:$A$8408,Sheet3!$B$1,Sheet4!$B$2:$B$8408,Sheet3!$A$3))","v":248},{"$f":"+IF(SUMIFS(Sheet4!$FW$2:$FW$8408,Sheet4!$C$2:$C$8408,Sheet3!$B16,Sheet4!$D$2:$D$8408,Sheet3!DE$3,Sheet4!$A$2:$A$8408,Sheet3!$B$1,Sheet4!$B$2:$B$8408,Sheet3!$A$3)<3,0,SUMIFS(Sheet4!$FW$2:$FW$8408,Sheet4!$C$2:$C$8408,Sheet3!$B16,Sheet4!$D$2:$D$8408,Sheet3!DE$3,Sheet4!$A$2:$A$8408,Sheet3!$B$1,Sheet4!$B$2:$B$8408,Sheet3!$A$3))","v":7},{"$f":"+IF(SUMIFS(Sheet4!$FW$2:$FW$8408,Sheet4!$C$2:$C$8408,Sheet3!$B16,Sheet4!$D$2:$D$8408,Sheet3!DF$3,Sheet4!$A$2:$A$8408,Sheet3!$B$1,Sheet4!$B$2:$B$8408,Sheet3!$A$3)<3,0,SUMIFS(Sheet4!$FW$2:$FW$8408,Sheet4!$C$2:$C$8408,Sheet3!$B16,Sheet4!$D$2:$D$8408,Sheet3!DF$3,Sheet4!$A$2:$A$8408,Sheet3!$B$1,Sheet4!$B$2:$B$8408,Sheet3!$A$3))","v":24},{"$f":"+IF(SUMIFS(Sheet4!$FW$2:$FW$8408,Sheet4!$C$2:$C$8408,Sheet3!$B16,Sheet4!$D$2:$D$8408,Sheet3!DG$3,Sheet4!$A$2:$A$8408,Sheet3!$B$1,Sheet4!$B$2:$B$8408,Sheet3!$A$3)<3,0,SUMIFS(Sheet4!$FW$2:$FW$8408,Sheet4!$C$2:$C$8408,Sheet3!$B16,Sheet4!$D$2:$D$8408,Sheet3!DG$3,Sheet4!$A$2:$A$8408,Sheet3!$B$1,Sheet4!$B$2:$B$8408,Sheet3!$A$3))","v":100},{"$f":"+IF(SUMIFS(Sheet4!$FW$2:$FW$8408,Sheet4!$C$2:$C$8408,Sheet3!$B16,Sheet4!$D$2:$D$8408,Sheet3!DH$3,Sheet4!$A$2:$A$8408,Sheet3!$B$1,Sheet4!$B$2:$B$8408,Sheet3!$A$3)<3,0,SUMIFS(Sheet4!$FW$2:$FW$8408,Sheet4!$C$2:$C$8408,Sheet3!$B16,Sheet4!$D$2:$D$8408,Sheet3!DH$3,Sheet4!$A$2:$A$8408,Sheet3!$B$1,Sheet4!$B$2:$B$8408,Sheet3!$A$3))","v":23},{"$f":"+IF(SUMIFS(Sheet4!$FW$2:$FW$8408,Sheet4!$C$2:$C$8408,Sheet3!$B16,Sheet4!$D$2:$D$8408,Sheet3!DI$3,Sheet4!$A$2:$A$8408,Sheet3!$B$1,Sheet4!$B$2:$B$8408,Sheet3!$A$3)<3,0,SUMIFS(Sheet4!$FW$2:$FW$8408,Sheet4!$C$2:$C$8408,Sheet3!$B16,Sheet4!$D$2:$D$8408,Sheet3!DI$3,Sheet4!$A$2:$A$8408,Sheet3!$B$1,Sheet4!$B$2:$B$8408,Sheet3!$A$3))","v":482},{"$f":"+IF(SUMIFS(Sheet4!$FW$2:$FW$8408,Sheet4!$C$2:$C$8408,Sheet3!$B16,Sheet4!$D$2:$D$8408,Sheet3!DJ$3,Sheet4!$A$2:$A$8408,Sheet3!$B$1,Sheet4!$B$2:$B$8408,Sheet3!$A$3)<3,0,SUMIFS(Sheet4!$FW$2:$FW$8408,Sheet4!$C$2:$C$8408,Sheet3!$B16,Sheet4!$D$2:$D$8408,Sheet3!DJ$3,Sheet4!$A$2:$A$8408,Sheet3!$B$1,Sheet4!$B$2:$B$8408,Sheet3!$A$3))","v":77},{"$f":"+IF(SUMIFS(Sheet4!$FW$2:$FW$8408,Sheet4!$C$2:$C$8408,Sheet3!$B16,Sheet4!$D$2:$D$8408,Sheet3!DK$3,Sheet4!$A$2:$A$8408,Sheet3!$B$1,Sheet4!$B$2:$B$8408,Sheet3!$A$3)<3,0,SUMIFS(Sheet4!$FW$2:$FW$8408,Sheet4!$C$2:$C$8408,Sheet3!$B16,Sheet4!$D$2:$D$8408,Sheet3!DK$3,Sheet4!$A$2:$A$8408,Sheet3!$B$1,Sheet4!$B$2:$B$8408,Sheet3!$A$3))","v":209},{"$f":"+IF(SUMIFS(Sheet4!$FW$2:$FW$8408,Sheet4!$C$2:$C$8408,Sheet3!$B16,Sheet4!$D$2:$D$8408,Sheet3!DL$3,Sheet4!$A$2:$A$8408,Sheet3!$B$1,Sheet4!$B$2:$B$8408,Sheet3!$A$3)<3,0,SUMIFS(Sheet4!$FW$2:$FW$8408,Sheet4!$C$2:$C$8408,Sheet3!$B16,Sheet4!$D$2:$D$8408,Sheet3!DL$3,Sheet4!$A$2:$A$8408,Sheet3!$B$1,Sheet4!$B$2:$B$8408,Sheet3!$A$3))","v":0},{"$f":"+IF(SUMIFS(Sheet4!$FW$2:$FW$8408,Sheet4!$C$2:$C$8408,Sheet3!$B16,Sheet4!$D$2:$D$8408,Sheet3!DM$3,Sheet4!$A$2:$A$8408,Sheet3!$B$1,Sheet4!$B$2:$B$8408,Sheet3!$A$3)<3,0,SUMIFS(Sheet4!$FW$2:$FW$8408,Sheet4!$C$2:$C$8408,Sheet3!$B16,Sheet4!$D$2:$D$8408,Sheet3!DM$3,Sheet4!$A$2:$A$8408,Sheet3!$B$1,Sheet4!$B$2:$B$8408,Sheet3!$A$3))","v":22},{"$f":"+IF(SUMIFS(Sheet4!$FW$2:$FW$8408,Sheet4!$C$2:$C$8408,Sheet3!$B16,Sheet4!$E$2:$E$8408,Sheet3!DN$4,Sheet4!$A$2:$A$8408,Sheet3!$B$1,Sheet4!$B$2:$B$8408,Sheet3!$A$3)<3,0,SUMIFS(Sheet4!$FW$2:$FW$8408,Sheet4!$C$2:$C$8408,Sheet3!$B16,Sheet4!$E$2:$E$8408,Sheet3!DN$4,Sheet4!$A$2:$A$8408,Sheet3!$B$1,Sheet4!$B$2:$B$8408,Sheet3!$A$3))","v":1354},{"$f":"+IF(SUMIFS(Sheet4!$FW$2:$FW$8408,Sheet4!$C$2:$C$8408,Sheet3!$B16,Sheet4!$E$2:$E$8408,Sheet3!DO$4,Sheet4!$A$2:$A$8408,Sheet3!$B$1,Sheet4!$B$2:$B$8408,Sheet3!$A$3)<3,0,SUMIFS(Sheet4!$FW$2:$FW$8408,Sheet4!$C$2:$C$8408,Sheet3!$B16,Sheet4!$E$2:$E$8408,Sheet3!DO$4,Sheet4!$A$2:$A$8408,Sheet3!$B$1,Sheet4!$B$2:$B$8408,Sheet3!$A$3))","v":934},{"$f":"+IF(SUMIFS(Sheet4!$FW$2:$FW$8408,Sheet4!$C$2:$C$8408,Sheet3!$B16,Sheet4!$E$2:$E$8408,Sheet3!DP$4,Sheet4!$A$2:$A$8408,Sheet3!$B$1,Sheet4!$B$2:$B$8408,Sheet3!$A$3)<3,0,SUMIFS(Sheet4!$FW$2:$FW$8408,Sheet4!$C$2:$C$8408,Sheet3!$B16,Sheet4!$E$2:$E$8408,Sheet3!DP$4,Sheet4!$A$2:$A$8408,Sheet3!$B$1,Sheet4!$B$2:$B$8408,Sheet3!$A$3))","v":252},{"$f":"+IF(SUMIFS(Sheet4!$FW$2:$FW$8408,Sheet4!$C$2:$C$8408,Sheet3!$B16,Sheet4!$E$2:$E$8408,Sheet3!DQ$4,Sheet4!$A$2:$A$8408,Sheet3!$B$1,Sheet4!$B$2:$B$8408,Sheet3!$A$3)<3,0,SUMIFS(Sheet4!$FW$2:$FW$8408,Sheet4!$C$2:$C$8408,Sheet3!$B16,Sheet4!$E$2:$E$8408,Sheet3!DQ$4,Sheet4!$A$2:$A$8408,Sheet3!$B$1,Sheet4!$B$2:$B$8408,Sheet3!$A$3))","v":6},{"$f":"+IF(SUMIFS(Sheet4!$FW$2:$FW$8408,Sheet4!$C$2:$C$8408,Sheet3!$B16,Sheet4!$E$2:$E$8408,Sheet3!DR$4,Sheet4!$A$2:$A$8408,Sheet3!$B$1,Sheet4!$B$2:$B$8408,Sheet3!$A$3)<3,0,SUMIFS(Sheet4!$FW$2:$FW$8408,Sheet4!$C$2:$C$8408,Sheet3!$B16,Sheet4!$E$2:$E$8408,Sheet3!DR$4,Sheet4!$A$2:$A$8408,Sheet3!$B$1,Sheet4!$B$2:$B$8408,Sheet3!$A$3))","v":0}]
[3,"16D","Região de Aveiro",{"$f":"+SUMIFS(Sheet4!$FV$2:$FV$8408,Sheet4!$C$2:$C$8408,Sheet3!$B17,Sheet4!$D$2:$D$8408,Sheet3!D$3,Sheet4!$E$2:$E$8408,Sheet3!D$4,Sheet4!$A$2:$A$8408,Sheet3!$B$1,Sheet4!$B$2:$B$8408,Sheet3!$A$3)","v":10},{"$f":"+SUMIFS(Sheet4!$FV$2:$FV$8408,Sheet4!$C$2:$C$8408,Sheet3!$B17,Sheet4!$D$2:$D$8408,Sheet3!E$3,Sheet4!$E$2:$E$8408,Sheet3!E$4,Sheet4!$A$2:$A$8408,Sheet3!$B$1,Sheet4!$B$2:$B$8408,Sheet3!$A$3)","v":0},{"$f":"+SUMIFS(Sheet4!$FV$2:$FV$8408,Sheet4!$C$2:$C$8408,Sheet3!$B17,Sheet4!$D$2:$D$8408,Sheet3!F$3,Sheet4!$E$2:$E$8408,Sheet3!F$4,Sheet4!$A$2:$A$8408,Sheet3!$B$1,Sheet4!$B$2:$B$8408,Sheet3!$A$3)","v":0},{"$f":"+SUMIFS(Sheet4!$FV$2:$FV$8408,Sheet4!$C$2:$C$8408,Sheet3!$B17,Sheet4!$D$2:$D$8408,Sheet3!G$3,Sheet4!$E$2:$E$8408,Sheet3!G$4,Sheet4!$A$2:$A$8408,Sheet3!$B$1,Sheet4!$B$2:$B$8408,Sheet3!$A$3)","v":0},{"$f":"+SUMIFS(Sheet4!$FV$2:$FV$8408,Sheet4!$C$2:$C$8408,Sheet3!$B17,Sheet4!$D$2:$D$8408,Sheet3!H$3,Sheet4!$E$2:$E$8408,Sheet3!H$4,Sheet4!$A$2:$A$8408,Sheet3!$B$1,Sheet4!$B$2:$B$8408,Sheet3!$A$3)","v":0},{"$f":"+SUMIFS(Sheet4!$FV$2:$FV$8408,Sheet4!$C$2:$C$8408,Sheet3!$B17,Sheet4!$D$2:$D$8408,Sheet3!I$3,Sheet4!$E$2:$E$8408,Sheet3!I$4,Sheet4!$A$2:$A$8408,Sheet3!$B$1,Sheet4!$B$2:$B$8408,Sheet3!$A$3)","v":721},{"$f":"+SUMIFS(Sheet4!$FV$2:$FV$8408,Sheet4!$C$2:$C$8408,Sheet3!$B17,Sheet4!$D$2:$D$8408,Sheet3!J$3,Sheet4!$E$2:$E$8408,Sheet3!J$4,Sheet4!$A$2:$A$8408,Sheet3!$B$1,Sheet4!$B$2:$B$8408,Sheet3!$A$3)","v":63},{"$f":"+SUMIFS(Sheet4!$FV$2:$FV$8408,Sheet4!$C$2:$C$8408,Sheet3!$B17,Sheet4!$D$2:$D$8408,Sheet3!K$3,Sheet4!$E$2:$E$8408,Sheet3!K$4,Sheet4!$A$2:$A$8408,Sheet3!$B$1,Sheet4!$B$2:$B$8408,Sheet3!$A$3)","v":10},{"$f":"+SUMIFS(Sheet4!$FV$2:$FV$8408,Sheet4!$C$2:$C$8408,Sheet3!$B17,Sheet4!$D$2:$D$8408,Sheet3!L$3,Sheet4!$E$2:$E$8408,Sheet3!L$4,Sheet4!$A$2:$A$8408,Sheet3!$B$1,Sheet4!$B$2:$B$8408,Sheet3!$A$3)","v":0},{"$f":"+SUMIFS(Sheet4!$FV$2:$FV$8408,Sheet4!$C$2:$C$8408,Sheet3!$B17,Sheet4!$D$2:$D$8408,Sheet3!M$3,Sheet4!$E$2:$E$8408,Sheet3!M$4,Sheet4!$A$2:$A$8408,Sheet3!$B$1,Sheet4!$B$2:$B$8408,Sheet3!$A$3)","v":0},{"$f":"+SUMIFS(Sheet4!$FV$2:$FV$8408,Sheet4!$C$2:$C$8408,Sheet3!$B17,Sheet4!$D$2:$D$8408,Sheet3!N$3,Sheet4!$E$2:$E$8408,Sheet3!N$4,Sheet4!$A$2:$A$8408,Sheet3!$B$1,Sheet4!$B$2:$B$8408,Sheet3!$A$3)","v":577},{"$f":"+SUMIFS(Sheet4!$FV$2:$FV$8408,Sheet4!$C$2:$C$8408,Sheet3!$B17,Sheet4!$D$2:$D$8408,Sheet3!O$3,Sheet4!$E$2:$E$8408,Sheet3!O$4,Sheet4!$A$2:$A$8408,Sheet3!$B$1,Sheet4!$B$2:$B$8408,Sheet3!$A$3)","v":42},{"$f":"+SUMIFS(Sheet4!$FV$2:$FV$8408,Sheet4!$C$2:$C$8408,Sheet3!$B17,Sheet4!$D$2:$D$8408,Sheet3!P$3,Sheet4!$E$2:$E$8408,Sheet3!P$4,Sheet4!$A$2:$A$8408,Sheet3!$B$1,Sheet4!$B$2:$B$8408,Sheet3!$A$3)","v":0},{"$f":"+SUMIFS(Sheet4!$FV$2:$FV$8408,Sheet4!$C$2:$C$8408,Sheet3!$B17,Sheet4!$D$2:$D$8408,Sheet3!Q$3,Sheet4!$E$2:$E$8408,Sheet3!Q$4,Sheet4!$A$2:$A$8408,Sheet3!$B$1,Sheet4!$B$2:$B$8408,Sheet3!$A$3)","v":0},{"$f":"+SUMIFS(Sheet4!$FV$2:$FV$8408,Sheet4!$C$2:$C$8408,Sheet3!$B17,Sheet4!$D$2:$D$8408,Sheet3!R$3,Sheet4!$E$2:$E$8408,Sheet3!R$4,Sheet4!$A$2:$A$8408,Sheet3!$B$1,Sheet4!$B$2:$B$8408,Sheet3!$A$3)","v":0},{"$f":"+SUMIFS(Sheet4!$FV$2:$FV$8408,Sheet4!$C$2:$C$8408,Sheet3!$B17,Sheet4!$D$2:$D$8408,Sheet3!S$3,Sheet4!$E$2:$E$8408,Sheet3!S$4,Sheet4!$A$2:$A$8408,Sheet3!$B$1,Sheet4!$B$2:$B$8408,Sheet3!$A$3)","v":0},{"$f":"+SUMIFS(Sheet4!$FV$2:$FV$8408,Sheet4!$C$2:$C$8408,Sheet3!$B17,Sheet4!$D$2:$D$8408,Sheet3!T$3,Sheet4!$E$2:$E$8408,Sheet3!T$4,Sheet4!$A$2:$A$8408,Sheet3!$B$1,Sheet4!$B$2:$B$8408,Sheet3!$A$3)","v":4},{"$f":"+SUMIFS(Sheet4!$FV$2:$FV$8408,Sheet4!$C$2:$C$8408,Sheet3!$B17,Sheet4!$D$2:$D$8408,Sheet3!U$3,Sheet4!$E$2:$E$8408,Sheet3!U$4,Sheet4!$A$2:$A$8408,Sheet3!$B$1,Sheet4!$B$2:$B$8408,Sheet3!$A$3)","v":4},{"$f":"+SUMIFS(Sheet4!$FV$2:$FV$8408,Sheet4!$C$2:$C$8408,Sheet3!$B17,Sheet4!$D$2:$D$8408,Sheet3!V$3,Sheet4!$E$2:$E$8408,Sheet3!V$4,Sheet4!$A$2:$A$8408,Sheet3!$B$1,Sheet4!$B$2:$B$8408,Sheet3!$A$3)","v":0},{"$f":"+SUMIFS(Sheet4!$FV$2:$FV$8408,Sheet4!$C$2:$C$8408,Sheet3!$B17,Sheet4!$D$2:$D$8408,Sheet3!W$3,Sheet4!$E$2:$E$8408,Sheet3!W$4,Sheet4!$A$2:$A$8408,Sheet3!$B$1,Sheet4!$B$2:$B$8408,Sheet3!$A$3)","v":0},{"$f":"+SUMIFS(Sheet4!$FV$2:$FV$8408,Sheet4!$C$2:$C$8408,Sheet3!$B17,Sheet4!$D$2:$D$8408,Sheet3!X$3,Sheet4!$E$2:$E$8408,Sheet3!X$4,Sheet4!$A$2:$A$8408,Sheet3!$B$1,Sheet4!$B$2:$B$8408,Sheet3!$A$3)","v":0},{"$f":"+SUMIFS(Sheet4!$FV$2:$FV$8408,Sheet4!$C$2:$C$8408,Sheet3!$B17,Sheet4!$D$2:$D$8408,Sheet3!Y$3,Sheet4!$E$2:$E$8408,Sheet3!Y$4,Sheet4!$A$2:$A$8408,Sheet3!$B$1,Sheet4!$B$2:$B$8408,Sheet3!$A$3)","v":0},{"$f":"+SUMIFS(Sheet4!$FV$2:$FV$8408,Sheet4!$C$2:$C$8408,Sheet3!$B17,Sheet4!$D$2:$D$8408,Sheet3!Z$3,Sheet4!$E$2:$E$8408,Sheet3!Z$4,Sheet4!$A$2:$A$8408,Sheet3!$B$1,Sheet4!$B$2:$B$8408,Sheet3!$A$3)","v":0},{"$f":"+SUMIFS(Sheet4!$FV$2:$FV$8408,Sheet4!$C$2:$C$8408,Sheet3!$B17,Sheet4!$D$2:$D$8408,Sheet3!AA$3,Sheet4!$E$2:$E$8408,Sheet3!AA$4,Sheet4!$A$2:$A$8408,Sheet3!$B$1,Sheet4!$B$2:$B$8408,Sheet3!$A$3)","v":0},{"$f":"+SUMIFS(Sheet4!$FV$2:$FV$8408,Sheet4!$C$2:$C$8408,Sheet3!$B17,Sheet4!$D$2:$D$8408,Sheet3!AB$3,Sheet4!$E$2:$E$8408,Sheet3!AB$4,Sheet4!$A$2:$A$8408,Sheet3!$B$1,Sheet4!$B$2:$B$8408,Sheet3!$A$3)","v":0},{"$f":"+SUMIFS(Sheet4!$FV$2:$FV$8408,Sheet4!$C$2:$C$8408,Sheet3!$B17,Sheet4!$D$2:$D$8408,Sheet3!AC$3,Sheet4!$E$2:$E$8408,Sheet3!AC$4,Sheet4!$A$2:$A$8408,Sheet3!$B$1,Sheet4!$B$2:$B$8408,Sheet3!$A$3)","v":259},{"$f":"+SUMIFS(Sheet4!$FV$2:$FV$8408,Sheet4!$C$2:$C$8408,Sheet3!$B17,Sheet4!$D$2:$D$8408,Sheet3!AD$3,Sheet4!$E$2:$E$8408,Sheet3!AD$4,Sheet4!$A$2:$A$8408,Sheet3!$B$1,Sheet4!$B$2:$B$8408,Sheet3!$A$3)","v":13},{"$f":"+SUMIFS(Sheet4!$FV$2:$FV$8408,Sheet4!$C$2:$C$8408,Sheet3!$B17,Sheet4!$D$2:$D$8408,Sheet3!AE$3,Sheet4!$E$2:$E$8408,Sheet3!AE$4,Sheet4!$A$2:$A$8408,Sheet3!$B$1,Sheet4!$B$2:$B$8408,Sheet3!$A$3)","v":3},{"$f":"+SUMIFS(Sheet4!$FV$2:$FV$8408,Sheet4!$C$2:$C$8408,Sheet3!$B17,Sheet4!$D$2:$D$8408,Sheet3!AF$3,Sheet4!$E$2:$E$8408,Sheet3!AF$4,Sheet4!$A$2:$A$8408,Sheet3!$B$1,Sheet4!$B$2:$B$8408,Sheet3!$A$3)","v":0},{"$f":"+SUMIFS(Sheet4!$FV$2:$FV$8408,Sheet4!$C$2:$C$8408,Sheet3!$B17,Sheet4!$D$2:$D$8408,Sheet3!AG$3,Sheet4!$E$2:$E$8408,Sheet3!AG$4,Sheet4!$A$2:$A$8408,Sheet3!$B$1,Sheet4!$B$2:$B$8408,Sheet3!$A$3)","v":0},{"$f":"+SUMIFS(Sheet4!$FV$2:$FV$8408,Sheet4!$C$2:$C$8408,Sheet3!$B17,Sheet4!$D$2:$D$8408,Sheet3!AH$3,Sheet4!$E$2:$E$8408,Sheet3!AH$4,Sheet4!$A$2:$A$8408,Sheet3!$B$1,Sheet4!$B$2:$B$8408,Sheet3!$A$3)","v":43},{"$f":"+SUMIFS(Sheet4!$FV$2:$FV$8408,Sheet4!$C$2:$C$8408,Sheet3!$B17,Sheet4!$D$2:$D$8408,Sheet3!AI$3,Sheet4!$E$2:$E$8408,Sheet3!AI$4,Sheet4!$A$2:$A$8408,Sheet3!$B$1,Sheet4!$B$2:$B$8408,Sheet3!$A$3)","v":26},{"$f":"+SUMIFS(Sheet4!$FV$2:$FV$8408,Sheet4!$C$2:$C$8408,Sheet3!$B17,Sheet4!$D$2:$D$8408,Sheet3!AJ$3,Sheet4!$E$2:$E$8408,Sheet3!AJ$4,Sheet4!$A$2:$A$8408,Sheet3!$B$1,Sheet4!$B$2:$B$8408,Sheet3!$A$3)","v":7},{"$f":"+SUMIFS(Sheet4!$FV$2:$FV$8408,Sheet4!$C$2:$C$8408,Sheet3!$B17,Sheet4!$D$2:$D$8408,Sheet3!AK$3,Sheet4!$E$2:$E$8408,Sheet3!AK$4,Sheet4!$A$2:$A$8408,Sheet3!$B$1,Sheet4!$B$2:$B$8408,Sheet3!$A$3)","v":0},{"$f":"+SUMIFS(Sheet4!$FV$2:$FV$8408,Sheet4!$C$2:$C$8408,Sheet3!$B17,Sheet4!$D$2:$D$8408,Sheet3!AL$3,Sheet4!$E$2:$E$8408,Sheet3!AL$4,Sheet4!$A$2:$A$8408,Sheet3!$B$1,Sheet4!$B$2:$B$8408,Sheet3!$A$3)","v":0},{"$f":"+SUMIFS(Sheet4!$FV$2:$FV$8408,Sheet4!$C$2:$C$8408,Sheet3!$B17,Sheet4!$D$2:$D$8408,Sheet3!AM$3,Sheet4!$E$2:$E$8408,Sheet3!AM$4,Sheet4!$A$2:$A$8408,Sheet3!$B$1,Sheet4!$B$2:$B$8408,Sheet3!$A$3)","v":214},{"$f":"+SUMIFS(Sheet4!$FV$2:$FV$8408,Sheet4!$C$2:$C$8408,Sheet3!$B17,Sheet4!$D$2:$D$8408,Sheet3!AN$3,Sheet4!$E$2:$E$8408,Sheet3!AN$4,Sheet4!$A$2:$A$8408,Sheet3!$B$1,Sheet4!$B$2:$B$8408,Sheet3!$A$3)","v":20},{"$f":"+SUMIFS(Sheet4!$FV$2:$FV$8408,Sheet4!$C$2:$C$8408,Sheet3!$B17,Sheet4!$D$2:$D$8408,Sheet3!AO$3,Sheet4!$E$2:$E$8408,Sheet3!AO$4,Sheet4!$A$2:$A$8408,Sheet3!$B$1,Sheet4!$B$2:$B$8408,Sheet3!$A$3)","v":0},{"$f":"+SUMIFS(Sheet4!$FV$2:$FV$8408,Sheet4!$C$2:$C$8408,Sheet3!$B17,Sheet4!$D$2:$D$8408,Sheet3!AP$3,Sheet4!$E$2:$E$8408,Sheet3!AP$4,Sheet4!$A$2:$A$8408,Sheet3!$B$1,Sheet4!$B$2:$B$8408,Sheet3!$A$3)","v":0},{"$f":"+SUMIFS(Sheet4!$FV$2:$FV$8408,Sheet4!$C$2:$C$8408,Sheet3!$B17,Sheet4!$D$2:$D$8408,Sheet3!AQ$3,Sheet4!$E$2:$E$8408,Sheet3!AQ$4,Sheet4!$A$2:$A$8408,Sheet3!$B$1,Sheet4!$B$2:$B$8408,Sheet3!$A$3)","v":0},{"$f":"+SUMIFS(Sheet4!$FV$2:$FV$8408,Sheet4!$C$2:$C$8408,Sheet3!$B17,Sheet4!$D$2:$D$8408,Sheet3!AR$3,Sheet4!$E$2:$E$8408,Sheet3!AR$4,Sheet4!$A$2:$A$8408,Sheet3!$B$1,Sheet4!$B$2:$B$8408,Sheet3!$A$3)","v":0},{"$f":"+SUMIFS(Sheet4!$FV$2:$FV$8408,Sheet4!$C$2:$C$8408,Sheet3!$B17,Sheet4!$D$2:$D$8408,Sheet3!AS$3,Sheet4!$E$2:$E$8408,Sheet3!AS$4,Sheet4!$A$2:$A$8408,Sheet3!$B$1,Sheet4!$B$2:$B$8408,Sheet3!$A$3)","v":0},{"$f":"+SUMIFS(Sheet4!$FV$2:$FV$8408,Sheet4!$C$2:$C$8408,Sheet3!$B17,Sheet4!$D$2:$D$8408,Sheet3!AT$3,Sheet4!$E$2:$E$8408,Sheet3!AT$4,Sheet4!$A$2:$A$8408,Sheet3!$B$1,Sheet4!$B$2:$B$8408,Sheet3!$A$3)","v":0},{"$f":"+SUMIFS(Sheet4!$FV$2:$FV$8408,Sheet4!$C$2:$C$8408,Sheet3!$B17,Sheet4!$D$2:$D$8408,Sheet3!AU$3,Sheet4!$E$2:$E$8408,Sheet3!AU$4,Sheet4!$A$2:$A$8408,Sheet3!$B$1,Sheet4!$B$2:$B$8408,Sheet3!$A$3)","v":0},{"$f":"+SUMIFS(Sheet4!$FV$2:$FV$8408,Sheet4!$C$2:$C$8408,Sheet3!$B17,Sheet4!$D$2:$D$8408,Sheet3!AV$3,Sheet4!$E$2:$E$8408,Sheet3!AV$4,Sheet4!$A$2:$A$8408,Sheet3!$B$1,Sheet4!$B$2:$B$8408,Sheet3!$A$3)","v":0},{"$f":"+SUMIFS(Sheet4!$FV$2:$FV$8408,Sheet4!$C$2:$C$8408,Sheet3!$B17,Sheet4!$D$2:$D$8408,Sheet3!AW$3,Sheet4!$E$2:$E$8408,Sheet3!AW$4,Sheet4!$A$2:$A$8408,Sheet3!$B$1,Sheet4!$B$2:$B$8408,Sheet3!$A$3)","v":764},{"$f":"+SUMIFS(Sheet4!$FV$2:$FV$8408,Sheet4!$C$2:$C$8408,Sheet3!$B17,Sheet4!$D$2:$D$8408,Sheet3!AX$3,Sheet4!$E$2:$E$8408,Sheet3!AX$4,Sheet4!$A$2:$A$8408,Sheet3!$B$1,Sheet4!$B$2:$B$8408,Sheet3!$A$3)","v":31},{"$f":"+SUMIFS(Sheet4!$FV$2:$FV$8408,Sheet4!$C$2:$C$8408,Sheet3!$B17,Sheet4!$D$2:$D$8408,Sheet3!AY$3,Sheet4!$E$2:$E$8408,Sheet3!AY$4,Sheet4!$A$2:$A$8408,Sheet3!$B$1,Sheet4!$B$2:$B$8408,Sheet3!$A$3)","v":0},{"$f":"+SUMIFS(Sheet4!$FV$2:$FV$8408,Sheet4!$C$2:$C$8408,Sheet3!$B17,Sheet4!$D$2:$D$8408,Sheet3!AZ$3,Sheet4!$E$2:$E$8408,Sheet3!AZ$4,Sheet4!$A$2:$A$8408,Sheet3!$B$1,Sheet4!$B$2:$B$8408,Sheet3!$A$3)","v":0},{"$f":"+SUMIFS(Sheet4!$FV$2:$FV$8408,Sheet4!$C$2:$C$8408,Sheet3!$B17,Sheet4!$D$2:$D$8408,Sheet3!BA$3,Sheet4!$E$2:$E$8408,Sheet3!BA$4,Sheet4!$A$2:$A$8408,Sheet3!$B$1,Sheet4!$B$2:$B$8408,Sheet3!$A$3)","v":0},{"$f":"+SUMIFS(Sheet4!$FV$2:$FV$8408,Sheet4!$C$2:$C$8408,Sheet3!$B17,Sheet4!$D$2:$D$8408,Sheet3!BB$3,Sheet4!$E$2:$E$8408,Sheet3!BB$4,Sheet4!$A$2:$A$8408,Sheet3!$B$1,Sheet4!$B$2:$B$8408,Sheet3!$A$3)","v":57},{"$f":"+SUMIFS(Sheet4!$FV$2:$FV$8408,Sheet4!$C$2:$C$8408,Sheet3!$B17,Sheet4!$D$2:$D$8408,Sheet3!BC$3,Sheet4!$E$2:$E$8408,Sheet3!BC$4,Sheet4!$A$2:$A$8408,Sheet3!$B$1,Sheet4!$B$2:$B$8408,Sheet3!$A$3)","v":110},{"$f":"+SUMIFS(Sheet4!$FV$2:$FV$8408,Sheet4!$C$2:$C$8408,Sheet3!$B17,Sheet4!$D$2:$D$8408,Sheet3!BD$3,Sheet4!$E$2:$E$8408,Sheet3!BD$4,Sheet4!$A$2:$A$8408,Sheet3!$B$1,Sheet4!$B$2:$B$8408,Sheet3!$A$3)","v":13},{"$f":"+SUMIFS(Sheet4!$FV$2:$FV$8408,Sheet4!$C$2:$C$8408,Sheet3!$B17,Sheet4!$D$2:$D$8408,Sheet3!BE$3,Sheet4!$E$2:$E$8408,Sheet3!BE$4,Sheet4!$A$2:$A$8408,Sheet3!$B$1,Sheet4!$B$2:$B$8408,Sheet3!$A$3)","v":0},{"$f":"+SUMIFS(Sheet4!$FV$2:$FV$8408,Sheet4!$C$2:$C$8408,Sheet3!$B17,Sheet4!$D$2:$D$8408,Sheet3!BF$3,Sheet4!$E$2:$E$8408,Sheet3!BF$4,Sheet4!$A$2:$A$8408,Sheet3!$B$1,Sheet4!$B$2:$B$8408,Sheet3!$A$3)","v":0},{"$f":"+SUMIFS(Sheet4!$FV$2:$FV$8408,Sheet4!$C$2:$C$8408,Sheet3!$B17,Sheet4!$D$2:$D$8408,Sheet3!BG$3,Sheet4!$E$2:$E$8408,Sheet3!BG$4,Sheet4!$A$2:$A$8408,Sheet3!$B$1,Sheet4!$B$2:$B$8408,Sheet3!$A$3)","v":49},{"$f":"+SUMIFS(Sheet4!$FV$2:$FV$8408,Sheet4!$C$2:$C$8408,Sheet3!$B17,Sheet4!$D$2:$D$8408,Sheet3!BH$3,Sheet4!$E$2:$E$8408,Sheet3!BH$4,Sheet4!$A$2:$A$8408,Sheet3!$B$1,Sheet4!$B$2:$B$8408,Sheet3!$A$3)","v":30},{"$f":"+SUMIFS(Sheet4!$FV$2:$FV$8408,Sheet4!$C$2:$C$8408,Sheet3!$B17,Sheet4!$D$2:$D$8408,Sheet3!BI$3,Sheet4!$E$2:$E$8408,Sheet3!BI$4,Sheet4!$A$2:$A$8408,Sheet3!$B$1,Sheet4!$B$2:$B$8408,Sheet3!$A$3)","v":5},{"$f":"+SUMIFS(Sheet4!$FV$2:$FV$8408,Sheet4!$C$2:$C$8408,Sheet3!$B17,Sheet4!$D$2:$D$8408,Sheet3!BJ$3,Sheet4!$E$2:$E$8408,Sheet3!BJ$4,Sheet4!$A$2:$A$8408,Sheet3!$B$1,Sheet4!$B$2:$B$8408,Sheet3!$A$3)","v":0},{"$f":"+SUMIFS(Sheet4!$FV$2:$FV$8408,Sheet4!$C$2:$C$8408,Sheet3!$B17,Sheet4!$D$2:$D$8408,Sheet3!BK$3,Sheet4!$E$2:$E$8408,Sheet3!BK$4,Sheet4!$A$2:$A$8408,Sheet3!$B$1,Sheet4!$B$2:$B$8408,Sheet3!$A$3)","v":0},{"$f":"+SUMIFS(Sheet4!$FV$2:$FV$8408,Sheet4!$C$2:$C$8408,Sheet3!$B17,Sheet4!$D$2:$D$8408,Sheet3!BL$3,Sheet4!$E$2:$E$8408,Sheet3!BL$4,Sheet4!$A$2:$A$8408,Sheet3!$B$1,Sheet4!$B$2:$B$8408,Sheet3!$A$3)","v":128},{"$f":"+SUMIFS(Sheet4!$FV$2:$FV$8408,Sheet4!$C$2:$C$8408,Sheet3!$B17,Sheet4!$D$2:$D$8408,Sheet3!BM$3,Sheet4!$E$2:$E$8408,Sheet3!BM$4,Sheet4!$A$2:$A$8408,Sheet3!$B$1,Sheet4!$B$2:$B$8408,Sheet3!$A$3)","v":31},{"$f":"+SUMIFS(Sheet4!$FV$2:$FV$8408,Sheet4!$C$2:$C$8408,Sheet3!$B17,Sheet4!$D$2:$D$8408,Sheet3!BN$3,Sheet4!$E$2:$E$8408,Sheet3!BN$4,Sheet4!$A$2:$A$8408,Sheet3!$B$1,Sheet4!$B$2:$B$8408,Sheet3!$A$3)","v":0},{"$f":"+SUMIFS(Sheet4!$FV$2:$FV$8408,Sheet4!$C$2:$C$8408,Sheet3!$B17,Sheet4!$D$2:$D$8408,Sheet3!BO$3,Sheet4!$E$2:$E$8408,Sheet3!BO$4,Sheet4!$A$2:$A$8408,Sheet3!$B$1,Sheet4!$B$2:$B$8408,Sheet3!$A$3)","v":0},{"$f":"+SUMIFS(Sheet4!$FV$2:$FV$8408,Sheet4!$C$2:$C$8408,Sheet3!$B17,Sheet4!$D$2:$D$8408,Sheet3!BP$3,Sheet4!$E$2:$E$8408,Sheet3!BP$4,Sheet4!$A$2:$A$8408,Sheet3!$B$1,Sheet4!$B$2:$B$8408,Sheet3!$A$3)","v":0},{"$f":"+SUMIFS(Sheet4!$FV$2:$FV$8408,Sheet4!$C$2:$C$8408,Sheet3!$B17,Sheet4!$D$2:$D$8408,Sheet3!BQ$3,Sheet4!$E$2:$E$8408,Sheet3!BQ$4,Sheet4!$A$2:$A$8408,Sheet3!$B$1,Sheet4!$B$2:$B$8408,Sheet3!$A$3)","v":27},{"$f":"+SUMIFS(Sheet4!$FV$2:$FV$8408,Sheet4!$C$2:$C$8408,Sheet3!$B17,Sheet4!$D$2:$D$8408,Sheet3!BR$3,Sheet4!$E$2:$E$8408,Sheet3!BR$4,Sheet4!$A$2:$A$8408,Sheet3!$B$1,Sheet4!$B$2:$B$8408,Sheet3!$A$3)","v":14},{"$f":"+SUMIFS(Sheet4!$FV$2:$FV$8408,Sheet4!$C$2:$C$8408,Sheet3!$B17,Sheet4!$D$2:$D$8408,Sheet3!BS$3,Sheet4!$E$2:$E$8408,Sheet3!BS$4,Sheet4!$A$2:$A$8408,Sheet3!$B$1,Sheet4!$B$2:$B$8408,Sheet3!$A$3)","v":0},{"$f":"+SUMIFS(Sheet4!$FV$2:$FV$8408,Sheet4!$C$2:$C$8408,Sheet3!$B17,Sheet4!$D$2:$D$8408,Sheet3!BT$3,Sheet4!$E$2:$E$8408,Sheet3!BT$4,Sheet4!$A$2:$A$8408,Sheet3!$B$1,Sheet4!$B$2:$B$8408,Sheet3!$A$3)","v":0},{"$f":"+SUMIFS(Sheet4!$FV$2:$FV$8408,Sheet4!$C$2:$C$8408,Sheet3!$B17,Sheet4!$D$2:$D$8408,Sheet3!BU$3,Sheet4!$E$2:$E$8408,Sheet3!BU$4,Sheet4!$A$2:$A$8408,Sheet3!$B$1,Sheet4!$B$2:$B$8408,Sheet3!$A$3)","v":0},{"$f":"+SUMIFS(Sheet4!$FV$2:$FV$8408,Sheet4!$C$2:$C$8408,Sheet3!$B17,Sheet4!$D$2:$D$8408,Sheet3!BV$3,Sheet4!$E$2:$E$8408,Sheet3!BV$4,Sheet4!$A$2:$A$8408,Sheet3!$B$1,Sheet4!$B$2:$B$8408,Sheet3!$A$3)","v":66},{"$f":"+SUMIFS(Sheet4!$FV$2:$FV$8408,Sheet4!$C$2:$C$8408,Sheet3!$B17,Sheet4!$D$2:$D$8408,Sheet3!BW$3,Sheet4!$E$2:$E$8408,Sheet3!BW$4,Sheet4!$A$2:$A$8408,Sheet3!$B$1,Sheet4!$B$2:$B$8408,Sheet3!$A$3)","v":7},{"$f":"+SUMIFS(Sheet4!$FV$2:$FV$8408,Sheet4!$C$2:$C$8408,Sheet3!$B17,Sheet4!$D$2:$D$8408,Sheet3!BX$3,Sheet4!$E$2:$E$8408,Sheet3!BX$4,Sheet4!$A$2:$A$8408,Sheet3!$B$1,Sheet4!$B$2:$B$8408,Sheet3!$A$3)","v":0},{"$f":"+SUMIFS(Sheet4!$FV$2:$FV$8408,Sheet4!$C$2:$C$8408,Sheet3!$B17,Sheet4!$D$2:$D$8408,Sheet3!BY$3,Sheet4!$E$2:$E$8408,Sheet3!BY$4,Sheet4!$A$2:$A$8408,Sheet3!$B$1,Sheet4!$B$2:$B$8408,Sheet3!$A$3)","v":0},{"$f":"+SUMIFS(Sheet4!$FV$2:$FV$8408,Sheet4!$C$2:$C$8408,Sheet3!$B17,Sheet4!$D$2:$D$8408,Sheet3!BZ$3,Sheet4!$E$2:$E$8408,Sheet3!BZ$4,Sheet4!$A$2:$A$8408,Sheet3!$B$1,Sheet4!$B$2:$B$8408,Sheet3!$A$3)","v":0},{"$f":"+SUMIFS(Sheet4!$FV$2:$FV$8408,Sheet4!$C$2:$C$8408,Sheet3!$B17,Sheet4!$D$2:$D$8408,Sheet3!CA$3,Sheet4!$E$2:$E$8408,Sheet3!CA$4,Sheet4!$A$2:$A$8408,Sheet3!$B$1,Sheet4!$B$2:$B$8408,Sheet3!$A$3)","v":254},{"$f":"+SUMIFS(Sheet4!$FV$2:$FV$8408,Sheet4!$C$2:$C$8408,Sheet3!$B17,Sheet4!$D$2:$D$8408,Sheet3!CB$3,Sheet4!$E$2:$E$8408,Sheet3!CB$4,Sheet4!$A$2:$A$8408,Sheet3!$B$1,Sheet4!$B$2:$B$8408,Sheet3!$A$3)","v":27},{"$f":"+SUMIFS(Sheet4!$FV$2:$FV$8408,Sheet4!$C$2:$C$8408,Sheet3!$B17,Sheet4!$D$2:$D$8408,Sheet3!CC$3,Sheet4!$E$2:$E$8408,Sheet3!CC$4,Sheet4!$A$2:$A$8408,Sheet3!$B$1,Sheet4!$B$2:$B$8408,Sheet3!$A$3)","v":0},{"$f":"+SUMIFS(Sheet4!$FV$2:$FV$8408,Sheet4!$C$2:$C$8408,Sheet3!$B17,Sheet4!$D$2:$D$8408,Sheet3!CD$3,Sheet4!$E$2:$E$8408,Sheet3!CD$4,Sheet4!$A$2:$A$8408,Sheet3!$B$1,Sheet4!$B$2:$B$8408,Sheet3!$A$3)","v":0},{"$f":"+SUMIFS(Sheet4!$FV$2:$FV$8408,Sheet4!$C$2:$C$8408,Sheet3!$B17,Sheet4!$D$2:$D$8408,Sheet3!CE$3,Sheet4!$E$2:$E$8408,Sheet3!CE$4,Sheet4!$A$2:$A$8408,Sheet3!$B$1,Sheet4!$B$2:$B$8408,Sheet3!$A$3)","v":0},{"$f":"+SUMIFS(Sheet4!$FV$2:$FV$8408,Sheet4!$C$2:$C$8408,Sheet3!$B17,Sheet4!$D$2:$D$8408,Sheet3!CF$3,Sheet4!$E$2:$E$8408,Sheet3!CF$4,Sheet4!$A$2:$A$8408,Sheet3!$B$1,Sheet4!$B$2:$B$8408,Sheet3!$A$3)","v":369},{"$f":"+SUMIFS(Sheet4!$FV$2:$FV$8408,Sheet4!$C$2:$C$8408,Sheet3!$B17,Sheet4!$D$2:$D$8408,Sheet3!CG$3,Sheet4!$E$2:$E$8408,Sheet3!CG$4,Sheet4!$A$2:$A$8408,Sheet3!$B$1,Sheet4!$B$2:$B$8408,Sheet3!$A$3)","v":50},{"$f":"+SUMIFS(Sheet4!$FV$2:$FV$8408,Sheet4!$C$2:$C$8408,Sheet3!$B17,Sheet4!$D$2:$D$8408,Sheet3!CH$3,Sheet4!$E$2:$E$8408,Sheet3!CH$4,Sheet4!$A$2:$A$8408,Sheet3!$B$1,Sheet4!$B$2:$B$8408,Sheet3!$A$3)","v":0},{"$f":"+SUMIFS(Sheet4!$FV$2:$FV$8408,Sheet4!$C$2:$C$8408,Sheet3!$B17,Sheet4!$D$2:$D$8408,Sheet3!CI$3,Sheet4!$E$2:$E$8408,Sheet3!CI$4,Sheet4!$A$2:$A$8408,Sheet3!$B$1,Sheet4!$B$2:$B$8408,Sheet3!$A$3)","v":0},{"$f":"+SUMIFS(Sheet4!$FV$2:$FV$8408,Sheet4!$C$2:$C$8408,Sheet3!$B17,Sheet4!$D$2:$D$8408,Sheet3!CJ$3,Sheet4!$E$2:$E$8408,Sheet3!CJ$4,Sheet4!$A$2:$A$8408,Sheet3!$B$1,Sheet4!$B$2:$B$8408,Sheet3!$A$3)","v":0},{"$f":"+SUMIFS(Sheet4!$FV$2:$FV$8408,Sheet4!$C$2:$C$8408,Sheet3!$B17,Sheet4!$D$2:$D$8408,Sheet3!CK$3,Sheet4!$E$2:$E$8408,Sheet3!CK$4,Sheet4!$A$2:$A$8408,Sheet3!$B$1,Sheet4!$B$2:$B$8408,Sheet3!$A$3)","v":0},{"$f":"+SUMIFS(Sheet4!$FV$2:$FV$8408,Sheet4!$C$2:$C$8408,Sheet3!$B17,Sheet4!$D$2:$D$8408,Sheet3!CL$3,Sheet4!$E$2:$E$8408,Sheet3!CL$4,Sheet4!$A$2:$A$8408,Sheet3!$B$1,Sheet4!$B$2:$B$8408,Sheet3!$A$3)","v":0},{"$f":"+SUMIFS(Sheet4!$FV$2:$FV$8408,Sheet4!$C$2:$C$8408,Sheet3!$B17,Sheet4!$D$2:$D$8408,Sheet3!CM$3,Sheet4!$E$2:$E$8408,Sheet3!CM$4,Sheet4!$A$2:$A$8408,Sheet3!$B$1,Sheet4!$B$2:$B$8408,Sheet3!$A$3)","v":0},{"$f":"+SUMIFS(Sheet4!$FV$2:$FV$8408,Sheet4!$C$2:$C$8408,Sheet3!$B17,Sheet4!$D$2:$D$8408,Sheet3!CN$3,Sheet4!$E$2:$E$8408,Sheet3!CN$4,Sheet4!$A$2:$A$8408,Sheet3!$B$1,Sheet4!$B$2:$B$8408,Sheet3!$A$3)","v":0},{"$f":"+SUMIFS(Sheet4!$FV$2:$FV$8408,Sheet4!$C$2:$C$8408,Sheet3!$B17,Sheet4!$D$2:$D$8408,Sheet3!CO$3,Sheet4!$E$2:$E$8408,Sheet3!CO$4,Sheet4!$A$2:$A$8408,Sheet3!$B$1,Sheet4!$B$2:$B$8408,Sheet3!$A$3)","v":0},{"$f":"+SUMIFS(Sheet4!$FV$2:$FV$8408,Sheet4!$C$2:$C$8408,Sheet3!$B17,Sheet4!$D$2:$D$8408,Sheet3!CP$3,Sheet4!$E$2:$E$8408,Sheet3!CP$4,Sheet4!$A$2:$A$8408,Sheet3!$B$1,Sheet4!$B$2:$B$8408,Sheet3!$A$3)","v":30},{"$f":"+SUMIFS(Sheet4!$FV$2:$FV$8408,Sheet4!$C$2:$C$8408,Sheet3!$B17,Sheet4!$D$2:$D$8408,Sheet3!CQ$3,Sheet4!$E$2:$E$8408,Sheet3!CQ$4,Sheet4!$A$2:$A$8408,Sheet3!$B$1,Sheet4!$B$2:$B$8408,Sheet3!$A$3)","v":3},{"$f":"+SUMIFS(Sheet4!$FV$2:$FV$8408,Sheet4!$C$2:$C$8408,Sheet3!$B17,Sheet4!$D$2:$D$8408,Sheet3!CR$3,Sheet4!$E$2:$E$8408,Sheet3!CR$4,Sheet4!$A$2:$A$8408,Sheet3!$B$1,Sheet4!$B$2:$B$8408,Sheet3!$A$3)","v":0},{"$f":"+SUMIFS(Sheet4!$FV$2:$FV$8408,Sheet4!$C$2:$C$8408,Sheet3!$B17,Sheet4!$D$2:$D$8408,Sheet3!CS$3,Sheet4!$E$2:$E$8408,Sheet3!CS$4,Sheet4!$A$2:$A$8408,Sheet3!$B$1,Sheet4!$B$2:$B$8408,Sheet3!$A$3)","v":0},{"$f":"+SUMIFS(Sheet4!$FV$2:$FV$8408,Sheet4!$C$2:$C$8408,Sheet3!$B17,Sheet4!$D$2:$D$8408,Sheet3!CT$3,Sheet4!$E$2:$E$8408,Sheet3!CT$4,Sheet4!$A$2:$A$8408,Sheet3!$B$1,Sheet4!$B$2:$B$8408,Sheet3!$A$3)","v":0},{"$f":"+IF(SUMIFS(Sheet4!$FW$2:$FW$8408,Sheet4!$C$2:$C$8408,Sheet3!$B17,Sheet4!$D$2:$D$8408,Sheet3!CU$3,Sheet4!$A$2:$A$8408,Sheet3!$B$1,Sheet4!$B$2:$B$8408,Sheet3!$A$3)<3,0,SUMIFS(Sheet4!$FW$2:$FW$8408,Sheet4!$C$2:$C$8408,Sheet3!$B17,Sheet4!$D$2:$D$8408,Sheet3!CU$3,Sheet4!$A$2:$A$8408,Sheet3!$B$1,Sheet4!$B$2:$B$8408,Sheet3!$A$3))","v":12},{"$f":"+IF(SUMIFS(Sheet4!$FW$2:$FW$8408,Sheet4!$C$2:$C$8408,Sheet3!$B17,Sheet4!$D$2:$D$8408,Sheet3!CV$3,Sheet4!$A$2:$A$8408,Sheet3!$B$1,Sheet4!$B$2:$B$8408,Sheet3!$A$3)<3,0,SUMIFS(Sheet4!$FW$2:$FW$8408,Sheet4!$C$2:$C$8408,Sheet3!$B17,Sheet4!$D$2:$D$8408,Sheet3!CV$3,Sheet4!$A$2:$A$8408,Sheet3!$B$1,Sheet4!$B$2:$B$8408,Sheet3!$A$3))","v":797},{"$f":"+IF(SUMIFS(Sheet4!$FW$2:$FW$8408,Sheet4!$C$2:$C$8408,Sheet3!$B17,Sheet4!$D$2:$D$8408,Sheet3!CW$3,Sheet4!$A$2:$A$8408,Sheet3!$B$1,Sheet4!$B$2:$B$8408,Sheet3!$A$3)<3,0,SUMIFS(Sheet4!$FW$2:$FW$8408,Sheet4!$C$2:$C$8408,Sheet3!$B17,Sheet4!$D$2:$D$8408,Sheet3!CW$3,Sheet4!$A$2:$A$8408,Sheet3!$B$1,Sheet4!$B$2:$B$8408,Sheet3!$A$3))","v":621},{"$f":"+IF(SUMIFS(Sheet4!$FW$2:$FW$8408,Sheet4!$C$2:$C$8408,Sheet3!$B17,Sheet4!$D$2:$D$8408,Sheet3!CX$3,Sheet4!$A$2:$A$8408,Sheet3!$B$1,Sheet4!$B$2:$B$8408,Sheet3!$A$3)<3,0,SUMIFS(Sheet4!$FW$2:$FW$8408,Sheet4!$C$2:$C$8408,Sheet3!$B17,Sheet4!$D$2:$D$8408,Sheet3!CX$3,Sheet4!$A$2:$A$8408,Sheet3!$B$1,Sheet4!$B$2:$B$8408,Sheet3!$A$3))","v":9},{"$f":"+IF(SUMIFS(Sheet4!$FW$2:$FW$8408,Sheet4!$C$2:$C$8408,Sheet3!$B17,Sheet4!$D$2:$D$8408,Sheet3!CY$3,Sheet4!$A$2:$A$8408,Sheet3!$B$1,Sheet4!$B$2:$B$8408,Sheet3!$A$3)<3,0,SUMIFS(Sheet4!$FW$2:$FW$8408,Sheet4!$C$2:$C$8408,Sheet3!$B17,Sheet4!$D$2:$D$8408,Sheet3!CY$3,Sheet4!$A$2:$A$8408,Sheet3!$B$1,Sheet4!$B$2:$B$8408,Sheet3!$A$3))","v":0},{"$f":"+IF(SUMIFS(Sheet4!$FW$2:$FW$8408,Sheet4!$C$2:$C$8408,Sheet3!$B17,Sheet4!$D$2:$D$8408,Sheet3!CZ$3,Sheet4!$A$2:$A$8408,Sheet3!$B$1,Sheet4!$B$2:$B$8408,Sheet3!$A$3)<3,0,SUMIFS(Sheet4!$FW$2:$FW$8408,Sheet4!$C$2:$C$8408,Sheet3!$B17,Sheet4!$D$2:$D$8408,Sheet3!CZ$3,Sheet4!$A$2:$A$8408,Sheet3!$B$1,Sheet4!$B$2:$B$8408,Sheet3!$A$3))","v":276},{"$f":"+IF(SUMIFS(Sheet4!$FW$2:$FW$8408,Sheet4!$C$2:$C$8408,Sheet3!$B17,Sheet4!$D$2:$D$8408,Sheet3!DA$3,Sheet4!$A$2:$A$8408,Sheet3!$B$1,Sheet4!$B$2:$B$8408,Sheet3!$A$3)<3,0,SUMIFS(Sheet4!$FW$2:$FW$8408,Sheet4!$C$2:$C$8408,Sheet3!$B17,Sheet4!$D$2:$D$8408,Sheet3!DA$3,Sheet4!$A$2:$A$8408,Sheet3!$B$1,Sheet4!$B$2:$B$8408,Sheet3!$A$3))","v":79},{"$f":"+IF(SUMIFS(Sheet4!$FW$2:$FW$8408,Sheet4!$C$2:$C$8408,Sheet3!$B17,Sheet4!$D$2:$D$8408,Sheet3!DB$3,Sheet4!$A$2:$A$8408,Sheet3!$B$1,Sheet4!$B$2:$B$8408,Sheet3!$A$3)<3,0,SUMIFS(Sheet4!$FW$2:$FW$8408,Sheet4!$C$2:$C$8408,Sheet3!$B17,Sheet4!$D$2:$D$8408,Sheet3!DB$3,Sheet4!$A$2:$A$8408,Sheet3!$B$1,Sheet4!$B$2:$B$8408,Sheet3!$A$3))","v":235},{"$f":"+IF(SUMIFS(Sheet4!$FW$2:$FW$8408,Sheet4!$C$2:$C$8408,Sheet3!$B17,Sheet4!$D$2:$D$8408,Sheet3!DC$3,Sheet4!$A$2:$A$8408,Sheet3!$B$1,Sheet4!$B$2:$B$8408,Sheet3!$A$3)<3,0,SUMIFS(Sheet4!$FW$2:$FW$8408,Sheet4!$C$2:$C$8408,Sheet3!$B17,Sheet4!$D$2:$D$8408,Sheet3!DC$3,Sheet4!$A$2:$A$8408,Sheet3!$B$1,Sheet4!$B$2:$B$8408,Sheet3!$A$3))","v":3},{"$f":"+IF(SUMIFS(Sheet4!$FW$2:$FW$8408,Sheet4!$C$2:$C$8408,Sheet3!$B17,Sheet4!$D$2:$D$8408,Sheet3!DD$3,Sheet4!$A$2:$A$8408,Sheet3!$B$1,Sheet4!$B$2:$B$8408,Sheet3!$A$3)<3,0,SUMIFS(Sheet4!$FW$2:$FW$8408,Sheet4!$C$2:$C$8408,Sheet3!$B17,Sheet4!$D$2:$D$8408,Sheet3!DD$3,Sheet4!$A$2:$A$8408,Sheet3!$B$1,Sheet4!$B$2:$B$8408,Sheet3!$A$3))","v":801},{"$f":"+IF(SUMIFS(Sheet4!$FW$2:$FW$8408,Sheet4!$C$2:$C$8408,Sheet3!$B17,Sheet4!$D$2:$D$8408,Sheet3!DE$3,Sheet4!$A$2:$A$8408,Sheet3!$B$1,Sheet4!$B$2:$B$8408,Sheet3!$A$3)<3,0,SUMIFS(Sheet4!$FW$2:$FW$8408,Sheet4!$C$2:$C$8408,Sheet3!$B17,Sheet4!$D$2:$D$8408,Sheet3!DE$3,Sheet4!$A$2:$A$8408,Sheet3!$B$1,Sheet4!$B$2:$B$8408,Sheet3!$A$3))","v":180},{"$f":"+IF(SUMIFS(Sheet4!$FW$2:$FW$8408,Sheet4!$C$2:$C$8408,Sheet3!$B17,Sheet4!$D$2:$D$8408,Sheet3!DF$3,Sheet4!$A$2:$A$8408,Sheet3!$B$1,Sheet4!$B$2:$B$8408,Sheet3!$A$3)<3,0,SUMIFS(Sheet4!$FW$2:$FW$8408,Sheet4!$C$2:$C$8408,Sheet3!$B17,Sheet4!$D$2:$D$8408,Sheet3!DF$3,Sheet4!$A$2:$A$8408,Sheet3!$B$1,Sheet4!$B$2:$B$8408,Sheet3!$A$3))","v":84},{"$f":"+IF(SUMIFS(Sheet4!$FW$2:$FW$8408,Sheet4!$C$2:$C$8408,Sheet3!$B17,Sheet4!$D$2:$D$8408,Sheet3!DG$3,Sheet4!$A$2:$A$8408,Sheet3!$B$1,Sheet4!$B$2:$B$8408,Sheet3!$A$3)<3,0,SUMIFS(Sheet4!$FW$2:$FW$8408,Sheet4!$C$2:$C$8408,Sheet3!$B17,Sheet4!$D$2:$D$8408,Sheet3!DG$3,Sheet4!$A$2:$A$8408,Sheet3!$B$1,Sheet4!$B$2:$B$8408,Sheet3!$A$3))","v":163},{"$f":"+IF(SUMIFS(Sheet4!$FW$2:$FW$8408,Sheet4!$C$2:$C$8408,Sheet3!$B17,Sheet4!$D$2:$D$8408,Sheet3!DH$3,Sheet4!$A$2:$A$8408,Sheet3!$B$1,Sheet4!$B$2:$B$8408,Sheet3!$A$3)<3,0,SUMIFS(Sheet4!$FW$2:$FW$8408,Sheet4!$C$2:$C$8408,Sheet3!$B17,Sheet4!$D$2:$D$8408,Sheet3!DH$3,Sheet4!$A$2:$A$8408,Sheet3!$B$1,Sheet4!$B$2:$B$8408,Sheet3!$A$3))","v":42},{"$f":"+IF(SUMIFS(Sheet4!$FW$2:$FW$8408,Sheet4!$C$2:$C$8408,Sheet3!$B17,Sheet4!$D$2:$D$8408,Sheet3!DI$3,Sheet4!$A$2:$A$8408,Sheet3!$B$1,Sheet4!$B$2:$B$8408,Sheet3!$A$3)<3,0,SUMIFS(Sheet4!$FW$2:$FW$8408,Sheet4!$C$2:$C$8408,Sheet3!$B17,Sheet4!$D$2:$D$8408,Sheet3!DI$3,Sheet4!$A$2:$A$8408,Sheet3!$B$1,Sheet4!$B$2:$B$8408,Sheet3!$A$3))","v":73},{"$f":"+IF(SUMIFS(Sheet4!$FW$2:$FW$8408,Sheet4!$C$2:$C$8408,Sheet3!$B17,Sheet4!$D$2:$D$8408,Sheet3!DJ$3,Sheet4!$A$2:$A$8408,Sheet3!$B$1,Sheet4!$B$2:$B$8408,Sheet3!$A$3)<3,0,SUMIFS(Sheet4!$FW$2:$FW$8408,Sheet4!$C$2:$C$8408,Sheet3!$B17,Sheet4!$D$2:$D$8408,Sheet3!DJ$3,Sheet4!$A$2:$A$8408,Sheet3!$B$1,Sheet4!$B$2:$B$8408,Sheet3!$A$3))","v":286},{"$f":"+IF(SUMIFS(Sheet4!$FW$2:$FW$8408,Sheet4!$C$2:$C$8408,Sheet3!$B17,Sheet4!$D$2:$D$8408,Sheet3!DK$3,Sheet4!$A$2:$A$8408,Sheet3!$B$1,Sheet4!$B$2:$B$8408,Sheet3!$A$3)<3,0,SUMIFS(Sheet4!$FW$2:$FW$8408,Sheet4!$C$2:$C$8408,Sheet3!$B17,Sheet4!$D$2:$D$8408,Sheet3!DK$3,Sheet4!$A$2:$A$8408,Sheet3!$B$1,Sheet4!$B$2:$B$8408,Sheet3!$A$3))","v":421},{"$f":"+IF(SUMIFS(Sheet4!$FW$2:$FW$8408,Sheet4!$C$2:$C$8408,Sheet3!$B17,Sheet4!$D$2:$D$8408,Sheet3!DL$3,Sheet4!$A$2:$A$8408,Sheet3!$B$1,Sheet4!$B$2:$B$8408,Sheet3!$A$3)<3,0,SUMIFS(Sheet4!$FW$2:$FW$8408,Sheet4!$C$2:$C$8408,Sheet3!$B17,Sheet4!$D$2:$D$8408,Sheet3!DL$3,Sheet4!$A$2:$A$8408,Sheet3!$B$1,Sheet4!$B$2:$B$8408,Sheet3!$A$3))","v":0},{"$f":"+IF(SUMIFS(Sheet4!$FW$2:$FW$8408,Sheet4!$C$2:$C$8408,Sheet3!$B17,Sheet4!$D$2:$D$8408,Sheet3!DM$3,Sheet4!$A$2:$A$8408,Sheet3!$B$1,Sheet4!$B$2:$B$8408,Sheet3!$A$3)<3,0,SUMIFS(Sheet4!$FW$2:$FW$8408,Sheet4!$C$2:$C$8408,Sheet3!$B17,Sheet4!$D$2:$D$8408,Sheet3!DM$3,Sheet4!$A$2:$A$8408,Sheet3!$B$1,Sheet4!$B$2:$B$8408,Sheet3!$A$3))","v":34},{"$f":"+IF(SUMIFS(Sheet4!$FW$2:$FW$8408,Sheet4!$C$2:$C$8408,Sheet3!$B17,Sheet4!$E$2:$E$8408,Sheet3!DN$4,Sheet4!$A$2:$A$8408,Sheet3!$B$1,Sheet4!$B$2:$B$8408,Sheet3!$A$3)<3,0,SUMIFS(Sheet4!$FW$2:$FW$8408,Sheet4!$C$2:$C$8408,Sheet3!$B17,Sheet4!$E$2:$E$8408,Sheet3!DN$4,Sheet4!$A$2:$A$8408,Sheet3!$B$1,Sheet4!$B$2:$B$8408,Sheet3!$A$3))","v":3584},{"$f":"+IF(SUMIFS(Sheet4!$FW$2:$FW$8408,Sheet4!$C$2:$C$8408,Sheet3!$B17,Sheet4!$E$2:$E$8408,Sheet3!DO$4,Sheet4!$A$2:$A$8408,Sheet3!$B$1,Sheet4!$B$2:$B$8408,Sheet3!$A$3)<3,0,SUMIFS(Sheet4!$FW$2:$FW$8408,Sheet4!$C$2:$C$8408,Sheet3!$B17,Sheet4!$E$2:$E$8408,Sheet3!DO$4,Sheet4!$A$2:$A$8408,Sheet3!$B$1,Sheet4!$B$2:$B$8408,Sheet3!$A$3))","v":482},{"$f":"+IF(SUMIFS(Sheet4!$FW$2:$FW$8408,Sheet4!$C$2:$C$8408,Sheet3!$B17,Sheet4!$E$2:$E$8408,Sheet3!DP$4,Sheet4!$A$2:$A$8408,Sheet3!$B$1,Sheet4!$B$2:$B$8408,Sheet3!$A$3)<3,0,SUMIFS(Sheet4!$FW$2:$FW$8408,Sheet4!$C$2:$C$8408,Sheet3!$B17,Sheet4!$E$2:$E$8408,Sheet3!DP$4,Sheet4!$A$2:$A$8408,Sheet3!$B$1,Sheet4!$B$2:$B$8408,Sheet3!$A$3))","v":51},{"$f":"+IF(SUMIFS(Sheet4!$FW$2:$FW$8408,Sheet4!$C$2:$C$8408,Sheet3!$B17,Sheet4!$E$2:$E$8408,Sheet3!DQ$4,Sheet4!$A$2:$A$8408,Sheet3!$B$1,Sheet4!$B$2:$B$8408,Sheet3!$A$3)<3,0,SUMIFS(Sheet4!$FW$2:$FW$8408,Sheet4!$C$2:$C$8408,Sheet3!$B17,Sheet4!$E$2:$E$8408,Sheet3!DQ$4,Sheet4!$A$2:$A$8408,Sheet3!$B$1,Sheet4!$B$2:$B$8408,Sheet3!$A$3))","v":0},{"$f":"+IF(SUMIFS(Sheet4!$FW$2:$FW$8408,Sheet4!$C$2:$C$8408,Sheet3!$B17,Sheet4!$E$2:$E$8408,Sheet3!DR$4,Sheet4!$A$2:$A$8408,Sheet3!$B$1,Sheet4!$B$2:$B$8408,Sheet3!$A$3)<3,0,SUMIFS(Sheet4!$FW$2:$FW$8408,Sheet4!$C$2:$C$8408,Sheet3!$B17,Sheet4!$E$2:$E$8408,Sheet3!DR$4,Sheet4!$A$2:$A$8408,Sheet3!$B$1,Sheet4!$B$2:$B$8408,Sheet3!$A$3))","v":0}]
[3,"16E","Região de Coimbra",{"$f":"+SUMIFS(Sheet4!$FV$2:$FV$8408,Sheet4!$C$2:$C$8408,Sheet3!$B18,Sheet4!$D$2:$D$8408,Sheet3!D$3,Sheet4!$E$2:$E$8408,Sheet3!D$4,Sheet4!$A$2:$A$8408,Sheet3!$B$1,Sheet4!$B$2:$B$8408,Sheet3!$A$3)","v":24},{"$f":"+SUMIFS(Sheet4!$FV$2:$FV$8408,Sheet4!$C$2:$C$8408,Sheet3!$B18,Sheet4!$D$2:$D$8408,Sheet3!E$3,Sheet4!$E$2:$E$8408,Sheet3!E$4,Sheet4!$A$2:$A$8408,Sheet3!$B$1,Sheet4!$B$2:$B$8408,Sheet3!$A$3)","v":0},{"$f":"+SUMIFS(Sheet4!$FV$2:$FV$8408,Sheet4!$C$2:$C$8408,Sheet3!$B18,Sheet4!$D$2:$D$8408,Sheet3!F$3,Sheet4!$E$2:$E$8408,Sheet3!F$4,Sheet4!$A$2:$A$8408,Sheet3!$B$1,Sheet4!$B$2:$B$8408,Sheet3!$A$3)","v":0},{"$f":"+SUMIFS(Sheet4!$FV$2:$FV$8408,Sheet4!$C$2:$C$8408,Sheet3!$B18,Sheet4!$D$2:$D$8408,Sheet3!G$3,Sheet4!$E$2:$E$8408,Sheet3!G$4,Sheet4!$A$2:$A$8408,Sheet3!$B$1,Sheet4!$B$2:$B$8408,Sheet3!$A$3)","v":0},{"$f":"+SUMIFS(Sheet4!$FV$2:$FV$8408,Sheet4!$C$2:$C$8408,Sheet3!$B18,Sheet4!$D$2:$D$8408,Sheet3!H$3,Sheet4!$E$2:$E$8408,Sheet3!H$4,Sheet4!$A$2:$A$8408,Sheet3!$B$1,Sheet4!$B$2:$B$8408,Sheet3!$A$3)","v":0},{"$f":"+SUMIFS(Sheet4!$FV$2:$FV$8408,Sheet4!$C$2:$C$8408,Sheet3!$B18,Sheet4!$D$2:$D$8408,Sheet3!I$3,Sheet4!$E$2:$E$8408,Sheet3!I$4,Sheet4!$A$2:$A$8408,Sheet3!$B$1,Sheet4!$B$2:$B$8408,Sheet3!$A$3)","v":692},{"$f":"+SUMIFS(Sheet4!$FV$2:$FV$8408,Sheet4!$C$2:$C$8408,Sheet3!$B18,Sheet4!$D$2:$D$8408,Sheet3!J$3,Sheet4!$E$2:$E$8408,Sheet3!J$4,Sheet4!$A$2:$A$8408,Sheet3!$B$1,Sheet4!$B$2:$B$8408,Sheet3!$A$3)","v":226},{"$f":"+SUMIFS(Sheet4!$FV$2:$FV$8408,Sheet4!$C$2:$C$8408,Sheet3!$B18,Sheet4!$D$2:$D$8408,Sheet3!K$3,Sheet4!$E$2:$E$8408,Sheet3!K$4,Sheet4!$A$2:$A$8408,Sheet3!$B$1,Sheet4!$B$2:$B$8408,Sheet3!$A$3)","v":58},{"$f":"+SUMIFS(Sheet4!$FV$2:$FV$8408,Sheet4!$C$2:$C$8408,Sheet3!$B18,Sheet4!$D$2:$D$8408,Sheet3!L$3,Sheet4!$E$2:$E$8408,Sheet3!L$4,Sheet4!$A$2:$A$8408,Sheet3!$B$1,Sheet4!$B$2:$B$8408,Sheet3!$A$3)","v":0},{"$f":"+SUMIFS(Sheet4!$FV$2:$FV$8408,Sheet4!$C$2:$C$8408,Sheet3!$B18,Sheet4!$D$2:$D$8408,Sheet3!M$3,Sheet4!$E$2:$E$8408,Sheet3!M$4,Sheet4!$A$2:$A$8408,Sheet3!$B$1,Sheet4!$B$2:$B$8408,Sheet3!$A$3)","v":0},{"$f":"+SUMIFS(Sheet4!$FV$2:$FV$8408,Sheet4!$C$2:$C$8408,Sheet3!$B18,Sheet4!$D$2:$D$8408,Sheet3!N$3,Sheet4!$E$2:$E$8408,Sheet3!N$4,Sheet4!$A$2:$A$8408,Sheet3!$B$1,Sheet4!$B$2:$B$8408,Sheet3!$A$3)","v":305},{"$f":"+SUMIFS(Sheet4!$FV$2:$FV$8408,Sheet4!$C$2:$C$8408,Sheet3!$B18,Sheet4!$D$2:$D$8408,Sheet3!O$3,Sheet4!$E$2:$E$8408,Sheet3!O$4,Sheet4!$A$2:$A$8408,Sheet3!$B$1,Sheet4!$B$2:$B$8408,Sheet3!$A$3)","v":22},{"$f":"+SUMIFS(Sheet4!$FV$2:$FV$8408,Sheet4!$C$2:$C$8408,Sheet3!$B18,Sheet4!$D$2:$D$8408,Sheet3!P$3,Sheet4!$E$2:$E$8408,Sheet3!P$4,Sheet4!$A$2:$A$8408,Sheet3!$B$1,Sheet4!$B$2:$B$8408,Sheet3!$A$3)","v":3},{"$f":"+SUMIFS(Sheet4!$FV$2:$FV$8408,Sheet4!$C$2:$C$8408,Sheet3!$B18,Sheet4!$D$2:$D$8408,Sheet3!Q$3,Sheet4!$E$2:$E$8408,Sheet3!Q$4,Sheet4!$A$2:$A$8408,Sheet3!$B$1,Sheet4!$B$2:$B$8408,Sheet3!$A$3)","v":0},{"$f":"+SUMIFS(Sheet4!$FV$2:$FV$8408,Sheet4!$C$2:$C$8408,Sheet3!$B18,Sheet4!$D$2:$D$8408,Sheet3!R$3,Sheet4!$E$2:$E$8408,Sheet3!R$4,Sheet4!$A$2:$A$8408,Sheet3!$B$1,Sheet4!$B$2:$B$8408,Sheet3!$A$3)","v":0},{"$f":"+SUMIFS(Sheet4!$FV$2:$FV$8408,Sheet4!$C$2:$C$8408,Sheet3!$B18,Sheet4!$D$2:$D$8408,Sheet3!S$3,Sheet4!$E$2:$E$8408,Sheet3!S$4,Sheet4!$A$2:$A$8408,Sheet3!$B$1,Sheet4!$B$2:$B$8408,Sheet3!$A$3)","v":115},{"$f":"+SUMIFS(Sheet4!$FV$2:$FV$8408,Sheet4!$C$2:$C$8408,Sheet3!$B18,Sheet4!$D$2:$D$8408,Sheet3!T$3,Sheet4!$E$2:$E$8408,Sheet3!T$4,Sheet4!$A$2:$A$8408,Sheet3!$B$1,Sheet4!$B$2:$B$8408,Sheet3!$A$3)","v":113},{"$f":"+SUMIFS(Sheet4!$FV$2:$FV$8408,Sheet4!$C$2:$C$8408,Sheet3!$B18,Sheet4!$D$2:$D$8408,Sheet3!U$3,Sheet4!$E$2:$E$8408,Sheet3!U$4,Sheet4!$A$2:$A$8408,Sheet3!$B$1,Sheet4!$B$2:$B$8408,Sheet3!$A$3)","v":46},{"$f":"+SUMIFS(Sheet4!$FV$2:$FV$8408,Sheet4!$C$2:$C$8408,Sheet3!$B18,Sheet4!$D$2:$D$8408,Sheet3!V$3,Sheet4!$E$2:$E$8408,Sheet3!V$4,Sheet4!$A$2:$A$8408,Sheet3!$B$1,Sheet4!$B$2:$B$8408,Sheet3!$A$3)","v":0},{"$f":"+SUMIFS(Sheet4!$FV$2:$FV$8408,Sheet4!$C$2:$C$8408,Sheet3!$B18,Sheet4!$D$2:$D$8408,Sheet3!W$3,Sheet4!$E$2:$E$8408,Sheet3!W$4,Sheet4!$A$2:$A$8408,Sheet3!$B$1,Sheet4!$B$2:$B$8408,Sheet3!$A$3)","v":0},{"$f":"+SUMIFS(Sheet4!$FV$2:$FV$8408,Sheet4!$C$2:$C$8408,Sheet3!$B18,Sheet4!$D$2:$D$8408,Sheet3!X$3,Sheet4!$E$2:$E$8408,Sheet3!X$4,Sheet4!$A$2:$A$8408,Sheet3!$B$1,Sheet4!$B$2:$B$8408,Sheet3!$A$3)","v":0},{"$f":"+SUMIFS(Sheet4!$FV$2:$FV$8408,Sheet4!$C$2:$C$8408,Sheet3!$B18,Sheet4!$D$2:$D$8408,Sheet3!Y$3,Sheet4!$E$2:$E$8408,Sheet3!Y$4,Sheet4!$A$2:$A$8408,Sheet3!$B$1,Sheet4!$B$2:$B$8408,Sheet3!$A$3)","v":0},{"$f":"+SUMIFS(Sheet4!$FV$2:$FV$8408,Sheet4!$C$2:$C$8408,Sheet3!$B18,Sheet4!$D$2:$D$8408,Sheet3!Z$3,Sheet4!$E$2:$E$8408,Sheet3!Z$4,Sheet4!$A$2:$A$8408,Sheet3!$B$1,Sheet4!$B$2:$B$8408,Sheet3!$A$3)","v":0},{"$f":"+SUMIFS(Sheet4!$FV$2:$FV$8408,Sheet4!$C$2:$C$8408,Sheet3!$B18,Sheet4!$D$2:$D$8408,Sheet3!AA$3,Sheet4!$E$2:$E$8408,Sheet3!AA$4,Sheet4!$A$2:$A$8408,Sheet3!$B$1,Sheet4!$B$2:$B$8408,Sheet3!$A$3)","v":0},{"$f":"+SUMIFS(Sheet4!$FV$2:$FV$8408,Sheet4!$C$2:$C$8408,Sheet3!$B18,Sheet4!$D$2:$D$8408,Sheet3!AB$3,Sheet4!$E$2:$E$8408,Sheet3!AB$4,Sheet4!$A$2:$A$8408,Sheet3!$B$1,Sheet4!$B$2:$B$8408,Sheet3!$A$3)","v":0},{"$f":"+SUMIFS(Sheet4!$FV$2:$FV$8408,Sheet4!$C$2:$C$8408,Sheet3!$B18,Sheet4!$D$2:$D$8408,Sheet3!AC$3,Sheet4!$E$2:$E$8408,Sheet3!AC$4,Sheet4!$A$2:$A$8408,Sheet3!$B$1,Sheet4!$B$2:$B$8408,Sheet3!$A$3)","v":656},{"$f":"+SUMIFS(Sheet4!$FV$2:$FV$8408,Sheet4!$C$2:$C$8408,Sheet3!$B18,Sheet4!$D$2:$D$8408,Sheet3!AD$3,Sheet4!$E$2:$E$8408,Sheet3!AD$4,Sheet4!$A$2:$A$8408,Sheet3!$B$1,Sheet4!$B$2:$B$8408,Sheet3!$A$3)","v":37},{"$f":"+SUMIFS(Sheet4!$FV$2:$FV$8408,Sheet4!$C$2:$C$8408,Sheet3!$B18,Sheet4!$D$2:$D$8408,Sheet3!AE$3,Sheet4!$E$2:$E$8408,Sheet3!AE$4,Sheet4!$A$2:$A$8408,Sheet3!$B$1,Sheet4!$B$2:$B$8408,Sheet3!$A$3)","v":5},{"$f":"+SUMIFS(Sheet4!$FV$2:$FV$8408,Sheet4!$C$2:$C$8408,Sheet3!$B18,Sheet4!$D$2:$D$8408,Sheet3!AF$3,Sheet4!$E$2:$E$8408,Sheet3!AF$4,Sheet4!$A$2:$A$8408,Sheet3!$B$1,Sheet4!$B$2:$B$8408,Sheet3!$A$3)","v":0},{"$f":"+SUMIFS(Sheet4!$FV$2:$FV$8408,Sheet4!$C$2:$C$8408,Sheet3!$B18,Sheet4!$D$2:$D$8408,Sheet3!AG$3,Sheet4!$E$2:$E$8408,Sheet3!AG$4,Sheet4!$A$2:$A$8408,Sheet3!$B$1,Sheet4!$B$2:$B$8408,Sheet3!$A$3)","v":0},{"$f":"+SUMIFS(Sheet4!$FV$2:$FV$8408,Sheet4!$C$2:$C$8408,Sheet3!$B18,Sheet4!$D$2:$D$8408,Sheet3!AH$3,Sheet4!$E$2:$E$8408,Sheet3!AH$4,Sheet4!$A$2:$A$8408,Sheet3!$B$1,Sheet4!$B$2:$B$8408,Sheet3!$A$3)","v":84},{"$f":"+SUMIFS(Sheet4!$FV$2:$FV$8408,Sheet4!$C$2:$C$8408,Sheet3!$B18,Sheet4!$D$2:$D$8408,Sheet3!AI$3,Sheet4!$E$2:$E$8408,Sheet3!AI$4,Sheet4!$A$2:$A$8408,Sheet3!$B$1,Sheet4!$B$2:$B$8408,Sheet3!$A$3)","v":41},{"$f":"+SUMIFS(Sheet4!$FV$2:$FV$8408,Sheet4!$C$2:$C$8408,Sheet3!$B18,Sheet4!$D$2:$D$8408,Sheet3!AJ$3,Sheet4!$E$2:$E$8408,Sheet3!AJ$4,Sheet4!$A$2:$A$8408,Sheet3!$B$1,Sheet4!$B$2:$B$8408,Sheet3!$A$3)","v":0},{"$f":"+SUMIFS(Sheet4!$FV$2:$FV$8408,Sheet4!$C$2:$C$8408,Sheet3!$B18,Sheet4!$D$2:$D$8408,Sheet3!AK$3,Sheet4!$E$2:$E$8408,Sheet3!AK$4,Sheet4!$A$2:$A$8408,Sheet3!$B$1,Sheet4!$B$2:$B$8408,Sheet3!$A$3)","v":0},{"$f":"+SUMIFS(Sheet4!$FV$2:$FV$8408,Sheet4!$C$2:$C$8408,Sheet3!$B18,Sheet4!$D$2:$D$8408,Sheet3!AL$3,Sheet4!$E$2:$E$8408,Sheet3!AL$4,Sheet4!$A$2:$A$8408,Sheet3!$B$1,Sheet4!$B$2:$B$8408,Sheet3!$A$3)","v":0},{"$f":"+SUMIFS(Sheet4!$FV$2:$FV$8408,Sheet4!$C$2:$C$8408,Sheet3!$B18,Sheet4!$D$2:$D$8408,Sheet3!AM$3,Sheet4!$E$2:$E$8408,Sheet3!AM$4,Sheet4!$A$2:$A$8408,Sheet3!$B$1,Sheet4!$B$2:$B$8408,Sheet3!$A$3)","v":177},{"$f":"+SUMIFS(Sheet4!$FV$2:$FV$8408,Sheet4!$C$2:$C$8408,Sheet3!$B18,Sheet4!$D$2:$D$8408,Sheet3!AN$3,Sheet4!$E$2:$E$8408,Sheet3!AN$4,Sheet4!$A$2:$A$8408,Sheet3!$B$1,Sheet4!$B$2:$B$8408,Sheet3!$A$3)","v":72},{"$f":"+SUMIFS(Sheet4!$FV$2:$FV$8408,Sheet4!$C$2:$C$8408,Sheet3!$B18,Sheet4!$D$2:$D$8408,Sheet3!AO$3,Sheet4!$E$2:$E$8408,Sheet3!AO$4,Sheet4!$A$2:$A$8408,Sheet3!$B$1,Sheet4!$B$2:$B$8408,Sheet3!$A$3)","v":4},{"$f":"+SUMIFS(Sheet4!$FV$2:$FV$8408,Sheet4!$C$2:$C$8408,Sheet3!$B18,Sheet4!$D$2:$D$8408,Sheet3!AP$3,Sheet4!$E$2:$E$8408,Sheet3!AP$4,Sheet4!$A$2:$A$8408,Sheet3!$B$1,Sheet4!$B$2:$B$8408,Sheet3!$A$3)","v":0},{"$f":"+SUMIFS(Sheet4!$FV$2:$FV$8408,Sheet4!$C$2:$C$8408,Sheet3!$B18,Sheet4!$D$2:$D$8408,Sheet3!AQ$3,Sheet4!$E$2:$E$8408,Sheet3!AQ$4,Sheet4!$A$2:$A$8408,Sheet3!$B$1,Sheet4!$B$2:$B$8408,Sheet3!$A$3)","v":0},{"$f":"+SUMIFS(Sheet4!$FV$2:$FV$8408,Sheet4!$C$2:$C$8408,Sheet3!$B18,Sheet4!$D$2:$D$8408,Sheet3!AR$3,Sheet4!$E$2:$E$8408,Sheet3!AR$4,Sheet4!$A$2:$A$8408,Sheet3!$B$1,Sheet4!$B$2:$B$8408,Sheet3!$A$3)","v":134},{"$f":"+SUMIFS(Sheet4!$FV$2:$FV$8408,Sheet4!$C$2:$C$8408,Sheet3!$B18,Sheet4!$D$2:$D$8408,Sheet3!AS$3,Sheet4!$E$2:$E$8408,Sheet3!AS$4,Sheet4!$A$2:$A$8408,Sheet3!$B$1,Sheet4!$B$2:$B$8408,Sheet3!$A$3)","v":3},{"$f":"+SUMIFS(Sheet4!$FV$2:$FV$8408,Sheet4!$C$2:$C$8408,Sheet3!$B18,Sheet4!$D$2:$D$8408,Sheet3!AT$3,Sheet4!$E$2:$E$8408,Sheet3!AT$4,Sheet4!$A$2:$A$8408,Sheet3!$B$1,Sheet4!$B$2:$B$8408,Sheet3!$A$3)","v":0},{"$f":"+SUMIFS(Sheet4!$FV$2:$FV$8408,Sheet4!$C$2:$C$8408,Sheet3!$B18,Sheet4!$D$2:$D$8408,Sheet3!AU$3,Sheet4!$E$2:$E$8408,Sheet3!AU$4,Sheet4!$A$2:$A$8408,Sheet3!$B$1,Sheet4!$B$2:$B$8408,Sheet3!$A$3)","v":0},{"$f":"+SUMIFS(Sheet4!$FV$2:$FV$8408,Sheet4!$C$2:$C$8408,Sheet3!$B18,Sheet4!$D$2:$D$8408,Sheet3!AV$3,Sheet4!$E$2:$E$8408,Sheet3!AV$4,Sheet4!$A$2:$A$8408,Sheet3!$B$1,Sheet4!$B$2:$B$8408,Sheet3!$A$3)","v":0},{"$f":"+SUMIFS(Sheet4!$FV$2:$FV$8408,Sheet4!$C$2:$C$8408,Sheet3!$B18,Sheet4!$D$2:$D$8408,Sheet3!AW$3,Sheet4!$E$2:$E$8408,Sheet3!AW$4,Sheet4!$A$2:$A$8408,Sheet3!$B$1,Sheet4!$B$2:$B$8408,Sheet3!$A$3)","v":1723},{"$f":"+SUMIFS(Sheet4!$FV$2:$FV$8408,Sheet4!$C$2:$C$8408,Sheet3!$B18,Sheet4!$D$2:$D$8408,Sheet3!AX$3,Sheet4!$E$2:$E$8408,Sheet3!AX$4,Sheet4!$A$2:$A$8408,Sheet3!$B$1,Sheet4!$B$2:$B$8408,Sheet3!$A$3)","v":120},{"$f":"+SUMIFS(Sheet4!$FV$2:$FV$8408,Sheet4!$C$2:$C$8408,Sheet3!$B18,Sheet4!$D$2:$D$8408,Sheet3!AY$3,Sheet4!$E$2:$E$8408,Sheet3!AY$4,Sheet4!$A$2:$A$8408,Sheet3!$B$1,Sheet4!$B$2:$B$8408,Sheet3!$A$3)","v":11},{"$f":"+SUMIFS(Sheet4!$FV$2:$FV$8408,Sheet4!$C$2:$C$8408,Sheet3!$B18,Sheet4!$D$2:$D$8408,Sheet3!AZ$3,Sheet4!$E$2:$E$8408,Sheet3!AZ$4,Sheet4!$A$2:$A$8408,Sheet3!$B$1,Sheet4!$B$2:$B$8408,Sheet3!$A$3)","v":0},{"$f":"+SUMIFS(Sheet4!$FV$2:$FV$8408,Sheet4!$C$2:$C$8408,Sheet3!$B18,Sheet4!$D$2:$D$8408,Sheet3!BA$3,Sheet4!$E$2:$E$8408,Sheet3!BA$4,Sheet4!$A$2:$A$8408,Sheet3!$B$1,Sheet4!$B$2:$B$8408,Sheet3!$A$3)","v":0},{"$f":"+SUMIFS(Sheet4!$FV$2:$FV$8408,Sheet4!$C$2:$C$8408,Sheet3!$B18,Sheet4!$D$2:$D$8408,Sheet3!BB$3,Sheet4!$E$2:$E$8408,Sheet3!BB$4,Sheet4!$A$2:$A$8408,Sheet3!$B$1,Sheet4!$B$2:$B$8408,Sheet3!$A$3)","v":39},{"$f":"+SUMIFS(Sheet4!$FV$2:$FV$8408,Sheet4!$C$2:$C$8408,Sheet3!$B18,Sheet4!$D$2:$D$8408,Sheet3!BC$3,Sheet4!$E$2:$E$8408,Sheet3!BC$4,Sheet4!$A$2:$A$8408,Sheet3!$B$1,Sheet4!$B$2:$B$8408,Sheet3!$A$3)","v":34},{"$f":"+SUMIFS(Sheet4!$FV$2:$FV$8408,Sheet4!$C$2:$C$8408,Sheet3!$B18,Sheet4!$D$2:$D$8408,Sheet3!BD$3,Sheet4!$E$2:$E$8408,Sheet3!BD$4,Sheet4!$A$2:$A$8408,Sheet3!$B$1,Sheet4!$B$2:$B$8408,Sheet3!$A$3)","v":5},{"$f":"+SUMIFS(Sheet4!$FV$2:$FV$8408,Sheet4!$C$2:$C$8408,Sheet3!$B18,Sheet4!$D$2:$D$8408,Sheet3!BE$3,Sheet4!$E$2:$E$8408,Sheet3!BE$4,Sheet4!$A$2:$A$8408,Sheet3!$B$1,Sheet4!$B$2:$B$8408,Sheet3!$A$3)","v":0},{"$f":"+SUMIFS(Sheet4!$FV$2:$FV$8408,Sheet4!$C$2:$C$8408,Sheet3!$B18,Sheet4!$D$2:$D$8408,Sheet3!BF$3,Sheet4!$E$2:$E$8408,Sheet3!BF$4,Sheet4!$A$2:$A$8408,Sheet3!$B$1,Sheet4!$B$2:$B$8408,Sheet3!$A$3)","v":0},{"$f":"+SUMIFS(Sheet4!$FV$2:$FV$8408,Sheet4!$C$2:$C$8408,Sheet3!$B18,Sheet4!$D$2:$D$8408,Sheet3!BG$3,Sheet4!$E$2:$E$8408,Sheet3!BG$4,Sheet4!$A$2:$A$8408,Sheet3!$B$1,Sheet4!$B$2:$B$8408,Sheet3!$A$3)","v":38},{"$f":"+SUMIFS(Sheet4!$FV$2:$FV$8408,Sheet4!$C$2:$C$8408,Sheet3!$B18,Sheet4!$D$2:$D$8408,Sheet3!BH$3,Sheet4!$E$2:$E$8408,Sheet3!BH$4,Sheet4!$A$2:$A$8408,Sheet3!$B$1,Sheet4!$B$2:$B$8408,Sheet3!$A$3)","v":10},{"$f":"+SUMIFS(Sheet4!$FV$2:$FV$8408,Sheet4!$C$2:$C$8408,Sheet3!$B18,Sheet4!$D$2:$D$8408,Sheet3!BI$3,Sheet4!$E$2:$E$8408,Sheet3!BI$4,Sheet4!$A$2:$A$8408,Sheet3!$B$1,Sheet4!$B$2:$B$8408,Sheet3!$A$3)","v":6},{"$f":"+SUMIFS(Sheet4!$FV$2:$FV$8408,Sheet4!$C$2:$C$8408,Sheet3!$B18,Sheet4!$D$2:$D$8408,Sheet3!BJ$3,Sheet4!$E$2:$E$8408,Sheet3!BJ$4,Sheet4!$A$2:$A$8408,Sheet3!$B$1,Sheet4!$B$2:$B$8408,Sheet3!$A$3)","v":0},{"$f":"+SUMIFS(Sheet4!$FV$2:$FV$8408,Sheet4!$C$2:$C$8408,Sheet3!$B18,Sheet4!$D$2:$D$8408,Sheet3!BK$3,Sheet4!$E$2:$E$8408,Sheet3!BK$4,Sheet4!$A$2:$A$8408,Sheet3!$B$1,Sheet4!$B$2:$B$8408,Sheet3!$A$3)","v":0},{"$f":"+SUMIFS(Sheet4!$FV$2:$FV$8408,Sheet4!$C$2:$C$8408,Sheet3!$B18,Sheet4!$D$2:$D$8408,Sheet3!BL$3,Sheet4!$E$2:$E$8408,Sheet3!BL$4,Sheet4!$A$2:$A$8408,Sheet3!$B$1,Sheet4!$B$2:$B$8408,Sheet3!$A$3)","v":105},{"$f":"+SUMIFS(Sheet4!$FV$2:$FV$8408,Sheet4!$C$2:$C$8408,Sheet3!$B18,Sheet4!$D$2:$D$8408,Sheet3!BM$3,Sheet4!$E$2:$E$8408,Sheet3!BM$4,Sheet4!$A$2:$A$8408,Sheet3!$B$1,Sheet4!$B$2:$B$8408,Sheet3!$A$3)","v":13},{"$f":"+SUMIFS(Sheet4!$FV$2:$FV$8408,Sheet4!$C$2:$C$8408,Sheet3!$B18,Sheet4!$D$2:$D$8408,Sheet3!BN$3,Sheet4!$E$2:$E$8408,Sheet3!BN$4,Sheet4!$A$2:$A$8408,Sheet3!$B$1,Sheet4!$B$2:$B$8408,Sheet3!$A$3)","v":0},{"$f":"+SUMIFS(Sheet4!$FV$2:$FV$8408,Sheet4!$C$2:$C$8408,Sheet3!$B18,Sheet4!$D$2:$D$8408,Sheet3!BO$3,Sheet4!$E$2:$E$8408,Sheet3!BO$4,Sheet4!$A$2:$A$8408,Sheet3!$B$1,Sheet4!$B$2:$B$8408,Sheet3!$A$3)","v":0},{"$f":"+SUMIFS(Sheet4!$FV$2:$FV$8408,Sheet4!$C$2:$C$8408,Sheet3!$B18,Sheet4!$D$2:$D$8408,Sheet3!BP$3,Sheet4!$E$2:$E$8408,Sheet3!BP$4,Sheet4!$A$2:$A$8408,Sheet3!$B$1,Sheet4!$B$2:$B$8408,Sheet3!$A$3)","v":0},{"$f":"+SUMIFS(Sheet4!$FV$2:$FV$8408,Sheet4!$C$2:$C$8408,Sheet3!$B18,Sheet4!$D$2:$D$8408,Sheet3!BQ$3,Sheet4!$E$2:$E$8408,Sheet3!BQ$4,Sheet4!$A$2:$A$8408,Sheet3!$B$1,Sheet4!$B$2:$B$8408,Sheet3!$A$3)","v":14},{"$f":"+SUMIFS(Sheet4!$FV$2:$FV$8408,Sheet4!$C$2:$C$8408,Sheet3!$B18,Sheet4!$D$2:$D$8408,Sheet3!BR$3,Sheet4!$E$2:$E$8408,Sheet3!BR$4,Sheet4!$A$2:$A$8408,Sheet3!$B$1,Sheet4!$B$2:$B$8408,Sheet3!$A$3)","v":7},{"$f":"+SUMIFS(Sheet4!$FV$2:$FV$8408,Sheet4!$C$2:$C$8408,Sheet3!$B18,Sheet4!$D$2:$D$8408,Sheet3!BS$3,Sheet4!$E$2:$E$8408,Sheet3!BS$4,Sheet4!$A$2:$A$8408,Sheet3!$B$1,Sheet4!$B$2:$B$8408,Sheet3!$A$3)","v":5},{"$f":"+SUMIFS(Sheet4!$FV$2:$FV$8408,Sheet4!$C$2:$C$8408,Sheet3!$B18,Sheet4!$D$2:$D$8408,Sheet3!BT$3,Sheet4!$E$2:$E$8408,Sheet3!BT$4,Sheet4!$A$2:$A$8408,Sheet3!$B$1,Sheet4!$B$2:$B$8408,Sheet3!$A$3)","v":0},{"$f":"+SUMIFS(Sheet4!$FV$2:$FV$8408,Sheet4!$C$2:$C$8408,Sheet3!$B18,Sheet4!$D$2:$D$8408,Sheet3!BU$3,Sheet4!$E$2:$E$8408,Sheet3!BU$4,Sheet4!$A$2:$A$8408,Sheet3!$B$1,Sheet4!$B$2:$B$8408,Sheet3!$A$3)","v":0},{"$f":"+SUMIFS(Sheet4!$FV$2:$FV$8408,Sheet4!$C$2:$C$8408,Sheet3!$B18,Sheet4!$D$2:$D$8408,Sheet3!BV$3,Sheet4!$E$2:$E$8408,Sheet3!BV$4,Sheet4!$A$2:$A$8408,Sheet3!$B$1,Sheet4!$B$2:$B$8408,Sheet3!$A$3)","v":458},{"$f":"+SUMIFS(Sheet4!$FV$2:$FV$8408,Sheet4!$C$2:$C$8408,Sheet3!$B18,Sheet4!$D$2:$D$8408,Sheet3!BW$3,Sheet4!$E$2:$E$8408,Sheet3!BW$4,Sheet4!$A$2:$A$8408,Sheet3!$B$1,Sheet4!$B$2:$B$8408,Sheet3!$A$3)","v":80},{"$f":"+SUMIFS(Sheet4!$FV$2:$FV$8408,Sheet4!$C$2:$C$8408,Sheet3!$B18,Sheet4!$D$2:$D$8408,Sheet3!BX$3,Sheet4!$E$2:$E$8408,Sheet3!BX$4,Sheet4!$A$2:$A$8408,Sheet3!$B$1,Sheet4!$B$2:$B$8408,Sheet3!$A$3)","v":6},{"$f":"+SUMIFS(Sheet4!$FV$2:$FV$8408,Sheet4!$C$2:$C$8408,Sheet3!$B18,Sheet4!$D$2:$D$8408,Sheet3!BY$3,Sheet4!$E$2:$E$8408,Sheet3!BY$4,Sheet4!$A$2:$A$8408,Sheet3!$B$1,Sheet4!$B$2:$B$8408,Sheet3!$A$3)","v":0},{"$f":"+SUMIFS(Sheet4!$FV$2:$FV$8408,Sheet4!$C$2:$C$8408,Sheet3!$B18,Sheet4!$D$2:$D$8408,Sheet3!BZ$3,Sheet4!$E$2:$E$8408,Sheet3!BZ$4,Sheet4!$A$2:$A$8408,Sheet3!$B$1,Sheet4!$B$2:$B$8408,Sheet3!$A$3)","v":0},{"$f":"+SUMIFS(Sheet4!$FV$2:$FV$8408,Sheet4!$C$2:$C$8408,Sheet3!$B18,Sheet4!$D$2:$D$8408,Sheet3!CA$3,Sheet4!$E$2:$E$8408,Sheet3!CA$4,Sheet4!$A$2:$A$8408,Sheet3!$B$1,Sheet4!$B$2:$B$8408,Sheet3!$A$3)","v":389},{"$f":"+SUMIFS(Sheet4!$FV$2:$FV$8408,Sheet4!$C$2:$C$8408,Sheet3!$B18,Sheet4!$D$2:$D$8408,Sheet3!CB$3,Sheet4!$E$2:$E$8408,Sheet3!CB$4,Sheet4!$A$2:$A$8408,Sheet3!$B$1,Sheet4!$B$2:$B$8408,Sheet3!$A$3)","v":58},{"$f":"+SUMIFS(Sheet4!$FV$2:$FV$8408,Sheet4!$C$2:$C$8408,Sheet3!$B18,Sheet4!$D$2:$D$8408,Sheet3!CC$3,Sheet4!$E$2:$E$8408,Sheet3!CC$4,Sheet4!$A$2:$A$8408,Sheet3!$B$1,Sheet4!$B$2:$B$8408,Sheet3!$A$3)","v":8},{"$f":"+SUMIFS(Sheet4!$FV$2:$FV$8408,Sheet4!$C$2:$C$8408,Sheet3!$B18,Sheet4!$D$2:$D$8408,Sheet3!CD$3,Sheet4!$E$2:$E$8408,Sheet3!CD$4,Sheet4!$A$2:$A$8408,Sheet3!$B$1,Sheet4!$B$2:$B$8408,Sheet3!$A$3)","v":0},{"$f":"+SUMIFS(Sheet4!$FV$2:$FV$8408,Sheet4!$C$2:$C$8408,Sheet3!$B18,Sheet4!$D$2:$D$8408,Sheet3!CE$3,Sheet4!$E$2:$E$8408,Sheet3!CE$4,Sheet4!$A$2:$A$8408,Sheet3!$B$1,Sheet4!$B$2:$B$8408,Sheet3!$A$3)","v":0},{"$f":"+SUMIFS(Sheet4!$FV$2:$FV$8408,Sheet4!$C$2:$C$8408,Sheet3!$B18,Sheet4!$D$2:$D$8408,Sheet3!CF$3,Sheet4!$E$2:$E$8408,Sheet3!CF$4,Sheet4!$A$2:$A$8408,Sheet3!$B$1,Sheet4!$B$2:$B$8408,Sheet3!$A$3)","v":371},{"$f":"+SUMIFS(Sheet4!$FV$2:$FV$8408,Sheet4!$C$2:$C$8408,Sheet3!$B18,Sheet4!$D$2:$D$8408,Sheet3!CG$3,Sheet4!$E$2:$E$8408,Sheet3!CG$4,Sheet4!$A$2:$A$8408,Sheet3!$B$1,Sheet4!$B$2:$B$8408,Sheet3!$A$3)","v":30},{"$f":"+SUMIFS(Sheet4!$FV$2:$FV$8408,Sheet4!$C$2:$C$8408,Sheet3!$B18,Sheet4!$D$2:$D$8408,Sheet3!CH$3,Sheet4!$E$2:$E$8408,Sheet3!CH$4,Sheet4!$A$2:$A$8408,Sheet3!$B$1,Sheet4!$B$2:$B$8408,Sheet3!$A$3)","v":0},{"$f":"+SUMIFS(Sheet4!$FV$2:$FV$8408,Sheet4!$C$2:$C$8408,Sheet3!$B18,Sheet4!$D$2:$D$8408,Sheet3!CI$3,Sheet4!$E$2:$E$8408,Sheet3!CI$4,Sheet4!$A$2:$A$8408,Sheet3!$B$1,Sheet4!$B$2:$B$8408,Sheet3!$A$3)","v":0},{"$f":"+SUMIFS(Sheet4!$FV$2:$FV$8408,Sheet4!$C$2:$C$8408,Sheet3!$B18,Sheet4!$D$2:$D$8408,Sheet3!CJ$3,Sheet4!$E$2:$E$8408,Sheet3!CJ$4,Sheet4!$A$2:$A$8408,Sheet3!$B$1,Sheet4!$B$2:$B$8408,Sheet3!$A$3)","v":0},{"$f":"+SUMIFS(Sheet4!$FV$2:$FV$8408,Sheet4!$C$2:$C$8408,Sheet3!$B18,Sheet4!$D$2:$D$8408,Sheet3!CK$3,Sheet4!$E$2:$E$8408,Sheet3!CK$4,Sheet4!$A$2:$A$8408,Sheet3!$B$1,Sheet4!$B$2:$B$8408,Sheet3!$A$3)","v":0},{"$f":"+SUMIFS(Sheet4!$FV$2:$FV$8408,Sheet4!$C$2:$C$8408,Sheet3!$B18,Sheet4!$D$2:$D$8408,Sheet3!CL$3,Sheet4!$E$2:$E$8408,Sheet3!CL$4,Sheet4!$A$2:$A$8408,Sheet3!$B$1,Sheet4!$B$2:$B$8408,Sheet3!$A$3)","v":0},{"$f":"+SUMIFS(Sheet4!$FV$2:$FV$8408,Sheet4!$C$2:$C$8408,Sheet3!$B18,Sheet4!$D$2:$D$8408,Sheet3!CM$3,Sheet4!$E$2:$E$8408,Sheet3!CM$4,Sheet4!$A$2:$A$8408,Sheet3!$B$1,Sheet4!$B$2:$B$8408,Sheet3!$A$3)","v":0},{"$f":"+SUMIFS(Sheet4!$FV$2:$FV$8408,Sheet4!$C$2:$C$8408,Sheet3!$B18,Sheet4!$D$2:$D$8408,Sheet3!CN$3,Sheet4!$E$2:$E$8408,Sheet3!CN$4,Sheet4!$A$2:$A$8408,Sheet3!$B$1,Sheet4!$B$2:$B$8408,Sheet3!$A$3)","v":0},{"$f":"+SUMIFS(Sheet4!$FV$2:$FV$8408,Sheet4!$C$2:$C$8408,Sheet3!$B18,Sheet4!$D$2:$D$8408,Sheet3!CO$3,Sheet4!$E$2:$E$8408,Sheet3!CO$4,Sheet4!$A$2:$A$8408,Sheet3!$B$1,Sheet4!$B$2:$B$8408,Sheet3!$A$3)","v":0},{"$f":"+SUMIFS(Sheet4!$FV$2:$FV$8408,Sheet4!$C$2:$C$8408,Sheet3!$B18,Sheet4!$D$2:$D$8408,Sheet3!CP$3,Sheet4!$E$2:$E$8408,Sheet3!CP$4,Sheet4!$A$2:$A$8408,Sheet3!$B$1,Sheet4!$B$2:$B$8408,Sheet3!$A$3)","v":22},{"$f":"+SUMIFS(Sheet4!$FV$2:$FV$8408,Sheet4!$C$2:$C$8408,Sheet3!$B18,Sheet4!$D$2:$D$8408,Sheet3!CQ$3,Sheet4!$E$2:$E$8408,Sheet3!CQ$4,Sheet4!$A$2:$A$8408,Sheet3!$B$1,Sheet4!$B$2:$B$8408,Sheet3!$A$3)","v":3},{"$f":"+SUMIFS(Sheet4!$FV$2:$FV$8408,Sheet4!$C$2:$C$8408,Sheet3!$B18,Sheet4!$D$2:$D$8408,Sheet3!CR$3,Sheet4!$E$2:$E$8408,Sheet3!CR$4,Sheet4!$A$2:$A$8408,Sheet3!$B$1,Sheet4!$B$2:$B$8408,Sheet3!$A$3)","v":0},{"$f":"+SUMIFS(Sheet4!$FV$2:$FV$8408,Sheet4!$C$2:$C$8408,Sheet3!$B18,Sheet4!$D$2:$D$8408,Sheet3!CS$3,Sheet4!$E$2:$E$8408,Sheet3!CS$4,Sheet4!$A$2:$A$8408,Sheet3!$B$1,Sheet4!$B$2:$B$8408,Sheet3!$A$3)","v":0},{"$f":"+SUMIFS(Sheet4!$FV$2:$FV$8408,Sheet4!$C$2:$C$8408,Sheet3!$B18,Sheet4!$D$2:$D$8408,Sheet3!CT$3,Sheet4!$E$2:$E$8408,Sheet3!CT$4,Sheet4!$A$2:$A$8408,Sheet3!$B$1,Sheet4!$B$2:$B$8408,Sheet3!$A$3)","v":0},{"$f":"+IF(SUMIFS(Sheet4!$FW$2:$FW$8408,Sheet4!$C$2:$C$8408,Sheet3!$B18,Sheet4!$D$2:$D$8408,Sheet3!CU$3,Sheet4!$A$2:$A$8408,Sheet3!$B$1,Sheet4!$B$2:$B$8408,Sheet3!$A$3)<3,0,SUMIFS(Sheet4!$FW$2:$FW$8408,Sheet4!$C$2:$C$8408,Sheet3!$B18,Sheet4!$D$2:$D$8408,Sheet3!CU$3,Sheet4!$A$2:$A$8408,Sheet3!$B$1,Sheet4!$B$2:$B$8408,Sheet3!$A$3))","v":29},{"$f":"+IF(SUMIFS(Sheet4!$FW$2:$FW$8408,Sheet4!$C$2:$C$8408,Sheet3!$B18,Sheet4!$D$2:$D$8408,Sheet3!CV$3,Sheet4!$A$2:$A$8408,Sheet3!$B$1,Sheet4!$B$2:$B$8408,Sheet3!$A$3)<3,0,SUMIFS(Sheet4!$FW$2:$FW$8408,Sheet4!$C$2:$C$8408,Sheet3!$B18,Sheet4!$D$2:$D$8408,Sheet3!CV$3,Sheet4!$A$2:$A$8408,Sheet3!$B$1,Sheet4!$B$2:$B$8408,Sheet3!$A$3))","v":979},{"$f":"+IF(SUMIFS(Sheet4!$FW$2:$FW$8408,Sheet4!$C$2:$C$8408,Sheet3!$B18,Sheet4!$D$2:$D$8408,Sheet3!CW$3,Sheet4!$A$2:$A$8408,Sheet3!$B$1,Sheet4!$B$2:$B$8408,Sheet3!$A$3)<3,0,SUMIFS(Sheet4!$FW$2:$FW$8408,Sheet4!$C$2:$C$8408,Sheet3!$B18,Sheet4!$D$2:$D$8408,Sheet3!CW$3,Sheet4!$A$2:$A$8408,Sheet3!$B$1,Sheet4!$B$2:$B$8408,Sheet3!$A$3))","v":330},{"$f":"+IF(SUMIFS(Sheet4!$FW$2:$FW$8408,Sheet4!$C$2:$C$8408,Sheet3!$B18,Sheet4!$D$2:$D$8408,Sheet3!CX$3,Sheet4!$A$2:$A$8408,Sheet3!$B$1,Sheet4!$B$2:$B$8408,Sheet3!$A$3)<3,0,SUMIFS(Sheet4!$FW$2:$FW$8408,Sheet4!$C$2:$C$8408,Sheet3!$B18,Sheet4!$D$2:$D$8408,Sheet3!CX$3,Sheet4!$A$2:$A$8408,Sheet3!$B$1,Sheet4!$B$2:$B$8408,Sheet3!$A$3))","v":277},{"$f":"+IF(SUMIFS(Sheet4!$FW$2:$FW$8408,Sheet4!$C$2:$C$8408,Sheet3!$B18,Sheet4!$D$2:$D$8408,Sheet3!CY$3,Sheet4!$A$2:$A$8408,Sheet3!$B$1,Sheet4!$B$2:$B$8408,Sheet3!$A$3)<3,0,SUMIFS(Sheet4!$FW$2:$FW$8408,Sheet4!$C$2:$C$8408,Sheet3!$B18,Sheet4!$D$2:$D$8408,Sheet3!CY$3,Sheet4!$A$2:$A$8408,Sheet3!$B$1,Sheet4!$B$2:$B$8408,Sheet3!$A$3))","v":4},{"$f":"+IF(SUMIFS(Sheet4!$FW$2:$FW$8408,Sheet4!$C$2:$C$8408,Sheet3!$B18,Sheet4!$D$2:$D$8408,Sheet3!CZ$3,Sheet4!$A$2:$A$8408,Sheet3!$B$1,Sheet4!$B$2:$B$8408,Sheet3!$A$3)<3,0,SUMIFS(Sheet4!$FW$2:$FW$8408,Sheet4!$C$2:$C$8408,Sheet3!$B18,Sheet4!$D$2:$D$8408,Sheet3!CZ$3,Sheet4!$A$2:$A$8408,Sheet3!$B$1,Sheet4!$B$2:$B$8408,Sheet3!$A$3))","v":701},{"$f":"+IF(SUMIFS(Sheet4!$FW$2:$FW$8408,Sheet4!$C$2:$C$8408,Sheet3!$B18,Sheet4!$D$2:$D$8408,Sheet3!DA$3,Sheet4!$A$2:$A$8408,Sheet3!$B$1,Sheet4!$B$2:$B$8408,Sheet3!$A$3)<3,0,SUMIFS(Sheet4!$FW$2:$FW$8408,Sheet4!$C$2:$C$8408,Sheet3!$B18,Sheet4!$D$2:$D$8408,Sheet3!DA$3,Sheet4!$A$2:$A$8408,Sheet3!$B$1,Sheet4!$B$2:$B$8408,Sheet3!$A$3))","v":126},{"$f":"+IF(SUMIFS(Sheet4!$FW$2:$FW$8408,Sheet4!$C$2:$C$8408,Sheet3!$B18,Sheet4!$D$2:$D$8408,Sheet3!DB$3,Sheet4!$A$2:$A$8408,Sheet3!$B$1,Sheet4!$B$2:$B$8408,Sheet3!$A$3)<3,0,SUMIFS(Sheet4!$FW$2:$FW$8408,Sheet4!$C$2:$C$8408,Sheet3!$B18,Sheet4!$D$2:$D$8408,Sheet3!DB$3,Sheet4!$A$2:$A$8408,Sheet3!$B$1,Sheet4!$B$2:$B$8408,Sheet3!$A$3))","v":253},{"$f":"+IF(SUMIFS(Sheet4!$FW$2:$FW$8408,Sheet4!$C$2:$C$8408,Sheet3!$B18,Sheet4!$D$2:$D$8408,Sheet3!DC$3,Sheet4!$A$2:$A$8408,Sheet3!$B$1,Sheet4!$B$2:$B$8408,Sheet3!$A$3)<3,0,SUMIFS(Sheet4!$FW$2:$FW$8408,Sheet4!$C$2:$C$8408,Sheet3!$B18,Sheet4!$D$2:$D$8408,Sheet3!DC$3,Sheet4!$A$2:$A$8408,Sheet3!$B$1,Sheet4!$B$2:$B$8408,Sheet3!$A$3))","v":143},{"$f":"+IF(SUMIFS(Sheet4!$FW$2:$FW$8408,Sheet4!$C$2:$C$8408,Sheet3!$B18,Sheet4!$D$2:$D$8408,Sheet3!DD$3,Sheet4!$A$2:$A$8408,Sheet3!$B$1,Sheet4!$B$2:$B$8408,Sheet3!$A$3)<3,0,SUMIFS(Sheet4!$FW$2:$FW$8408,Sheet4!$C$2:$C$8408,Sheet3!$B18,Sheet4!$D$2:$D$8408,Sheet3!DD$3,Sheet4!$A$2:$A$8408,Sheet3!$B$1,Sheet4!$B$2:$B$8408,Sheet3!$A$3))","v":1858},{"$f":"+IF(SUMIFS(Sheet4!$FW$2:$FW$8408,Sheet4!$C$2:$C$8408,Sheet3!$B18,Sheet4!$D$2:$D$8408,Sheet3!DE$3,Sheet4!$A$2:$A$8408,Sheet3!$B$1,Sheet4!$B$2:$B$8408,Sheet3!$A$3)<3,0,SUMIFS(Sheet4!$FW$2:$FW$8408,Sheet4!$C$2:$C$8408,Sheet3!$B18,Sheet4!$D$2:$D$8408,Sheet3!DE$3,Sheet4!$A$2:$A$8408,Sheet3!$B$1,Sheet4!$B$2:$B$8408,Sheet3!$A$3))","v":78},{"$f":"+IF(SUMIFS(Sheet4!$FW$2:$FW$8408,Sheet4!$C$2:$C$8408,Sheet3!$B18,Sheet4!$D$2:$D$8408,Sheet3!DF$3,Sheet4!$A$2:$A$8408,Sheet3!$B$1,Sheet4!$B$2:$B$8408,Sheet3!$A$3)<3,0,SUMIFS(Sheet4!$FW$2:$FW$8408,Sheet4!$C$2:$C$8408,Sheet3!$B18,Sheet4!$D$2:$D$8408,Sheet3!DF$3,Sheet4!$A$2:$A$8408,Sheet3!$B$1,Sheet4!$B$2:$B$8408,Sheet3!$A$3))","v":56},{"$f":"+IF(SUMIFS(Sheet4!$FW$2:$FW$8408,Sheet4!$C$2:$C$8408,Sheet3!$B18,Sheet4!$D$2:$D$8408,Sheet3!DG$3,Sheet4!$A$2:$A$8408,Sheet3!$B$1,Sheet4!$B$2:$B$8408,Sheet3!$A$3)<3,0,SUMIFS(Sheet4!$FW$2:$FW$8408,Sheet4!$C$2:$C$8408,Sheet3!$B18,Sheet4!$D$2:$D$8408,Sheet3!DG$3,Sheet4!$A$2:$A$8408,Sheet3!$B$1,Sheet4!$B$2:$B$8408,Sheet3!$A$3))","v":119},{"$f":"+IF(SUMIFS(Sheet4!$FW$2:$FW$8408,Sheet4!$C$2:$C$8408,Sheet3!$B18,Sheet4!$D$2:$D$8408,Sheet3!DH$3,Sheet4!$A$2:$A$8408,Sheet3!$B$1,Sheet4!$B$2:$B$8408,Sheet3!$A$3)<3,0,SUMIFS(Sheet4!$FW$2:$FW$8408,Sheet4!$C$2:$C$8408,Sheet3!$B18,Sheet4!$D$2:$D$8408,Sheet3!DH$3,Sheet4!$A$2:$A$8408,Sheet3!$B$1,Sheet4!$B$2:$B$8408,Sheet3!$A$3))","v":29},{"$f":"+IF(SUMIFS(Sheet4!$FW$2:$FW$8408,Sheet4!$C$2:$C$8408,Sheet3!$B18,Sheet4!$D$2:$D$8408,Sheet3!DI$3,Sheet4!$A$2:$A$8408,Sheet3!$B$1,Sheet4!$B$2:$B$8408,Sheet3!$A$3)<3,0,SUMIFS(Sheet4!$FW$2:$FW$8408,Sheet4!$C$2:$C$8408,Sheet3!$B18,Sheet4!$D$2:$D$8408,Sheet3!DI$3,Sheet4!$A$2:$A$8408,Sheet3!$B$1,Sheet4!$B$2:$B$8408,Sheet3!$A$3))","v":546},{"$f":"+IF(SUMIFS(Sheet4!$FW$2:$FW$8408,Sheet4!$C$2:$C$8408,Sheet3!$B18,Sheet4!$D$2:$D$8408,Sheet3!DJ$3,Sheet4!$A$2:$A$8408,Sheet3!$B$1,Sheet4!$B$2:$B$8408,Sheet3!$A$3)<3,0,SUMIFS(Sheet4!$FW$2:$FW$8408,Sheet4!$C$2:$C$8408,Sheet3!$B18,Sheet4!$D$2:$D$8408,Sheet3!DJ$3,Sheet4!$A$2:$A$8408,Sheet3!$B$1,Sheet4!$B$2:$B$8408,Sheet3!$A$3))","v":457},{"$f":"+IF(SUMIFS(Sheet4!$FW$2:$FW$8408,Sheet4!$C$2:$C$8408,Sheet3!$B18,Sheet4!$D$2:$D$8408,Sheet3!DK$3,Sheet4!$A$2:$A$8408,Sheet3!$B$1,Sheet4!$B$2:$B$8408,Sheet3!$A$3)<3,0,SUMIFS(Sheet4!$FW$2:$FW$8408,Sheet4!$C$2:$C$8408,Sheet3!$B18,Sheet4!$D$2:$D$8408,Sheet3!DK$3,Sheet4!$A$2:$A$8408,Sheet3!$B$1,Sheet4!$B$2:$B$8408,Sheet3!$A$3))","v":404},{"$f":"+IF(SUMIFS(Sheet4!$FW$2:$FW$8408,Sheet4!$C$2:$C$8408,Sheet3!$B18,Sheet4!$D$2:$D$8408,Sheet3!DL$3,Sheet4!$A$2:$A$8408,Sheet3!$B$1,Sheet4!$B$2:$B$8408,Sheet3!$A$3)<3,0,SUMIFS(Sheet4!$FW$2:$FW$8408,Sheet4!$C$2:$C$8408,Sheet3!$B18,Sheet4!$D$2:$D$8408,Sheet3!DL$3,Sheet4!$A$2:$A$8408,Sheet3!$B$1,Sheet4!$B$2:$B$8408,Sheet3!$A$3))","v":0},{"$f":"+IF(SUMIFS(Sheet4!$FW$2:$FW$8408,Sheet4!$C$2:$C$8408,Sheet3!$B18,Sheet4!$D$2:$D$8408,Sheet3!DM$3,Sheet4!$A$2:$A$8408,Sheet3!$B$1,Sheet4!$B$2:$B$8408,Sheet3!$A$3)<3,0,SUMIFS(Sheet4!$FW$2:$FW$8408,Sheet4!$C$2:$C$8408,Sheet3!$B18,Sheet4!$D$2:$D$8408,Sheet3!DM$3,Sheet4!$A$2:$A$8408,Sheet3!$B$1,Sheet4!$B$2:$B$8408,Sheet3!$A$3))","v":27},{"$f":"+IF(SUMIFS(Sheet4!$FW$2:$FW$8408,Sheet4!$C$2:$C$8408,Sheet3!$B18,Sheet4!$E$2:$E$8408,Sheet3!DN$4,Sheet4!$A$2:$A$8408,Sheet3!$B$1,Sheet4!$B$2:$B$8408,Sheet3!$A$3)<3,0,SUMIFS(Sheet4!$FW$2:$FW$8408,Sheet4!$C$2:$C$8408,Sheet3!$B18,Sheet4!$E$2:$E$8408,Sheet3!DN$4,Sheet4!$A$2:$A$8408,Sheet3!$B$1,Sheet4!$B$2:$B$8408,Sheet3!$A$3))","v":5358},{"$f":"+IF(SUMIFS(Sheet4!$FW$2:$FW$8408,Sheet4!$C$2:$C$8408,Sheet3!$B18,Sheet4!$E$2:$E$8408,Sheet3!DO$4,Sheet4!$A$2:$A$8408,Sheet3!$B$1,Sheet4!$B$2:$B$8408,Sheet3!$A$3)<3,0,SUMIFS(Sheet4!$FW$2:$FW$8408,Sheet4!$C$2:$C$8408,Sheet3!$B18,Sheet4!$E$2:$E$8408,Sheet3!DO$4,Sheet4!$A$2:$A$8408,Sheet3!$B$1,Sheet4!$B$2:$B$8408,Sheet3!$A$3))","v":890},{"$f":"+IF(SUMIFS(Sheet4!$FW$2:$FW$8408,Sheet4!$C$2:$C$8408,Sheet3!$B18,Sheet4!$E$2:$E$8408,Sheet3!DP$4,Sheet4!$A$2:$A$8408,Sheet3!$B$1,Sheet4!$B$2:$B$8408,Sheet3!$A$3)<3,0,SUMIFS(Sheet4!$FW$2:$FW$8408,Sheet4!$C$2:$C$8408,Sheet3!$B18,Sheet4!$E$2:$E$8408,Sheet3!DP$4,Sheet4!$A$2:$A$8408,Sheet3!$B$1,Sheet4!$B$2:$B$8408,Sheet3!$A$3))","v":166},{"$f":"+IF(SUMIFS(Sheet4!$FW$2:$FW$8408,Sheet4!$C$2:$C$8408,Sheet3!$B18,Sheet4!$E$2:$E$8408,Sheet3!DQ$4,Sheet4!$A$2:$A$8408,Sheet3!$B$1,Sheet4!$B$2:$B$8408,Sheet3!$A$3)<3,0,SUMIFS(Sheet4!$FW$2:$FW$8408,Sheet4!$C$2:$C$8408,Sheet3!$B18,Sheet4!$E$2:$E$8408,Sheet3!DQ$4,Sheet4!$A$2:$A$8408,Sheet3!$B$1,Sheet4!$B$2:$B$8408,Sheet3!$A$3))","v":0},{"$f":"+IF(SUMIFS(Sheet4!$FW$2:$FW$8408,Sheet4!$C$2:$C$8408,Sheet3!$B18,Sheet4!$E$2:$E$8408,Sheet3!DR$4,Sheet4!$A$2:$A$8408,Sheet3!$B$1,Sheet4!$B$2:$B$8408,Sheet3!$A$3)<3,0,SUMIFS(Sheet4!$FW$2:$FW$8408,Sheet4!$C$2:$C$8408,Sheet3!$B18,Sheet4!$E$2:$E$8408,Sheet3!DR$4,Sheet4!$A$2:$A$8408,Sheet3!$B$1,Sheet4!$B$2:$B$8408,Sheet3!$A$3))","v":0}]
[2,"16F","Região de Leiria",{"$f":"+SUMIFS(Sheet4!$FV$2:$FV$8408,Sheet4!$C$2:$C$8408,Sheet3!$B19,Sheet4!$D$2:$D$8408,Sheet3!D$3,Sheet4!$E$2:$E$8408,Sheet3!D$4,Sheet4!$A$2:$A$8408,Sheet3!$B$1,Sheet4!$B$2:$B$8408,Sheet3!$A$3)","v":30},{"$f":"+SUMIFS(Sheet4!$FV$2:$FV$8408,Sheet4!$C$2:$C$8408,Sheet3!$B19,Sheet4!$D$2:$D$8408,Sheet3!E$3,Sheet4!$E$2:$E$8408,Sheet3!E$4,Sheet4!$A$2:$A$8408,Sheet3!$B$1,Sheet4!$B$2:$B$8408,Sheet3!$A$3)","v":3},{"$f":"+SUMIFS(Sheet4!$FV$2:$FV$8408,Sheet4!$C$2:$C$8408,Sheet3!$B19,Sheet4!$D$2:$D$8408,Sheet3!F$3,Sheet4!$E$2:$E$8408,Sheet3!F$4,Sheet4!$A$2:$A$8408,Sheet3!$B$1,Sheet4!$B$2:$B$8408,Sheet3!$A$3)","v":0},{"$f":"+SUMIFS(Sheet4!$FV$2:$FV$8408,Sheet4!$C$2:$C$8408,Sheet3!$B19,Sheet4!$D$2:$D$8408,Sheet3!G$3,Sheet4!$E$2:$E$8408,Sheet3!G$4,Sheet4!$A$2:$A$8408,Sheet3!$B$1,Sheet4!$B$2:$B$8408,Sheet3!$A$3)","v":0},{"$f":"+SUMIFS(Sheet4!$FV$2:$FV$8408,Sheet4!$C$2:$C$8408,Sheet3!$B19,Sheet4!$D$2:$D$8408,Sheet3!H$3,Sheet4!$E$2:$E$8408,Sheet3!H$4,Sheet4!$A$2:$A$8408,Sheet3!$B$1,Sheet4!$B$2:$B$8408,Sheet3!$A$3)","v":0},{"$f":"+SUMIFS(Sheet4!$FV$2:$FV$8408,Sheet4!$C$2:$C$8408,Sheet3!$B19,Sheet4!$D$2:$D$8408,Sheet3!I$3,Sheet4!$E$2:$E$8408,Sheet3!I$4,Sheet4!$A$2:$A$8408,Sheet3!$B$1,Sheet4!$B$2:$B$8408,Sheet3!$A$3)","v":116},{"$f":"+SUMIFS(Sheet4!$FV$2:$FV$8408,Sheet4!$C$2:$C$8408,Sheet3!$B19,Sheet4!$D$2:$D$8408,Sheet3!J$3,Sheet4!$E$2:$E$8408,Sheet3!J$4,Sheet4!$A$2:$A$8408,Sheet3!$B$1,Sheet4!$B$2:$B$8408,Sheet3!$A$3)","v":19},{"$f":"+SUMIFS(Sheet4!$FV$2:$FV$8408,Sheet4!$C$2:$C$8408,Sheet3!$B19,Sheet4!$D$2:$D$8408,Sheet3!K$3,Sheet4!$E$2:$E$8408,Sheet3!K$4,Sheet4!$A$2:$A$8408,Sheet3!$B$1,Sheet4!$B$2:$B$8408,Sheet3!$A$3)","v":5},{"$f":"+SUMIFS(Sheet4!$FV$2:$FV$8408,Sheet4!$C$2:$C$8408,Sheet3!$B19,Sheet4!$D$2:$D$8408,Sheet3!L$3,Sheet4!$E$2:$E$8408,Sheet3!L$4,Sheet4!$A$2:$A$8408,Sheet3!$B$1,Sheet4!$B$2:$B$8408,Sheet3!$A$3)","v":0},{"$f":"+SUMIFS(Sheet4!$FV$2:$FV$8408,Sheet4!$C$2:$C$8408,Sheet3!$B19,Sheet4!$D$2:$D$8408,Sheet3!M$3,Sheet4!$E$2:$E$8408,Sheet3!M$4,Sheet4!$A$2:$A$8408,Sheet3!$B$1,Sheet4!$B$2:$B$8408,Sheet3!$A$3)","v":0},{"$f":"+SUMIFS(Sheet4!$FV$2:$FV$8408,Sheet4!$C$2:$C$8408,Sheet3!$B19,Sheet4!$D$2:$D$8408,Sheet3!N$3,Sheet4!$E$2:$E$8408,Sheet3!N$4,Sheet4!$A$2:$A$8408,Sheet3!$B$1,Sheet4!$B$2:$B$8408,Sheet3!$A$3)","v":99},{"$f":"+SUMIFS(Sheet4!$FV$2:$FV$8408,Sheet4!$C$2:$C$8408,Sheet3!$B19,Sheet4!$D$2:$D$8408,Sheet3!O$3,Sheet4!$E$2:$E$8408,Sheet3!O$4,Sheet4!$A$2:$A$8408,Sheet3!$B$1,Sheet4!$B$2:$B$8408,Sheet3!$A$3)","v":5},{"$f":"+SUMIFS(Sheet4!$FV$2:$FV$8408,Sheet4!$C$2:$C$8408,Sheet3!$B19,Sheet4!$D$2:$D$8408,Sheet3!P$3,Sheet4!$E$2:$E$8408,Sheet3!P$4,Sheet4!$A$2:$A$8408,Sheet3!$B$1,Sheet4!$B$2:$B$8408,Sheet3!$A$3)","v":0},{"$f":"+SUMIFS(Sheet4!$FV$2:$FV$8408,Sheet4!$C$2:$C$8408,Sheet3!$B19,Sheet4!$D$2:$D$8408,Sheet3!Q$3,Sheet4!$E$2:$E$8408,Sheet3!Q$4,Sheet4!$A$2:$A$8408,Sheet3!$B$1,Sheet4!$B$2:$B$8408,Sheet3!$A$3)","v":0},{"$f":"+SUMIFS(Sheet4!$FV$2:$FV$8408,Sheet4!$C$2:$C$8408,Sheet3!$B19,Sheet4!$D$2:$D$8408,Sheet3!R$3,Sheet4!$E$2:$E$8408,Sheet3!R$4,Sheet4!$A$2:$A$8408,Sheet3!$B$1,Sheet4!$B$2:$B$8408,Sheet3!$A$3)","v":0},{"$f":"+SUMIFS(Sheet4!$FV$2:$FV$8408,Sheet4!$C$2:$C$8408,Sheet3!$B19,Sheet4!$D$2:$D$8408,Sheet3!S$3,Sheet4!$E$2:$E$8408,Sheet3!S$4,Sheet4!$A$2:$A$8408,Sheet3!$B$1,Sheet4!$B$2:$B$8408,Sheet3!$A$3)","v":10},{"$f":"+SUMIFS(Sheet4!$FV$2:$FV$8408,Sheet4!$C$2:$C$8408,Sheet3!$B19,Sheet4!$D$2:$D$8408,Sheet3!T$3,Sheet4!$E$2:$E$8408,Sheet3!T$4,Sheet4!$A$2:$A$8408,Sheet3!$B$1,Sheet4!$B$2:$B$8408,Sheet3!$A$3)","v":11},{"$f":"+SUMIFS(Sheet4!$FV$2:$FV$8408,Sheet4!$C$2:$C$8408,Sheet3!$B19,Sheet4!$D$2:$D$8408,Sheet3!U$3,Sheet4!$E$2:$E$8408,Sheet3!U$4,Sheet4!$A$2:$A$8408,Sheet3!$B$1,Sheet4!$B$2:$B$8408,Sheet3!$A$3)","v":0},{"$f":"+SUMIFS(Sheet4!$FV$2:$FV$8408,Sheet4!$C$2:$C$8408,Sheet3!$B19,Sheet4!$D$2:$D$8408,Sheet3!V$3,Sheet4!$E$2:$E$8408,Sheet3!V$4,Sheet4!$A$2:$A$8408,Sheet3!$B$1,Sheet4!$B$2:$B$8408,Sheet3!$A$3)","v":0},{"$f":"+SUMIFS(Sheet4!$FV$2:$FV$8408,Sheet4!$C$2:$C$8408,Sheet3!$B19,Sheet4!$D$2:$D$8408,Sheet3!W$3,Sheet4!$E$2:$E$8408,Sheet3!W$4,Sheet4!$A$2:$A$8408,Sheet3!$B$1,Sheet4!$B$2:$B$8408,Sheet3!$A$3)","v":0},{"$f":"+SUMIFS(Sheet4!$FV$2:$FV$8408,Sheet4!$C$2:$C$8408,Sheet3!$B19,Sheet4!$D$2:$D$8408,Sheet3!X$3,Sheet4!$E$2:$E$8408,Sheet3!X$4,Sheet4!$A$2:$A$8408,Sheet3!$B$1,Sheet4!$B$2:$B$8408,Sheet3!$A$3)","v":0},{"$f":"+SUMIFS(Sheet4!$FV$2:$FV$8408,Sheet4!$C$2:$C$8408,Sheet3!$B19,Sheet4!$D$2:$D$8408,Sheet3!Y$3,Sheet4!$E$2:$E$8408,Sheet3!Y$4,Sheet4!$A$2:$A$8408,Sheet3!$B$1,Sheet4!$B$2:$B$8408,Sheet3!$A$3)","v":0},{"$f":"+SUMIFS(Sheet4!$FV$2:$FV$8408,Sheet4!$C$2:$C$8408,Sheet3!$B19,Sheet4!$D$2:$D$8408,Sheet3!Z$3,Sheet4!$E$2:$E$8408,Sheet3!Z$4,Sheet4!$A$2:$A$8408,Sheet3!$B$1,Sheet4!$B$2:$B$8408,Sheet3!$A$3)","v":0},{"$f":"+SUMIFS(Sheet4!$FV$2:$FV$8408,Sheet4!$C$2:$C$8408,Sheet3!$B19,Sheet4!$D$2:$D$8408,Sheet3!AA$3,Sheet4!$E$2:$E$8408,Sheet3!AA$4,Sheet4!$A$2:$A$8408,Sheet3!$B$1,Sheet4!$B$2:$B$8408,Sheet3!$A$3)","v":0},{"$f":"+SUMIFS(Sheet4!$FV$2:$FV$8408,Sheet4!$C$2:$C$8408,Sheet3!$B19,Sheet4!$D$2:$D$8408,Sheet3!AB$3,Sheet4!$E$2:$E$8408,Sheet3!AB$4,Sheet4!$A$2:$A$8408,Sheet3!$B$1,Sheet4!$B$2:$B$8408,Sheet3!$A$3)","v":0},{"$f":"+SUMIFS(Sheet4!$FV$2:$FV$8408,Sheet4!$C$2:$C$8408,Sheet3!$B19,Sheet4!$D$2:$D$8408,Sheet3!AC$3,Sheet4!$E$2:$E$8408,Sheet3!AC$4,Sheet4!$A$2:$A$8408,Sheet3!$B$1,Sheet4!$B$2:$B$8408,Sheet3!$A$3)","v":371},{"$f":"+SUMIFS(Sheet4!$FV$2:$FV$8408,Sheet4!$C$2:$C$8408,Sheet3!$B19,Sheet4!$D$2:$D$8408,Sheet3!AD$3,Sheet4!$E$2:$E$8408,Sheet3!AD$4,Sheet4!$A$2:$A$8408,Sheet3!$B$1,Sheet4!$B$2:$B$8408,Sheet3!$A$3)","v":12},{"$f":"+SUMIFS(Sheet4!$FV$2:$FV$8408,Sheet4!$C$2:$C$8408,Sheet3!$B19,Sheet4!$D$2:$D$8408,Sheet3!AE$3,Sheet4!$E$2:$E$8408,Sheet3!AE$4,Sheet4!$A$2:$A$8408,Sheet3!$B$1,Sheet4!$B$2:$B$8408,Sheet3!$A$3)","v":5},{"$f":"+SUMIFS(Sheet4!$FV$2:$FV$8408,Sheet4!$C$2:$C$8408,Sheet3!$B19,Sheet4!$D$2:$D$8408,Sheet3!AF$3,Sheet4!$E$2:$E$8408,Sheet3!AF$4,Sheet4!$A$2:$A$8408,Sheet3!$B$1,Sheet4!$B$2:$B$8408,Sheet3!$A$3)","v":0},{"$f":"+SUMIFS(Sheet4!$FV$2:$FV$8408,Sheet4!$C$2:$C$8408,Sheet3!$B19,Sheet4!$D$2:$D$8408,Sheet3!AG$3,Sheet4!$E$2:$E$8408,Sheet3!AG$4,Sheet4!$A$2:$A$8408,Sheet3!$B$1,Sheet4!$B$2:$B$8408,Sheet3!$A$3)","v":0},{"$f":"+SUMIFS(Sheet4!$FV$2:$FV$8408,Sheet4!$C$2:$C$8408,Sheet3!$B19,Sheet4!$D$2:$D$8408,Sheet3!AH$3,Sheet4!$E$2:$E$8408,Sheet3!AH$4,Sheet4!$A$2:$A$8408,Sheet3!$B$1,Sheet4!$B$2:$B$8408,Sheet3!$A$3)","v":0},{"$f":"+SUMIFS(Sheet4!$FV$2:$FV$8408,Sheet4!$C$2:$C$8408,Sheet3!$B19,Sheet4!$D$2:$D$8408,Sheet3!AI$3,Sheet4!$E$2:$E$8408,Sheet3!AI$4,Sheet4!$A$2:$A$8408,Sheet3!$B$1,Sheet4!$B$2:$B$8408,Sheet3!$A$3)","v":3},{"$f":"+SUMIFS(Sheet4!$FV$2:$FV$8408,Sheet4!$C$2:$C$8408,Sheet3!$B19,Sheet4!$D$2:$D$8408,Sheet3!AJ$3,Sheet4!$E$2:$E$8408,Sheet3!AJ$4,Sheet4!$A$2:$A$8408,Sheet3!$B$1,Sheet4!$B$2:$B$8408,Sheet3!$A$3)","v":0},{"$f":"+SUMIFS(Sheet4!$FV$2:$FV$8408,Sheet4!$C$2:$C$8408,Sheet3!$B19,Sheet4!$D$2:$D$8408,Sheet3!AK$3,Sheet4!$E$2:$E$8408,Sheet3!AK$4,Sheet4!$A$2:$A$8408,Sheet3!$B$1,Sheet4!$B$2:$B$8408,Sheet3!$A$3)","v":0},{"$f":"+SUMIFS(Sheet4!$FV$2:$FV$8408,Sheet4!$C$2:$C$8408,Sheet3!$B19,Sheet4!$D$2:$D$8408,Sheet3!AL$3,Sheet4!$E$2:$E$8408,Sheet3!AL$4,Sheet4!$A$2:$A$8408,Sheet3!$B$1,Sheet4!$B$2:$B$8408,Sheet3!$A$3)","v":0},{"$f":"+SUMIFS(Sheet4!$FV$2:$FV$8408,Sheet4!$C$2:$C$8408,Sheet3!$B19,Sheet4!$D$2:$D$8408,Sheet3!AM$3,Sheet4!$E$2:$E$8408,Sheet3!AM$4,Sheet4!$A$2:$A$8408,Sheet3!$B$1,Sheet4!$B$2:$B$8408,Sheet3!$A$3)","v":94},{"$f":"+SUMIFS(Sheet4!$FV$2:$FV$8408,Sheet4!$C$2:$C$8408,Sheet3!$B19,Sheet4!$D$2:$D$8408,Sheet3!AN$3,Sheet4!$E$2:$E$8408,Sheet3!AN$4,Sheet4!$A$2:$A$8408,Sheet3!$B$1,Sheet4!$B$2:$B$8408,Sheet3!$A$3)","v":29},{"$f":"+SUMIFS(Sheet4!$FV$2:$FV$8408,Sheet4!$C$2:$C$8408,Sheet3!$B19,Sheet4!$D$2:$D$8408,Sheet3!AO$3,Sheet4!$E$2:$E$8408,Sheet3!AO$4,Sheet4!$A$2:$A$8408,Sheet3!$B$1,Sheet4!$B$2:$B$8408,Sheet3!$A$3)","v":3},{"$f":"+SUMIFS(Sheet4!$FV$2:$FV$8408,Sheet4!$C$2:$C$8408,Sheet3!$B19,Sheet4!$D$2:$D$8408,Sheet3!AP$3,Sheet4!$E$2:$E$8408,Sheet3!AP$4,Sheet4!$A$2:$A$8408,Sheet3!$B$1,Sheet4!$B$2:$B$8408,Sheet3!$A$3)","v":0},{"$f":"+SUMIFS(Sheet4!$FV$2:$FV$8408,Sheet4!$C$2:$C$8408,Sheet3!$B19,Sheet4!$D$2:$D$8408,Sheet3!AQ$3,Sheet4!$E$2:$E$8408,Sheet3!AQ$4,Sheet4!$A$2:$A$8408,Sheet3!$B$1,Sheet4!$B$2:$B$8408,Sheet3!$A$3)","v":0},{"$f":"+SUMIFS(Sheet4!$FV$2:$FV$8408,Sheet4!$C$2:$C$8408,Sheet3!$B19,Sheet4!$D$2:$D$8408,Sheet3!AR$3,Sheet4!$E$2:$E$8408,Sheet3!AR$4,Sheet4!$A$2:$A$8408,Sheet3!$B$1,Sheet4!$B$2:$B$8408,Sheet3!$A$3)","v":239},{"$f":"+SUMIFS(Sheet4!$FV$2:$FV$8408,Sheet4!$C$2:$C$8408,Sheet3!$B19,Sheet4!$D$2:$D$8408,Sheet3!AS$3,Sheet4!$E$2:$E$8408,Sheet3!AS$4,Sheet4!$A$2:$A$8408,Sheet3!$B$1,Sheet4!$B$2:$B$8408,Sheet3!$A$3)","v":14},{"$f":"+SUMIFS(Sheet4!$FV$2:$FV$8408,Sheet4!$C$2:$C$8408,Sheet3!$B19,Sheet4!$D$2:$D$8408,Sheet3!AT$3,Sheet4!$E$2:$E$8408,Sheet3!AT$4,Sheet4!$A$2:$A$8408,Sheet3!$B$1,Sheet4!$B$2:$B$8408,Sheet3!$A$3)","v":0},{"$f":"+SUMIFS(Sheet4!$FV$2:$FV$8408,Sheet4!$C$2:$C$8408,Sheet3!$B19,Sheet4!$D$2:$D$8408,Sheet3!AU$3,Sheet4!$E$2:$E$8408,Sheet3!AU$4,Sheet4!$A$2:$A$8408,Sheet3!$B$1,Sheet4!$B$2:$B$8408,Sheet3!$A$3)","v":0},{"$f":"+SUMIFS(Sheet4!$FV$2:$FV$8408,Sheet4!$C$2:$C$8408,Sheet3!$B19,Sheet4!$D$2:$D$8408,Sheet3!AV$3,Sheet4!$E$2:$E$8408,Sheet3!AV$4,Sheet4!$A$2:$A$8408,Sheet3!$B$1,Sheet4!$B$2:$B$8408,Sheet3!$A$3)","v":0},{"$f":"+SUMIFS(Sheet4!$FV$2:$FV$8408,Sheet4!$C$2:$C$8408,Sheet3!$B19,Sheet4!$D$2:$D$8408,Sheet3!AW$3,Sheet4!$E$2:$E$8408,Sheet3!AW$4,Sheet4!$A$2:$A$8408,Sheet3!$B$1,Sheet4!$B$2:$B$8408,Sheet3!$A$3)","v":866},{"$f":"+SUMIFS(Sheet4!$FV$2:$FV$8408,Sheet4!$C$2:$C$8408,Sheet3!$B19,Sheet4!$D$2:$D$8408,Sheet3!AX$3,Sheet4!$E$2:$E$8408,Sheet3!AX$4,Sheet4!$A$2:$A$8408,Sheet3!$B$1,Sheet4!$B$2:$B$8408,Sheet3!$A$3)","v":40},{"$f":"+SUMIFS(Sheet4!$FV$2:$FV$8408,Sheet4!$C$2:$C$8408,Sheet3!$B19,Sheet4!$D$2:$D$8408,Sheet3!AY$3,Sheet4!$E$2:$E$8408,Sheet3!AY$4,Sheet4!$A$2:$A$8408,Sheet3!$B$1,Sheet4!$B$2:$B$8408,Sheet3!$A$3)","v":0},{"$f":"+SUMIFS(Sheet4!$FV$2:$FV$8408,Sheet4!$C$2:$C$8408,Sheet3!$B19,Sheet4!$D$2:$D$8408,Sheet3!AZ$3,Sheet4!$E$2:$E$8408,Sheet3!AZ$4,Sheet4!$A$2:$A$8408,Sheet3!$B$1,Sheet4!$B$2:$B$8408,Sheet3!$A$3)","v":0},{"$f":"+SUMIFS(Sheet4!$FV$2:$FV$8408,Sheet4!$C$2:$C$8408,Sheet3!$B19,Sheet4!$D$2:$D$8408,Sheet3!BA$3,Sheet4!$E$2:$E$8408,Sheet3!BA$4,Sheet4!$A$2:$A$8408,Sheet3!$B$1,Sheet4!$B$2:$B$8408,Sheet3!$A$3)","v":0},{"$f":"+SUMIFS(Sheet4!$FV$2:$FV$8408,Sheet4!$C$2:$C$8408,Sheet3!$B19,Sheet4!$D$2:$D$8408,Sheet3!BB$3,Sheet4!$E$2:$E$8408,Sheet3!BB$4,Sheet4!$A$2:$A$8408,Sheet3!$B$1,Sheet4!$B$2:$B$8408,Sheet3!$A$3)","v":0},{"$f":"+SUMIFS(Sheet4!$FV$2:$FV$8408,Sheet4!$C$2:$C$8408,Sheet3!$B19,Sheet4!$D$2:$D$8408,Sheet3!BC$3,Sheet4!$E$2:$E$8408,Sheet3!BC$4,Sheet4!$A$2:$A$8408,Sheet3!$B$1,Sheet4!$B$2:$B$8408,Sheet3!$A$3)","v":8},{"$f":"+SUMIFS(Sheet4!$FV$2:$FV$8408,Sheet4!$C$2:$C$8408,Sheet3!$B19,Sheet4!$D$2:$D$8408,Sheet3!BD$3,Sheet4!$E$2:$E$8408,Sheet3!BD$4,Sheet4!$A$2:$A$8408,Sheet3!$B$1,Sheet4!$B$2:$B$8408,Sheet3!$A$3)","v":0},{"$f":"+SUMIFS(Sheet4!$FV$2:$FV$8408,Sheet4!$C$2:$C$8408,Sheet3!$B19,Sheet4!$D$2:$D$8408,Sheet3!BE$3,Sheet4!$E$2:$E$8408,Sheet3!BE$4,Sheet4!$A$2:$A$8408,Sheet3!$B$1,Sheet4!$B$2:$B$8408,Sheet3!$A$3)","v":0},{"$f":"+SUMIFS(Sheet4!$FV$2:$FV$8408,Sheet4!$C$2:$C$8408,Sheet3!$B19,Sheet4!$D$2:$D$8408,Sheet3!BF$3,Sheet4!$E$2:$E$8408,Sheet3!BF$4,Sheet4!$A$2:$A$8408,Sheet3!$B$1,Sheet4!$B$2:$B$8408,Sheet3!$A$3)","v":0},{"$f":"+SUMIFS(Sheet4!$FV$2:$FV$8408,Sheet4!$C$2:$C$8408,Sheet3!$B19,Sheet4!$D$2:$D$8408,Sheet3!BG$3,Sheet4!$E$2:$E$8408,Sheet3!BG$4,Sheet4!$A$2:$A$8408,Sheet3!$B$1,Sheet4!$B$2:$B$8408,Sheet3!$A$3)","v":12},{"$f":"+SUMIFS(Sheet4!$FV$2:$FV$8408,Sheet4!$C$2:$C$8408,Sheet3!$B19,Sheet4!$D$2:$D$8408,Sheet3!BH$3,Sheet4!$E$2:$E$8408,Sheet3!BH$4,Sheet4!$A$2:$A$8408,Sheet3!$B$1,Sheet4!$B$2:$B$8408,Sheet3!$A$3)","v":25},{"$f":"+SUMIFS(Sheet4!$FV$2:$FV$8408,Sheet4!$C$2:$C$8408,Sheet3!$B19,Sheet4!$D$2:$D$8408,Sheet3!BI$3,Sheet4!$E$2:$E$8408,Sheet3!BI$4,Sheet4!$A$2:$A$8408,Sheet3!$B$1,Sheet4!$B$2:$B$8408,Sheet3!$A$3)","v":6},{"$f":"+SUMIFS(Sheet4!$FV$2:$FV$8408,Sheet4!$C$2:$C$8408,Sheet3!$B19,Sheet4!$D$2:$D$8408,Sheet3!BJ$3,Sheet4!$E$2:$E$8408,Sheet3!BJ$4,Sheet4!$A$2:$A$8408,Sheet3!$B$1,Sheet4!$B$2:$B$8408,Sheet3!$A$3)","v":0},{"$f":"+SUMIFS(Sheet4!$FV$2:$FV$8408,Sheet4!$C$2:$C$8408,Sheet3!$B19,Sheet4!$D$2:$D$8408,Sheet3!BK$3,Sheet4!$E$2:$E$8408,Sheet3!BK$4,Sheet4!$A$2:$A$8408,Sheet3!$B$1,Sheet4!$B$2:$B$8408,Sheet3!$A$3)","v":0},{"$f":"+SUMIFS(Sheet4!$FV$2:$FV$8408,Sheet4!$C$2:$C$8408,Sheet3!$B19,Sheet4!$D$2:$D$8408,Sheet3!BL$3,Sheet4!$E$2:$E$8408,Sheet3!BL$4,Sheet4!$A$2:$A$8408,Sheet3!$B$1,Sheet4!$B$2:$B$8408,Sheet3!$A$3)","v":86},{"$f":"+SUMIFS(Sheet4!$FV$2:$FV$8408,Sheet4!$C$2:$C$8408,Sheet3!$B19,Sheet4!$D$2:$D$8408,Sheet3!BM$3,Sheet4!$E$2:$E$8408,Sheet3!BM$4,Sheet4!$A$2:$A$8408,Sheet3!$B$1,Sheet4!$B$2:$B$8408,Sheet3!$A$3)","v":27},{"$f":"+SUMIFS(Sheet4!$FV$2:$FV$8408,Sheet4!$C$2:$C$8408,Sheet3!$B19,Sheet4!$D$2:$D$8408,Sheet3!BN$3,Sheet4!$E$2:$E$8408,Sheet3!BN$4,Sheet4!$A$2:$A$8408,Sheet3!$B$1,Sheet4!$B$2:$B$8408,Sheet3!$A$3)","v":3},{"$f":"+SUMIFS(Sheet4!$FV$2:$FV$8408,Sheet4!$C$2:$C$8408,Sheet3!$B19,Sheet4!$D$2:$D$8408,Sheet3!BO$3,Sheet4!$E$2:$E$8408,Sheet3!BO$4,Sheet4!$A$2:$A$8408,Sheet3!$B$1,Sheet4!$B$2:$B$8408,Sheet3!$A$3)","v":0},{"$f":"+SUMIFS(Sheet4!$FV$2:$FV$8408,Sheet4!$C$2:$C$8408,Sheet3!$B19,Sheet4!$D$2:$D$8408,Sheet3!BP$3,Sheet4!$E$2:$E$8408,Sheet3!BP$4,Sheet4!$A$2:$A$8408,Sheet3!$B$1,Sheet4!$B$2:$B$8408,Sheet3!$A$3)","v":0},{"$f":"+SUMIFS(Sheet4!$FV$2:$FV$8408,Sheet4!$C$2:$C$8408,Sheet3!$B19,Sheet4!$D$2:$D$8408,Sheet3!BQ$3,Sheet4!$E$2:$E$8408,Sheet3!BQ$4,Sheet4!$A$2:$A$8408,Sheet3!$B$1,Sheet4!$B$2:$B$8408,Sheet3!$A$3)","v":0},{"$f":"+SUMIFS(Sheet4!$FV$2:$FV$8408,Sheet4!$C$2:$C$8408,Sheet3!$B19,Sheet4!$D$2:$D$8408,Sheet3!BR$3,Sheet4!$E$2:$E$8408,Sheet3!BR$4,Sheet4!$A$2:$A$8408,Sheet3!$B$1,Sheet4!$B$2:$B$8408,Sheet3!$A$3)","v":7},{"$f":"+SUMIFS(Sheet4!$FV$2:$FV$8408,Sheet4!$C$2:$C$8408,Sheet3!$B19,Sheet4!$D$2:$D$8408,Sheet3!BS$3,Sheet4!$E$2:$E$8408,Sheet3!BS$4,Sheet4!$A$2:$A$8408,Sheet3!$B$1,Sheet4!$B$2:$B$8408,Sheet3!$A$3)","v":3},{"$f":"+SUMIFS(Sheet4!$FV$2:$FV$8408,Sheet4!$C$2:$C$8408,Sheet3!$B19,Sheet4!$D$2:$D$8408,Sheet3!BT$3,Sheet4!$E$2:$E$8408,Sheet3!BT$4,Sheet4!$A$2:$A$8408,Sheet3!$B$1,Sheet4!$B$2:$B$8408,Sheet3!$A$3)","v":0},{"$f":"+SUMIFS(Sheet4!$FV$2:$FV$8408,Sheet4!$C$2:$C$8408,Sheet3!$B19,Sheet4!$D$2:$D$8408,Sheet3!BU$3,Sheet4!$E$2:$E$8408,Sheet3!BU$4,Sheet4!$A$2:$A$8408,Sheet3!$B$1,Sheet4!$B$2:$B$8408,Sheet3!$A$3)","v":0},{"$f":"+SUMIFS(Sheet4!$FV$2:$FV$8408,Sheet4!$C$2:$C$8408,Sheet3!$B19,Sheet4!$D$2:$D$8408,Sheet3!BV$3,Sheet4!$E$2:$E$8408,Sheet3!BV$4,Sheet4!$A$2:$A$8408,Sheet3!$B$1,Sheet4!$B$2:$B$8408,Sheet3!$A$3)","v":385},{"$f":"+SUMIFS(Sheet4!$FV$2:$FV$8408,Sheet4!$C$2:$C$8408,Sheet3!$B19,Sheet4!$D$2:$D$8408,Sheet3!BW$3,Sheet4!$E$2:$E$8408,Sheet3!BW$4,Sheet4!$A$2:$A$8408,Sheet3!$B$1,Sheet4!$B$2:$B$8408,Sheet3!$A$3)","v":56},{"$f":"+SUMIFS(Sheet4!$FV$2:$FV$8408,Sheet4!$C$2:$C$8408,Sheet3!$B19,Sheet4!$D$2:$D$8408,Sheet3!BX$3,Sheet4!$E$2:$E$8408,Sheet3!BX$4,Sheet4!$A$2:$A$8408,Sheet3!$B$1,Sheet4!$B$2:$B$8408,Sheet3!$A$3)","v":6},{"$f":"+SUMIFS(Sheet4!$FV$2:$FV$8408,Sheet4!$C$2:$C$8408,Sheet3!$B19,Sheet4!$D$2:$D$8408,Sheet3!BY$3,Sheet4!$E$2:$E$8408,Sheet3!BY$4,Sheet4!$A$2:$A$8408,Sheet3!$B$1,Sheet4!$B$2:$B$8408,Sheet3!$A$3)","v":0},{"$f":"+SUMIFS(Sheet4!$FV$2:$FV$8408,Sheet4!$C$2:$C$8408,Sheet3!$B19,Sheet4!$D$2:$D$8408,Sheet3!BZ$3,Sheet4!$E$2:$E$8408,Sheet3!BZ$4,Sheet4!$A$2:$A$8408,Sheet3!$B$1,Sheet4!$B$2:$B$8408,Sheet3!$A$3)","v":0},{"$f":"+SUMIFS(Sheet4!$FV$2:$FV$8408,Sheet4!$C$2:$C$8408,Sheet3!$B19,Sheet4!$D$2:$D$8408,Sheet3!CA$3,Sheet4!$E$2:$E$8408,Sheet3!CA$4,Sheet4!$A$2:$A$8408,Sheet3!$B$1,Sheet4!$B$2:$B$8408,Sheet3!$A$3)","v":295},{"$f":"+SUMIFS(Sheet4!$FV$2:$FV$8408,Sheet4!$C$2:$C$8408,Sheet3!$B19,Sheet4!$D$2:$D$8408,Sheet3!CB$3,Sheet4!$E$2:$E$8408,Sheet3!CB$4,Sheet4!$A$2:$A$8408,Sheet3!$B$1,Sheet4!$B$2:$B$8408,Sheet3!$A$3)","v":44},{"$f":"+SUMIFS(Sheet4!$FV$2:$FV$8408,Sheet4!$C$2:$C$8408,Sheet3!$B19,Sheet4!$D$2:$D$8408,Sheet3!CC$3,Sheet4!$E$2:$E$8408,Sheet3!CC$4,Sheet4!$A$2:$A$8408,Sheet3!$B$1,Sheet4!$B$2:$B$8408,Sheet3!$A$3)","v":3},{"$f":"+SUMIFS(Sheet4!$FV$2:$FV$8408,Sheet4!$C$2:$C$8408,Sheet3!$B19,Sheet4!$D$2:$D$8408,Sheet3!CD$3,Sheet4!$E$2:$E$8408,Sheet3!CD$4,Sheet4!$A$2:$A$8408,Sheet3!$B$1,Sheet4!$B$2:$B$8408,Sheet3!$A$3)","v":0},{"$f":"+SUMIFS(Sheet4!$FV$2:$FV$8408,Sheet4!$C$2:$C$8408,Sheet3!$B19,Sheet4!$D$2:$D$8408,Sheet3!CE$3,Sheet4!$E$2:$E$8408,Sheet3!CE$4,Sheet4!$A$2:$A$8408,Sheet3!$B$1,Sheet4!$B$2:$B$8408,Sheet3!$A$3)","v":0},{"$f":"+SUMIFS(Sheet4!$FV$2:$FV$8408,Sheet4!$C$2:$C$8408,Sheet3!$B19,Sheet4!$D$2:$D$8408,Sheet3!CF$3,Sheet4!$E$2:$E$8408,Sheet3!CF$4,Sheet4!$A$2:$A$8408,Sheet3!$B$1,Sheet4!$B$2:$B$8408,Sheet3!$A$3)","v":114},{"$f":"+SUMIFS(Sheet4!$FV$2:$FV$8408,Sheet4!$C$2:$C$8408,Sheet3!$B19,Sheet4!$D$2:$D$8408,Sheet3!CG$3,Sheet4!$E$2:$E$8408,Sheet3!CG$4,Sheet4!$A$2:$A$8408,Sheet3!$B$1,Sheet4!$B$2:$B$8408,Sheet3!$A$3)","v":5},{"$f":"+SUMIFS(Sheet4!$FV$2:$FV$8408,Sheet4!$C$2:$C$8408,Sheet3!$B19,Sheet4!$D$2:$D$8408,Sheet3!CH$3,Sheet4!$E$2:$E$8408,Sheet3!CH$4,Sheet4!$A$2:$A$8408,Sheet3!$B$1,Sheet4!$B$2:$B$8408,Sheet3!$A$3)","v":0},{"$f":"+SUMIFS(Sheet4!$FV$2:$FV$8408,Sheet4!$C$2:$C$8408,Sheet3!$B19,Sheet4!$D$2:$D$8408,Sheet3!CI$3,Sheet4!$E$2:$E$8408,Sheet3!CI$4,Sheet4!$A$2:$A$8408,Sheet3!$B$1,Sheet4!$B$2:$B$8408,Sheet3!$A$3)","v":0},{"$f":"+SUMIFS(Sheet4!$FV$2:$FV$8408,Sheet4!$C$2:$C$8408,Sheet3!$B19,Sheet4!$D$2:$D$8408,Sheet3!CJ$3,Sheet4!$E$2:$E$8408,Sheet3!CJ$4,Sheet4!$A$2:$A$8408,Sheet3!$B$1,Sheet4!$B$2:$B$8408,Sheet3!$A$3)","v":0},{"$f":"+SUMIFS(Sheet4!$FV$2:$FV$8408,Sheet4!$C$2:$C$8408,Sheet3!$B19,Sheet4!$D$2:$D$8408,Sheet3!CK$3,Sheet4!$E$2:$E$8408,Sheet3!CK$4,Sheet4!$A$2:$A$8408,Sheet3!$B$1,Sheet4!$B$2:$B$8408,Sheet3!$A$3)","v":0},{"$f":"+SUMIFS(Sheet4!$FV$2:$FV$8408,Sheet4!$C$2:$C$8408,Sheet3!$B19,Sheet4!$D$2:$D$8408,Sheet3!CL$3,Sheet4!$E$2:$E$8408,Sheet3!CL$4,Sheet4!$A$2:$A$8408,Sheet3!$B$1,Sheet4!$B$2:$B$8408,Sheet3!$A$3)","v":0},{"$f":"+SUMIFS(Sheet4!$FV$2:$FV$8408,Sheet4!$C$2:$C$8408,Sheet3!$B19,Sheet4!$D$2:$D$8408,Sheet3!CM$3,Sheet4!$E$2:$E$8408,Sheet3!CM$4,Sheet4!$A$2:$A$8408,Sheet3!$B$1,Sheet4!$B$2:$B$8408,Sheet3!$A$3)","v":0},{"$f":"+SUMIFS(Sheet4!$FV$2:$FV$8408,Sheet4!$C$2:$C$8408,Sheet3!$B19,Sheet4!$D$2:$D$8408,Sheet3!CN$3,Sheet4!$E$2:$E$8408,Sheet3!CN$4,Sheet4!$A$2:$A$8408,Sheet3!$B$1,Sheet4!$B$2:$B$8408,Sheet3!$A$3)","v":0},{"$f":"+SUMIFS(Sheet4!$FV$2:$FV$8408,Sheet4!$C$2:$C$8408,Sheet3!$B19,Sheet4!$D$2:$D$8408,Sheet3!CO$3,Sheet4!$E$2:$E$8408,Sheet3!CO$4,Sheet4!$A$2:$A$8408,Sheet3!$B$1,Sheet4!$B$2:$B$8408,Sheet3!$A$3)","v":0},{"$f":"+SUMIFS(Sheet4!$FV$2:$FV$8408,Sheet4!$C$2:$C$8408,Sheet3!$B19,Sheet4!$D$2:$D$8408,Sheet3!CP$3,Sheet4!$E$2:$E$8408,Sheet3!CP$4,Sheet4!$A$2:$A$8408,Sheet3!$B$1,Sheet4!$B$2:$B$8408,Sheet3!$A$3)","v":0},{"$f":"+SUMIFS(Sheet4!$FV$2:$FV$8408,Sheet4!$C$2:$C$8408,Sheet3!$B19,Sheet4!$D$2:$D$8408,Sheet3!CQ$3,Sheet4!$E$2:$E$8408,Sheet3!CQ$4,Sheet4!$A$2:$A$8408,Sheet3!$B$1,Sheet4!$B$2:$B$8408,Sheet3!$A$3)","v":0},{"$f":"+SUMIFS(Sheet4!$FV$2:$FV$8408,Sheet4!$C$2:$C$8408,Sheet3!$B19,Sheet4!$D$2:$D$8408,Sheet3!CR$3,Sheet4!$E$2:$E$8408,Sheet3!CR$4,Sheet4!$A$2:$A$8408,Sheet3!$B$1,Sheet4!$B$2:$B$8408,Sheet3!$A$3)","v":0},{"$f":"+SUMIFS(Sheet4!$FV$2:$FV$8408,Sheet4!$C$2:$C$8408,Sheet3!$B19,Sheet4!$D$2:$D$8408,Sheet3!CS$3,Sheet4!$E$2:$E$8408,Sheet3!CS$4,Sheet4!$A$2:$A$8408,Sheet3!$B$1,Sheet4!$B$2:$B$8408,Sheet3!$A$3)","v":0},{"$f":"+SUMIFS(Sheet4!$FV$2:$FV$8408,Sheet4!$C$2:$C$8408,Sheet3!$B19,Sheet4!$D$2:$D$8408,Sheet3!CT$3,Sheet4!$E$2:$E$8408,Sheet3!CT$4,Sheet4!$A$2:$A$8408,Sheet3!$B$1,Sheet4!$B$2:$B$8408,Sheet3!$A$3)","v":0},{"$f":"+IF(SUMIFS(Sheet4!$FW$2:$FW$8408,Sheet4!$C$2:$C$8408,Sheet3!$B19,Sheet4!$D$2:$D$8408,Sheet3!CU$3,Sheet4!$A$2:$A$8408,Sheet3!$B$1,Sheet4!$B$2:$B$8408,Sheet3!$A$3)<3,0,SUMIFS(Sheet4!$FW$2:$FW$8408,Sheet4!$C$2:$C$8408,Sheet3!$B19,Sheet4!$D$2:$D$8408,Sheet3!CU$3,Sheet4!$A$2:$A$8408,Sheet3!$B$1,Sheet4!$B$2:$B$8408,Sheet3!$A$3))","v":35},{"$f":"+IF(SUMIFS(Sheet4!$FW$2:$FW$8408,Sheet4!$C$2:$C$8408,Sheet3!$B19,Sheet4!$D$2:$D$8408,Sheet3!CV$3,Sheet4!$A$2:$A$8408,Sheet3!$B$1,Sheet4!$B$2:$B$8408,Sheet3!$A$3)<3,0,SUMIFS(Sheet4!$FW$2:$FW$8408,Sheet4!$C$2:$C$8408,Sheet3!$B19,Sheet4!$D$2:$D$8408,Sheet3!CV$3,Sheet4!$A$2:$A$8408,Sheet3!$B$1,Sheet4!$B$2:$B$8408,Sheet3!$A$3))","v":142},{"$f":"+IF(SUMIFS(Sheet4!$FW$2:$FW$8408,Sheet4!$C$2:$C$8408,Sheet3!$B19,Sheet4!$D$2:$D$8408,Sheet3!CW$3,Sheet4!$A$2:$A$8408,Sheet3!$B$1,Sheet4!$B$2:$B$8408,Sheet3!$A$3)<3,0,SUMIFS(Sheet4!$FW$2:$FW$8408,Sheet4!$C$2:$C$8408,Sheet3!$B19,Sheet4!$D$2:$D$8408,Sheet3!CW$3,Sheet4!$A$2:$A$8408,Sheet3!$B$1,Sheet4!$B$2:$B$8408,Sheet3!$A$3))","v":105},{"$f":"+IF(SUMIFS(Sheet4!$FW$2:$FW$8408,Sheet4!$C$2:$C$8408,Sheet3!$B19,Sheet4!$D$2:$D$8408,Sheet3!CX$3,Sheet4!$A$2:$A$8408,Sheet3!$B$1,Sheet4!$B$2:$B$8408,Sheet3!$A$3)<3,0,SUMIFS(Sheet4!$FW$2:$FW$8408,Sheet4!$C$2:$C$8408,Sheet3!$B19,Sheet4!$D$2:$D$8408,Sheet3!CX$3,Sheet4!$A$2:$A$8408,Sheet3!$B$1,Sheet4!$B$2:$B$8408,Sheet3!$A$3))","v":24},{"$f":"+IF(SUMIFS(Sheet4!$FW$2:$FW$8408,Sheet4!$C$2:$C$8408,Sheet3!$B19,Sheet4!$D$2:$D$8408,Sheet3!CY$3,Sheet4!$A$2:$A$8408,Sheet3!$B$1,Sheet4!$B$2:$B$8408,Sheet3!$A$3)<3,0,SUMIFS(Sheet4!$FW$2:$FW$8408,Sheet4!$C$2:$C$8408,Sheet3!$B19,Sheet4!$D$2:$D$8408,Sheet3!CY$3,Sheet4!$A$2:$A$8408,Sheet3!$B$1,Sheet4!$B$2:$B$8408,Sheet3!$A$3))","v":0},{"$f":"+IF(SUMIFS(Sheet4!$FW$2:$FW$8408,Sheet4!$C$2:$C$8408,Sheet3!$B19,Sheet4!$D$2:$D$8408,Sheet3!CZ$3,Sheet4!$A$2:$A$8408,Sheet3!$B$1,Sheet4!$B$2:$B$8408,Sheet3!$A$3)<3,0,SUMIFS(Sheet4!$FW$2:$FW$8408,Sheet4!$C$2:$C$8408,Sheet3!$B19,Sheet4!$D$2:$D$8408,Sheet3!CZ$3,Sheet4!$A$2:$A$8408,Sheet3!$B$1,Sheet4!$B$2:$B$8408,Sheet3!$A$3))","v":389},{"$f":"+IF(SUMIFS(Sheet4!$FW$2:$FW$8408,Sheet4!$C$2:$C$8408,Sheet3!$B19,Sheet4!$D$2:$D$8408,Sheet3!DA$3,Sheet4!$A$2:$A$8408,Sheet3!$B$1,Sheet4!$B$2:$B$8408,Sheet3!$A$3)<3,0,SUMIFS(Sheet4!$FW$2:$FW$8408,Sheet4!$C$2:$C$8408,Sheet3!$B19,Sheet4!$D$2:$D$8408,Sheet3!DA$3,Sheet4!$A$2:$A$8408,Sheet3!$B$1,Sheet4!$B$2:$B$8408,Sheet3!$A$3))","v":6},{"$f":"+IF(SUMIFS(Sheet4!$FW$2:$FW$8408,Sheet4!$C$2:$C$8408,Sheet3!$B19,Sheet4!$D$2:$D$8408,Sheet3!DB$3,Sheet4!$A$2:$A$8408,Sheet3!$B$1,Sheet4!$B$2:$B$8408,Sheet3!$A$3)<3,0,SUMIFS(Sheet4!$FW$2:$FW$8408,Sheet4!$C$2:$C$8408,Sheet3!$B19,Sheet4!$D$2:$D$8408,Sheet3!DB$3,Sheet4!$A$2:$A$8408,Sheet3!$B$1,Sheet4!$B$2:$B$8408,Sheet3!$A$3))","v":129},{"$f":"+IF(SUMIFS(Sheet4!$FW$2:$FW$8408,Sheet4!$C$2:$C$8408,Sheet3!$B19,Sheet4!$D$2:$D$8408,Sheet3!DC$3,Sheet4!$A$2:$A$8408,Sheet3!$B$1,Sheet4!$B$2:$B$8408,Sheet3!$A$3)<3,0,SUMIFS(Sheet4!$FW$2:$FW$8408,Sheet4!$C$2:$C$8408,Sheet3!$B19,Sheet4!$D$2:$D$8408,Sheet3!DC$3,Sheet4!$A$2:$A$8408,Sheet3!$B$1,Sheet4!$B$2:$B$8408,Sheet3!$A$3))","v":257},{"$f":"+IF(SUMIFS(Sheet4!$FW$2:$FW$8408,Sheet4!$C$2:$C$8408,Sheet3!$B19,Sheet4!$D$2:$D$8408,Sheet3!DD$3,Sheet4!$A$2:$A$8408,Sheet3!$B$1,Sheet4!$B$2:$B$8408,Sheet3!$A$3)<3,0,SUMIFS(Sheet4!$FW$2:$FW$8408,Sheet4!$C$2:$C$8408,Sheet3!$B19,Sheet4!$D$2:$D$8408,Sheet3!DD$3,Sheet4!$A$2:$A$8408,Sheet3!$B$1,Sheet4!$B$2:$B$8408,Sheet3!$A$3))","v":909},{"$f":"+IF(SUMIFS(Sheet4!$FW$2:$FW$8408,Sheet4!$C$2:$C$8408,Sheet3!$B19,Sheet4!$D$2:$D$8408,Sheet3!DE$3,Sheet4!$A$2:$A$8408,Sheet3!$B$1,Sheet4!$B$2:$B$8408,Sheet3!$A$3)<3,0,SUMIFS(Sheet4!$FW$2:$FW$8408,Sheet4!$C$2:$C$8408,Sheet3!$B19,Sheet4!$D$2:$D$8408,Sheet3!DE$3,Sheet4!$A$2:$A$8408,Sheet3!$B$1,Sheet4!$B$2:$B$8408,Sheet3!$A$3))","v":13},{"$f":"+IF(SUMIFS(Sheet4!$FW$2:$FW$8408,Sheet4!$C$2:$C$8408,Sheet3!$B19,Sheet4!$D$2:$D$8408,Sheet3!DF$3,Sheet4!$A$2:$A$8408,Sheet3!$B$1,Sheet4!$B$2:$B$8408,Sheet3!$A$3)<3,0,SUMIFS(Sheet4!$FW$2:$FW$8408,Sheet4!$C$2:$C$8408,Sheet3!$B19,Sheet4!$D$2:$D$8408,Sheet3!DF$3,Sheet4!$A$2:$A$8408,Sheet3!$B$1,Sheet4!$B$2:$B$8408,Sheet3!$A$3))","v":45},{"$f":"+IF(SUMIFS(Sheet4!$FW$2:$FW$8408,Sheet4!$C$2:$C$8408,Sheet3!$B19,Sheet4!$D$2:$D$8408,Sheet3!DG$3,Sheet4!$A$2:$A$8408,Sheet3!$B$1,Sheet4!$B$2:$B$8408,Sheet3!$A$3)<3,0,SUMIFS(Sheet4!$FW$2:$FW$8408,Sheet4!$C$2:$C$8408,Sheet3!$B19,Sheet4!$D$2:$D$8408,Sheet3!DG$3,Sheet4!$A$2:$A$8408,Sheet3!$B$1,Sheet4!$B$2:$B$8408,Sheet3!$A$3))","v":116},{"$f":"+IF(SUMIFS(Sheet4!$FW$2:$FW$8408,Sheet4!$C$2:$C$8408,Sheet3!$B19,Sheet4!$D$2:$D$8408,Sheet3!DH$3,Sheet4!$A$2:$A$8408,Sheet3!$B$1,Sheet4!$B$2:$B$8408,Sheet3!$A$3)<3,0,SUMIFS(Sheet4!$FW$2:$FW$8408,Sheet4!$C$2:$C$8408,Sheet3!$B19,Sheet4!$D$2:$D$8408,Sheet3!DH$3,Sheet4!$A$2:$A$8408,Sheet3!$B$1,Sheet4!$B$2:$B$8408,Sheet3!$A$3))","v":14},{"$f":"+IF(SUMIFS(Sheet4!$FW$2:$FW$8408,Sheet4!$C$2:$C$8408,Sheet3!$B19,Sheet4!$D$2:$D$8408,Sheet3!DI$3,Sheet4!$A$2:$A$8408,Sheet3!$B$1,Sheet4!$B$2:$B$8408,Sheet3!$A$3)<3,0,SUMIFS(Sheet4!$FW$2:$FW$8408,Sheet4!$C$2:$C$8408,Sheet3!$B19,Sheet4!$D$2:$D$8408,Sheet3!DI$3,Sheet4!$A$2:$A$8408,Sheet3!$B$1,Sheet4!$B$2:$B$8408,Sheet3!$A$3))","v":449},{"$f":"+IF(SUMIFS(Sheet4!$FW$2:$FW$8408,Sheet4!$C$2:$C$8408,Sheet3!$B19,Sheet4!$D$2:$D$8408,Sheet3!DJ$3,Sheet4!$A$2:$A$8408,Sheet3!$B$1,Sheet4!$B$2:$B$8408,Sheet3!$A$3)<3,0,SUMIFS(Sheet4!$FW$2:$FW$8408,Sheet4!$C$2:$C$8408,Sheet3!$B19,Sheet4!$D$2:$D$8408,Sheet3!DJ$3,Sheet4!$A$2:$A$8408,Sheet3!$B$1,Sheet4!$B$2:$B$8408,Sheet3!$A$3))","v":345},{"$f":"+IF(SUMIFS(Sheet4!$FW$2:$FW$8408,Sheet4!$C$2:$C$8408,Sheet3!$B19,Sheet4!$D$2:$D$8408,Sheet3!DK$3,Sheet4!$A$2:$A$8408,Sheet3!$B$1,Sheet4!$B$2:$B$8408,Sheet3!$A$3)<3,0,SUMIFS(Sheet4!$FW$2:$FW$8408,Sheet4!$C$2:$C$8408,Sheet3!$B19,Sheet4!$D$2:$D$8408,Sheet3!DK$3,Sheet4!$A$2:$A$8408,Sheet3!$B$1,Sheet4!$B$2:$B$8408,Sheet3!$A$3))","v":121},{"$f":"+IF(SUMIFS(Sheet4!$FW$2:$FW$8408,Sheet4!$C$2:$C$8408,Sheet3!$B19,Sheet4!$D$2:$D$8408,Sheet3!DL$3,Sheet4!$A$2:$A$8408,Sheet3!$B$1,Sheet4!$B$2:$B$8408,Sheet3!$A$3)<3,0,SUMIFS(Sheet4!$FW$2:$FW$8408,Sheet4!$C$2:$C$8408,Sheet3!$B19,Sheet4!$D$2:$D$8408,Sheet3!DL$3,Sheet4!$A$2:$A$8408,Sheet3!$B$1,Sheet4!$B$2:$B$8408,Sheet3!$A$3))","v":0},{"$f":"+IF(SUMIFS(Sheet4!$FW$2:$FW$8408,Sheet4!$C$2:$C$8408,Sheet3!$B19,Sheet4!$D$2:$D$8408,Sheet3!DM$3,Sheet4!$A$2:$A$8408,Sheet3!$B$1,Sheet4!$B$2:$B$8408,Sheet3!$A$3)<3,0,SUMIFS(Sheet4!$FW$2:$FW$8408,Sheet4!$C$2:$C$8408,Sheet3!$B19,Sheet4!$D$2:$D$8408,Sheet3!DM$3,Sheet4!$A$2:$A$8408,Sheet3!$B$1,Sheet4!$B$2:$B$8408,Sheet3!$A$3))","v":0},{"$f":"+IF(SUMIFS(Sheet4!$FW$2:$FW$8408,Sheet4!$C$2:$C$8408,Sheet3!$B19,Sheet4!$E$2:$E$8408,Sheet3!DN$4,Sheet4!$A$2:$A$8408,Sheet3!$B$1,Sheet4!$B$2:$B$8408,Sheet3!$A$3)<3,0,SUMIFS(Sheet4!$FW$2:$FW$8408,Sheet4!$C$2:$C$8408,Sheet3!$B19,Sheet4!$E$2:$E$8408,Sheet3!DN$4,Sheet4!$A$2:$A$8408,Sheet3!$B$1,Sheet4!$B$2:$B$8408,Sheet3!$A$3))","v":2730},{"$f":"+IF(SUMIFS(Sheet4!$FW$2:$FW$8408,Sheet4!$C$2:$C$8408,Sheet3!$B19,Sheet4!$E$2:$E$8408,Sheet3!DO$4,Sheet4!$A$2:$A$8408,Sheet3!$B$1,Sheet4!$B$2:$B$8408,Sheet3!$A$3)<3,0,SUMIFS(Sheet4!$FW$2:$FW$8408,Sheet4!$C$2:$C$8408,Sheet3!$B19,Sheet4!$E$2:$E$8408,Sheet3!DO$4,Sheet4!$A$2:$A$8408,Sheet3!$B$1,Sheet4!$B$2:$B$8408,Sheet3!$A$3))","v":326},{"$f":"+IF(SUMIFS(Sheet4!$FW$2:$FW$8408,Sheet4!$C$2:$C$8408,Sheet3!$B19,Sheet4!$E$2:$E$8408,Sheet3!DP$4,Sheet4!$A$2:$A$8408,Sheet3!$B$1,Sheet4!$B$2:$B$8408,Sheet3!$A$3)<3,0,SUMIFS(Sheet4!$FW$2:$FW$8408,Sheet4!$C$2:$C$8408,Sheet3!$B19,Sheet4!$E$2:$E$8408,Sheet3!DP$4,Sheet4!$A$2:$A$8408,Sheet3!$B$1,Sheet4!$B$2:$B$8408,Sheet3!$A$3))","v":44},{"$f":"+IF(SUMIFS(Sheet4!$FW$2:$FW$8408,Sheet4!$C$2:$C$8408,Sheet3!$B19,Sheet4!$E$2:$E$8408,Sheet3!DQ$4,Sheet4!$A$2:$A$8408,Sheet3!$B$1,Sheet4!$B$2:$B$8408,Sheet3!$A$3)<3,0,SUMIFS(Sheet4!$FW$2:$FW$8408,Sheet4!$C$2:$C$8408,Sheet3!$B19,Sheet4!$E$2:$E$8408,Sheet3!DQ$4,Sheet4!$A$2:$A$8408,Sheet3!$B$1,Sheet4!$B$2:$B$8408,Sheet3!$A$3))","v":0},{"$f":"+IF(SUMIFS(Sheet4!$FW$2:$FW$8408,Sheet4!$C$2:$C$8408,Sheet3!$B19,Sheet4!$E$2:$E$8408,Sheet3!DR$4,Sheet4!$A$2:$A$8408,Sheet3!$B$1,Sheet4!$B$2:$B$8408,Sheet3!$A$3)<3,0,SUMIFS(Sheet4!$FW$2:$FW$8408,Sheet4!$C$2:$C$8408,Sheet3!$B19,Sheet4!$E$2:$E$8408,Sheet3!DR$4,Sheet4!$A$2:$A$8408,Sheet3!$B$1,Sheet4!$B$2:$B$8408,Sheet3!$A$3))","v":0}]
[2,"16G","Viseu Dão Lafões",{"$f":"+SUMIFS(Sheet4!$FV$2:$FV$8408,Sheet4!$C$2:$C$8408,Sheet3!$B20,Sheet4!$D$2:$D$8408,Sheet3!D$3,Sheet4!$E$2:$E$8408,Sheet3!D$4,Sheet4!$A$2:$A$8408,Sheet3!$B$1,Sheet4!$B$2:$B$8408,Sheet3!$A$3)","v":20},{"$f":"+SUMIFS(Sheet4!$FV$2:$FV$8408,Sheet4!$C$2:$C$8408,Sheet3!$B20,Sheet4!$D$2:$D$8408,Sheet3!E$3,Sheet4!$E$2:$E$8408,Sheet3!E$4,Sheet4!$A$2:$A$8408,Sheet3!$B$1,Sheet4!$B$2:$B$8408,Sheet3!$A$3)","v":0},{"$f":"+SUMIFS(Sheet4!$FV$2:$FV$8408,Sheet4!$C$2:$C$8408,Sheet3!$B20,Sheet4!$D$2:$D$8408,Sheet3!F$3,Sheet4!$E$2:$E$8408,Sheet3!F$4,Sheet4!$A$2:$A$8408,Sheet3!$B$1,Sheet4!$B$2:$B$8408,Sheet3!$A$3)","v":0},{"$f":"+SUMIFS(Sheet4!$FV$2:$FV$8408,Sheet4!$C$2:$C$8408,Sheet3!$B20,Sheet4!$D$2:$D$8408,Sheet3!G$3,Sheet4!$E$2:$E$8408,Sheet3!G$4,Sheet4!$A$2:$A$8408,Sheet3!$B$1,Sheet4!$B$2:$B$8408,Sheet3!$A$3)","v":0},{"$f":"+SUMIFS(Sheet4!$FV$2:$FV$8408,Sheet4!$C$2:$C$8408,Sheet3!$B20,Sheet4!$D$2:$D$8408,Sheet3!H$3,Sheet4!$E$2:$E$8408,Sheet3!H$4,Sheet4!$A$2:$A$8408,Sheet3!$B$1,Sheet4!$B$2:$B$8408,Sheet3!$A$3)","v":0},{"$f":"+SUMIFS(Sheet4!$FV$2:$FV$8408,Sheet4!$C$2:$C$8408,Sheet3!$B20,Sheet4!$D$2:$D$8408,Sheet3!I$3,Sheet4!$E$2:$E$8408,Sheet3!I$4,Sheet4!$A$2:$A$8408,Sheet3!$B$1,Sheet4!$B$2:$B$8408,Sheet3!$A$3)","v":181},{"$f":"+SUMIFS(Sheet4!$FV$2:$FV$8408,Sheet4!$C$2:$C$8408,Sheet3!$B20,Sheet4!$D$2:$D$8408,Sheet3!J$3,Sheet4!$E$2:$E$8408,Sheet3!J$4,Sheet4!$A$2:$A$8408,Sheet3!$B$1,Sheet4!$B$2:$B$8408,Sheet3!$A$3)","v":0},{"$f":"+SUMIFS(Sheet4!$FV$2:$FV$8408,Sheet4!$C$2:$C$8408,Sheet3!$B20,Sheet4!$D$2:$D$8408,Sheet3!K$3,Sheet4!$E$2:$E$8408,Sheet3!K$4,Sheet4!$A$2:$A$8408,Sheet3!$B$1,Sheet4!$B$2:$B$8408,Sheet3!$A$3)","v":0},{"$f":"+SUMIFS(Sheet4!$FV$2:$FV$8408,Sheet4!$C$2:$C$8408,Sheet3!$B20,Sheet4!$D$2:$D$8408,Sheet3!L$3,Sheet4!$E$2:$E$8408,Sheet3!L$4,Sheet4!$A$2:$A$8408,Sheet3!$B$1,Sheet4!$B$2:$B$8408,Sheet3!$A$3)","v":0},{"$f":"+SUMIFS(Sheet4!$FV$2:$FV$8408,Sheet4!$C$2:$C$8408,Sheet3!$B20,Sheet4!$D$2:$D$8408,Sheet3!M$3,Sheet4!$E$2:$E$8408,Sheet3!M$4,Sheet4!$A$2:$A$8408,Sheet3!$B$1,Sheet4!$B$2:$B$8408,Sheet3!$A$3)","v":0},{"$f":"+SUMIFS(Sheet4!$FV$2:$FV$8408,Sheet4!$C$2:$C$8408,Sheet3!$B20,Sheet4!$D$2:$D$8408,Sheet3!N$3,Sheet4!$E$2:$E$8408,Sheet3!N$4,Sheet4!$A$2:$A$8408,Sheet3!$B$1,Sheet4!$B$2:$B$8408,Sheet3!$A$3)","v":238},{"$f":"+SUMIFS(Sheet4!$FV$2:$FV$8408,Sheet4!$C$2:$C$8408,Sheet3!$B20,Sheet4!$D$2:$D$8408,Sheet3!O$3,Sheet4!$E$2:$E$8408,Sheet3!O$4,Sheet4!$A$2:$A$8408,Sheet3!$B$1,Sheet4!$B$2:$B$8408,Sheet3!$A$3)","v":17},{"$f":"+SUMIFS(Sheet4!$FV$2:$FV$8408,Sheet4!$C$2:$C$8408,Sheet3!$B20,Sheet4!$D$2:$D$8408,Sheet3!P$3,Sheet4!$E$2:$E$8408,Sheet3!P$4,Sheet4!$A$2:$A$8408,Sheet3!$B$1,Sheet4!$B$2:$B$8408,Sheet3!$A$3)","v":0},{"$f":"+SUMIFS(Sheet4!$FV$2:$FV$8408,Sheet4!$C$2:$C$8408,Sheet3!$B20,Sheet4!$D$2:$D$8408,Sheet3!Q$3,Sheet4!$E$2:$E$8408,Sheet3!Q$4,Sheet4!$A$2:$A$8408,Sheet3!$B$1,Sheet4!$B$2:$B$8408,Sheet3!$A$3)","v":0},{"$f":"+SUMIFS(Sheet4!$FV$2:$FV$8408,Sheet4!$C$2:$C$8408,Sheet3!$B20,Sheet4!$D$2:$D$8408,Sheet3!R$3,Sheet4!$E$2:$E$8408,Sheet3!R$4,Sheet4!$A$2:$A$8408,Sheet3!$B$1,Sheet4!$B$2:$B$8408,Sheet3!$A$3)","v":0},{"$f":"+SUMIFS(Sheet4!$FV$2:$FV$8408,Sheet4!$C$2:$C$8408,Sheet3!$B20,Sheet4!$D$2:$D$8408,Sheet3!S$3,Sheet4!$E$2:$E$8408,Sheet3!S$4,Sheet4!$A$2:$A$8408,Sheet3!$B$1,Sheet4!$B$2:$B$8408,Sheet3!$A$3)","v":0},{"$f":"+SUMIFS(Sheet4!$FV$2:$FV$8408,Sheet4!$C$2:$C$8408,Sheet3!$B20,Sheet4!$D$2:$D$8408,Sheet3!T$3,Sheet4!$E$2:$E$8408,Sheet3!T$4,Sheet4!$A$2:$A$8408,Sheet3!$B$1,Sheet4!$B$2:$B$8408,Sheet3!$A$3)","v":0},{"$f":"+SUMIFS(Sheet4!$FV$2:$FV$8408,Sheet4!$C$2:$C$8408,Sheet3!$B20,Sheet4!$D$2:$D$8408,Sheet3!U$3,Sheet4!$E$2:$E$8408,Sheet3!U$4,Sheet4!$A$2:$A$8408,Sheet3!$B$1,Sheet4!$B$2:$B$8408,Sheet3!$A$3)","v":0},{"$f":"+SUMIFS(Sheet4!$FV$2:$FV$8408,Sheet4!$C$2:$C$8408,Sheet3!$B20,Sheet4!$D$2:$D$8408,Sheet3!V$3,Sheet4!$E$2:$E$8408,Sheet3!V$4,Sheet4!$A$2:$A$8408,Sheet3!$B$1,Sheet4!$B$2:$B$8408,Sheet3!$A$3)","v":0},{"$f":"+SUMIFS(Sheet4!$FV$2:$FV$8408,Sheet4!$C$2:$C$8408,Sheet3!$B20,Sheet4!$D$2:$D$8408,Sheet3!W$3,Sheet4!$E$2:$E$8408,Sheet3!W$4,Sheet4!$A$2:$A$8408,Sheet3!$B$1,Sheet4!$B$2:$B$8408,Sheet3!$A$3)","v":0},{"$f":"+SUMIFS(Sheet4!$FV$2:$FV$8408,Sheet4!$C$2:$C$8408,Sheet3!$B20,Sheet4!$D$2:$D$8408,Sheet3!X$3,Sheet4!$E$2:$E$8408,Sheet3!X$4,Sheet4!$A$2:$A$8408,Sheet3!$B$1,Sheet4!$B$2:$B$8408,Sheet3!$A$3)","v":0},{"$f":"+SUMIFS(Sheet4!$FV$2:$FV$8408,Sheet4!$C$2:$C$8408,Sheet3!$B20,Sheet4!$D$2:$D$8408,Sheet3!Y$3,Sheet4!$E$2:$E$8408,Sheet3!Y$4,Sheet4!$A$2:$A$8408,Sheet3!$B$1,Sheet4!$B$2:$B$8408,Sheet3!$A$3)","v":0},{"$f":"+SUMIFS(Sheet4!$FV$2:$FV$8408,Sheet4!$C$2:$C$8408,Sheet3!$B20,Sheet4!$D$2:$D$8408,Sheet3!Z$3,Sheet4!$E$2:$E$8408,Sheet3!Z$4,Sheet4!$A$2:$A$8408,Sheet3!$B$1,Sheet4!$B$2:$B$8408,Sheet3!$A$3)","v":0},{"$f":"+SUMIFS(Sheet4!$FV$2:$FV$8408,Sheet4!$C$2:$C$8408,Sheet3!$B20,Sheet4!$D$2:$D$8408,Sheet3!AA$3,Sheet4!$E$2:$E$8408,Sheet3!AA$4,Sheet4!$A$2:$A$8408,Sheet3!$B$1,Sheet4!$B$2:$B$8408,Sheet3!$A$3)","v":0},{"$f":"+SUMIFS(Sheet4!$FV$2:$FV$8408,Sheet4!$C$2:$C$8408,Sheet3!$B20,Sheet4!$D$2:$D$8408,Sheet3!AB$3,Sheet4!$E$2:$E$8408,Sheet3!AB$4,Sheet4!$A$2:$A$8408,Sheet3!$B$1,Sheet4!$B$2:$B$8408,Sheet3!$A$3)","v":0},{"$f":"+SUMIFS(Sheet4!$FV$2:$FV$8408,Sheet4!$C$2:$C$8408,Sheet3!$B20,Sheet4!$D$2:$D$8408,Sheet3!AC$3,Sheet4!$E$2:$E$8408,Sheet3!AC$4,Sheet4!$A$2:$A$8408,Sheet3!$B$1,Sheet4!$B$2:$B$8408,Sheet3!$A$3)","v":1027},{"$f":"+SUMIFS(Sheet4!$FV$2:$FV$8408,Sheet4!$C$2:$C$8408,Sheet3!$B20,Sheet4!$D$2:$D$8408,Sheet3!AD$3,Sheet4!$E$2:$E$8408,Sheet3!AD$4,Sheet4!$A$2:$A$8408,Sheet3!$B$1,Sheet4!$B$2:$B$8408,Sheet3!$A$3)","v":17},{"$f":"+SUMIFS(Sheet4!$FV$2:$FV$8408,Sheet4!$C$2:$C$8408,Sheet3!$B20,Sheet4!$D$2:$D$8408,Sheet3!AE$3,Sheet4!$E$2:$E$8408,Sheet3!AE$4,Sheet4!$A$2:$A$8408,Sheet3!$B$1,Sheet4!$B$2:$B$8408,Sheet3!$A$3)","v":0},{"$f":"+SUMIFS(Sheet4!$FV$2:$FV$8408,Sheet4!$C$2:$C$8408,Sheet3!$B20,Sheet4!$D$2:$D$8408,Sheet3!AF$3,Sheet4!$E$2:$E$8408,Sheet3!AF$4,Sheet4!$A$2:$A$8408,Sheet3!$B$1,Sheet4!$B$2:$B$8408,Sheet3!$A$3)","v":0},{"$f":"+SUMIFS(Sheet4!$FV$2:$FV$8408,Sheet4!$C$2:$C$8408,Sheet3!$B20,Sheet4!$D$2:$D$8408,Sheet3!AG$3,Sheet4!$E$2:$E$8408,Sheet3!AG$4,Sheet4!$A$2:$A$8408,Sheet3!$B$1,Sheet4!$B$2:$B$8408,Sheet3!$A$3)","v":0},{"$f":"+SUMIFS(Sheet4!$FV$2:$FV$8408,Sheet4!$C$2:$C$8408,Sheet3!$B20,Sheet4!$D$2:$D$8408,Sheet3!AH$3,Sheet4!$E$2:$E$8408,Sheet3!AH$4,Sheet4!$A$2:$A$8408,Sheet3!$B$1,Sheet4!$B$2:$B$8408,Sheet3!$A$3)","v":269},{"$f":"+SUMIFS(Sheet4!$FV$2:$FV$8408,Sheet4!$C$2:$C$8408,Sheet3!$B20,Sheet4!$D$2:$D$8408,Sheet3!AI$3,Sheet4!$E$2:$E$8408,Sheet3!AI$4,Sheet4!$A$2:$A$8408,Sheet3!$B$1,Sheet4!$B$2:$B$8408,Sheet3!$A$3)","v":134},{"$f":"+SUMIFS(Sheet4!$FV$2:$FV$8408,Sheet4!$C$2:$C$8408,Sheet3!$B20,Sheet4!$D$2:$D$8408,Sheet3!AJ$3,Sheet4!$E$2:$E$8408,Sheet3!AJ$4,Sheet4!$A$2:$A$8408,Sheet3!$B$1,Sheet4!$B$2:$B$8408,Sheet3!$A$3)","v":18},{"$f":"+SUMIFS(Sheet4!$FV$2:$FV$8408,Sheet4!$C$2:$C$8408,Sheet3!$B20,Sheet4!$D$2:$D$8408,Sheet3!AK$3,Sheet4!$E$2:$E$8408,Sheet3!AK$4,Sheet4!$A$2:$A$8408,Sheet3!$B$1,Sheet4!$B$2:$B$8408,Sheet3!$A$3)","v":0},{"$f":"+SUMIFS(Sheet4!$FV$2:$FV$8408,Sheet4!$C$2:$C$8408,Sheet3!$B20,Sheet4!$D$2:$D$8408,Sheet3!AL$3,Sheet4!$E$2:$E$8408,Sheet3!AL$4,Sheet4!$A$2:$A$8408,Sheet3!$B$1,Sheet4!$B$2:$B$8408,Sheet3!$A$3)","v":0},{"$f":"+SUMIFS(Sheet4!$FV$2:$FV$8408,Sheet4!$C$2:$C$8408,Sheet3!$B20,Sheet4!$D$2:$D$8408,Sheet3!AM$3,Sheet4!$E$2:$E$8408,Sheet3!AM$4,Sheet4!$A$2:$A$8408,Sheet3!$B$1,Sheet4!$B$2:$B$8408,Sheet3!$A$3)","v":474},{"$f":"+SUMIFS(Sheet4!$FV$2:$FV$8408,Sheet4!$C$2:$C$8408,Sheet3!$B20,Sheet4!$D$2:$D$8408,Sheet3!AN$3,Sheet4!$E$2:$E$8408,Sheet3!AN$4,Sheet4!$A$2:$A$8408,Sheet3!$B$1,Sheet4!$B$2:$B$8408,Sheet3!$A$3)","v":82},{"$f":"+SUMIFS(Sheet4!$FV$2:$FV$8408,Sheet4!$C$2:$C$8408,Sheet3!$B20,Sheet4!$D$2:$D$8408,Sheet3!AO$3,Sheet4!$E$2:$E$8408,Sheet3!AO$4,Sheet4!$A$2:$A$8408,Sheet3!$B$1,Sheet4!$B$2:$B$8408,Sheet3!$A$3)","v":5},{"$f":"+SUMIFS(Sheet4!$FV$2:$FV$8408,Sheet4!$C$2:$C$8408,Sheet3!$B20,Sheet4!$D$2:$D$8408,Sheet3!AP$3,Sheet4!$E$2:$E$8408,Sheet3!AP$4,Sheet4!$A$2:$A$8408,Sheet3!$B$1,Sheet4!$B$2:$B$8408,Sheet3!$A$3)","v":0},{"$f":"+SUMIFS(Sheet4!$FV$2:$FV$8408,Sheet4!$C$2:$C$8408,Sheet3!$B20,Sheet4!$D$2:$D$8408,Sheet3!AQ$3,Sheet4!$E$2:$E$8408,Sheet3!AQ$4,Sheet4!$A$2:$A$8408,Sheet3!$B$1,Sheet4!$B$2:$B$8408,Sheet3!$A$3)","v":0},{"$f":"+SUMIFS(Sheet4!$FV$2:$FV$8408,Sheet4!$C$2:$C$8408,Sheet3!$B20,Sheet4!$D$2:$D$8408,Sheet3!AR$3,Sheet4!$E$2:$E$8408,Sheet3!AR$4,Sheet4!$A$2:$A$8408,Sheet3!$B$1,Sheet4!$B$2:$B$8408,Sheet3!$A$3)","v":60},{"$f":"+SUMIFS(Sheet4!$FV$2:$FV$8408,Sheet4!$C$2:$C$8408,Sheet3!$B20,Sheet4!$D$2:$D$8408,Sheet3!AS$3,Sheet4!$E$2:$E$8408,Sheet3!AS$4,Sheet4!$A$2:$A$8408,Sheet3!$B$1,Sheet4!$B$2:$B$8408,Sheet3!$A$3)","v":4},{"$f":"+SUMIFS(Sheet4!$FV$2:$FV$8408,Sheet4!$C$2:$C$8408,Sheet3!$B20,Sheet4!$D$2:$D$8408,Sheet3!AT$3,Sheet4!$E$2:$E$8408,Sheet3!AT$4,Sheet4!$A$2:$A$8408,Sheet3!$B$1,Sheet4!$B$2:$B$8408,Sheet3!$A$3)","v":0},{"$f":"+SUMIFS(Sheet4!$FV$2:$FV$8408,Sheet4!$C$2:$C$8408,Sheet3!$B20,Sheet4!$D$2:$D$8408,Sheet3!AU$3,Sheet4!$E$2:$E$8408,Sheet3!AU$4,Sheet4!$A$2:$A$8408,Sheet3!$B$1,Sheet4!$B$2:$B$8408,Sheet3!$A$3)","v":0},{"$f":"+SUMIFS(Sheet4!$FV$2:$FV$8408,Sheet4!$C$2:$C$8408,Sheet3!$B20,Sheet4!$D$2:$D$8408,Sheet3!AV$3,Sheet4!$E$2:$E$8408,Sheet3!AV$4,Sheet4!$A$2:$A$8408,Sheet3!$B$1,Sheet4!$B$2:$B$8408,Sheet3!$A$3)","v":0},{"$f":"+SUMIFS(Sheet4!$FV$2:$FV$8408,Sheet4!$C$2:$C$8408,Sheet3!$B20,Sheet4!$D$2:$D$8408,Sheet3!AW$3,Sheet4!$E$2:$E$8408,Sheet3!AW$4,Sheet4!$A$2:$A$8408,Sheet3!$B$1,Sheet4!$B$2:$B$8408,Sheet3!$A$3)","v":2647},{"$f":"+SUMIFS(Sheet4!$FV$2:$FV$8408,Sheet4!$C$2:$C$8408,Sheet3!$B20,Sheet4!$D$2:$D$8408,Sheet3!AX$3,Sheet4!$E$2:$E$8408,Sheet3!AX$4,Sheet4!$A$2:$A$8408,Sheet3!$B$1,Sheet4!$B$2:$B$8408,Sheet3!$A$3)","v":137},{"$f":"+SUMIFS(Sheet4!$FV$2:$FV$8408,Sheet4!$C$2:$C$8408,Sheet3!$B20,Sheet4!$D$2:$D$8408,Sheet3!AY$3,Sheet4!$E$2:$E$8408,Sheet3!AY$4,Sheet4!$A$2:$A$8408,Sheet3!$B$1,Sheet4!$B$2:$B$8408,Sheet3!$A$3)","v":7},{"$f":"+SUMIFS(Sheet4!$FV$2:$FV$8408,Sheet4!$C$2:$C$8408,Sheet3!$B20,Sheet4!$D$2:$D$8408,Sheet3!AZ$3,Sheet4!$E$2:$E$8408,Sheet3!AZ$4,Sheet4!$A$2:$A$8408,Sheet3!$B$1,Sheet4!$B$2:$B$8408,Sheet3!$A$3)","v":0},{"$f":"+SUMIFS(Sheet4!$FV$2:$FV$8408,Sheet4!$C$2:$C$8408,Sheet3!$B20,Sheet4!$D$2:$D$8408,Sheet3!BA$3,Sheet4!$E$2:$E$8408,Sheet3!BA$4,Sheet4!$A$2:$A$8408,Sheet3!$B$1,Sheet4!$B$2:$B$8408,Sheet3!$A$3)","v":0},{"$f":"+SUMIFS(Sheet4!$FV$2:$FV$8408,Sheet4!$C$2:$C$8408,Sheet3!$B20,Sheet4!$D$2:$D$8408,Sheet3!BB$3,Sheet4!$E$2:$E$8408,Sheet3!BB$4,Sheet4!$A$2:$A$8408,Sheet3!$B$1,Sheet4!$B$2:$B$8408,Sheet3!$A$3)","v":15},{"$f":"+SUMIFS(Sheet4!$FV$2:$FV$8408,Sheet4!$C$2:$C$8408,Sheet3!$B20,Sheet4!$D$2:$D$8408,Sheet3!BC$3,Sheet4!$E$2:$E$8408,Sheet3!BC$4,Sheet4!$A$2:$A$8408,Sheet3!$B$1,Sheet4!$B$2:$B$8408,Sheet3!$A$3)","v":18},{"$f":"+SUMIFS(Sheet4!$FV$2:$FV$8408,Sheet4!$C$2:$C$8408,Sheet3!$B20,Sheet4!$D$2:$D$8408,Sheet3!BD$3,Sheet4!$E$2:$E$8408,Sheet3!BD$4,Sheet4!$A$2:$A$8408,Sheet3!$B$1,Sheet4!$B$2:$B$8408,Sheet3!$A$3)","v":0},{"$f":"+SUMIFS(Sheet4!$FV$2:$FV$8408,Sheet4!$C$2:$C$8408,Sheet3!$B20,Sheet4!$D$2:$D$8408,Sheet3!BE$3,Sheet4!$E$2:$E$8408,Sheet3!BE$4,Sheet4!$A$2:$A$8408,Sheet3!$B$1,Sheet4!$B$2:$B$8408,Sheet3!$A$3)","v":0},{"$f":"+SUMIFS(Sheet4!$FV$2:$FV$8408,Sheet4!$C$2:$C$8408,Sheet3!$B20,Sheet4!$D$2:$D$8408,Sheet3!BF$3,Sheet4!$E$2:$E$8408,Sheet3!BF$4,Sheet4!$A$2:$A$8408,Sheet3!$B$1,Sheet4!$B$2:$B$8408,Sheet3!$A$3)","v":0},{"$f":"+SUMIFS(Sheet4!$FV$2:$FV$8408,Sheet4!$C$2:$C$8408,Sheet3!$B20,Sheet4!$D$2:$D$8408,Sheet3!BG$3,Sheet4!$E$2:$E$8408,Sheet3!BG$4,Sheet4!$A$2:$A$8408,Sheet3!$B$1,Sheet4!$B$2:$B$8408,Sheet3!$A$3)","v":66},{"$f":"+SUMIFS(Sheet4!$FV$2:$FV$8408,Sheet4!$C$2:$C$8408,Sheet3!$B20,Sheet4!$D$2:$D$8408,Sheet3!BH$3,Sheet4!$E$2:$E$8408,Sheet3!BH$4,Sheet4!$A$2:$A$8408,Sheet3!$B$1,Sheet4!$B$2:$B$8408,Sheet3!$A$3)","v":37},{"$f":"+SUMIFS(Sheet4!$FV$2:$FV$8408,Sheet4!$C$2:$C$8408,Sheet3!$B20,Sheet4!$D$2:$D$8408,Sheet3!BI$3,Sheet4!$E$2:$E$8408,Sheet3!BI$4,Sheet4!$A$2:$A$8408,Sheet3!$B$1,Sheet4!$B$2:$B$8408,Sheet3!$A$3)","v":3},{"$f":"+SUMIFS(Sheet4!$FV$2:$FV$8408,Sheet4!$C$2:$C$8408,Sheet3!$B20,Sheet4!$D$2:$D$8408,Sheet3!BJ$3,Sheet4!$E$2:$E$8408,Sheet3!BJ$4,Sheet4!$A$2:$A$8408,Sheet3!$B$1,Sheet4!$B$2:$B$8408,Sheet3!$A$3)","v":0},{"$f":"+SUMIFS(Sheet4!$FV$2:$FV$8408,Sheet4!$C$2:$C$8408,Sheet3!$B20,Sheet4!$D$2:$D$8408,Sheet3!BK$3,Sheet4!$E$2:$E$8408,Sheet3!BK$4,Sheet4!$A$2:$A$8408,Sheet3!$B$1,Sheet4!$B$2:$B$8408,Sheet3!$A$3)","v":0},{"$f":"+SUMIFS(Sheet4!$FV$2:$FV$8408,Sheet4!$C$2:$C$8408,Sheet3!$B20,Sheet4!$D$2:$D$8408,Sheet3!BL$3,Sheet4!$E$2:$E$8408,Sheet3!BL$4,Sheet4!$A$2:$A$8408,Sheet3!$B$1,Sheet4!$B$2:$B$8408,Sheet3!$A$3)","v":75},{"$f":"+SUMIFS(Sheet4!$FV$2:$FV$8408,Sheet4!$C$2:$C$8408,Sheet3!$B20,Sheet4!$D$2:$D$8408,Sheet3!BM$3,Sheet4!$E$2:$E$8408,Sheet3!BM$4,Sheet4!$A$2:$A$8408,Sheet3!$B$1,Sheet4!$B$2:$B$8408,Sheet3!$A$3)","v":11},{"$f":"+SUMIFS(Sheet4!$FV$2:$FV$8408,Sheet4!$C$2:$C$8408,Sheet3!$B20,Sheet4!$D$2:$D$8408,Sheet3!BN$3,Sheet4!$E$2:$E$8408,Sheet3!BN$4,Sheet4!$A$2:$A$8408,Sheet3!$B$1,Sheet4!$B$2:$B$8408,Sheet3!$A$3)","v":0},{"$f":"+SUMIFS(Sheet4!$FV$2:$FV$8408,Sheet4!$C$2:$C$8408,Sheet3!$B20,Sheet4!$D$2:$D$8408,Sheet3!BO$3,Sheet4!$E$2:$E$8408,Sheet3!BO$4,Sheet4!$A$2:$A$8408,Sheet3!$B$1,Sheet4!$B$2:$B$8408,Sheet3!$A$3)","v":0},{"$f":"+SUMIFS(Sheet4!$FV$2:$FV$8408,Sheet4!$C$2:$C$8408,Sheet3!$B20,Sheet4!$D$2:$D$8408,Sheet3!BP$3,Sheet4!$E$2:$E$8408,Sheet3!BP$4,Sheet4!$A$2:$A$8408,Sheet3!$B$1,Sheet4!$B$2:$B$8408,Sheet3!$A$3)","v":0},{"$f":"+SUMIFS(Sheet4!$FV$2:$FV$8408,Sheet4!$C$2:$C$8408,Sheet3!$B20,Sheet4!$D$2:$D$8408,Sheet3!BQ$3,Sheet4!$E$2:$E$8408,Sheet3!BQ$4,Sheet4!$A$2:$A$8408,Sheet3!$B$1,Sheet4!$B$2:$B$8408,Sheet3!$A$3)","v":53},{"$f":"+SUMIFS(Sheet4!$FV$2:$FV$8408,Sheet4!$C$2:$C$8408,Sheet3!$B20,Sheet4!$D$2:$D$8408,Sheet3!BR$3,Sheet4!$E$2:$E$8408,Sheet3!BR$4,Sheet4!$A$2:$A$8408,Sheet3!$B$1,Sheet4!$B$2:$B$8408,Sheet3!$A$3)","v":74},{"$f":"+SUMIFS(Sheet4!$FV$2:$FV$8408,Sheet4!$C$2:$C$8408,Sheet3!$B20,Sheet4!$D$2:$D$8408,Sheet3!BS$3,Sheet4!$E$2:$E$8408,Sheet3!BS$4,Sheet4!$A$2:$A$8408,Sheet3!$B$1,Sheet4!$B$2:$B$8408,Sheet3!$A$3)","v":11},{"$f":"+SUMIFS(Sheet4!$FV$2:$FV$8408,Sheet4!$C$2:$C$8408,Sheet3!$B20,Sheet4!$D$2:$D$8408,Sheet3!BT$3,Sheet4!$E$2:$E$8408,Sheet3!BT$4,Sheet4!$A$2:$A$8408,Sheet3!$B$1,Sheet4!$B$2:$B$8408,Sheet3!$A$3)","v":0},{"$f":"+SUMIFS(Sheet4!$FV$2:$FV$8408,Sheet4!$C$2:$C$8408,Sheet3!$B20,Sheet4!$D$2:$D$8408,Sheet3!BU$3,Sheet4!$E$2:$E$8408,Sheet3!BU$4,Sheet4!$A$2:$A$8408,Sheet3!$B$1,Sheet4!$B$2:$B$8408,Sheet3!$A$3)","v":0},{"$f":"+SUMIFS(Sheet4!$FV$2:$FV$8408,Sheet4!$C$2:$C$8408,Sheet3!$B20,Sheet4!$D$2:$D$8408,Sheet3!BV$3,Sheet4!$E$2:$E$8408,Sheet3!BV$4,Sheet4!$A$2:$A$8408,Sheet3!$B$1,Sheet4!$B$2:$B$8408,Sheet3!$A$3)","v":748},{"$f":"+SUMIFS(Sheet4!$FV$2:$FV$8408,Sheet4!$C$2:$C$8408,Sheet3!$B20,Sheet4!$D$2:$D$8408,Sheet3!BW$3,Sheet4!$E$2:$E$8408,Sheet3!BW$4,Sheet4!$A$2:$A$8408,Sheet3!$B$1,Sheet4!$B$2:$B$8408,Sheet3!$A$3)","v":162},{"$f":"+SUMIFS(Sheet4!$FV$2:$FV$8408,Sheet4!$C$2:$C$8408,Sheet3!$B20,Sheet4!$D$2:$D$8408,Sheet3!BX$3,Sheet4!$E$2:$E$8408,Sheet3!BX$4,Sheet4!$A$2:$A$8408,Sheet3!$B$1,Sheet4!$B$2:$B$8408,Sheet3!$A$3)","v":13},{"$f":"+SUMIFS(Sheet4!$FV$2:$FV$8408,Sheet4!$C$2:$C$8408,Sheet3!$B20,Sheet4!$D$2:$D$8408,Sheet3!BY$3,Sheet4!$E$2:$E$8408,Sheet3!BY$4,Sheet4!$A$2:$A$8408,Sheet3!$B$1,Sheet4!$B$2:$B$8408,Sheet3!$A$3)","v":0},{"$f":"+SUMIFS(Sheet4!$FV$2:$FV$8408,Sheet4!$C$2:$C$8408,Sheet3!$B20,Sheet4!$D$2:$D$8408,Sheet3!BZ$3,Sheet4!$E$2:$E$8408,Sheet3!BZ$4,Sheet4!$A$2:$A$8408,Sheet3!$B$1,Sheet4!$B$2:$B$8408,Sheet3!$A$3)","v":0},{"$f":"+SUMIFS(Sheet4!$FV$2:$FV$8408,Sheet4!$C$2:$C$8408,Sheet3!$B20,Sheet4!$D$2:$D$8408,Sheet3!CA$3,Sheet4!$E$2:$E$8408,Sheet3!CA$4,Sheet4!$A$2:$A$8408,Sheet3!$B$1,Sheet4!$B$2:$B$8408,Sheet3!$A$3)","v":891},{"$f":"+SUMIFS(Sheet4!$FV$2:$FV$8408,Sheet4!$C$2:$C$8408,Sheet3!$B20,Sheet4!$D$2:$D$8408,Sheet3!CB$3,Sheet4!$E$2:$E$8408,Sheet3!CB$4,Sheet4!$A$2:$A$8408,Sheet3!$B$1,Sheet4!$B$2:$B$8408,Sheet3!$A$3)","v":113},{"$f":"+SUMIFS(Sheet4!$FV$2:$FV$8408,Sheet4!$C$2:$C$8408,Sheet3!$B20,Sheet4!$D$2:$D$8408,Sheet3!CC$3,Sheet4!$E$2:$E$8408,Sheet3!CC$4,Sheet4!$A$2:$A$8408,Sheet3!$B$1,Sheet4!$B$2:$B$8408,Sheet3!$A$3)","v":4},{"$f":"+SUMIFS(Sheet4!$FV$2:$FV$8408,Sheet4!$C$2:$C$8408,Sheet3!$B20,Sheet4!$D$2:$D$8408,Sheet3!CD$3,Sheet4!$E$2:$E$8408,Sheet3!CD$4,Sheet4!$A$2:$A$8408,Sheet3!$B$1,Sheet4!$B$2:$B$8408,Sheet3!$A$3)","v":0},{"$f":"+SUMIFS(Sheet4!$FV$2:$FV$8408,Sheet4!$C$2:$C$8408,Sheet3!$B20,Sheet4!$D$2:$D$8408,Sheet3!CE$3,Sheet4!$E$2:$E$8408,Sheet3!CE$4,Sheet4!$A$2:$A$8408,Sheet3!$B$1,Sheet4!$B$2:$B$8408,Sheet3!$A$3)","v":0},{"$f":"+SUMIFS(Sheet4!$FV$2:$FV$8408,Sheet4!$C$2:$C$8408,Sheet3!$B20,Sheet4!$D$2:$D$8408,Sheet3!CF$3,Sheet4!$E$2:$E$8408,Sheet3!CF$4,Sheet4!$A$2:$A$8408,Sheet3!$B$1,Sheet4!$B$2:$B$8408,Sheet3!$A$3)","v":139},{"$f":"+SUMIFS(Sheet4!$FV$2:$FV$8408,Sheet4!$C$2:$C$8408,Sheet3!$B20,Sheet4!$D$2:$D$8408,Sheet3!CG$3,Sheet4!$E$2:$E$8408,Sheet3!CG$4,Sheet4!$A$2:$A$8408,Sheet3!$B$1,Sheet4!$B$2:$B$8408,Sheet3!$A$3)","v":9},{"$f":"+SUMIFS(Sheet4!$FV$2:$FV$8408,Sheet4!$C$2:$C$8408,Sheet3!$B20,Sheet4!$D$2:$D$8408,Sheet3!CH$3,Sheet4!$E$2:$E$8408,Sheet3!CH$4,Sheet4!$A$2:$A$8408,Sheet3!$B$1,Sheet4!$B$2:$B$8408,Sheet3!$A$3)","v":0},{"$f":"+SUMIFS(Sheet4!$FV$2:$FV$8408,Sheet4!$C$2:$C$8408,Sheet3!$B20,Sheet4!$D$2:$D$8408,Sheet3!CI$3,Sheet4!$E$2:$E$8408,Sheet3!CI$4,Sheet4!$A$2:$A$8408,Sheet3!$B$1,Sheet4!$B$2:$B$8408,Sheet3!$A$3)","v":0},{"$f":"+SUMIFS(Sheet4!$FV$2:$FV$8408,Sheet4!$C$2:$C$8408,Sheet3!$B20,Sheet4!$D$2:$D$8408,Sheet3!CJ$3,Sheet4!$E$2:$E$8408,Sheet3!CJ$4,Sheet4!$A$2:$A$8408,Sheet3!$B$1,Sheet4!$B$2:$B$8408,Sheet3!$A$3)","v":0},{"$f":"+SUMIFS(Sheet4!$FV$2:$FV$8408,Sheet4!$C$2:$C$8408,Sheet3!$B20,Sheet4!$D$2:$D$8408,Sheet3!CK$3,Sheet4!$E$2:$E$8408,Sheet3!CK$4,Sheet4!$A$2:$A$8408,Sheet3!$B$1,Sheet4!$B$2:$B$8408,Sheet3!$A$3)","v":0},{"$f":"+SUMIFS(Sheet4!$FV$2:$FV$8408,Sheet4!$C$2:$C$8408,Sheet3!$B20,Sheet4!$D$2:$D$8408,Sheet3!CL$3,Sheet4!$E$2:$E$8408,Sheet3!CL$4,Sheet4!$A$2:$A$8408,Sheet3!$B$1,Sheet4!$B$2:$B$8408,Sheet3!$A$3)","v":0},{"$f":"+SUMIFS(Sheet4!$FV$2:$FV$8408,Sheet4!$C$2:$C$8408,Sheet3!$B20,Sheet4!$D$2:$D$8408,Sheet3!CM$3,Sheet4!$E$2:$E$8408,Sheet3!CM$4,Sheet4!$A$2:$A$8408,Sheet3!$B$1,Sheet4!$B$2:$B$8408,Sheet3!$A$3)","v":0},{"$f":"+SUMIFS(Sheet4!$FV$2:$FV$8408,Sheet4!$C$2:$C$8408,Sheet3!$B20,Sheet4!$D$2:$D$8408,Sheet3!CN$3,Sheet4!$E$2:$E$8408,Sheet3!CN$4,Sheet4!$A$2:$A$8408,Sheet3!$B$1,Sheet4!$B$2:$B$8408,Sheet3!$A$3)","v":0},{"$f":"+SUMIFS(Sheet4!$FV$2:$FV$8408,Sheet4!$C$2:$C$8408,Sheet3!$B20,Sheet4!$D$2:$D$8408,Sheet3!CO$3,Sheet4!$E$2:$E$8408,Sheet3!CO$4,Sheet4!$A$2:$A$8408,Sheet3!$B$1,Sheet4!$B$2:$B$8408,Sheet3!$A$3)","v":0},{"$f":"+SUMIFS(Sheet4!$FV$2:$FV$8408,Sheet4!$C$2:$C$8408,Sheet3!$B20,Sheet4!$D$2:$D$8408,Sheet3!CP$3,Sheet4!$E$2:$E$8408,Sheet3!CP$4,Sheet4!$A$2:$A$8408,Sheet3!$B$1,Sheet4!$B$2:$B$8408,Sheet3!$A$3)","v":14},{"$f":"+SUMIFS(Sheet4!$FV$2:$FV$8408,Sheet4!$C$2:$C$8408,Sheet3!$B20,Sheet4!$D$2:$D$8408,Sheet3!CQ$3,Sheet4!$E$2:$E$8408,Sheet3!CQ$4,Sheet4!$A$2:$A$8408,Sheet3!$B$1,Sheet4!$B$2:$B$8408,Sheet3!$A$3)","v":0},{"$f":"+SUMIFS(Sheet4!$FV$2:$FV$8408,Sheet4!$C$2:$C$8408,Sheet3!$B20,Sheet4!$D$2:$D$8408,Sheet3!CR$3,Sheet4!$E$2:$E$8408,Sheet3!CR$4,Sheet4!$A$2:$A$8408,Sheet3!$B$1,Sheet4!$B$2:$B$8408,Sheet3!$A$3)","v":0},{"$f":"+SUMIFS(Sheet4!$FV$2:$FV$8408,Sheet4!$C$2:$C$8408,Sheet3!$B20,Sheet4!$D$2:$D$8408,Sheet3!CS$3,Sheet4!$E$2:$E$8408,Sheet3!CS$4,Sheet4!$A$2:$A$8408,Sheet3!$B$1,Sheet4!$B$2:$B$8408,Sheet3!$A$3)","v":0},{"$f":"+SUMIFS(Sheet4!$FV$2:$FV$8408,Sheet4!$C$2:$C$8408,Sheet3!$B20,Sheet4!$D$2:$D$8408,Sheet3!CT$3,Sheet4!$E$2:$E$8408,Sheet3!CT$4,Sheet4!$A$2:$A$8408,Sheet3!$B$1,Sheet4!$B$2:$B$8408,Sheet3!$A$3)","v":0},{"$f":"+IF(SUMIFS(Sheet4!$FW$2:$FW$8408,Sheet4!$C$2:$C$8408,Sheet3!$B20,Sheet4!$D$2:$D$8408,Sheet3!CU$3,Sheet4!$A$2:$A$8408,Sheet3!$B$1,Sheet4!$B$2:$B$8408,Sheet3!$A$3)<3,0,SUMIFS(Sheet4!$FW$2:$FW$8408,Sheet4!$C$2:$C$8408,Sheet3!$B20,Sheet4!$D$2:$D$8408,Sheet3!CU$3,Sheet4!$A$2:$A$8408,Sheet3!$B$1,Sheet4!$B$2:$B$8408,Sheet3!$A$3))","v":25},{"$f":"+IF(SUMIFS(Sheet4!$FW$2:$FW$8408,Sheet4!$C$2:$C$8408,Sheet3!$B20,Sheet4!$D$2:$D$8408,Sheet3!CV$3,Sheet4!$A$2:$A$8408,Sheet3!$B$1,Sheet4!$B$2:$B$8408,Sheet3!$A$3)<3,0,SUMIFS(Sheet4!$FW$2:$FW$8408,Sheet4!$C$2:$C$8408,Sheet3!$B20,Sheet4!$D$2:$D$8408,Sheet3!CV$3,Sheet4!$A$2:$A$8408,Sheet3!$B$1,Sheet4!$B$2:$B$8408,Sheet3!$A$3))","v":184},{"$f":"+IF(SUMIFS(Sheet4!$FW$2:$FW$8408,Sheet4!$C$2:$C$8408,Sheet3!$B20,Sheet4!$D$2:$D$8408,Sheet3!CW$3,Sheet4!$A$2:$A$8408,Sheet3!$B$1,Sheet4!$B$2:$B$8408,Sheet3!$A$3)<3,0,SUMIFS(Sheet4!$FW$2:$FW$8408,Sheet4!$C$2:$C$8408,Sheet3!$B20,Sheet4!$D$2:$D$8408,Sheet3!CW$3,Sheet4!$A$2:$A$8408,Sheet3!$B$1,Sheet4!$B$2:$B$8408,Sheet3!$A$3))","v":256},{"$f":"+IF(SUMIFS(Sheet4!$FW$2:$FW$8408,Sheet4!$C$2:$C$8408,Sheet3!$B20,Sheet4!$D$2:$D$8408,Sheet3!CX$3,Sheet4!$A$2:$A$8408,Sheet3!$B$1,Sheet4!$B$2:$B$8408,Sheet3!$A$3)<3,0,SUMIFS(Sheet4!$FW$2:$FW$8408,Sheet4!$C$2:$C$8408,Sheet3!$B20,Sheet4!$D$2:$D$8408,Sheet3!CX$3,Sheet4!$A$2:$A$8408,Sheet3!$B$1,Sheet4!$B$2:$B$8408,Sheet3!$A$3))","v":0},{"$f":"+IF(SUMIFS(Sheet4!$FW$2:$FW$8408,Sheet4!$C$2:$C$8408,Sheet3!$B20,Sheet4!$D$2:$D$8408,Sheet3!CY$3,Sheet4!$A$2:$A$8408,Sheet3!$B$1,Sheet4!$B$2:$B$8408,Sheet3!$A$3)<3,0,SUMIFS(Sheet4!$FW$2:$FW$8408,Sheet4!$C$2:$C$8408,Sheet3!$B20,Sheet4!$D$2:$D$8408,Sheet3!CY$3,Sheet4!$A$2:$A$8408,Sheet3!$B$1,Sheet4!$B$2:$B$8408,Sheet3!$A$3))","v":0},{"$f":"+IF(SUMIFS(Sheet4!$FW$2:$FW$8408,Sheet4!$C$2:$C$8408,Sheet3!$B20,Sheet4!$D$2:$D$8408,Sheet3!CZ$3,Sheet4!$A$2:$A$8408,Sheet3!$B$1,Sheet4!$B$2:$B$8408,Sheet3!$A$3)<3,0,SUMIFS(Sheet4!$FW$2:$FW$8408,Sheet4!$C$2:$C$8408,Sheet3!$B20,Sheet4!$D$2:$D$8408,Sheet3!CZ$3,Sheet4!$A$2:$A$8408,Sheet3!$B$1,Sheet4!$B$2:$B$8408,Sheet3!$A$3))","v":1044},{"$f":"+IF(SUMIFS(Sheet4!$FW$2:$FW$8408,Sheet4!$C$2:$C$8408,Sheet3!$B20,Sheet4!$D$2:$D$8408,Sheet3!DA$3,Sheet4!$A$2:$A$8408,Sheet3!$B$1,Sheet4!$B$2:$B$8408,Sheet3!$A$3)<3,0,SUMIFS(Sheet4!$FW$2:$FW$8408,Sheet4!$C$2:$C$8408,Sheet3!$B20,Sheet4!$D$2:$D$8408,Sheet3!DA$3,Sheet4!$A$2:$A$8408,Sheet3!$B$1,Sheet4!$B$2:$B$8408,Sheet3!$A$3))","v":426},{"$f":"+IF(SUMIFS(Sheet4!$FW$2:$FW$8408,Sheet4!$C$2:$C$8408,Sheet3!$B20,Sheet4!$D$2:$D$8408,Sheet3!DB$3,Sheet4!$A$2:$A$8408,Sheet3!$B$1,Sheet4!$B$2:$B$8408,Sheet3!$A$3)<3,0,SUMIFS(Sheet4!$FW$2:$FW$8408,Sheet4!$C$2:$C$8408,Sheet3!$B20,Sheet4!$D$2:$D$8408,Sheet3!DB$3,Sheet4!$A$2:$A$8408,Sheet3!$B$1,Sheet4!$B$2:$B$8408,Sheet3!$A$3))","v":563},{"$f":"+IF(SUMIFS(Sheet4!$FW$2:$FW$8408,Sheet4!$C$2:$C$8408,Sheet3!$B20,Sheet4!$D$2:$D$8408,Sheet3!DC$3,Sheet4!$A$2:$A$8408,Sheet3!$B$1,Sheet4!$B$2:$B$8408,Sheet3!$A$3)<3,0,SUMIFS(Sheet4!$FW$2:$FW$8408,Sheet4!$C$2:$C$8408,Sheet3!$B20,Sheet4!$D$2:$D$8408,Sheet3!DC$3,Sheet4!$A$2:$A$8408,Sheet3!$B$1,Sheet4!$B$2:$B$8408,Sheet3!$A$3))","v":67},{"$f":"+IF(SUMIFS(Sheet4!$FW$2:$FW$8408,Sheet4!$C$2:$C$8408,Sheet3!$B20,Sheet4!$D$2:$D$8408,Sheet3!DD$3,Sheet4!$A$2:$A$8408,Sheet3!$B$1,Sheet4!$B$2:$B$8408,Sheet3!$A$3)<3,0,SUMIFS(Sheet4!$FW$2:$FW$8408,Sheet4!$C$2:$C$8408,Sheet3!$B20,Sheet4!$D$2:$D$8408,Sheet3!DD$3,Sheet4!$A$2:$A$8408,Sheet3!$B$1,Sheet4!$B$2:$B$8408,Sheet3!$A$3))","v":2791},{"$f":"+IF(SUMIFS(Sheet4!$FW$2:$FW$8408,Sheet4!$C$2:$C$8408,Sheet3!$B20,Sheet4!$D$2:$D$8408,Sheet3!DE$3,Sheet4!$A$2:$A$8408,Sheet3!$B$1,Sheet4!$B$2:$B$8408,Sheet3!$A$3)<3,0,SUMIFS(Sheet4!$FW$2:$FW$8408,Sheet4!$C$2:$C$8408,Sheet3!$B20,Sheet4!$D$2:$D$8408,Sheet3!DE$3,Sheet4!$A$2:$A$8408,Sheet3!$B$1,Sheet4!$B$2:$B$8408,Sheet3!$A$3))","v":36},{"$f":"+IF(SUMIFS(Sheet4!$FW$2:$FW$8408,Sheet4!$C$2:$C$8408,Sheet3!$B20,Sheet4!$D$2:$D$8408,Sheet3!DF$3,Sheet4!$A$2:$A$8408,Sheet3!$B$1,Sheet4!$B$2:$B$8408,Sheet3!$A$3)<3,0,SUMIFS(Sheet4!$FW$2:$FW$8408,Sheet4!$C$2:$C$8408,Sheet3!$B20,Sheet4!$D$2:$D$8408,Sheet3!DF$3,Sheet4!$A$2:$A$8408,Sheet3!$B$1,Sheet4!$B$2:$B$8408,Sheet3!$A$3))","v":110},{"$f":"+IF(SUMIFS(Sheet4!$FW$2:$FW$8408,Sheet4!$C$2:$C$8408,Sheet3!$B20,Sheet4!$D$2:$D$8408,Sheet3!DG$3,Sheet4!$A$2:$A$8408,Sheet3!$B$1,Sheet4!$B$2:$B$8408,Sheet3!$A$3)<3,0,SUMIFS(Sheet4!$FW$2:$FW$8408,Sheet4!$C$2:$C$8408,Sheet3!$B20,Sheet4!$D$2:$D$8408,Sheet3!DG$3,Sheet4!$A$2:$A$8408,Sheet3!$B$1,Sheet4!$B$2:$B$8408,Sheet3!$A$3))","v":87},{"$f":"+IF(SUMIFS(Sheet4!$FW$2:$FW$8408,Sheet4!$C$2:$C$8408,Sheet3!$B20,Sheet4!$D$2:$D$8408,Sheet3!DH$3,Sheet4!$A$2:$A$8408,Sheet3!$B$1,Sheet4!$B$2:$B$8408,Sheet3!$A$3)<3,0,SUMIFS(Sheet4!$FW$2:$FW$8408,Sheet4!$C$2:$C$8408,Sheet3!$B20,Sheet4!$D$2:$D$8408,Sheet3!DH$3,Sheet4!$A$2:$A$8408,Sheet3!$B$1,Sheet4!$B$2:$B$8408,Sheet3!$A$3))","v":140},{"$f":"+IF(SUMIFS(Sheet4!$FW$2:$FW$8408,Sheet4!$C$2:$C$8408,Sheet3!$B20,Sheet4!$D$2:$D$8408,Sheet3!DI$3,Sheet4!$A$2:$A$8408,Sheet3!$B$1,Sheet4!$B$2:$B$8408,Sheet3!$A$3)<3,0,SUMIFS(Sheet4!$FW$2:$FW$8408,Sheet4!$C$2:$C$8408,Sheet3!$B20,Sheet4!$D$2:$D$8408,Sheet3!DI$3,Sheet4!$A$2:$A$8408,Sheet3!$B$1,Sheet4!$B$2:$B$8408,Sheet3!$A$3))","v":923},{"$f":"+IF(SUMIFS(Sheet4!$FW$2:$FW$8408,Sheet4!$C$2:$C$8408,Sheet3!$B20,Sheet4!$D$2:$D$8408,Sheet3!DJ$3,Sheet4!$A$2:$A$8408,Sheet3!$B$1,Sheet4!$B$2:$B$8408,Sheet3!$A$3)<3,0,SUMIFS(Sheet4!$FW$2:$FW$8408,Sheet4!$C$2:$C$8408,Sheet3!$B20,Sheet4!$D$2:$D$8408,Sheet3!DJ$3,Sheet4!$A$2:$A$8408,Sheet3!$B$1,Sheet4!$B$2:$B$8408,Sheet3!$A$3))","v":1009},{"$f":"+IF(SUMIFS(Sheet4!$FW$2:$FW$8408,Sheet4!$C$2:$C$8408,Sheet3!$B20,Sheet4!$D$2:$D$8408,Sheet3!DK$3,Sheet4!$A$2:$A$8408,Sheet3!$B$1,Sheet4!$B$2:$B$8408,Sheet3!$A$3)<3,0,SUMIFS(Sheet4!$FW$2:$FW$8408,Sheet4!$C$2:$C$8408,Sheet3!$B20,Sheet4!$D$2:$D$8408,Sheet3!DK$3,Sheet4!$A$2:$A$8408,Sheet3!$B$1,Sheet4!$B$2:$B$8408,Sheet3!$A$3))","v":148},{"$f":"+IF(SUMIFS(Sheet4!$FW$2:$FW$8408,Sheet4!$C$2:$C$8408,Sheet3!$B20,Sheet4!$D$2:$D$8408,Sheet3!DL$3,Sheet4!$A$2:$A$8408,Sheet3!$B$1,Sheet4!$B$2:$B$8408,Sheet3!$A$3)<3,0,SUMIFS(Sheet4!$FW$2:$FW$8408,Sheet4!$C$2:$C$8408,Sheet3!$B20,Sheet4!$D$2:$D$8408,Sheet3!DL$3,Sheet4!$A$2:$A$8408,Sheet3!$B$1,Sheet4!$B$2:$B$8408,Sheet3!$A$3))","v":0},{"$f":"+IF(SUMIFS(Sheet4!$FW$2:$FW$8408,Sheet4!$C$2:$C$8408,Sheet3!$B20,Sheet4!$D$2:$D$8408,Sheet3!DM$3,Sheet4!$A$2:$A$8408,Sheet3!$B$1,Sheet4!$B$2:$B$8408,Sheet3!$A$3)<3,0,SUMIFS(Sheet4!$FW$2:$FW$8408,Sheet4!$C$2:$C$8408,Sheet3!$B20,Sheet4!$D$2:$D$8408,Sheet3!DM$3,Sheet4!$A$2:$A$8408,Sheet3!$B$1,Sheet4!$B$2:$B$8408,Sheet3!$A$3))","v":14},{"$f":"+IF(SUMIFS(Sheet4!$FW$2:$FW$8408,Sheet4!$C$2:$C$8408,Sheet3!$B20,Sheet4!$E$2:$E$8408,Sheet3!DN$4,Sheet4!$A$2:$A$8408,Sheet3!$B$1,Sheet4!$B$2:$B$8408,Sheet3!$A$3)<3,0,SUMIFS(Sheet4!$FW$2:$FW$8408,Sheet4!$C$2:$C$8408,Sheet3!$B20,Sheet4!$E$2:$E$8408,Sheet3!DN$4,Sheet4!$A$2:$A$8408,Sheet3!$B$1,Sheet4!$B$2:$B$8408,Sheet3!$A$3))","v":6926},{"$f":"+IF(SUMIFS(Sheet4!$FW$2:$FW$8408,Sheet4!$C$2:$C$8408,Sheet3!$B20,Sheet4!$E$2:$E$8408,Sheet3!DO$4,Sheet4!$A$2:$A$8408,Sheet3!$B$1,Sheet4!$B$2:$B$8408,Sheet3!$A$3)<3,0,SUMIFS(Sheet4!$FW$2:$FW$8408,Sheet4!$C$2:$C$8408,Sheet3!$B20,Sheet4!$E$2:$E$8408,Sheet3!DO$4,Sheet4!$A$2:$A$8408,Sheet3!$B$1,Sheet4!$B$2:$B$8408,Sheet3!$A$3))","v":831},{"$f":"+IF(SUMIFS(Sheet4!$FW$2:$FW$8408,Sheet4!$C$2:$C$8408,Sheet3!$B20,Sheet4!$E$2:$E$8408,Sheet3!DP$4,Sheet4!$A$2:$A$8408,Sheet3!$B$1,Sheet4!$B$2:$B$8408,Sheet3!$A$3)<3,0,SUMIFS(Sheet4!$FW$2:$FW$8408,Sheet4!$C$2:$C$8408,Sheet3!$B20,Sheet4!$E$2:$E$8408,Sheet3!DP$4,Sheet4!$A$2:$A$8408,Sheet3!$B$1,Sheet4!$B$2:$B$8408,Sheet3!$A$3))","v":68},{"$f":"+IF(SUMIFS(Sheet4!$FW$2:$FW$8408,Sheet4!$C$2:$C$8408,Sheet3!$B20,Sheet4!$E$2:$E$8408,Sheet3!DQ$4,Sheet4!$A$2:$A$8408,Sheet3!$B$1,Sheet4!$B$2:$B$8408,Sheet3!$A$3)<3,0,SUMIFS(Sheet4!$FW$2:$FW$8408,Sheet4!$C$2:$C$8408,Sheet3!$B20,Sheet4!$E$2:$E$8408,Sheet3!DQ$4,Sheet4!$A$2:$A$8408,Sheet3!$B$1,Sheet4!$B$2:$B$8408,Sheet3!$A$3))","v":0},{"$f":"+IF(SUMIFS(Sheet4!$FW$2:$FW$8408,Sheet4!$C$2:$C$8408,Sheet3!$B20,Sheet4!$E$2:$E$8408,Sheet3!DR$4,Sheet4!$A$2:$A$8408,Sheet3!$B$1,Sheet4!$B$2:$B$8408,Sheet3!$A$3)<3,0,SUMIFS(Sheet4!$FW$2:$FW$8408,Sheet4!$C$2:$C$8408,Sheet3!$B20,Sheet4!$E$2:$E$8408,Sheet3!DR$4,Sheet4!$A$2:$A$8408,Sheet3!$B$1,Sheet4!$B$2:$B$8408,Sheet3!$A$3))","v":0}]
[4,"16H","Beira Baixa",{"$f":"+SUMIFS(Sheet4!$FV$2:$FV$8408,Sheet4!$C$2:$C$8408,Sheet3!$B21,Sheet4!$D$2:$D$8408,Sheet3!D$3,Sheet4!$E$2:$E$8408,Sheet3!D$4,Sheet4!$A$2:$A$8408,Sheet3!$B$1,Sheet4!$B$2:$B$8408,Sheet3!$A$3)","v":24},{"$f":"+SUMIFS(Sheet4!$FV$2:$FV$8408,Sheet4!$C$2:$C$8408,Sheet3!$B21,Sheet4!$D$2:$D$8408,Sheet3!E$3,Sheet4!$E$2:$E$8408,Sheet3!E$4,Sheet4!$A$2:$A$8408,Sheet3!$B$1,Sheet4!$B$2:$B$8408,Sheet3!$A$3)","v":3},{"$f":"+SUMIFS(Sheet4!$FV$2:$FV$8408,Sheet4!$C$2:$C$8408,Sheet3!$B21,Sheet4!$D$2:$D$8408,Sheet3!F$3,Sheet4!$E$2:$E$8408,Sheet3!F$4,Sheet4!$A$2:$A$8408,Sheet3!$B$1,Sheet4!$B$2:$B$8408,Sheet3!$A$3)","v":0},{"$f":"+SUMIFS(Sheet4!$FV$2:$FV$8408,Sheet4!$C$2:$C$8408,Sheet3!$B21,Sheet4!$D$2:$D$8408,Sheet3!G$3,Sheet4!$E$2:$E$8408,Sheet3!G$4,Sheet4!$A$2:$A$8408,Sheet3!$B$1,Sheet4!$B$2:$B$8408,Sheet3!$A$3)","v":0},{"$f":"+SUMIFS(Sheet4!$FV$2:$FV$8408,Sheet4!$C$2:$C$8408,Sheet3!$B21,Sheet4!$D$2:$D$8408,Sheet3!H$3,Sheet4!$E$2:$E$8408,Sheet3!H$4,Sheet4!$A$2:$A$8408,Sheet3!$B$1,Sheet4!$B$2:$B$8408,Sheet3!$A$3)","v":0},{"$f":"+SUMIFS(Sheet4!$FV$2:$FV$8408,Sheet4!$C$2:$C$8408,Sheet3!$B21,Sheet4!$D$2:$D$8408,Sheet3!I$3,Sheet4!$E$2:$E$8408,Sheet3!I$4,Sheet4!$A$2:$A$8408,Sheet3!$B$1,Sheet4!$B$2:$B$8408,Sheet3!$A$3)","v":3},{"$f":"+SUMIFS(Sheet4!$FV$2:$FV$8408,Sheet4!$C$2:$C$8408,Sheet3!$B21,Sheet4!$D$2:$D$8408,Sheet3!J$3,Sheet4!$E$2:$E$8408,Sheet3!J$4,Sheet4!$A$2:$A$8408,Sheet3!$B$1,Sheet4!$B$2:$B$8408,Sheet3!$A$3)","v":4},{"$f":"+SUMIFS(Sheet4!$FV$2:$FV$8408,Sheet4!$C$2:$C$8408,Sheet3!$B21,Sheet4!$D$2:$D$8408,Sheet3!K$3,Sheet4!$E$2:$E$8408,Sheet3!K$4,Sheet4!$A$2:$A$8408,Sheet3!$B$1,Sheet4!$B$2:$B$8408,Sheet3!$A$3)","v":4},{"$f":"+SUMIFS(Sheet4!$FV$2:$FV$8408,Sheet4!$C$2:$C$8408,Sheet3!$B21,Sheet4!$D$2:$D$8408,Sheet3!L$3,Sheet4!$E$2:$E$8408,Sheet3!L$4,Sheet4!$A$2:$A$8408,Sheet3!$B$1,Sheet4!$B$2:$B$8408,Sheet3!$A$3)","v":0},{"$f":"+SUMIFS(Sheet4!$FV$2:$FV$8408,Sheet4!$C$2:$C$8408,Sheet3!$B21,Sheet4!$D$2:$D$8408,Sheet3!M$3,Sheet4!$E$2:$E$8408,Sheet3!M$4,Sheet4!$A$2:$A$8408,Sheet3!$B$1,Sheet4!$B$2:$B$8408,Sheet3!$A$3)","v":0},{"$f":"+SUMIFS(Sheet4!$FV$2:$FV$8408,Sheet4!$C$2:$C$8408,Sheet3!$B21,Sheet4!$D$2:$D$8408,Sheet3!N$3,Sheet4!$E$2:$E$8408,Sheet3!N$4,Sheet4!$A$2:$A$8408,Sheet3!$B$1,Sheet4!$B$2:$B$8408,Sheet3!$A$3)","v":50},{"$f":"+SUMIFS(Sheet4!$FV$2:$FV$8408,Sheet4!$C$2:$C$8408,Sheet3!$B21,Sheet4!$D$2:$D$8408,Sheet3!O$3,Sheet4!$E$2:$E$8408,Sheet3!O$4,Sheet4!$A$2:$A$8408,Sheet3!$B$1,Sheet4!$B$2:$B$8408,Sheet3!$A$3)","v":61},{"$f":"+SUMIFS(Sheet4!$FV$2:$FV$8408,Sheet4!$C$2:$C$8408,Sheet3!$B21,Sheet4!$D$2:$D$8408,Sheet3!P$3,Sheet4!$E$2:$E$8408,Sheet3!P$4,Sheet4!$A$2:$A$8408,Sheet3!$B$1,Sheet4!$B$2:$B$8408,Sheet3!$A$3)","v":32},{"$f":"+SUMIFS(Sheet4!$FV$2:$FV$8408,Sheet4!$C$2:$C$8408,Sheet3!$B21,Sheet4!$D$2:$D$8408,Sheet3!Q$3,Sheet4!$E$2:$E$8408,Sheet3!Q$4,Sheet4!$A$2:$A$8408,Sheet3!$B$1,Sheet4!$B$2:$B$8408,Sheet3!$A$3)","v":3},{"$f":"+SUMIFS(Sheet4!$FV$2:$FV$8408,Sheet4!$C$2:$C$8408,Sheet3!$B21,Sheet4!$D$2:$D$8408,Sheet3!R$3,Sheet4!$E$2:$E$8408,Sheet3!R$4,Sheet4!$A$2:$A$8408,Sheet3!$B$1,Sheet4!$B$2:$B$8408,Sheet3!$A$3)","v":0},{"$f":"+SUMIFS(Sheet4!$FV$2:$FV$8408,Sheet4!$C$2:$C$8408,Sheet3!$B21,Sheet4!$D$2:$D$8408,Sheet3!S$3,Sheet4!$E$2:$E$8408,Sheet3!S$4,Sheet4!$A$2:$A$8408,Sheet3!$B$1,Sheet4!$B$2:$B$8408,Sheet3!$A$3)","v":0},{"$f":"+SUMIFS(Sheet4!$FV$2:$FV$8408,Sheet4!$C$2:$C$8408,Sheet3!$B21,Sheet4!$D$2:$D$8408,Sheet3!T$3,Sheet4!$E$2:$E$8408,Sheet3!T$4,Sheet4!$A$2:$A$8408,Sheet3!$B$1,Sheet4!$B$2:$B$8408,Sheet3!$A$3)","v":0},{"$f":"+SUMIFS(Sheet4!$FV$2:$FV$8408,Sheet4!$C$2:$C$8408,Sheet3!$B21,Sheet4!$D$2:$D$8408,Sheet3!U$3,Sheet4!$E$2:$E$8408,Sheet3!U$4,Sheet4!$A$2:$A$8408,Sheet3!$B$1,Sheet4!$B$2:$B$8408,Sheet3!$A$3)","v":0},{"$f":"+SUMIFS(Sheet4!$FV$2:$FV$8408,Sheet4!$C$2:$C$8408,Sheet3!$B21,Sheet4!$D$2:$D$8408,Sheet3!V$3,Sheet4!$E$2:$E$8408,Sheet3!V$4,Sheet4!$A$2:$A$8408,Sheet3!$B$1,Sheet4!$B$2:$B$8408,Sheet3!$A$3)","v":0},{"$f":"+SUMIFS(Sheet4!$FV$2:$FV$8408,Sheet4!$C$2:$C$8408,Sheet3!$B21,Sheet4!$D$2:$D$8408,Sheet3!W$3,Sheet4!$E$2:$E$8408,Sheet3!W$4,Sheet4!$A$2:$A$8408,Sheet3!$B$1,Sheet4!$B$2:$B$8408,Sheet3!$A$3)","v":0},{"$f":"+SUMIFS(Sheet4!$FV$2:$FV$8408,Sheet4!$C$2:$C$8408,Sheet3!$B21,Sheet4!$D$2:$D$8408,Sheet3!X$3,Sheet4!$E$2:$E$8408,Sheet3!X$4,Sheet4!$A$2:$A$8408,Sheet3!$B$1,Sheet4!$B$2:$B$8408,Sheet3!$A$3)","v":0},{"$f":"+SUMIFS(Sheet4!$FV$2:$FV$8408,Sheet4!$C$2:$C$8408,Sheet3!$B21,Sheet4!$D$2:$D$8408,Sheet3!Y$3,Sheet4!$E$2:$E$8408,Sheet3!Y$4,Sheet4!$A$2:$A$8408,Sheet3!$B$1,Sheet4!$B$2:$B$8408,Sheet3!$A$3)","v":0},{"$f":"+SUMIFS(Sheet4!$FV$2:$FV$8408,Sheet4!$C$2:$C$8408,Sheet3!$B21,Sheet4!$D$2:$D$8408,Sheet3!Z$3,Sheet4!$E$2:$E$8408,Sheet3!Z$4,Sheet4!$A$2:$A$8408,Sheet3!$B$1,Sheet4!$B$2:$B$8408,Sheet3!$A$3)","v":0},{"$f":"+SUMIFS(Sheet4!$FV$2:$FV$8408,Sheet4!$C$2:$C$8408,Sheet3!$B21,Sheet4!$D$2:$D$8408,Sheet3!AA$3,Sheet4!$E$2:$E$8408,Sheet3!AA$4,Sheet4!$A$2:$A$8408,Sheet3!$B$1,Sheet4!$B$2:$B$8408,Sheet3!$A$3)","v":0},{"$f":"+SUMIFS(Sheet4!$FV$2:$FV$8408,Sheet4!$C$2:$C$8408,Sheet3!$B21,Sheet4!$D$2:$D$8408,Sheet3!AB$3,Sheet4!$E$2:$E$8408,Sheet3!AB$4,Sheet4!$A$2:$A$8408,Sheet3!$B$1,Sheet4!$B$2:$B$8408,Sheet3!$A$3)","v":0},{"$f":"+SUMIFS(Sheet4!$FV$2:$FV$8408,Sheet4!$C$2:$C$8408,Sheet3!$B21,Sheet4!$D$2:$D$8408,Sheet3!AC$3,Sheet4!$E$2:$E$8408,Sheet3!AC$4,Sheet4!$A$2:$A$8408,Sheet3!$B$1,Sheet4!$B$2:$B$8408,Sheet3!$A$3)","v":265},{"$f":"+SUMIFS(Sheet4!$FV$2:$FV$8408,Sheet4!$C$2:$C$8408,Sheet3!$B21,Sheet4!$D$2:$D$8408,Sheet3!AD$3,Sheet4!$E$2:$E$8408,Sheet3!AD$4,Sheet4!$A$2:$A$8408,Sheet3!$B$1,Sheet4!$B$2:$B$8408,Sheet3!$A$3)","v":18},{"$f":"+SUMIFS(Sheet4!$FV$2:$FV$8408,Sheet4!$C$2:$C$8408,Sheet3!$B21,Sheet4!$D$2:$D$8408,Sheet3!AE$3,Sheet4!$E$2:$E$8408,Sheet3!AE$4,Sheet4!$A$2:$A$8408,Sheet3!$B$1,Sheet4!$B$2:$B$8408,Sheet3!$A$3)","v":10},{"$f":"+SUMIFS(Sheet4!$FV$2:$FV$8408,Sheet4!$C$2:$C$8408,Sheet3!$B21,Sheet4!$D$2:$D$8408,Sheet3!AF$3,Sheet4!$E$2:$E$8408,Sheet3!AF$4,Sheet4!$A$2:$A$8408,Sheet3!$B$1,Sheet4!$B$2:$B$8408,Sheet3!$A$3)","v":0},{"$f":"+SUMIFS(Sheet4!$FV$2:$FV$8408,Sheet4!$C$2:$C$8408,Sheet3!$B21,Sheet4!$D$2:$D$8408,Sheet3!AG$3,Sheet4!$E$2:$E$8408,Sheet3!AG$4,Sheet4!$A$2:$A$8408,Sheet3!$B$1,Sheet4!$B$2:$B$8408,Sheet3!$A$3)","v":0},{"$f":"+SUMIFS(Sheet4!$FV$2:$FV$8408,Sheet4!$C$2:$C$8408,Sheet3!$B21,Sheet4!$D$2:$D$8408,Sheet3!AH$3,Sheet4!$E$2:$E$8408,Sheet3!AH$4,Sheet4!$A$2:$A$8408,Sheet3!$B$1,Sheet4!$B$2:$B$8408,Sheet3!$A$3)","v":3},{"$f":"+SUMIFS(Sheet4!$FV$2:$FV$8408,Sheet4!$C$2:$C$8408,Sheet3!$B21,Sheet4!$D$2:$D$8408,Sheet3!AI$3,Sheet4!$E$2:$E$8408,Sheet3!AI$4,Sheet4!$A$2:$A$8408,Sheet3!$B$1,Sheet4!$B$2:$B$8408,Sheet3!$A$3)","v":0},{"$f":"+SUMIFS(Sheet4!$FV$2:$FV$8408,Sheet4!$C$2:$C$8408,Sheet3!$B21,Sheet4!$D$2:$D$8408,Sheet3!AJ$3,Sheet4!$E$2:$E$8408,Sheet3!AJ$4,Sheet4!$A$2:$A$8408,Sheet3!$B$1,Sheet4!$B$2:$B$8408,Sheet3!$A$3)","v":0},{"$f":"+SUMIFS(Sheet4!$FV$2:$FV$8408,Sheet4!$C$2:$C$8408,Sheet3!$B21,Sheet4!$D$2:$D$8408,Sheet3!AK$3,Sheet4!$E$2:$E$8408,Sheet3!AK$4,Sheet4!$A$2:$A$8408,Sheet3!$B$1,Sheet4!$B$2:$B$8408,Sheet3!$A$3)","v":0},{"$f":"+SUMIFS(Sheet4!$FV$2:$FV$8408,Sheet4!$C$2:$C$8408,Sheet3!$B21,Sheet4!$D$2:$D$8408,Sheet3!AL$3,Sheet4!$E$2:$E$8408,Sheet3!AL$4,Sheet4!$A$2:$A$8408,Sheet3!$B$1,Sheet4!$B$2:$B$8408,Sheet3!$A$3)","v":0},{"$f":"+SUMIFS(Sheet4!$FV$2:$FV$8408,Sheet4!$C$2:$C$8408,Sheet3!$B21,Sheet4!$D$2:$D$8408,Sheet3!AM$3,Sheet4!$E$2:$E$8408,Sheet3!AM$4,Sheet4!$A$2:$A$8408,Sheet3!$B$1,Sheet4!$B$2:$B$8408,Sheet3!$A$3)","v":206},{"$f":"+SUMIFS(Sheet4!$FV$2:$FV$8408,Sheet4!$C$2:$C$8408,Sheet3!$B21,Sheet4!$D$2:$D$8408,Sheet3!AN$3,Sheet4!$E$2:$E$8408,Sheet3!AN$4,Sheet4!$A$2:$A$8408,Sheet3!$B$1,Sheet4!$B$2:$B$8408,Sheet3!$A$3)","v":65},{"$f":"+SUMIFS(Sheet4!$FV$2:$FV$8408,Sheet4!$C$2:$C$8408,Sheet3!$B21,Sheet4!$D$2:$D$8408,Sheet3!AO$3,Sheet4!$E$2:$E$8408,Sheet3!AO$4,Sheet4!$A$2:$A$8408,Sheet3!$B$1,Sheet4!$B$2:$B$8408,Sheet3!$A$3)","v":37},{"$f":"+SUMIFS(Sheet4!$FV$2:$FV$8408,Sheet4!$C$2:$C$8408,Sheet3!$B21,Sheet4!$D$2:$D$8408,Sheet3!AP$3,Sheet4!$E$2:$E$8408,Sheet3!AP$4,Sheet4!$A$2:$A$8408,Sheet3!$B$1,Sheet4!$B$2:$B$8408,Sheet3!$A$3)","v":8},{"$f":"+SUMIFS(Sheet4!$FV$2:$FV$8408,Sheet4!$C$2:$C$8408,Sheet3!$B21,Sheet4!$D$2:$D$8408,Sheet3!AQ$3,Sheet4!$E$2:$E$8408,Sheet3!AQ$4,Sheet4!$A$2:$A$8408,Sheet3!$B$1,Sheet4!$B$2:$B$8408,Sheet3!$A$3)","v":0},{"$f":"+SUMIFS(Sheet4!$FV$2:$FV$8408,Sheet4!$C$2:$C$8408,Sheet3!$B21,Sheet4!$D$2:$D$8408,Sheet3!AR$3,Sheet4!$E$2:$E$8408,Sheet3!AR$4,Sheet4!$A$2:$A$8408,Sheet3!$B$1,Sheet4!$B$2:$B$8408,Sheet3!$A$3)","v":582},{"$f":"+SUMIFS(Sheet4!$FV$2:$FV$8408,Sheet4!$C$2:$C$8408,Sheet3!$B21,Sheet4!$D$2:$D$8408,Sheet3!AS$3,Sheet4!$E$2:$E$8408,Sheet3!AS$4,Sheet4!$A$2:$A$8408,Sheet3!$B$1,Sheet4!$B$2:$B$8408,Sheet3!$A$3)","v":122},{"$f":"+SUMIFS(Sheet4!$FV$2:$FV$8408,Sheet4!$C$2:$C$8408,Sheet3!$B21,Sheet4!$D$2:$D$8408,Sheet3!AT$3,Sheet4!$E$2:$E$8408,Sheet3!AT$4,Sheet4!$A$2:$A$8408,Sheet3!$B$1,Sheet4!$B$2:$B$8408,Sheet3!$A$3)","v":19},{"$f":"+SUMIFS(Sheet4!$FV$2:$FV$8408,Sheet4!$C$2:$C$8408,Sheet3!$B21,Sheet4!$D$2:$D$8408,Sheet3!AU$3,Sheet4!$E$2:$E$8408,Sheet3!AU$4,Sheet4!$A$2:$A$8408,Sheet3!$B$1,Sheet4!$B$2:$B$8408,Sheet3!$A$3)","v":0},{"$f":"+SUMIFS(Sheet4!$FV$2:$FV$8408,Sheet4!$C$2:$C$8408,Sheet3!$B21,Sheet4!$D$2:$D$8408,Sheet3!AV$3,Sheet4!$E$2:$E$8408,Sheet3!AV$4,Sheet4!$A$2:$A$8408,Sheet3!$B$1,Sheet4!$B$2:$B$8408,Sheet3!$A$3)","v":0},{"$f":"+SUMIFS(Sheet4!$FV$2:$FV$8408,Sheet4!$C$2:$C$8408,Sheet3!$B21,Sheet4!$D$2:$D$8408,Sheet3!AW$3,Sheet4!$E$2:$E$8408,Sheet3!AW$4,Sheet4!$A$2:$A$8408,Sheet3!$B$1,Sheet4!$B$2:$B$8408,Sheet3!$A$3)","v":944},{"$f":"+SUMIFS(Sheet4!$FV$2:$FV$8408,Sheet4!$C$2:$C$8408,Sheet3!$B21,Sheet4!$D$2:$D$8408,Sheet3!AX$3,Sheet4!$E$2:$E$8408,Sheet3!AX$4,Sheet4!$A$2:$A$8408,Sheet3!$B$1,Sheet4!$B$2:$B$8408,Sheet3!$A$3)","v":311},{"$f":"+SUMIFS(Sheet4!$FV$2:$FV$8408,Sheet4!$C$2:$C$8408,Sheet3!$B21,Sheet4!$D$2:$D$8408,Sheet3!AY$3,Sheet4!$E$2:$E$8408,Sheet3!AY$4,Sheet4!$A$2:$A$8408,Sheet3!$B$1,Sheet4!$B$2:$B$8408,Sheet3!$A$3)","v":63},{"$f":"+SUMIFS(Sheet4!$FV$2:$FV$8408,Sheet4!$C$2:$C$8408,Sheet3!$B21,Sheet4!$D$2:$D$8408,Sheet3!AZ$3,Sheet4!$E$2:$E$8408,Sheet3!AZ$4,Sheet4!$A$2:$A$8408,Sheet3!$B$1,Sheet4!$B$2:$B$8408,Sheet3!$A$3)","v":5},{"$f":"+SUMIFS(Sheet4!$FV$2:$FV$8408,Sheet4!$C$2:$C$8408,Sheet3!$B21,Sheet4!$D$2:$D$8408,Sheet3!BA$3,Sheet4!$E$2:$E$8408,Sheet3!BA$4,Sheet4!$A$2:$A$8408,Sheet3!$B$1,Sheet4!$B$2:$B$8408,Sheet3!$A$3)","v":0},{"$f":"+SUMIFS(Sheet4!$FV$2:$FV$8408,Sheet4!$C$2:$C$8408,Sheet3!$B21,Sheet4!$D$2:$D$8408,Sheet3!BB$3,Sheet4!$E$2:$E$8408,Sheet3!BB$4,Sheet4!$A$2:$A$8408,Sheet3!$B$1,Sheet4!$B$2:$B$8408,Sheet3!$A$3)","v":0},{"$f":"+SUMIFS(Sheet4!$FV$2:$FV$8408,Sheet4!$C$2:$C$8408,Sheet3!$B21,Sheet4!$D$2:$D$8408,Sheet3!BC$3,Sheet4!$E$2:$E$8408,Sheet3!BC$4,Sheet4!$A$2:$A$8408,Sheet3!$B$1,Sheet4!$B$2:$B$8408,Sheet3!$A$3)","v":0},{"$f":"+SUMIFS(Sheet4!$FV$2:$FV$8408,Sheet4!$C$2:$C$8408,Sheet3!$B21,Sheet4!$D$2:$D$8408,Sheet3!BD$3,Sheet4!$E$2:$E$8408,Sheet3!BD$4,Sheet4!$A$2:$A$8408,Sheet3!$B$1,Sheet4!$B$2:$B$8408,Sheet3!$A$3)","v":0},{"$f":"+SUMIFS(Sheet4!$FV$2:$FV$8408,Sheet4!$C$2:$C$8408,Sheet3!$B21,Sheet4!$D$2:$D$8408,Sheet3!BE$3,Sheet4!$E$2:$E$8408,Sheet3!BE$4,Sheet4!$A$2:$A$8408,Sheet3!$B$1,Sheet4!$B$2:$B$8408,Sheet3!$A$3)","v":0},{"$f":"+SUMIFS(Sheet4!$FV$2:$FV$8408,Sheet4!$C$2:$C$8408,Sheet3!$B21,Sheet4!$D$2:$D$8408,Sheet3!BF$3,Sheet4!$E$2:$E$8408,Sheet3!BF$4,Sheet4!$A$2:$A$8408,Sheet3!$B$1,Sheet4!$B$2:$B$8408,Sheet3!$A$3)","v":0},{"$f":"+SUMIFS(Sheet4!$FV$2:$FV$8408,Sheet4!$C$2:$C$8408,Sheet3!$B21,Sheet4!$D$2:$D$8408,Sheet3!BG$3,Sheet4!$E$2:$E$8408,Sheet3!BG$4,Sheet4!$A$2:$A$8408,Sheet3!$B$1,Sheet4!$B$2:$B$8408,Sheet3!$A$3)","v":0},{"$f":"+SUMIFS(Sheet4!$FV$2:$FV$8408,Sheet4!$C$2:$C$8408,Sheet3!$B21,Sheet4!$D$2:$D$8408,Sheet3!BH$3,Sheet4!$E$2:$E$8408,Sheet3!BH$4,Sheet4!$A$2:$A$8408,Sheet3!$B$1,Sheet4!$B$2:$B$8408,Sheet3!$A$3)","v":11},{"$f":"+SUMIFS(Sheet4!$FV$2:$FV$8408,Sheet4!$C$2:$C$8408,Sheet3!$B21,Sheet4!$D$2:$D$8408,Sheet3!BI$3,Sheet4!$E$2:$E$8408,Sheet3!BI$4,Sheet4!$A$2:$A$8408,Sheet3!$B$1,Sheet4!$B$2:$B$8408,Sheet3!$A$3)","v":28},{"$f":"+SUMIFS(Sheet4!$FV$2:$FV$8408,Sheet4!$C$2:$C$8408,Sheet3!$B21,Sheet4!$D$2:$D$8408,Sheet3!BJ$3,Sheet4!$E$2:$E$8408,Sheet3!BJ$4,Sheet4!$A$2:$A$8408,Sheet3!$B$1,Sheet4!$B$2:$B$8408,Sheet3!$A$3)","v":0},{"$f":"+SUMIFS(Sheet4!$FV$2:$FV$8408,Sheet4!$C$2:$C$8408,Sheet3!$B21,Sheet4!$D$2:$D$8408,Sheet3!BK$3,Sheet4!$E$2:$E$8408,Sheet3!BK$4,Sheet4!$A$2:$A$8408,Sheet3!$B$1,Sheet4!$B$2:$B$8408,Sheet3!$A$3)","v":0},{"$f":"+SUMIFS(Sheet4!$FV$2:$FV$8408,Sheet4!$C$2:$C$8408,Sheet3!$B21,Sheet4!$D$2:$D$8408,Sheet3!BL$3,Sheet4!$E$2:$E$8408,Sheet3!BL$4,Sheet4!$A$2:$A$8408,Sheet3!$B$1,Sheet4!$B$2:$B$8408,Sheet3!$A$3)","v":7},{"$f":"+SUMIFS(Sheet4!$FV$2:$FV$8408,Sheet4!$C$2:$C$8408,Sheet3!$B21,Sheet4!$D$2:$D$8408,Sheet3!BM$3,Sheet4!$E$2:$E$8408,Sheet3!BM$4,Sheet4!$A$2:$A$8408,Sheet3!$B$1,Sheet4!$B$2:$B$8408,Sheet3!$A$3)","v":8},{"$f":"+SUMIFS(Sheet4!$FV$2:$FV$8408,Sheet4!$C$2:$C$8408,Sheet3!$B21,Sheet4!$D$2:$D$8408,Sheet3!BN$3,Sheet4!$E$2:$E$8408,Sheet3!BN$4,Sheet4!$A$2:$A$8408,Sheet3!$B$1,Sheet4!$B$2:$B$8408,Sheet3!$A$3)","v":0},{"$f":"+SUMIFS(Sheet4!$FV$2:$FV$8408,Sheet4!$C$2:$C$8408,Sheet3!$B21,Sheet4!$D$2:$D$8408,Sheet3!BO$3,Sheet4!$E$2:$E$8408,Sheet3!BO$4,Sheet4!$A$2:$A$8408,Sheet3!$B$1,Sheet4!$B$2:$B$8408,Sheet3!$A$3)","v":0},{"$f":"+SUMIFS(Sheet4!$FV$2:$FV$8408,Sheet4!$C$2:$C$8408,Sheet3!$B21,Sheet4!$D$2:$D$8408,Sheet3!BP$3,Sheet4!$E$2:$E$8408,Sheet3!BP$4,Sheet4!$A$2:$A$8408,Sheet3!$B$1,Sheet4!$B$2:$B$8408,Sheet3!$A$3)","v":0},{"$f":"+SUMIFS(Sheet4!$FV$2:$FV$8408,Sheet4!$C$2:$C$8408,Sheet3!$B21,Sheet4!$D$2:$D$8408,Sheet3!BQ$3,Sheet4!$E$2:$E$8408,Sheet3!BQ$4,Sheet4!$A$2:$A$8408,Sheet3!$B$1,Sheet4!$B$2:$B$8408,Sheet3!$A$3)","v":0},{"$f":"+SUMIFS(Sheet4!$FV$2:$FV$8408,Sheet4!$C$2:$C$8408,Sheet3!$B21,Sheet4!$D$2:$D$8408,Sheet3!BR$3,Sheet4!$E$2:$E$8408,Sheet3!BR$4,Sheet4!$A$2:$A$8408,Sheet3!$B$1,Sheet4!$B$2:$B$8408,Sheet3!$A$3)","v":15},{"$f":"+SUMIFS(Sheet4!$FV$2:$FV$8408,Sheet4!$C$2:$C$8408,Sheet3!$B21,Sheet4!$D$2:$D$8408,Sheet3!BS$3,Sheet4!$E$2:$E$8408,Sheet3!BS$4,Sheet4!$A$2:$A$8408,Sheet3!$B$1,Sheet4!$B$2:$B$8408,Sheet3!$A$3)","v":92},{"$f":"+SUMIFS(Sheet4!$FV$2:$FV$8408,Sheet4!$C$2:$C$8408,Sheet3!$B21,Sheet4!$D$2:$D$8408,Sheet3!BT$3,Sheet4!$E$2:$E$8408,Sheet3!BT$4,Sheet4!$A$2:$A$8408,Sheet3!$B$1,Sheet4!$B$2:$B$8408,Sheet3!$A$3)","v":72},{"$f":"+SUMIFS(Sheet4!$FV$2:$FV$8408,Sheet4!$C$2:$C$8408,Sheet3!$B21,Sheet4!$D$2:$D$8408,Sheet3!BU$3,Sheet4!$E$2:$E$8408,Sheet3!BU$4,Sheet4!$A$2:$A$8408,Sheet3!$B$1,Sheet4!$B$2:$B$8408,Sheet3!$A$3)","v":0},{"$f":"+SUMIFS(Sheet4!$FV$2:$FV$8408,Sheet4!$C$2:$C$8408,Sheet3!$B21,Sheet4!$D$2:$D$8408,Sheet3!BV$3,Sheet4!$E$2:$E$8408,Sheet3!BV$4,Sheet4!$A$2:$A$8408,Sheet3!$B$1,Sheet4!$B$2:$B$8408,Sheet3!$A$3)","v":333},{"$f":"+SUMIFS(Sheet4!$FV$2:$FV$8408,Sheet4!$C$2:$C$8408,Sheet3!$B21,Sheet4!$D$2:$D$8408,Sheet3!BW$3,Sheet4!$E$2:$E$8408,Sheet3!BW$4,Sheet4!$A$2:$A$8408,Sheet3!$B$1,Sheet4!$B$2:$B$8408,Sheet3!$A$3)","v":288},{"$f":"+SUMIFS(Sheet4!$FV$2:$FV$8408,Sheet4!$C$2:$C$8408,Sheet3!$B21,Sheet4!$D$2:$D$8408,Sheet3!BX$3,Sheet4!$E$2:$E$8408,Sheet3!BX$4,Sheet4!$A$2:$A$8408,Sheet3!$B$1,Sheet4!$B$2:$B$8408,Sheet3!$A$3)","v":253},{"$f":"+SUMIFS(Sheet4!$FV$2:$FV$8408,Sheet4!$C$2:$C$8408,Sheet3!$B21,Sheet4!$D$2:$D$8408,Sheet3!BY$3,Sheet4!$E$2:$E$8408,Sheet3!BY$4,Sheet4!$A$2:$A$8408,Sheet3!$B$1,Sheet4!$B$2:$B$8408,Sheet3!$A$3)","v":44},{"$f":"+SUMIFS(Sheet4!$FV$2:$FV$8408,Sheet4!$C$2:$C$8408,Sheet3!$B21,Sheet4!$D$2:$D$8408,Sheet3!BZ$3,Sheet4!$E$2:$E$8408,Sheet3!BZ$4,Sheet4!$A$2:$A$8408,Sheet3!$B$1,Sheet4!$B$2:$B$8408,Sheet3!$A$3)","v":3},{"$f":"+SUMIFS(Sheet4!$FV$2:$FV$8408,Sheet4!$C$2:$C$8408,Sheet3!$B21,Sheet4!$D$2:$D$8408,Sheet3!CA$3,Sheet4!$E$2:$E$8408,Sheet3!CA$4,Sheet4!$A$2:$A$8408,Sheet3!$B$1,Sheet4!$B$2:$B$8408,Sheet3!$A$3)","v":109},{"$f":"+SUMIFS(Sheet4!$FV$2:$FV$8408,Sheet4!$C$2:$C$8408,Sheet3!$B21,Sheet4!$D$2:$D$8408,Sheet3!CB$3,Sheet4!$E$2:$E$8408,Sheet3!CB$4,Sheet4!$A$2:$A$8408,Sheet3!$B$1,Sheet4!$B$2:$B$8408,Sheet3!$A$3)","v":84},{"$f":"+SUMIFS(Sheet4!$FV$2:$FV$8408,Sheet4!$C$2:$C$8408,Sheet3!$B21,Sheet4!$D$2:$D$8408,Sheet3!CC$3,Sheet4!$E$2:$E$8408,Sheet3!CC$4,Sheet4!$A$2:$A$8408,Sheet3!$B$1,Sheet4!$B$2:$B$8408,Sheet3!$A$3)","v":47},{"$f":"+SUMIFS(Sheet4!$FV$2:$FV$8408,Sheet4!$C$2:$C$8408,Sheet3!$B21,Sheet4!$D$2:$D$8408,Sheet3!CD$3,Sheet4!$E$2:$E$8408,Sheet3!CD$4,Sheet4!$A$2:$A$8408,Sheet3!$B$1,Sheet4!$B$2:$B$8408,Sheet3!$A$3)","v":7},{"$f":"+SUMIFS(Sheet4!$FV$2:$FV$8408,Sheet4!$C$2:$C$8408,Sheet3!$B21,Sheet4!$D$2:$D$8408,Sheet3!CE$3,Sheet4!$E$2:$E$8408,Sheet3!CE$4,Sheet4!$A$2:$A$8408,Sheet3!$B$1,Sheet4!$B$2:$B$8408,Sheet3!$A$3)","v":0},{"$f":"+SUMIFS(Sheet4!$FV$2:$FV$8408,Sheet4!$C$2:$C$8408,Sheet3!$B21,Sheet4!$D$2:$D$8408,Sheet3!CF$3,Sheet4!$E$2:$E$8408,Sheet3!CF$4,Sheet4!$A$2:$A$8408,Sheet3!$B$1,Sheet4!$B$2:$B$8408,Sheet3!$A$3)","v":90},{"$f":"+SUMIFS(Sheet4!$FV$2:$FV$8408,Sheet4!$C$2:$C$8408,Sheet3!$B21,Sheet4!$D$2:$D$8408,Sheet3!CG$3,Sheet4!$E$2:$E$8408,Sheet3!CG$4,Sheet4!$A$2:$A$8408,Sheet3!$B$1,Sheet4!$B$2:$B$8408,Sheet3!$A$3)","v":127},{"$f":"+SUMIFS(Sheet4!$FV$2:$FV$8408,Sheet4!$C$2:$C$8408,Sheet3!$B21,Sheet4!$D$2:$D$8408,Sheet3!CH$3,Sheet4!$E$2:$E$8408,Sheet3!CH$4,Sheet4!$A$2:$A$8408,Sheet3!$B$1,Sheet4!$B$2:$B$8408,Sheet3!$A$3)","v":93},{"$f":"+SUMIFS(Sheet4!$FV$2:$FV$8408,Sheet4!$C$2:$C$8408,Sheet3!$B21,Sheet4!$D$2:$D$8408,Sheet3!CI$3,Sheet4!$E$2:$E$8408,Sheet3!CI$4,Sheet4!$A$2:$A$8408,Sheet3!$B$1,Sheet4!$B$2:$B$8408,Sheet3!$A$3)","v":15},{"$f":"+SUMIFS(Sheet4!$FV$2:$FV$8408,Sheet4!$C$2:$C$8408,Sheet3!$B21,Sheet4!$D$2:$D$8408,Sheet3!CJ$3,Sheet4!$E$2:$E$8408,Sheet3!CJ$4,Sheet4!$A$2:$A$8408,Sheet3!$B$1,Sheet4!$B$2:$B$8408,Sheet3!$A$3)","v":0},{"$f":"+SUMIFS(Sheet4!$FV$2:$FV$8408,Sheet4!$C$2:$C$8408,Sheet3!$B21,Sheet4!$D$2:$D$8408,Sheet3!CK$3,Sheet4!$E$2:$E$8408,Sheet3!CK$4,Sheet4!$A$2:$A$8408,Sheet3!$B$1,Sheet4!$B$2:$B$8408,Sheet3!$A$3)","v":0},{"$f":"+SUMIFS(Sheet4!$FV$2:$FV$8408,Sheet4!$C$2:$C$8408,Sheet3!$B21,Sheet4!$D$2:$D$8408,Sheet3!CL$3,Sheet4!$E$2:$E$8408,Sheet3!CL$4,Sheet4!$A$2:$A$8408,Sheet3!$B$1,Sheet4!$B$2:$B$8408,Sheet3!$A$3)","v":0},{"$f":"+SUMIFS(Sheet4!$FV$2:$FV$8408,Sheet4!$C$2:$C$8408,Sheet3!$B21,Sheet4!$D$2:$D$8408,Sheet3!CM$3,Sheet4!$E$2:$E$8408,Sheet3!CM$4,Sheet4!$A$2:$A$8408,Sheet3!$B$1,Sheet4!$B$2:$B$8408,Sheet3!$A$3)","v":0},{"$f":"+SUMIFS(Sheet4!$FV$2:$FV$8408,Sheet4!$C$2:$C$8408,Sheet3!$B21,Sheet4!$D$2:$D$8408,Sheet3!CN$3,Sheet4!$E$2:$E$8408,Sheet3!CN$4,Sheet4!$A$2:$A$8408,Sheet3!$B$1,Sheet4!$B$2:$B$8408,Sheet3!$A$3)","v":0},{"$f":"+SUMIFS(Sheet4!$FV$2:$FV$8408,Sheet4!$C$2:$C$8408,Sheet3!$B21,Sheet4!$D$2:$D$8408,Sheet3!CO$3,Sheet4!$E$2:$E$8408,Sheet3!CO$4,Sheet4!$A$2:$A$8408,Sheet3!$B$1,Sheet4!$B$2:$B$8408,Sheet3!$A$3)","v":0},{"$f":"+SUMIFS(Sheet4!$FV$2:$FV$8408,Sheet4!$C$2:$C$8408,Sheet3!$B21,Sheet4!$D$2:$D$8408,Sheet3!CP$3,Sheet4!$E$2:$E$8408,Sheet3!CP$4,Sheet4!$A$2:$A$8408,Sheet3!$B$1,Sheet4!$B$2:$B$8408,Sheet3!$A$3)","v":0},{"$f":"+SUMIFS(Sheet4!$FV$2:$FV$8408,Sheet4!$C$2:$C$8408,Sheet3!$B21,Sheet4!$D$2:$D$8408,Sheet3!CQ$3,Sheet4!$E$2:$E$8408,Sheet3!CQ$4,Sheet4!$A$2:$A$8408,Sheet3!$B$1,Sheet4!$B$2:$B$8408,Sheet3!$A$3)","v":0},{"$f":"+SUMIFS(Sheet4!$FV$2:$FV$8408,Sheet4!$C$2:$C$8408,Sheet3!$B21,Sheet4!$D$2:$D$8408,Sheet3!CR$3,Sheet4!$E$2:$E$8408,Sheet3!CR$4,Sheet4!$A$2:$A$8408,Sheet3!$B$1,Sheet4!$B$2:$B$8408,Sheet3!$A$3)","v":0},{"$f":"+SUMIFS(Sheet4!$FV$2:$FV$8408,Sheet4!$C$2:$C$8408,Sheet3!$B21,Sheet4!$D$2:$D$8408,Sheet3!CS$3,Sheet4!$E$2:$E$8408,Sheet3!CS$4,Sheet4!$A$2:$A$8408,Sheet3!$B$1,Sheet4!$B$2:$B$8408,Sheet3!$A$3)","v":0},{"$f":"+SUMIFS(Sheet4!$FV$2:$FV$8408,Sheet4!$C$2:$C$8408,Sheet3!$B21,Sheet4!$D$2:$D$8408,Sheet3!CT$3,Sheet4!$E$2:$E$8408,Sheet3!CT$4,Sheet4!$A$2:$A$8408,Sheet3!$B$1,Sheet4!$B$2:$B$8408,Sheet3!$A$3)","v":0},{"$f":"+IF(SUMIFS(Sheet4!$FW$2:$FW$8408,Sheet4!$C$2:$C$8408,Sheet3!$B21,Sheet4!$D$2:$D$8408,Sheet3!CU$3,Sheet4!$A$2:$A$8408,Sheet3!$B$1,Sheet4!$B$2:$B$8408,Sheet3!$A$3)<3,0,SUMIFS(Sheet4!$FW$2:$FW$8408,Sheet4!$C$2:$C$8408,Sheet3!$B21,Sheet4!$D$2:$D$8408,Sheet3!CU$3,Sheet4!$A$2:$A$8408,Sheet3!$B$1,Sheet4!$B$2:$B$8408,Sheet3!$A$3))","v":30},{"$f":"+IF(SUMIFS(Sheet4!$FW$2:$FW$8408,Sheet4!$C$2:$C$8408,Sheet3!$B21,Sheet4!$D$2:$D$8408,Sheet3!CV$3,Sheet4!$A$2:$A$8408,Sheet3!$B$1,Sheet4!$B$2:$B$8408,Sheet3!$A$3)<3,0,SUMIFS(Sheet4!$FW$2:$FW$8408,Sheet4!$C$2:$C$8408,Sheet3!$B21,Sheet4!$D$2:$D$8408,Sheet3!CV$3,Sheet4!$A$2:$A$8408,Sheet3!$B$1,Sheet4!$B$2:$B$8408,Sheet3!$A$3))","v":16},{"$f":"+IF(SUMIFS(Sheet4!$FW$2:$FW$8408,Sheet4!$C$2:$C$8408,Sheet3!$B21,Sheet4!$D$2:$D$8408,Sheet3!CW$3,Sheet4!$A$2:$A$8408,Sheet3!$B$1,Sheet4!$B$2:$B$8408,Sheet3!$A$3)<3,0,SUMIFS(Sheet4!$FW$2:$FW$8408,Sheet4!$C$2:$C$8408,Sheet3!$B21,Sheet4!$D$2:$D$8408,Sheet3!CW$3,Sheet4!$A$2:$A$8408,Sheet3!$B$1,Sheet4!$B$2:$B$8408,Sheet3!$A$3))","v":150},{"$f":"+IF(SUMIFS(Sheet4!$FW$2:$FW$8408,Sheet4!$C$2:$C$8408,Sheet3!$B21,Sheet4!$D$2:$D$8408,Sheet3!CX$3,Sheet4!$A$2:$A$8408,Sheet3!$B$1,Sheet4!$B$2:$B$8408,Sheet3!$A$3)<3,0,SUMIFS(Sheet4!$FW$2:$FW$8408,Sheet4!$C$2:$C$8408,Sheet3!$B21,Sheet4!$D$2:$D$8408,Sheet3!CX$3,Sheet4!$A$2:$A$8408,Sheet3!$B$1,Sheet4!$B$2:$B$8408,Sheet3!$A$3))","v":0},{"$f":"+IF(SUMIFS(Sheet4!$FW$2:$FW$8408,Sheet4!$C$2:$C$8408,Sheet3!$B21,Sheet4!$D$2:$D$8408,Sheet3!CY$3,Sheet4!$A$2:$A$8408,Sheet3!$B$1,Sheet4!$B$2:$B$8408,Sheet3!$A$3)<3,0,SUMIFS(Sheet4!$FW$2:$FW$8408,Sheet4!$C$2:$C$8408,Sheet3!$B21,Sheet4!$D$2:$D$8408,Sheet3!CY$3,Sheet4!$A$2:$A$8408,Sheet3!$B$1,Sheet4!$B$2:$B$8408,Sheet3!$A$3))","v":0},{"$f":"+IF(SUMIFS(Sheet4!$FW$2:$FW$8408,Sheet4!$C$2:$C$8408,Sheet3!$B21,Sheet4!$D$2:$D$8408,Sheet3!CZ$3,Sheet4!$A$2:$A$8408,Sheet3!$B$1,Sheet4!$B$2:$B$8408,Sheet3!$A$3)<3,0,SUMIFS(Sheet4!$FW$2:$FW$8408,Sheet4!$C$2:$C$8408,Sheet3!$B21,Sheet4!$D$2:$D$8408,Sheet3!CZ$3,Sheet4!$A$2:$A$8408,Sheet3!$B$1,Sheet4!$B$2:$B$8408,Sheet3!$A$3))","v":295},{"$f":"+IF(SUMIFS(Sheet4!$FW$2:$FW$8408,Sheet4!$C$2:$C$8408,Sheet3!$B21,Sheet4!$D$2:$D$8408,Sheet3!DA$3,Sheet4!$A$2:$A$8408,Sheet3!$B$1,Sheet4!$B$2:$B$8408,Sheet3!$A$3)<3,0,SUMIFS(Sheet4!$FW$2:$FW$8408,Sheet4!$C$2:$C$8408,Sheet3!$B21,Sheet4!$D$2:$D$8408,Sheet3!DA$3,Sheet4!$A$2:$A$8408,Sheet3!$B$1,Sheet4!$B$2:$B$8408,Sheet3!$A$3))","v":10},{"$f":"+IF(SUMIFS(Sheet4!$FW$2:$FW$8408,Sheet4!$C$2:$C$8408,Sheet3!$B21,Sheet4!$D$2:$D$8408,Sheet3!DB$3,Sheet4!$A$2:$A$8408,Sheet3!$B$1,Sheet4!$B$2:$B$8408,Sheet3!$A$3)<3,0,SUMIFS(Sheet4!$FW$2:$FW$8408,Sheet4!$C$2:$C$8408,Sheet3!$B21,Sheet4!$D$2:$D$8408,Sheet3!DB$3,Sheet4!$A$2:$A$8408,Sheet3!$B$1,Sheet4!$B$2:$B$8408,Sheet3!$A$3))","v":319},{"$f":"+IF(SUMIFS(Sheet4!$FW$2:$FW$8408,Sheet4!$C$2:$C$8408,Sheet3!$B21,Sheet4!$D$2:$D$8408,Sheet3!DC$3,Sheet4!$A$2:$A$8408,Sheet3!$B$1,Sheet4!$B$2:$B$8408,Sheet3!$A$3)<3,0,SUMIFS(Sheet4!$FW$2:$FW$8408,Sheet4!$C$2:$C$8408,Sheet3!$B21,Sheet4!$D$2:$D$8408,Sheet3!DC$3,Sheet4!$A$2:$A$8408,Sheet3!$B$1,Sheet4!$B$2:$B$8408,Sheet3!$A$3))","v":731},{"$f":"+IF(SUMIFS(Sheet4!$FW$2:$FW$8408,Sheet4!$C$2:$C$8408,Sheet3!$B21,Sheet4!$D$2:$D$8408,Sheet3!DD$3,Sheet4!$A$2:$A$8408,Sheet3!$B$1,Sheet4!$B$2:$B$8408,Sheet3!$A$3)<3,0,SUMIFS(Sheet4!$FW$2:$FW$8408,Sheet4!$C$2:$C$8408,Sheet3!$B21,Sheet4!$D$2:$D$8408,Sheet3!DD$3,Sheet4!$A$2:$A$8408,Sheet3!$B$1,Sheet4!$B$2:$B$8408,Sheet3!$A$3))","v":1325},{"$f":"+IF(SUMIFS(Sheet4!$FW$2:$FW$8408,Sheet4!$C$2:$C$8408,Sheet3!$B21,Sheet4!$D$2:$D$8408,Sheet3!DE$3,Sheet4!$A$2:$A$8408,Sheet3!$B$1,Sheet4!$B$2:$B$8408,Sheet3!$A$3)<3,0,SUMIFS(Sheet4!$FW$2:$FW$8408,Sheet4!$C$2:$C$8408,Sheet3!$B21,Sheet4!$D$2:$D$8408,Sheet3!DE$3,Sheet4!$A$2:$A$8408,Sheet3!$B$1,Sheet4!$B$2:$B$8408,Sheet3!$A$3))","v":3},{"$f":"+IF(SUMIFS(Sheet4!$FW$2:$FW$8408,Sheet4!$C$2:$C$8408,Sheet3!$B21,Sheet4!$D$2:$D$8408,Sheet3!DF$3,Sheet4!$A$2:$A$8408,Sheet3!$B$1,Sheet4!$B$2:$B$8408,Sheet3!$A$3)<3,0,SUMIFS(Sheet4!$FW$2:$FW$8408,Sheet4!$C$2:$C$8408,Sheet3!$B21,Sheet4!$D$2:$D$8408,Sheet3!DF$3,Sheet4!$A$2:$A$8408,Sheet3!$B$1,Sheet4!$B$2:$B$8408,Sheet3!$A$3))","v":42},{"$f":"+IF(SUMIFS(Sheet4!$FW$2:$FW$8408,Sheet4!$C$2:$C$8408,Sheet3!$B21,Sheet4!$D$2:$D$8408,Sheet3!DG$3,Sheet4!$A$2:$A$8408,Sheet3!$B$1,Sheet4!$B$2:$B$8408,Sheet3!$A$3)<3,0,SUMIFS(Sheet4!$FW$2:$FW$8408,Sheet4!$C$2:$C$8408,Sheet3!$B21,Sheet4!$D$2:$D$8408,Sheet3!DG$3,Sheet4!$A$2:$A$8408,Sheet3!$B$1,Sheet4!$B$2:$B$8408,Sheet3!$A$3))","v":16},{"$f":"+IF(SUMIFS(Sheet4!$FW$2:$FW$8408,Sheet4!$C$2:$C$8408,Sheet3!$B21,Sheet4!$D$2:$D$8408,Sheet3!DH$3,Sheet4!$A$2:$A$8408,Sheet3!$B$1,Sheet4!$B$2:$B$8408,Sheet3!$A$3)<3,0,SUMIFS(Sheet4!$FW$2:$FW$8408,Sheet4!$C$2:$C$8408,Sheet3!$B21,Sheet4!$D$2:$D$8408,Sheet3!DH$3,Sheet4!$A$2:$A$8408,Sheet3!$B$1,Sheet4!$B$2:$B$8408,Sheet3!$A$3))","v":184},{"$f":"+IF(SUMIFS(Sheet4!$FW$2:$FW$8408,Sheet4!$C$2:$C$8408,Sheet3!$B21,Sheet4!$D$2:$D$8408,Sheet3!DI$3,Sheet4!$A$2:$A$8408,Sheet3!$B$1,Sheet4!$B$2:$B$8408,Sheet3!$A$3)<3,0,SUMIFS(Sheet4!$FW$2:$FW$8408,Sheet4!$C$2:$C$8408,Sheet3!$B21,Sheet4!$D$2:$D$8408,Sheet3!DI$3,Sheet4!$A$2:$A$8408,Sheet3!$B$1,Sheet4!$B$2:$B$8408,Sheet3!$A$3))","v":921},{"$f":"+IF(SUMIFS(Sheet4!$FW$2:$FW$8408,Sheet4!$C$2:$C$8408,Sheet3!$B21,Sheet4!$D$2:$D$8408,Sheet3!DJ$3,Sheet4!$A$2:$A$8408,Sheet3!$B$1,Sheet4!$B$2:$B$8408,Sheet3!$A$3)<3,0,SUMIFS(Sheet4!$FW$2:$FW$8408,Sheet4!$C$2:$C$8408,Sheet3!$B21,Sheet4!$D$2:$D$8408,Sheet3!DJ$3,Sheet4!$A$2:$A$8408,Sheet3!$B$1,Sheet4!$B$2:$B$8408,Sheet3!$A$3))","v":249},{"$f":"+IF(SUMIFS(Sheet4!$FW$2:$FW$8408,Sheet4!$C$2:$C$8408,Sheet3!$B21,Sheet4!$D$2:$D$8408,Sheet3!DK$3,Sheet4!$A$2:$A$8408,Sheet3!$B$1,Sheet4!$B$2:$B$8408,Sheet3!$A$3)<3,0,SUMIFS(Sheet4!$FW$2:$FW$8408,Sheet4!$C$2:$C$8408,Sheet3!$B21,Sheet4!$D$2:$D$8408,Sheet3!DK$3,Sheet4!$A$2:$A$8408,Sheet3!$B$1,Sheet4!$B$2:$B$8408,Sheet3!$A$3))","v":328},{"$f":"+IF(SUMIFS(Sheet4!$FW$2:$FW$8408,Sheet4!$C$2:$C$8408,Sheet3!$B21,Sheet4!$D$2:$D$8408,Sheet3!DL$3,Sheet4!$A$2:$A$8408,Sheet3!$B$1,Sheet4!$B$2:$B$8408,Sheet3!$A$3)<3,0,SUMIFS(Sheet4!$FW$2:$FW$8408,Sheet4!$C$2:$C$8408,Sheet3!$B21,Sheet4!$D$2:$D$8408,Sheet3!DL$3,Sheet4!$A$2:$A$8408,Sheet3!$B$1,Sheet4!$B$2:$B$8408,Sheet3!$A$3))","v":0},{"$f":"+IF(SUMIFS(Sheet4!$FW$2:$FW$8408,Sheet4!$C$2:$C$8408,Sheet3!$B21,Sheet4!$D$2:$D$8408,Sheet3!DM$3,Sheet4!$A$2:$A$8408,Sheet3!$B$1,Sheet4!$B$2:$B$8408,Sheet3!$A$3)<3,0,SUMIFS(Sheet4!$FW$2:$FW$8408,Sheet4!$C$2:$C$8408,Sheet3!$B21,Sheet4!$D$2:$D$8408,Sheet3!DM$3,Sheet4!$A$2:$A$8408,Sheet3!$B$1,Sheet4!$B$2:$B$8408,Sheet3!$A$3))","v":0},{"$f":"+IF(SUMIFS(Sheet4!$FW$2:$FW$8408,Sheet4!$C$2:$C$8408,Sheet3!$B21,Sheet4!$E$2:$E$8408,Sheet3!DN$4,Sheet4!$A$2:$A$8408,Sheet3!$B$1,Sheet4!$B$2:$B$8408,Sheet3!$A$3)<3,0,SUMIFS(Sheet4!$FW$2:$FW$8408,Sheet4!$C$2:$C$8408,Sheet3!$B21,Sheet4!$E$2:$E$8408,Sheet3!DN$4,Sheet4!$A$2:$A$8408,Sheet3!$B$1,Sheet4!$B$2:$B$8408,Sheet3!$A$3))","v":2630},{"$f":"+IF(SUMIFS(Sheet4!$FW$2:$FW$8408,Sheet4!$C$2:$C$8408,Sheet3!$B21,Sheet4!$E$2:$E$8408,Sheet3!DO$4,Sheet4!$A$2:$A$8408,Sheet3!$B$1,Sheet4!$B$2:$B$8408,Sheet3!$A$3)<3,0,SUMIFS(Sheet4!$FW$2:$FW$8408,Sheet4!$C$2:$C$8408,Sheet3!$B21,Sheet4!$E$2:$E$8408,Sheet3!DO$4,Sheet4!$A$2:$A$8408,Sheet3!$B$1,Sheet4!$B$2:$B$8408,Sheet3!$A$3))","v":1129},{"$f":"+IF(SUMIFS(Sheet4!$FW$2:$FW$8408,Sheet4!$C$2:$C$8408,Sheet3!$B21,Sheet4!$E$2:$E$8408,Sheet3!DP$4,Sheet4!$A$2:$A$8408,Sheet3!$B$1,Sheet4!$B$2:$B$8408,Sheet3!$A$3)<3,0,SUMIFS(Sheet4!$FW$2:$FW$8408,Sheet4!$C$2:$C$8408,Sheet3!$B21,Sheet4!$E$2:$E$8408,Sheet3!DP$4,Sheet4!$A$2:$A$8408,Sheet3!$B$1,Sheet4!$B$2:$B$8408,Sheet3!$A$3))","v":694},{"$f":"+IF(SUMIFS(Sheet4!$FW$2:$FW$8408,Sheet4!$C$2:$C$8408,Sheet3!$B21,Sheet4!$E$2:$E$8408,Sheet3!DQ$4,Sheet4!$A$2:$A$8408,Sheet3!$B$1,Sheet4!$B$2:$B$8408,Sheet3!$A$3)<3,0,SUMIFS(Sheet4!$FW$2:$FW$8408,Sheet4!$C$2:$C$8408,Sheet3!$B21,Sheet4!$E$2:$E$8408,Sheet3!DQ$4,Sheet4!$A$2:$A$8408,Sheet3!$B$1,Sheet4!$B$2:$B$8408,Sheet3!$A$3))","v":161},{"$f":"+IF(SUMIFS(Sheet4!$FW$2:$FW$8408,Sheet4!$C$2:$C$8408,Sheet3!$B21,Sheet4!$E$2:$E$8408,Sheet3!DR$4,Sheet4!$A$2:$A$8408,Sheet3!$B$1,Sheet4!$B$2:$B$8408,Sheet3!$A$3)<3,0,SUMIFS(Sheet4!$FW$2:$FW$8408,Sheet4!$C$2:$C$8408,Sheet3!$B21,Sheet4!$E$2:$E$8408,Sheet3!DR$4,Sheet4!$A$2:$A$8408,Sheet3!$B$1,Sheet4!$B$2:$B$8408,Sheet3!$A$3))","v":7}]
[4,"16I","Médio Tejo",{"$f":"+SUMIFS(Sheet4!$FV$2:$FV$8408,Sheet4!$C$2:$C$8408,Sheet3!$B22,Sheet4!$D$2:$D$8408,Sheet3!D$3,Sheet4!$E$2:$E$8408,Sheet3!D$4,Sheet4!$A$2:$A$8408,Sheet3!$B$1,Sheet4!$B$2:$B$8408,Sheet3!$A$3)","v":9},{"$f":"+SUMIFS(Sheet4!$FV$2:$FV$8408,Sheet4!$C$2:$C$8408,Sheet3!$B22,Sheet4!$D$2:$D$8408,Sheet3!E$3,Sheet4!$E$2:$E$8408,Sheet3!E$4,Sheet4!$A$2:$A$8408,Sheet3!$B$1,Sheet4!$B$2:$B$8408,Sheet3!$A$3)","v":3},{"$f":"+SUMIFS(Sheet4!$FV$2:$FV$8408,Sheet4!$C$2:$C$8408,Sheet3!$B22,Sheet4!$D$2:$D$8408,Sheet3!F$3,Sheet4!$E$2:$E$8408,Sheet3!F$4,Sheet4!$A$2:$A$8408,Sheet3!$B$1,Sheet4!$B$2:$B$8408,Sheet3!$A$3)","v":0},{"$f":"+SUMIFS(Sheet4!$FV$2:$FV$8408,Sheet4!$C$2:$C$8408,Sheet3!$B22,Sheet4!$D$2:$D$8408,Sheet3!G$3,Sheet4!$E$2:$E$8408,Sheet3!G$4,Sheet4!$A$2:$A$8408,Sheet3!$B$1,Sheet4!$B$2:$B$8408,Sheet3!$A$3)","v":0},{"$f":"+SUMIFS(Sheet4!$FV$2:$FV$8408,Sheet4!$C$2:$C$8408,Sheet3!$B22,Sheet4!$D$2:$D$8408,Sheet3!H$3,Sheet4!$E$2:$E$8408,Sheet3!H$4,Sheet4!$A$2:$A$8408,Sheet3!$B$1,Sheet4!$B$2:$B$8408,Sheet3!$A$3)","v":0},{"$f":"+SUMIFS(Sheet4!$FV$2:$FV$8408,Sheet4!$C$2:$C$8408,Sheet3!$B22,Sheet4!$D$2:$D$8408,Sheet3!I$3,Sheet4!$E$2:$E$8408,Sheet3!I$4,Sheet4!$A$2:$A$8408,Sheet3!$B$1,Sheet4!$B$2:$B$8408,Sheet3!$A$3)","v":18},{"$f":"+SUMIFS(Sheet4!$FV$2:$FV$8408,Sheet4!$C$2:$C$8408,Sheet3!$B22,Sheet4!$D$2:$D$8408,Sheet3!J$3,Sheet4!$E$2:$E$8408,Sheet3!J$4,Sheet4!$A$2:$A$8408,Sheet3!$B$1,Sheet4!$B$2:$B$8408,Sheet3!$A$3)","v":15},{"$f":"+SUMIFS(Sheet4!$FV$2:$FV$8408,Sheet4!$C$2:$C$8408,Sheet3!$B22,Sheet4!$D$2:$D$8408,Sheet3!K$3,Sheet4!$E$2:$E$8408,Sheet3!K$4,Sheet4!$A$2:$A$8408,Sheet3!$B$1,Sheet4!$B$2:$B$8408,Sheet3!$A$3)","v":18},{"$f":"+SUMIFS(Sheet4!$FV$2:$FV$8408,Sheet4!$C$2:$C$8408,Sheet3!$B22,Sheet4!$D$2:$D$8408,Sheet3!L$3,Sheet4!$E$2:$E$8408,Sheet3!L$4,Sheet4!$A$2:$A$8408,Sheet3!$B$1,Sheet4!$B$2:$B$8408,Sheet3!$A$3)","v":0},{"$f":"+SUMIFS(Sheet4!$FV$2:$FV$8408,Sheet4!$C$2:$C$8408,Sheet3!$B22,Sheet4!$D$2:$D$8408,Sheet3!M$3,Sheet4!$E$2:$E$8408,Sheet3!M$4,Sheet4!$A$2:$A$8408,Sheet3!$B$1,Sheet4!$B$2:$B$8408,Sheet3!$A$3)","v":0},{"$f":"+SUMIFS(Sheet4!$FV$2:$FV$8408,Sheet4!$C$2:$C$8408,Sheet3!$B22,Sheet4!$D$2:$D$8408,Sheet3!N$3,Sheet4!$E$2:$E$8408,Sheet3!N$4,Sheet4!$A$2:$A$8408,Sheet3!$B$1,Sheet4!$B$2:$B$8408,Sheet3!$A$3)","v":35},{"$f":"+SUMIFS(Sheet4!$FV$2:$FV$8408,Sheet4!$C$2:$C$8408,Sheet3!$B22,Sheet4!$D$2:$D$8408,Sheet3!O$3,Sheet4!$E$2:$E$8408,Sheet3!O$4,Sheet4!$A$2:$A$8408,Sheet3!$B$1,Sheet4!$B$2:$B$8408,Sheet3!$A$3)","v":18},{"$f":"+SUMIFS(Sheet4!$FV$2:$FV$8408,Sheet4!$C$2:$C$8408,Sheet3!$B22,Sheet4!$D$2:$D$8408,Sheet3!P$3,Sheet4!$E$2:$E$8408,Sheet3!P$4,Sheet4!$A$2:$A$8408,Sheet3!$B$1,Sheet4!$B$2:$B$8408,Sheet3!$A$3)","v":7},{"$f":"+SUMIFS(Sheet4!$FV$2:$FV$8408,Sheet4!$C$2:$C$8408,Sheet3!$B22,Sheet4!$D$2:$D$8408,Sheet3!Q$3,Sheet4!$E$2:$E$8408,Sheet3!Q$4,Sheet4!$A$2:$A$8408,Sheet3!$B$1,Sheet4!$B$2:$B$8408,Sheet3!$A$3)","v":0},{"$f":"+SUMIFS(Sheet4!$FV$2:$FV$8408,Sheet4!$C$2:$C$8408,Sheet3!$B22,Sheet4!$D$2:$D$8408,Sheet3!R$3,Sheet4!$E$2:$E$8408,Sheet3!R$4,Sheet4!$A$2:$A$8408,Sheet3!$B$1,Sheet4!$B$2:$B$8408,Sheet3!$A$3)","v":0},{"$f":"+SUMIFS(Sheet4!$FV$2:$FV$8408,Sheet4!$C$2:$C$8408,Sheet3!$B22,Sheet4!$D$2:$D$8408,Sheet3!S$3,Sheet4!$E$2:$E$8408,Sheet3!S$4,Sheet4!$A$2:$A$8408,Sheet3!$B$1,Sheet4!$B$2:$B$8408,Sheet3!$A$3)","v":0},{"$f":"+SUMIFS(Sheet4!$FV$2:$FV$8408,Sheet4!$C$2:$C$8408,Sheet3!$B22,Sheet4!$D$2:$D$8408,Sheet3!T$3,Sheet4!$E$2:$E$8408,Sheet3!T$4,Sheet4!$A$2:$A$8408,Sheet3!$B$1,Sheet4!$B$2:$B$8408,Sheet3!$A$3)","v":0},{"$f":"+SUMIFS(Sheet4!$FV$2:$FV$8408,Sheet4!$C$2:$C$8408,Sheet3!$B22,Sheet4!$D$2:$D$8408,Sheet3!U$3,Sheet4!$E$2:$E$8408,Sheet3!U$4,Sheet4!$A$2:$A$8408,Sheet3!$B$1,Sheet4!$B$2:$B$8408,Sheet3!$A$3)","v":0},{"$f":"+SUMIFS(Sheet4!$FV$2:$FV$8408,Sheet4!$C$2:$C$8408,Sheet3!$B22,Sheet4!$D$2:$D$8408,Sheet3!V$3,Sheet4!$E$2:$E$8408,Sheet3!V$4,Sheet4!$A$2:$A$8408,Sheet3!$B$1,Sheet4!$B$2:$B$8408,Sheet3!$A$3)","v":0},{"$f":"+SUMIFS(Sheet4!$FV$2:$FV$8408,Sheet4!$C$2:$C$8408,Sheet3!$B22,Sheet4!$D$2:$D$8408,Sheet3!W$3,Sheet4!$E$2:$E$8408,Sheet3!W$4,Sheet4!$A$2:$A$8408,Sheet3!$B$1,Sheet4!$B$2:$B$8408,Sheet3!$A$3)","v":0},{"$f":"+SUMIFS(Sheet4!$FV$2:$FV$8408,Sheet4!$C$2:$C$8408,Sheet3!$B22,Sheet4!$D$2:$D$8408,Sheet3!X$3,Sheet4!$E$2:$E$8408,Sheet3!X$4,Sheet4!$A$2:$A$8408,Sheet3!$B$1,Sheet4!$B$2:$B$8408,Sheet3!$A$3)","v":0},{"$f":"+SUMIFS(Sheet4!$FV$2:$FV$8408,Sheet4!$C$2:$C$8408,Sheet3!$B22,Sheet4!$D$2:$D$8408,Sheet3!Y$3,Sheet4!$E$2:$E$8408,Sheet3!Y$4,Sheet4!$A$2:$A$8408,Sheet3!$B$1,Sheet4!$B$2:$B$8408,Sheet3!$A$3)","v":0},{"$f":"+SUMIFS(Sheet4!$FV$2:$FV$8408,Sheet4!$C$2:$C$8408,Sheet3!$B22,Sheet4!$D$2:$D$8408,Sheet3!Z$3,Sheet4!$E$2:$E$8408,Sheet3!Z$4,Sheet4!$A$2:$A$8408,Sheet3!$B$1,Sheet4!$B$2:$B$8408,Sheet3!$A$3)","v":0},{"$f":"+SUMIFS(Sheet4!$FV$2:$FV$8408,Sheet4!$C$2:$C$8408,Sheet3!$B22,Sheet4!$D$2:$D$8408,Sheet3!AA$3,Sheet4!$E$2:$E$8408,Sheet3!AA$4,Sheet4!$A$2:$A$8408,Sheet3!$B$1,Sheet4!$B$2:$B$8408,Sheet3!$A$3)","v":0},{"$f":"+SUMIFS(Sheet4!$FV$2:$FV$8408,Sheet4!$C$2:$C$8408,Sheet3!$B22,Sheet4!$D$2:$D$8408,Sheet3!AB$3,Sheet4!$E$2:$E$8408,Sheet3!AB$4,Sheet4!$A$2:$A$8408,Sheet3!$B$1,Sheet4!$B$2:$B$8408,Sheet3!$A$3)","v":0},{"$f":"+SUMIFS(Sheet4!$FV$2:$FV$8408,Sheet4!$C$2:$C$8408,Sheet3!$B22,Sheet4!$D$2:$D$8408,Sheet3!AC$3,Sheet4!$E$2:$E$8408,Sheet3!AC$4,Sheet4!$A$2:$A$8408,Sheet3!$B$1,Sheet4!$B$2:$B$8408,Sheet3!$A$3)","v":194},{"$f":"+SUMIFS(Sheet4!$FV$2:$FV$8408,Sheet4!$C$2:$C$8408,Sheet3!$B22,Sheet4!$D$2:$D$8408,Sheet3!AD$3,Sheet4!$E$2:$E$8408,Sheet3!AD$4,Sheet4!$A$2:$A$8408,Sheet3!$B$1,Sheet4!$B$2:$B$8408,Sheet3!$A$3)","v":11},{"$f":"+SUMIFS(Sheet4!$FV$2:$FV$8408,Sheet4!$C$2:$C$8408,Sheet3!$B22,Sheet4!$D$2:$D$8408,Sheet3!AE$3,Sheet4!$E$2:$E$8408,Sheet3!AE$4,Sheet4!$A$2:$A$8408,Sheet3!$B$1,Sheet4!$B$2:$B$8408,Sheet3!$A$3)","v":0},{"$f":"+SUMIFS(Sheet4!$FV$2:$FV$8408,Sheet4!$C$2:$C$8408,Sheet3!$B22,Sheet4!$D$2:$D$8408,Sheet3!AF$3,Sheet4!$E$2:$E$8408,Sheet3!AF$4,Sheet4!$A$2:$A$8408,Sheet3!$B$1,Sheet4!$B$2:$B$8408,Sheet3!$A$3)","v":0},{"$f":"+SUMIFS(Sheet4!$FV$2:$FV$8408,Sheet4!$C$2:$C$8408,Sheet3!$B22,Sheet4!$D$2:$D$8408,Sheet3!AG$3,Sheet4!$E$2:$E$8408,Sheet3!AG$4,Sheet4!$A$2:$A$8408,Sheet3!$B$1,Sheet4!$B$2:$B$8408,Sheet3!$A$3)","v":0},{"$f":"+SUMIFS(Sheet4!$FV$2:$FV$8408,Sheet4!$C$2:$C$8408,Sheet3!$B22,Sheet4!$D$2:$D$8408,Sheet3!AH$3,Sheet4!$E$2:$E$8408,Sheet3!AH$4,Sheet4!$A$2:$A$8408,Sheet3!$B$1,Sheet4!$B$2:$B$8408,Sheet3!$A$3)","v":41},{"$f":"+SUMIFS(Sheet4!$FV$2:$FV$8408,Sheet4!$C$2:$C$8408,Sheet3!$B22,Sheet4!$D$2:$D$8408,Sheet3!AI$3,Sheet4!$E$2:$E$8408,Sheet3!AI$4,Sheet4!$A$2:$A$8408,Sheet3!$B$1,Sheet4!$B$2:$B$8408,Sheet3!$A$3)","v":9},{"$f":"+SUMIFS(Sheet4!$FV$2:$FV$8408,Sheet4!$C$2:$C$8408,Sheet3!$B22,Sheet4!$D$2:$D$8408,Sheet3!AJ$3,Sheet4!$E$2:$E$8408,Sheet3!AJ$4,Sheet4!$A$2:$A$8408,Sheet3!$B$1,Sheet4!$B$2:$B$8408,Sheet3!$A$3)","v":6},{"$f":"+SUMIFS(Sheet4!$FV$2:$FV$8408,Sheet4!$C$2:$C$8408,Sheet3!$B22,Sheet4!$D$2:$D$8408,Sheet3!AK$3,Sheet4!$E$2:$E$8408,Sheet3!AK$4,Sheet4!$A$2:$A$8408,Sheet3!$B$1,Sheet4!$B$2:$B$8408,Sheet3!$A$3)","v":0},{"$f":"+SUMIFS(Sheet4!$FV$2:$FV$8408,Sheet4!$C$2:$C$8408,Sheet3!$B22,Sheet4!$D$2:$D$8408,Sheet3!AL$3,Sheet4!$E$2:$E$8408,Sheet3!AL$4,Sheet4!$A$2:$A$8408,Sheet3!$B$1,Sheet4!$B$2:$B$8408,Sheet3!$A$3)","v":0},{"$f":"+SUMIFS(Sheet4!$FV$2:$FV$8408,Sheet4!$C$2:$C$8408,Sheet3!$B22,Sheet4!$D$2:$D$8408,Sheet3!AM$3,Sheet4!$E$2:$E$8408,Sheet3!AM$4,Sheet4!$A$2:$A$8408,Sheet3!$B$1,Sheet4!$B$2:$B$8408,Sheet3!$A$3)","v":243},{"$f":"+SUMIFS(Sheet4!$FV$2:$FV$8408,Sheet4!$C$2:$C$8408,Sheet3!$B22,Sheet4!$D$2:$D$8408,Sheet3!AN$3,Sheet4!$E$2:$E$8408,Sheet3!AN$4,Sheet4!$A$2:$A$8408,Sheet3!$B$1,Sheet4!$B$2:$B$8408,Sheet3!$A$3)","v":81},{"$f":"+SUMIFS(Sheet4!$FV$2:$FV$8408,Sheet4!$C$2:$C$8408,Sheet3!$B22,Sheet4!$D$2:$D$8408,Sheet3!AO$3,Sheet4!$E$2:$E$8408,Sheet3!AO$4,Sheet4!$A$2:$A$8408,Sheet3!$B$1,Sheet4!$B$2:$B$8408,Sheet3!$A$3)","v":14},{"$f":"+SUMIFS(Sheet4!$FV$2:$FV$8408,Sheet4!$C$2:$C$8408,Sheet3!$B22,Sheet4!$D$2:$D$8408,Sheet3!AP$3,Sheet4!$E$2:$E$8408,Sheet3!AP$4,Sheet4!$A$2:$A$8408,Sheet3!$B$1,Sheet4!$B$2:$B$8408,Sheet3!$A$3)","v":0},{"$f":"+SUMIFS(Sheet4!$FV$2:$FV$8408,Sheet4!$C$2:$C$8408,Sheet3!$B22,Sheet4!$D$2:$D$8408,Sheet3!AQ$3,Sheet4!$E$2:$E$8408,Sheet3!AQ$4,Sheet4!$A$2:$A$8408,Sheet3!$B$1,Sheet4!$B$2:$B$8408,Sheet3!$A$3)","v":0},{"$f":"+SUMIFS(Sheet4!$FV$2:$FV$8408,Sheet4!$C$2:$C$8408,Sheet3!$B22,Sheet4!$D$2:$D$8408,Sheet3!AR$3,Sheet4!$E$2:$E$8408,Sheet3!AR$4,Sheet4!$A$2:$A$8408,Sheet3!$B$1,Sheet4!$B$2:$B$8408,Sheet3!$A$3)","v":614},{"$f":"+SUMIFS(Sheet4!$FV$2:$FV$8408,Sheet4!$C$2:$C$8408,Sheet3!$B22,Sheet4!$D$2:$D$8408,Sheet3!AS$3,Sheet4!$E$2:$E$8408,Sheet3!AS$4,Sheet4!$A$2:$A$8408,Sheet3!$B$1,Sheet4!$B$2:$B$8408,Sheet3!$A$3)","v":75},{"$f":"+SUMIFS(Sheet4!$FV$2:$FV$8408,Sheet4!$C$2:$C$8408,Sheet3!$B22,Sheet4!$D$2:$D$8408,Sheet3!AT$3,Sheet4!$E$2:$E$8408,Sheet3!AT$4,Sheet4!$A$2:$A$8408,Sheet3!$B$1,Sheet4!$B$2:$B$8408,Sheet3!$A$3)","v":10},{"$f":"+SUMIFS(Sheet4!$FV$2:$FV$8408,Sheet4!$C$2:$C$8408,Sheet3!$B22,Sheet4!$D$2:$D$8408,Sheet3!AU$3,Sheet4!$E$2:$E$8408,Sheet3!AU$4,Sheet4!$A$2:$A$8408,Sheet3!$B$1,Sheet4!$B$2:$B$8408,Sheet3!$A$3)","v":0},{"$f":"+SUMIFS(Sheet4!$FV$2:$FV$8408,Sheet4!$C$2:$C$8408,Sheet3!$B22,Sheet4!$D$2:$D$8408,Sheet3!AV$3,Sheet4!$E$2:$E$8408,Sheet3!AV$4,Sheet4!$A$2:$A$8408,Sheet3!$B$1,Sheet4!$B$2:$B$8408,Sheet3!$A$3)","v":0},{"$f":"+SUMIFS(Sheet4!$FV$2:$FV$8408,Sheet4!$C$2:$C$8408,Sheet3!$B22,Sheet4!$D$2:$D$8408,Sheet3!AW$3,Sheet4!$E$2:$E$8408,Sheet3!AW$4,Sheet4!$A$2:$A$8408,Sheet3!$B$1,Sheet4!$B$2:$B$8408,Sheet3!$A$3)","v":1363},{"$f":"+SUMIFS(Sheet4!$FV$2:$FV$8408,Sheet4!$C$2:$C$8408,Sheet3!$B22,Sheet4!$D$2:$D$8408,Sheet3!AX$3,Sheet4!$E$2:$E$8408,Sheet3!AX$4,Sheet4!$A$2:$A$8408,Sheet3!$B$1,Sheet4!$B$2:$B$8408,Sheet3!$A$3)","v":216},{"$f":"+SUMIFS(Sheet4!$FV$2:$FV$8408,Sheet4!$C$2:$C$8408,Sheet3!$B22,Sheet4!$D$2:$D$8408,Sheet3!AY$3,Sheet4!$E$2:$E$8408,Sheet3!AY$4,Sheet4!$A$2:$A$8408,Sheet3!$B$1,Sheet4!$B$2:$B$8408,Sheet3!$A$3)","v":29},{"$f":"+SUMIFS(Sheet4!$FV$2:$FV$8408,Sheet4!$C$2:$C$8408,Sheet3!$B22,Sheet4!$D$2:$D$8408,Sheet3!AZ$3,Sheet4!$E$2:$E$8408,Sheet3!AZ$4,Sheet4!$A$2:$A$8408,Sheet3!$B$1,Sheet4!$B$2:$B$8408,Sheet3!$A$3)","v":7},{"$f":"+SUMIFS(Sheet4!$FV$2:$FV$8408,Sheet4!$C$2:$C$8408,Sheet3!$B22,Sheet4!$D$2:$D$8408,Sheet3!BA$3,Sheet4!$E$2:$E$8408,Sheet3!BA$4,Sheet4!$A$2:$A$8408,Sheet3!$B$1,Sheet4!$B$2:$B$8408,Sheet3!$A$3)","v":0},{"$f":"+SUMIFS(Sheet4!$FV$2:$FV$8408,Sheet4!$C$2:$C$8408,Sheet3!$B22,Sheet4!$D$2:$D$8408,Sheet3!BB$3,Sheet4!$E$2:$E$8408,Sheet3!BB$4,Sheet4!$A$2:$A$8408,Sheet3!$B$1,Sheet4!$B$2:$B$8408,Sheet3!$A$3)","v":0},{"$f":"+SUMIFS(Sheet4!$FV$2:$FV$8408,Sheet4!$C$2:$C$8408,Sheet3!$B22,Sheet4!$D$2:$D$8408,Sheet3!BC$3,Sheet4!$E$2:$E$8408,Sheet3!BC$4,Sheet4!$A$2:$A$8408,Sheet3!$B$1,Sheet4!$B$2:$B$8408,Sheet3!$A$3)","v":5},{"$f":"+SUMIFS(Sheet4!$FV$2:$FV$8408,Sheet4!$C$2:$C$8408,Sheet3!$B22,Sheet4!$D$2:$D$8408,Sheet3!BD$3,Sheet4!$E$2:$E$8408,Sheet3!BD$4,Sheet4!$A$2:$A$8408,Sheet3!$B$1,Sheet4!$B$2:$B$8408,Sheet3!$A$3)","v":0},{"$f":"+SUMIFS(Sheet4!$FV$2:$FV$8408,Sheet4!$C$2:$C$8408,Sheet3!$B22,Sheet4!$D$2:$D$8408,Sheet3!BE$3,Sheet4!$E$2:$E$8408,Sheet3!BE$4,Sheet4!$A$2:$A$8408,Sheet3!$B$1,Sheet4!$B$2:$B$8408,Sheet3!$A$3)","v":0},{"$f":"+SUMIFS(Sheet4!$FV$2:$FV$8408,Sheet4!$C$2:$C$8408,Sheet3!$B22,Sheet4!$D$2:$D$8408,Sheet3!BF$3,Sheet4!$E$2:$E$8408,Sheet3!BF$4,Sheet4!$A$2:$A$8408,Sheet3!$B$1,Sheet4!$B$2:$B$8408,Sheet3!$A$3)","v":0},{"$f":"+SUMIFS(Sheet4!$FV$2:$FV$8408,Sheet4!$C$2:$C$8408,Sheet3!$B22,Sheet4!$D$2:$D$8408,Sheet3!BG$3,Sheet4!$E$2:$E$8408,Sheet3!BG$4,Sheet4!$A$2:$A$8408,Sheet3!$B$1,Sheet4!$B$2:$B$8408,Sheet3!$A$3)","v":6},{"$f":"+SUMIFS(Sheet4!$FV$2:$FV$8408,Sheet4!$C$2:$C$8408,Sheet3!$B22,Sheet4!$D$2:$D$8408,Sheet3!BH$3,Sheet4!$E$2:$E$8408,Sheet3!BH$4,Sheet4!$A$2:$A$8408,Sheet3!$B$1,Sheet4!$B$2:$B$8408,Sheet3!$A$3)","v":15},{"$f":"+SUMIFS(Sheet4!$FV$2:$FV$8408,Sheet4!$C$2:$C$8408,Sheet3!$B22,Sheet4!$D$2:$D$8408,Sheet3!BI$3,Sheet4!$E$2:$E$8408,Sheet3!BI$4,Sheet4!$A$2:$A$8408,Sheet3!$B$1,Sheet4!$B$2:$B$8408,Sheet3!$A$3)","v":6},{"$f":"+SUMIFS(Sheet4!$FV$2:$FV$8408,Sheet4!$C$2:$C$8408,Sheet3!$B22,Sheet4!$D$2:$D$8408,Sheet3!BJ$3,Sheet4!$E$2:$E$8408,Sheet3!BJ$4,Sheet4!$A$2:$A$8408,Sheet3!$B$1,Sheet4!$B$2:$B$8408,Sheet3!$A$3)","v":0},{"$f":"+SUMIFS(Sheet4!$FV$2:$FV$8408,Sheet4!$C$2:$C$8408,Sheet3!$B22,Sheet4!$D$2:$D$8408,Sheet3!BK$3,Sheet4!$E$2:$E$8408,Sheet3!BK$4,Sheet4!$A$2:$A$8408,Sheet3!$B$1,Sheet4!$B$2:$B$8408,Sheet3!$A$3)","v":0},{"$f":"+SUMIFS(Sheet4!$FV$2:$FV$8408,Sheet4!$C$2:$C$8408,Sheet3!$B22,Sheet4!$D$2:$D$8408,Sheet3!BL$3,Sheet4!$E$2:$E$8408,Sheet3!BL$4,Sheet4!$A$2:$A$8408,Sheet3!$B$1,Sheet4!$B$2:$B$8408,Sheet3!$A$3)","v":45},{"$f":"+SUMIFS(Sheet4!$FV$2:$FV$8408,Sheet4!$C$2:$C$8408,Sheet3!$B22,Sheet4!$D$2:$D$8408,Sheet3!BM$3,Sheet4!$E$2:$E$8408,Sheet3!BM$4,Sheet4!$A$2:$A$8408,Sheet3!$B$1,Sheet4!$B$2:$B$8408,Sheet3!$A$3)","v":20},{"$f":"+SUMIFS(Sheet4!$FV$2:$FV$8408,Sheet4!$C$2:$C$8408,Sheet3!$B22,Sheet4!$D$2:$D$8408,Sheet3!BN$3,Sheet4!$E$2:$E$8408,Sheet3!BN$4,Sheet4!$A$2:$A$8408,Sheet3!$B$1,Sheet4!$B$2:$B$8408,Sheet3!$A$3)","v":4},{"$f":"+SUMIFS(Sheet4!$FV$2:$FV$8408,Sheet4!$C$2:$C$8408,Sheet3!$B22,Sheet4!$D$2:$D$8408,Sheet3!BO$3,Sheet4!$E$2:$E$8408,Sheet3!BO$4,Sheet4!$A$2:$A$8408,Sheet3!$B$1,Sheet4!$B$2:$B$8408,Sheet3!$A$3)","v":0},{"$f":"+SUMIFS(Sheet4!$FV$2:$FV$8408,Sheet4!$C$2:$C$8408,Sheet3!$B22,Sheet4!$D$2:$D$8408,Sheet3!BP$3,Sheet4!$E$2:$E$8408,Sheet3!BP$4,Sheet4!$A$2:$A$8408,Sheet3!$B$1,Sheet4!$B$2:$B$8408,Sheet3!$A$3)","v":0},{"$f":"+SUMIFS(Sheet4!$FV$2:$FV$8408,Sheet4!$C$2:$C$8408,Sheet3!$B22,Sheet4!$D$2:$D$8408,Sheet3!BQ$3,Sheet4!$E$2:$E$8408,Sheet3!BQ$4,Sheet4!$A$2:$A$8408,Sheet3!$B$1,Sheet4!$B$2:$B$8408,Sheet3!$A$3)","v":0},{"$f":"+SUMIFS(Sheet4!$FV$2:$FV$8408,Sheet4!$C$2:$C$8408,Sheet3!$B22,Sheet4!$D$2:$D$8408,Sheet3!BR$3,Sheet4!$E$2:$E$8408,Sheet3!BR$4,Sheet4!$A$2:$A$8408,Sheet3!$B$1,Sheet4!$B$2:$B$8408,Sheet3!$A$3)","v":4},{"$f":"+SUMIFS(Sheet4!$FV$2:$FV$8408,Sheet4!$C$2:$C$8408,Sheet3!$B22,Sheet4!$D$2:$D$8408,Sheet3!BS$3,Sheet4!$E$2:$E$8408,Sheet3!BS$4,Sheet4!$A$2:$A$8408,Sheet3!$B$1,Sheet4!$B$2:$B$8408,Sheet3!$A$3)","v":5},{"$f":"+SUMIFS(Sheet4!$FV$2:$FV$8408,Sheet4!$C$2:$C$8408,Sheet3!$B22,Sheet4!$D$2:$D$8408,Sheet3!BT$3,Sheet4!$E$2:$E$8408,Sheet3!BT$4,Sheet4!$A$2:$A$8408,Sheet3!$B$1,Sheet4!$B$2:$B$8408,Sheet3!$A$3)","v":0},{"$f":"+SUMIFS(Sheet4!$FV$2:$FV$8408,Sheet4!$C$2:$C$8408,Sheet3!$B22,Sheet4!$D$2:$D$8408,Sheet3!BU$3,Sheet4!$E$2:$E$8408,Sheet3!BU$4,Sheet4!$A$2:$A$8408,Sheet3!$B$1,Sheet4!$B$2:$B$8408,Sheet3!$A$3)","v":0},{"$f":"+SUMIFS(Sheet4!$FV$2:$FV$8408,Sheet4!$C$2:$C$8408,Sheet3!$B22,Sheet4!$D$2:$D$8408,Sheet3!BV$3,Sheet4!$E$2:$E$8408,Sheet3!BV$4,Sheet4!$A$2:$A$8408,Sheet3!$B$1,Sheet4!$B$2:$B$8408,Sheet3!$A$3)","v":334},{"$f":"+SUMIFS(Sheet4!$FV$2:$FV$8408,Sheet4!$C$2:$C$8408,Sheet3!$B22,Sheet4!$D$2:$D$8408,Sheet3!BW$3,Sheet4!$E$2:$E$8408,Sheet3!BW$4,Sheet4!$A$2:$A$8408,Sheet3!$B$1,Sheet4!$B$2:$B$8408,Sheet3!$A$3)","v":60},{"$f":"+SUMIFS(Sheet4!$FV$2:$FV$8408,Sheet4!$C$2:$C$8408,Sheet3!$B22,Sheet4!$D$2:$D$8408,Sheet3!BX$3,Sheet4!$E$2:$E$8408,Sheet3!BX$4,Sheet4!$A$2:$A$8408,Sheet3!$B$1,Sheet4!$B$2:$B$8408,Sheet3!$A$3)","v":21},{"$f":"+SUMIFS(Sheet4!$FV$2:$FV$8408,Sheet4!$C$2:$C$8408,Sheet3!$B22,Sheet4!$D$2:$D$8408,Sheet3!BY$3,Sheet4!$E$2:$E$8408,Sheet3!BY$4,Sheet4!$A$2:$A$8408,Sheet3!$B$1,Sheet4!$B$2:$B$8408,Sheet3!$A$3)","v":0},{"$f":"+SUMIFS(Sheet4!$FV$2:$FV$8408,Sheet4!$C$2:$C$8408,Sheet3!$B22,Sheet4!$D$2:$D$8408,Sheet3!BZ$3,Sheet4!$E$2:$E$8408,Sheet3!BZ$4,Sheet4!$A$2:$A$8408,Sheet3!$B$1,Sheet4!$B$2:$B$8408,Sheet3!$A$3)","v":0},{"$f":"+SUMIFS(Sheet4!$FV$2:$FV$8408,Sheet4!$C$2:$C$8408,Sheet3!$B22,Sheet4!$D$2:$D$8408,Sheet3!CA$3,Sheet4!$E$2:$E$8408,Sheet3!CA$4,Sheet4!$A$2:$A$8408,Sheet3!$B$1,Sheet4!$B$2:$B$8408,Sheet3!$A$3)","v":251},{"$f":"+SUMIFS(Sheet4!$FV$2:$FV$8408,Sheet4!$C$2:$C$8408,Sheet3!$B22,Sheet4!$D$2:$D$8408,Sheet3!CB$3,Sheet4!$E$2:$E$8408,Sheet3!CB$4,Sheet4!$A$2:$A$8408,Sheet3!$B$1,Sheet4!$B$2:$B$8408,Sheet3!$A$3)","v":64},{"$f":"+SUMIFS(Sheet4!$FV$2:$FV$8408,Sheet4!$C$2:$C$8408,Sheet3!$B22,Sheet4!$D$2:$D$8408,Sheet3!CC$3,Sheet4!$E$2:$E$8408,Sheet3!CC$4,Sheet4!$A$2:$A$8408,Sheet3!$B$1,Sheet4!$B$2:$B$8408,Sheet3!$A$3)","v":20},{"$f":"+SUMIFS(Sheet4!$FV$2:$FV$8408,Sheet4!$C$2:$C$8408,Sheet3!$B22,Sheet4!$D$2:$D$8408,Sheet3!CD$3,Sheet4!$E$2:$E$8408,Sheet3!CD$4,Sheet4!$A$2:$A$8408,Sheet3!$B$1,Sheet4!$B$2:$B$8408,Sheet3!$A$3)","v":4},{"$f":"+SUMIFS(Sheet4!$FV$2:$FV$8408,Sheet4!$C$2:$C$8408,Sheet3!$B22,Sheet4!$D$2:$D$8408,Sheet3!CE$3,Sheet4!$E$2:$E$8408,Sheet3!CE$4,Sheet4!$A$2:$A$8408,Sheet3!$B$1,Sheet4!$B$2:$B$8408,Sheet3!$A$3)","v":0},{"$f":"+SUMIFS(Sheet4!$FV$2:$FV$8408,Sheet4!$C$2:$C$8408,Sheet3!$B22,Sheet4!$D$2:$D$8408,Sheet3!CF$3,Sheet4!$E$2:$E$8408,Sheet3!CF$4,Sheet4!$A$2:$A$8408,Sheet3!$B$1,Sheet4!$B$2:$B$8408,Sheet3!$A$3)","v":79},{"$f":"+SUMIFS(Sheet4!$FV$2:$FV$8408,Sheet4!$C$2:$C$8408,Sheet3!$B22,Sheet4!$D$2:$D$8408,Sheet3!CG$3,Sheet4!$E$2:$E$8408,Sheet3!CG$4,Sheet4!$A$2:$A$8408,Sheet3!$B$1,Sheet4!$B$2:$B$8408,Sheet3!$A$3)","v":47},{"$f":"+SUMIFS(Sheet4!$FV$2:$FV$8408,Sheet4!$C$2:$C$8408,Sheet3!$B22,Sheet4!$D$2:$D$8408,Sheet3!CH$3,Sheet4!$E$2:$E$8408,Sheet3!CH$4,Sheet4!$A$2:$A$8408,Sheet3!$B$1,Sheet4!$B$2:$B$8408,Sheet3!$A$3)","v":34},{"$f":"+SUMIFS(Sheet4!$FV$2:$FV$8408,Sheet4!$C$2:$C$8408,Sheet3!$B22,Sheet4!$D$2:$D$8408,Sheet3!CI$3,Sheet4!$E$2:$E$8408,Sheet3!CI$4,Sheet4!$A$2:$A$8408,Sheet3!$B$1,Sheet4!$B$2:$B$8408,Sheet3!$A$3)","v":0},{"$f":"+SUMIFS(Sheet4!$FV$2:$FV$8408,Sheet4!$C$2:$C$8408,Sheet3!$B22,Sheet4!$D$2:$D$8408,Sheet3!CJ$3,Sheet4!$E$2:$E$8408,Sheet3!CJ$4,Sheet4!$A$2:$A$8408,Sheet3!$B$1,Sheet4!$B$2:$B$8408,Sheet3!$A$3)","v":0},{"$f":"+SUMIFS(Sheet4!$FV$2:$FV$8408,Sheet4!$C$2:$C$8408,Sheet3!$B22,Sheet4!$D$2:$D$8408,Sheet3!CK$3,Sheet4!$E$2:$E$8408,Sheet3!CK$4,Sheet4!$A$2:$A$8408,Sheet3!$B$1,Sheet4!$B$2:$B$8408,Sheet3!$A$3)","v":0},{"$f":"+SUMIFS(Sheet4!$FV$2:$FV$8408,Sheet4!$C$2:$C$8408,Sheet3!$B22,Sheet4!$D$2:$D$8408,Sheet3!CL$3,Sheet4!$E$2:$E$8408,Sheet3!CL$4,Sheet4!$A$2:$A$8408,Sheet3!$B$1,Sheet4!$B$2:$B$8408,Sheet3!$A$3)","v":0},{"$f":"+SUMIFS(Sheet4!$FV$2:$FV$8408,Sheet4!$C$2:$C$8408,Sheet3!$B22,Sheet4!$D$2:$D$8408,Sheet3!CM$3,Sheet4!$E$2:$E$8408,Sheet3!CM$4,Sheet4!$A$2:$A$8408,Sheet3!$B$1,Sheet4!$B$2:$B$8408,Sheet3!$A$3)","v":0},{"$f":"+SUMIFS(Sheet4!$FV$2:$FV$8408,Sheet4!$C$2:$C$8408,Sheet3!$B22,Sheet4!$D$2:$D$8408,Sheet3!CN$3,Sheet4!$E$2:$E$8408,Sheet3!CN$4,Sheet4!$A$2:$A$8408,Sheet3!$B$1,Sheet4!$B$2:$B$8408,Sheet3!$A$3)","v":0},{"$f":"+SUMIFS(Sheet4!$FV$2:$FV$8408,Sheet4!$C$2:$C$8408,Sheet3!$B22,Sheet4!$D$2:$D$8408,Sheet3!CO$3,Sheet4!$E$2:$E$8408,Sheet3!CO$4,Sheet4!$A$2:$A$8408,Sheet3!$B$1,Sheet4!$B$2:$B$8408,Sheet3!$A$3)","v":0},{"$f":"+SUMIFS(Sheet4!$FV$2:$FV$8408,Sheet4!$C$2:$C$8408,Sheet3!$B22,Sheet4!$D$2:$D$8408,Sheet3!CP$3,Sheet4!$E$2:$E$8408,Sheet3!CP$4,Sheet4!$A$2:$A$8408,Sheet3!$B$1,Sheet4!$B$2:$B$8408,Sheet3!$A$3)","v":0},{"$f":"+SUMIFS(Sheet4!$FV$2:$FV$8408,Sheet4!$C$2:$C$8408,Sheet3!$B22,Sheet4!$D$2:$D$8408,Sheet3!CQ$3,Sheet4!$E$2:$E$8408,Sheet3!CQ$4,Sheet4!$A$2:$A$8408,Sheet3!$B$1,Sheet4!$B$2:$B$8408,Sheet3!$A$3)","v":0},{"$f":"+SUMIFS(Sheet4!$FV$2:$FV$8408,Sheet4!$C$2:$C$8408,Sheet3!$B22,Sheet4!$D$2:$D$8408,Sheet3!CR$3,Sheet4!$E$2:$E$8408,Sheet3!CR$4,Sheet4!$A$2:$A$8408,Sheet3!$B$1,Sheet4!$B$2:$B$8408,Sheet3!$A$3)","v":0},{"$f":"+SUMIFS(Sheet4!$FV$2:$FV$8408,Sheet4!$C$2:$C$8408,Sheet3!$B22,Sheet4!$D$2:$D$8408,Sheet3!CS$3,Sheet4!$E$2:$E$8408,Sheet3!CS$4,Sheet4!$A$2:$A$8408,Sheet3!$B$1,Sheet4!$B$2:$B$8408,Sheet3!$A$3)","v":0},{"$f":"+SUMIFS(Sheet4!$FV$2:$FV$8408,Sheet4!$C$2:$C$8408,Sheet3!$B22,Sheet4!$D$2:$D$8408,Sheet3!CT$3,Sheet4!$E$2:$E$8408,Sheet3!CT$4,Sheet4!$A$2:$A$8408,Sheet3!$B$1,Sheet4!$B$2:$B$8408,Sheet3!$A$3)","v":0},{"$f":"+IF(SUMIFS(Sheet4!$FW$2:$FW$8408,Sheet4!$C$2:$C$8408,Sheet3!$B22,Sheet4!$D$2:$D$8408,Sheet3!CU$3,Sheet4!$A$2:$A$8408,Sheet3!$B$1,Sheet4!$B$2:$B$8408,Sheet3!$A$3)<3,0,SUMIFS(Sheet4!$FW$2:$FW$8408,Sheet4!$C$2:$C$8408,Sheet3!$B22,Sheet4!$D$2:$D$8408,Sheet3!CU$3,Sheet4!$A$2:$A$8408,Sheet3!$B$1,Sheet4!$B$2:$B$8408,Sheet3!$A$3))","v":18},{"$f":"+IF(SUMIFS(Sheet4!$FW$2:$FW$8408,Sheet4!$C$2:$C$8408,Sheet3!$B22,Sheet4!$D$2:$D$8408,Sheet3!CV$3,Sheet4!$A$2:$A$8408,Sheet3!$B$1,Sheet4!$B$2:$B$8408,Sheet3!$A$3)<3,0,SUMIFS(Sheet4!$FW$2:$FW$8408,Sheet4!$C$2:$C$8408,Sheet3!$B22,Sheet4!$D$2:$D$8408,Sheet3!CV$3,Sheet4!$A$2:$A$8408,Sheet3!$B$1,Sheet4!$B$2:$B$8408,Sheet3!$A$3))","v":52},{"$f":"+IF(SUMIFS(Sheet4!$FW$2:$FW$8408,Sheet4!$C$2:$C$8408,Sheet3!$B22,Sheet4!$D$2:$D$8408,Sheet3!CW$3,Sheet4!$A$2:$A$8408,Sheet3!$B$1,Sheet4!$B$2:$B$8408,Sheet3!$A$3)<3,0,SUMIFS(Sheet4!$FW$2:$FW$8408,Sheet4!$C$2:$C$8408,Sheet3!$B22,Sheet4!$D$2:$D$8408,Sheet3!CW$3,Sheet4!$A$2:$A$8408,Sheet3!$B$1,Sheet4!$B$2:$B$8408,Sheet3!$A$3))","v":62},{"$f":"+IF(SUMIFS(Sheet4!$FW$2:$FW$8408,Sheet4!$C$2:$C$8408,Sheet3!$B22,Sheet4!$D$2:$D$8408,Sheet3!CX$3,Sheet4!$A$2:$A$8408,Sheet3!$B$1,Sheet4!$B$2:$B$8408,Sheet3!$A$3)<3,0,SUMIFS(Sheet4!$FW$2:$FW$8408,Sheet4!$C$2:$C$8408,Sheet3!$B22,Sheet4!$D$2:$D$8408,Sheet3!CX$3,Sheet4!$A$2:$A$8408,Sheet3!$B$1,Sheet4!$B$2:$B$8408,Sheet3!$A$3))","v":0},{"$f":"+IF(SUMIFS(Sheet4!$FW$2:$FW$8408,Sheet4!$C$2:$C$8408,Sheet3!$B22,Sheet4!$D$2:$D$8408,Sheet3!CY$3,Sheet4!$A$2:$A$8408,Sheet3!$B$1,Sheet4!$B$2:$B$8408,Sheet3!$A$3)<3,0,SUMIFS(Sheet4!$FW$2:$FW$8408,Sheet4!$C$2:$C$8408,Sheet3!$B22,Sheet4!$D$2:$D$8408,Sheet3!CY$3,Sheet4!$A$2:$A$8408,Sheet3!$B$1,Sheet4!$B$2:$B$8408,Sheet3!$A$3))","v":3},{"$f":"+IF(SUMIFS(Sheet4!$FW$2:$FW$8408,Sheet4!$C$2:$C$8408,Sheet3!$B22,Sheet4!$D$2:$D$8408,Sheet3!CZ$3,Sheet4!$A$2:$A$8408,Sheet3!$B$1,Sheet4!$B$2:$B$8408,Sheet3!$A$3)<3,0,SUMIFS(Sheet4!$FW$2:$FW$8408,Sheet4!$C$2:$C$8408,Sheet3!$B22,Sheet4!$D$2:$D$8408,Sheet3!CZ$3,Sheet4!$A$2:$A$8408,Sheet3!$B$1,Sheet4!$B$2:$B$8408,Sheet3!$A$3))","v":208},{"$f":"+IF(SUMIFS(Sheet4!$FW$2:$FW$8408,Sheet4!$C$2:$C$8408,Sheet3!$B22,Sheet4!$D$2:$D$8408,Sheet3!DA$3,Sheet4!$A$2:$A$8408,Sheet3!$B$1,Sheet4!$B$2:$B$8408,Sheet3!$A$3)<3,0,SUMIFS(Sheet4!$FW$2:$FW$8408,Sheet4!$C$2:$C$8408,Sheet3!$B22,Sheet4!$D$2:$D$8408,Sheet3!DA$3,Sheet4!$A$2:$A$8408,Sheet3!$B$1,Sheet4!$B$2:$B$8408,Sheet3!$A$3))","v":63},{"$f":"+IF(SUMIFS(Sheet4!$FW$2:$FW$8408,Sheet4!$C$2:$C$8408,Sheet3!$B22,Sheet4!$D$2:$D$8408,Sheet3!DB$3,Sheet4!$A$2:$A$8408,Sheet3!$B$1,Sheet4!$B$2:$B$8408,Sheet3!$A$3)<3,0,SUMIFS(Sheet4!$FW$2:$FW$8408,Sheet4!$C$2:$C$8408,Sheet3!$B22,Sheet4!$D$2:$D$8408,Sheet3!DB$3,Sheet4!$A$2:$A$8408,Sheet3!$B$1,Sheet4!$B$2:$B$8408,Sheet3!$A$3))","v":340},{"$f":"+IF(SUMIFS(Sheet4!$FW$2:$FW$8408,Sheet4!$C$2:$C$8408,Sheet3!$B22,Sheet4!$D$2:$D$8408,Sheet3!DC$3,Sheet4!$A$2:$A$8408,Sheet3!$B$1,Sheet4!$B$2:$B$8408,Sheet3!$A$3)<3,0,SUMIFS(Sheet4!$FW$2:$FW$8408,Sheet4!$C$2:$C$8408,Sheet3!$B22,Sheet4!$D$2:$D$8408,Sheet3!DC$3,Sheet4!$A$2:$A$8408,Sheet3!$B$1,Sheet4!$B$2:$B$8408,Sheet3!$A$3))","v":702},{"$f":"+IF(SUMIFS(Sheet4!$FW$2:$FW$8408,Sheet4!$C$2:$C$8408,Sheet3!$B22,Sheet4!$D$2:$D$8408,Sheet3!DD$3,Sheet4!$A$2:$A$8408,Sheet3!$B$1,Sheet4!$B$2:$B$8408,Sheet3!$A$3)<3,0,SUMIFS(Sheet4!$FW$2:$FW$8408,Sheet4!$C$2:$C$8408,Sheet3!$B22,Sheet4!$D$2:$D$8408,Sheet3!DD$3,Sheet4!$A$2:$A$8408,Sheet3!$B$1,Sheet4!$B$2:$B$8408,Sheet3!$A$3))","v":1617},{"$f":"+IF(SUMIFS(Sheet4!$FW$2:$FW$8408,Sheet4!$C$2:$C$8408,Sheet3!$B22,Sheet4!$D$2:$D$8408,Sheet3!DE$3,Sheet4!$A$2:$A$8408,Sheet3!$B$1,Sheet4!$B$2:$B$8408,Sheet3!$A$3)<3,0,SUMIFS(Sheet4!$FW$2:$FW$8408,Sheet4!$C$2:$C$8408,Sheet3!$B22,Sheet4!$D$2:$D$8408,Sheet3!DE$3,Sheet4!$A$2:$A$8408,Sheet3!$B$1,Sheet4!$B$2:$B$8408,Sheet3!$A$3))","v":8},{"$f":"+IF(SUMIFS(Sheet4!$FW$2:$FW$8408,Sheet4!$C$2:$C$8408,Sheet3!$B22,Sheet4!$D$2:$D$8408,Sheet3!DF$3,Sheet4!$A$2:$A$8408,Sheet3!$B$1,Sheet4!$B$2:$B$8408,Sheet3!$A$3)<3,0,SUMIFS(Sheet4!$FW$2:$FW$8408,Sheet4!$C$2:$C$8408,Sheet3!$B22,Sheet4!$D$2:$D$8408,Sheet3!DF$3,Sheet4!$A$2:$A$8408,Sheet3!$B$1,Sheet4!$B$2:$B$8408,Sheet3!$A$3))","v":33},{"$f":"+IF(SUMIFS(Sheet4!$FW$2:$FW$8408,Sheet4!$C$2:$C$8408,Sheet3!$B22,Sheet4!$D$2:$D$8408,Sheet3!DG$3,Sheet4!$A$2:$A$8408,Sheet3!$B$1,Sheet4!$B$2:$B$8408,Sheet3!$A$3)<3,0,SUMIFS(Sheet4!$FW$2:$FW$8408,Sheet4!$C$2:$C$8408,Sheet3!$B22,Sheet4!$D$2:$D$8408,Sheet3!DG$3,Sheet4!$A$2:$A$8408,Sheet3!$B$1,Sheet4!$B$2:$B$8408,Sheet3!$A$3))","v":70},{"$f":"+IF(SUMIFS(Sheet4!$FW$2:$FW$8408,Sheet4!$C$2:$C$8408,Sheet3!$B22,Sheet4!$D$2:$D$8408,Sheet3!DH$3,Sheet4!$A$2:$A$8408,Sheet3!$B$1,Sheet4!$B$2:$B$8408,Sheet3!$A$3)<3,0,SUMIFS(Sheet4!$FW$2:$FW$8408,Sheet4!$C$2:$C$8408,Sheet3!$B22,Sheet4!$D$2:$D$8408,Sheet3!DH$3,Sheet4!$A$2:$A$8408,Sheet3!$B$1,Sheet4!$B$2:$B$8408,Sheet3!$A$3))","v":14},{"$f":"+IF(SUMIFS(Sheet4!$FW$2:$FW$8408,Sheet4!$C$2:$C$8408,Sheet3!$B22,Sheet4!$D$2:$D$8408,Sheet3!DI$3,Sheet4!$A$2:$A$8408,Sheet3!$B$1,Sheet4!$B$2:$B$8408,Sheet3!$A$3)<3,0,SUMIFS(Sheet4!$FW$2:$FW$8408,Sheet4!$C$2:$C$8408,Sheet3!$B22,Sheet4!$D$2:$D$8408,Sheet3!DI$3,Sheet4!$A$2:$A$8408,Sheet3!$B$1,Sheet4!$B$2:$B$8408,Sheet3!$A$3))","v":418},{"$f":"+IF(SUMIFS(Sheet4!$FW$2:$FW$8408,Sheet4!$C$2:$C$8408,Sheet3!$B22,Sheet4!$D$2:$D$8408,Sheet3!DJ$3,Sheet4!$A$2:$A$8408,Sheet3!$B$1,Sheet4!$B$2:$B$8408,Sheet3!$A$3)<3,0,SUMIFS(Sheet4!$FW$2:$FW$8408,Sheet4!$C$2:$C$8408,Sheet3!$B22,Sheet4!$D$2:$D$8408,Sheet3!DJ$3,Sheet4!$A$2:$A$8408,Sheet3!$B$1,Sheet4!$B$2:$B$8408,Sheet3!$A$3))","v":344},{"$f":"+IF(SUMIFS(Sheet4!$FW$2:$FW$8408,Sheet4!$C$2:$C$8408,Sheet3!$B22,Sheet4!$D$2:$D$8408,Sheet3!DK$3,Sheet4!$A$2:$A$8408,Sheet3!$B$1,Sheet4!$B$2:$B$8408,Sheet3!$A$3)<3,0,SUMIFS(Sheet4!$FW$2:$FW$8408,Sheet4!$C$2:$C$8408,Sheet3!$B22,Sheet4!$D$2:$D$8408,Sheet3!DK$3,Sheet4!$A$2:$A$8408,Sheet3!$B$1,Sheet4!$B$2:$B$8408,Sheet3!$A$3))","v":162},{"$f":"+IF(SUMIFS(Sheet4!$FW$2:$FW$8408,Sheet4!$C$2:$C$8408,Sheet3!$B22,Sheet4!$D$2:$D$8408,Sheet3!DL$3,Sheet4!$A$2:$A$8408,Sheet3!$B$1,Sheet4!$B$2:$B$8408,Sheet3!$A$3)<3,0,SUMIFS(Sheet4!$FW$2:$FW$8408,Sheet4!$C$2:$C$8408,Sheet3!$B22,Sheet4!$D$2:$D$8408,Sheet3!DL$3,Sheet4!$A$2:$A$8408,Sheet3!$B$1,Sheet4!$B$2:$B$8408,Sheet3!$A$3))","v":0},{"$f":"+IF(SUMIFS(Sheet4!$FW$2:$FW$8408,Sheet4!$C$2:$C$8408,Sheet3!$B22,Sheet4!$D$2:$D$8408,Sheet3!DM$3,Sheet4!$A$2:$A$8408,Sheet3!$B$1,Sheet4!$B$2:$B$8408,Sheet3!$A$3)<3,0,SUMIFS(Sheet4!$FW$2:$FW$8408,Sheet4!$C$2:$C$8408,Sheet3!$B22,Sheet4!$D$2:$D$8408,Sheet3!DM$3,Sheet4!$A$2:$A$8408,Sheet3!$B$1,Sheet4!$B$2:$B$8408,Sheet3!$A$3))","v":0},{"$f":"+IF(SUMIFS(Sheet4!$FW$2:$FW$8408,Sheet4!$C$2:$C$8408,Sheet3!$B22,Sheet4!$E$2:$E$8408,Sheet3!DN$4,Sheet4!$A$2:$A$8408,Sheet3!$B$1,Sheet4!$B$2:$B$8408,Sheet3!$A$3)<3,0,SUMIFS(Sheet4!$FW$2:$FW$8408,Sheet4!$C$2:$C$8408,Sheet3!$B22,Sheet4!$E$2:$E$8408,Sheet3!DN$4,Sheet4!$A$2:$A$8408,Sheet3!$B$1,Sheet4!$B$2:$B$8408,Sheet3!$A$3))","v":3250},{"$f":"+IF(SUMIFS(Sheet4!$FW$2:$FW$8408,Sheet4!$C$2:$C$8408,Sheet3!$B22,Sheet4!$E$2:$E$8408,Sheet3!DO$4,Sheet4!$A$2:$A$8408,Sheet3!$B$1,Sheet4!$B$2:$B$8408,Sheet3!$A$3)<3,0,SUMIFS(Sheet4!$FW$2:$FW$8408,Sheet4!$C$2:$C$8408,Sheet3!$B22,Sheet4!$E$2:$E$8408,Sheet3!DO$4,Sheet4!$A$2:$A$8408,Sheet3!$B$1,Sheet4!$B$2:$B$8408,Sheet3!$A$3))","v":658},{"$f":"+IF(SUMIFS(Sheet4!$FW$2:$FW$8408,Sheet4!$C$2:$C$8408,Sheet3!$B22,Sheet4!$E$2:$E$8408,Sheet3!DP$4,Sheet4!$A$2:$A$8408,Sheet3!$B$1,Sheet4!$B$2:$B$8408,Sheet3!$A$3)<3,0,SUMIFS(Sheet4!$FW$2:$FW$8408,Sheet4!$C$2:$C$8408,Sheet3!$B22,Sheet4!$E$2:$E$8408,Sheet3!DP$4,Sheet4!$A$2:$A$8408,Sheet3!$B$1,Sheet4!$B$2:$B$8408,Sheet3!$A$3))","v":185},{"$f":"+IF(SUMIFS(Sheet4!$FW$2:$FW$8408,Sheet4!$C$2:$C$8408,Sheet3!$B22,Sheet4!$E$2:$E$8408,Sheet3!DQ$4,Sheet4!$A$2:$A$8408,Sheet3!$B$1,Sheet4!$B$2:$B$8408,Sheet3!$A$3)<3,0,SUMIFS(Sheet4!$FW$2:$FW$8408,Sheet4!$C$2:$C$8408,Sheet3!$B22,Sheet4!$E$2:$E$8408,Sheet3!DQ$4,Sheet4!$A$2:$A$8408,Sheet3!$B$1,Sheet4!$B$2:$B$8408,Sheet3!$A$3))","v":21},{"$f":"+IF(SUMIFS(Sheet4!$FW$2:$FW$8408,Sheet4!$C$2:$C$8408,Sheet3!$B22,Sheet4!$E$2:$E$8408,Sheet3!DR$4,Sheet4!$A$2:$A$8408,Sheet3!$B$1,Sheet4!$B$2:$B$8408,Sheet3!$A$3)<3,0,SUMIFS(Sheet4!$FW$2:$FW$8408,Sheet4!$C$2:$C$8408,Sheet3!$B22,Sheet4!$E$2:$E$8408,Sheet3!DR$4,Sheet4!$A$2:$A$8408,Sheet3!$B$1,Sheet4!$B$2:$B$8408,Sheet3!$A$3))","v":0}]
[4,"16J","Beiras e Serra da Estrela",{"$f":"+SUMIFS(Sheet4!$FV$2:$FV$8408,Sheet4!$C$2:$C$8408,Sheet3!$B23,Sheet4!$D$2:$D$8408,Sheet3!D$3,Sheet4!$E$2:$E$8408,Sheet3!D$4,Sheet4!$A$2:$A$8408,Sheet3!$B$1,Sheet4!$B$2:$B$8408,Sheet3!$A$3)","v":72},{"$f":"+SUMIFS(Sheet4!$FV$2:$FV$8408,Sheet4!$C$2:$C$8408,Sheet3!$B23,Sheet4!$D$2:$D$8408,Sheet3!E$3,Sheet4!$E$2:$E$8408,Sheet3!E$4,Sheet4!$A$2:$A$8408,Sheet3!$B$1,Sheet4!$B$2:$B$8408,Sheet3!$A$3)","v":4},{"$f":"+SUMIFS(Sheet4!$FV$2:$FV$8408,Sheet4!$C$2:$C$8408,Sheet3!$B23,Sheet4!$D$2:$D$8408,Sheet3!F$3,Sheet4!$E$2:$E$8408,Sheet3!F$4,Sheet4!$A$2:$A$8408,Sheet3!$B$1,Sheet4!$B$2:$B$8408,Sheet3!$A$3)","v":5},{"$f":"+SUMIFS(Sheet4!$FV$2:$FV$8408,Sheet4!$C$2:$C$8408,Sheet3!$B23,Sheet4!$D$2:$D$8408,Sheet3!G$3,Sheet4!$E$2:$E$8408,Sheet3!G$4,Sheet4!$A$2:$A$8408,Sheet3!$B$1,Sheet4!$B$2:$B$8408,Sheet3!$A$3)","v":0},{"$f":"+SUMIFS(Sheet4!$FV$2:$FV$8408,Sheet4!$C$2:$C$8408,Sheet3!$B23,Sheet4!$D$2:$D$8408,Sheet3!H$3,Sheet4!$E$2:$E$8408,Sheet3!H$4,Sheet4!$A$2:$A$8408,Sheet3!$B$1,Sheet4!$B$2:$B$8408,Sheet3!$A$3)","v":0},{"$f":"+SUMIFS(Sheet4!$FV$2:$FV$8408,Sheet4!$C$2:$C$8408,Sheet3!$B23,Sheet4!$D$2:$D$8408,Sheet3!I$3,Sheet4!$E$2:$E$8408,Sheet3!I$4,Sheet4!$A$2:$A$8408,Sheet3!$B$1,Sheet4!$B$2:$B$8408,Sheet3!$A$3)","v":45},{"$f":"+SUMIFS(Sheet4!$FV$2:$FV$8408,Sheet4!$C$2:$C$8408,Sheet3!$B23,Sheet4!$D$2:$D$8408,Sheet3!J$3,Sheet4!$E$2:$E$8408,Sheet3!J$4,Sheet4!$A$2:$A$8408,Sheet3!$B$1,Sheet4!$B$2:$B$8408,Sheet3!$A$3)","v":20},{"$f":"+SUMIFS(Sheet4!$FV$2:$FV$8408,Sheet4!$C$2:$C$8408,Sheet3!$B23,Sheet4!$D$2:$D$8408,Sheet3!K$3,Sheet4!$E$2:$E$8408,Sheet3!K$4,Sheet4!$A$2:$A$8408,Sheet3!$B$1,Sheet4!$B$2:$B$8408,Sheet3!$A$3)","v":9},{"$f":"+SUMIFS(Sheet4!$FV$2:$FV$8408,Sheet4!$C$2:$C$8408,Sheet3!$B23,Sheet4!$D$2:$D$8408,Sheet3!L$3,Sheet4!$E$2:$E$8408,Sheet3!L$4,Sheet4!$A$2:$A$8408,Sheet3!$B$1,Sheet4!$B$2:$B$8408,Sheet3!$A$3)","v":0},{"$f":"+SUMIFS(Sheet4!$FV$2:$FV$8408,Sheet4!$C$2:$C$8408,Sheet3!$B23,Sheet4!$D$2:$D$8408,Sheet3!M$3,Sheet4!$E$2:$E$8408,Sheet3!M$4,Sheet4!$A$2:$A$8408,Sheet3!$B$1,Sheet4!$B$2:$B$8408,Sheet3!$A$3)","v":0},{"$f":"+SUMIFS(Sheet4!$FV$2:$FV$8408,Sheet4!$C$2:$C$8408,Sheet3!$B23,Sheet4!$D$2:$D$8408,Sheet3!N$3,Sheet4!$E$2:$E$8408,Sheet3!N$4,Sheet4!$A$2:$A$8408,Sheet3!$B$1,Sheet4!$B$2:$B$8408,Sheet3!$A$3)","v":616},{"$f":"+SUMIFS(Sheet4!$FV$2:$FV$8408,Sheet4!$C$2:$C$8408,Sheet3!$B23,Sheet4!$D$2:$D$8408,Sheet3!O$3,Sheet4!$E$2:$E$8408,Sheet3!O$4,Sheet4!$A$2:$A$8408,Sheet3!$B$1,Sheet4!$B$2:$B$8408,Sheet3!$A$3)","v":343},{"$f":"+SUMIFS(Sheet4!$FV$2:$FV$8408,Sheet4!$C$2:$C$8408,Sheet3!$B23,Sheet4!$D$2:$D$8408,Sheet3!P$3,Sheet4!$E$2:$E$8408,Sheet3!P$4,Sheet4!$A$2:$A$8408,Sheet3!$B$1,Sheet4!$B$2:$B$8408,Sheet3!$A$3)","v":56},{"$f":"+SUMIFS(Sheet4!$FV$2:$FV$8408,Sheet4!$C$2:$C$8408,Sheet3!$B23,Sheet4!$D$2:$D$8408,Sheet3!Q$3,Sheet4!$E$2:$E$8408,Sheet3!Q$4,Sheet4!$A$2:$A$8408,Sheet3!$B$1,Sheet4!$B$2:$B$8408,Sheet3!$A$3)","v":0},{"$f":"+SUMIFS(Sheet4!$FV$2:$FV$8408,Sheet4!$C$2:$C$8408,Sheet3!$B23,Sheet4!$D$2:$D$8408,Sheet3!R$3,Sheet4!$E$2:$E$8408,Sheet3!R$4,Sheet4!$A$2:$A$8408,Sheet3!$B$1,Sheet4!$B$2:$B$8408,Sheet3!$A$3)","v":0},{"$f":"+SUMIFS(Sheet4!$FV$2:$FV$8408,Sheet4!$C$2:$C$8408,Sheet3!$B23,Sheet4!$D$2:$D$8408,Sheet3!S$3,Sheet4!$E$2:$E$8408,Sheet3!S$4,Sheet4!$A$2:$A$8408,Sheet3!$B$1,Sheet4!$B$2:$B$8408,Sheet3!$A$3)","v":0},{"$f":"+SUMIFS(Sheet4!$FV$2:$FV$8408,Sheet4!$C$2:$C$8408,Sheet3!$B23,Sheet4!$D$2:$D$8408,Sheet3!T$3,Sheet4!$E$2:$E$8408,Sheet3!T$4,Sheet4!$A$2:$A$8408,Sheet3!$B$1,Sheet4!$B$2:$B$8408,Sheet3!$A$3)","v":0},{"$f":"+SUMIFS(Sheet4!$FV$2:$FV$8408,Sheet4!$C$2:$C$8408,Sheet3!$B23,Sheet4!$D$2:$D$8408,Sheet3!U$3,Sheet4!$E$2:$E$8408,Sheet3!U$4,Sheet4!$A$2:$A$8408,Sheet3!$B$1,Sheet4!$B$2:$B$8408,Sheet3!$A$3)","v":0},{"$f":"+SUMIFS(Sheet4!$FV$2:$FV$8408,Sheet4!$C$2:$C$8408,Sheet3!$B23,Sheet4!$D$2:$D$8408,Sheet3!V$3,Sheet4!$E$2:$E$8408,Sheet3!V$4,Sheet4!$A$2:$A$8408,Sheet3!$B$1,Sheet4!$B$2:$B$8408,Sheet3!$A$3)","v":0},{"$f":"+SUMIFS(Sheet4!$FV$2:$FV$8408,Sheet4!$C$2:$C$8408,Sheet3!$B23,Sheet4!$D$2:$D$8408,Sheet3!W$3,Sheet4!$E$2:$E$8408,Sheet3!W$4,Sheet4!$A$2:$A$8408,Sheet3!$B$1,Sheet4!$B$2:$B$8408,Sheet3!$A$3)","v":0},{"$f":"+SUMIFS(Sheet4!$FV$2:$FV$8408,Sheet4!$C$2:$C$8408,Sheet3!$B23,Sheet4!$D$2:$D$8408,Sheet3!X$3,Sheet4!$E$2:$E$8408,Sheet3!X$4,Sheet4!$A$2:$A$8408,Sheet3!$B$1,Sheet4!$B$2:$B$8408,Sheet3!$A$3)","v":0},{"$f":"+SUMIFS(Sheet4!$FV$2:$FV$8408,Sheet4!$C$2:$C$8408,Sheet3!$B23,Sheet4!$D$2:$D$8408,Sheet3!Y$3,Sheet4!$E$2:$E$8408,Sheet3!Y$4,Sheet4!$A$2:$A$8408,Sheet3!$B$1,Sheet4!$B$2:$B$8408,Sheet3!$A$3)","v":3},{"$f":"+SUMIFS(Sheet4!$FV$2:$FV$8408,Sheet4!$C$2:$C$8408,Sheet3!$B23,Sheet4!$D$2:$D$8408,Sheet3!Z$3,Sheet4!$E$2:$E$8408,Sheet3!Z$4,Sheet4!$A$2:$A$8408,Sheet3!$B$1,Sheet4!$B$2:$B$8408,Sheet3!$A$3)","v":0},{"$f":"+SUMIFS(Sheet4!$FV$2:$FV$8408,Sheet4!$C$2:$C$8408,Sheet3!$B23,Sheet4!$D$2:$D$8408,Sheet3!AA$3,Sheet4!$E$2:$E$8408,Sheet3!AA$4,Sheet4!$A$2:$A$8408,Sheet3!$B$1,Sheet4!$B$2:$B$8408,Sheet3!$A$3)","v":0},{"$f":"+SUMIFS(Sheet4!$FV$2:$FV$8408,Sheet4!$C$2:$C$8408,Sheet3!$B23,Sheet4!$D$2:$D$8408,Sheet3!AB$3,Sheet4!$E$2:$E$8408,Sheet3!AB$4,Sheet4!$A$2:$A$8408,Sheet3!$B$1,Sheet4!$B$2:$B$8408,Sheet3!$A$3)","v":0},{"$f":"+SUMIFS(Sheet4!$FV$2:$FV$8408,Sheet4!$C$2:$C$8408,Sheet3!$B23,Sheet4!$D$2:$D$8408,Sheet3!AC$3,Sheet4!$E$2:$E$8408,Sheet3!AC$4,Sheet4!$A$2:$A$8408,Sheet3!$B$1,Sheet4!$B$2:$B$8408,Sheet3!$A$3)","v":1416},{"$f":"+SUMIFS(Sheet4!$FV$2:$FV$8408,Sheet4!$C$2:$C$8408,Sheet3!$B23,Sheet4!$D$2:$D$8408,Sheet3!AD$3,Sheet4!$E$2:$E$8408,Sheet3!AD$4,Sheet4!$A$2:$A$8408,Sheet3!$B$1,Sheet4!$B$2:$B$8408,Sheet3!$A$3)","v":168},{"$f":"+SUMIFS(Sheet4!$FV$2:$FV$8408,Sheet4!$C$2:$C$8408,Sheet3!$B23,Sheet4!$D$2:$D$8408,Sheet3!AE$3,Sheet4!$E$2:$E$8408,Sheet3!AE$4,Sheet4!$A$2:$A$8408,Sheet3!$B$1,Sheet4!$B$2:$B$8408,Sheet3!$A$3)","v":35},{"$f":"+SUMIFS(Sheet4!$FV$2:$FV$8408,Sheet4!$C$2:$C$8408,Sheet3!$B23,Sheet4!$D$2:$D$8408,Sheet3!AF$3,Sheet4!$E$2:$E$8408,Sheet3!AF$4,Sheet4!$A$2:$A$8408,Sheet3!$B$1,Sheet4!$B$2:$B$8408,Sheet3!$A$3)","v":0},{"$f":"+SUMIFS(Sheet4!$FV$2:$FV$8408,Sheet4!$C$2:$C$8408,Sheet3!$B23,Sheet4!$D$2:$D$8408,Sheet3!AG$3,Sheet4!$E$2:$E$8408,Sheet3!AG$4,Sheet4!$A$2:$A$8408,Sheet3!$B$1,Sheet4!$B$2:$B$8408,Sheet3!$A$3)","v":0},{"$f":"+SUMIFS(Sheet4!$FV$2:$FV$8408,Sheet4!$C$2:$C$8408,Sheet3!$B23,Sheet4!$D$2:$D$8408,Sheet3!AH$3,Sheet4!$E$2:$E$8408,Sheet3!AH$4,Sheet4!$A$2:$A$8408,Sheet3!$B$1,Sheet4!$B$2:$B$8408,Sheet3!$A$3)","v":286},{"$f":"+SUMIFS(Sheet4!$FV$2:$FV$8408,Sheet4!$C$2:$C$8408,Sheet3!$B23,Sheet4!$D$2:$D$8408,Sheet3!AI$3,Sheet4!$E$2:$E$8408,Sheet3!AI$4,Sheet4!$A$2:$A$8408,Sheet3!$B$1,Sheet4!$B$2:$B$8408,Sheet3!$A$3)","v":183},{"$f":"+SUMIFS(Sheet4!$FV$2:$FV$8408,Sheet4!$C$2:$C$8408,Sheet3!$B23,Sheet4!$D$2:$D$8408,Sheet3!AJ$3,Sheet4!$E$2:$E$8408,Sheet3!AJ$4,Sheet4!$A$2:$A$8408,Sheet3!$B$1,Sheet4!$B$2:$B$8408,Sheet3!$A$3)","v":37},{"$f":"+SUMIFS(Sheet4!$FV$2:$FV$8408,Sheet4!$C$2:$C$8408,Sheet3!$B23,Sheet4!$D$2:$D$8408,Sheet3!AK$3,Sheet4!$E$2:$E$8408,Sheet3!AK$4,Sheet4!$A$2:$A$8408,Sheet3!$B$1,Sheet4!$B$2:$B$8408,Sheet3!$A$3)","v":0},{"$f":"+SUMIFS(Sheet4!$FV$2:$FV$8408,Sheet4!$C$2:$C$8408,Sheet3!$B23,Sheet4!$D$2:$D$8408,Sheet3!AL$3,Sheet4!$E$2:$E$8408,Sheet3!AL$4,Sheet4!$A$2:$A$8408,Sheet3!$B$1,Sheet4!$B$2:$B$8408,Sheet3!$A$3)","v":0},{"$f":"+SUMIFS(Sheet4!$FV$2:$FV$8408,Sheet4!$C$2:$C$8408,Sheet3!$B23,Sheet4!$D$2:$D$8408,Sheet3!AM$3,Sheet4!$E$2:$E$8408,Sheet3!AM$4,Sheet4!$A$2:$A$8408,Sheet3!$B$1,Sheet4!$B$2:$B$8408,Sheet3!$A$3)","v":826},{"$f":"+SUMIFS(Sheet4!$FV$2:$FV$8408,Sheet4!$C$2:$C$8408,Sheet3!$B23,Sheet4!$D$2:$D$8408,Sheet3!AN$3,Sheet4!$E$2:$E$8408,Sheet3!AN$4,Sheet4!$A$2:$A$8408,Sheet3!$B$1,Sheet4!$B$2:$B$8408,Sheet3!$A$3)","v":504},{"$f":"+SUMIFS(Sheet4!$FV$2:$FV$8408,Sheet4!$C$2:$C$8408,Sheet3!$B23,Sheet4!$D$2:$D$8408,Sheet3!AO$3,Sheet4!$E$2:$E$8408,Sheet3!AO$4,Sheet4!$A$2:$A$8408,Sheet3!$B$1,Sheet4!$B$2:$B$8408,Sheet3!$A$3)","v":121},{"$f":"+SUMIFS(Sheet4!$FV$2:$FV$8408,Sheet4!$C$2:$C$8408,Sheet3!$B23,Sheet4!$D$2:$D$8408,Sheet3!AP$3,Sheet4!$E$2:$E$8408,Sheet3!AP$4,Sheet4!$A$2:$A$8408,Sheet3!$B$1,Sheet4!$B$2:$B$8408,Sheet3!$A$3)","v":0},{"$f":"+SUMIFS(Sheet4!$FV$2:$FV$8408,Sheet4!$C$2:$C$8408,Sheet3!$B23,Sheet4!$D$2:$D$8408,Sheet3!AQ$3,Sheet4!$E$2:$E$8408,Sheet3!AQ$4,Sheet4!$A$2:$A$8408,Sheet3!$B$1,Sheet4!$B$2:$B$8408,Sheet3!$A$3)","v":0},{"$f":"+SUMIFS(Sheet4!$FV$2:$FV$8408,Sheet4!$C$2:$C$8408,Sheet3!$B23,Sheet4!$D$2:$D$8408,Sheet3!AR$3,Sheet4!$E$2:$E$8408,Sheet3!AR$4,Sheet4!$A$2:$A$8408,Sheet3!$B$1,Sheet4!$B$2:$B$8408,Sheet3!$A$3)","v":544},{"$f":"+SUMIFS(Sheet4!$FV$2:$FV$8408,Sheet4!$C$2:$C$8408,Sheet3!$B23,Sheet4!$D$2:$D$8408,Sheet3!AS$3,Sheet4!$E$2:$E$8408,Sheet3!AS$4,Sheet4!$A$2:$A$8408,Sheet3!$B$1,Sheet4!$B$2:$B$8408,Sheet3!$A$3)","v":69},{"$f":"+SUMIFS(Sheet4!$FV$2:$FV$8408,Sheet4!$C$2:$C$8408,Sheet3!$B23,Sheet4!$D$2:$D$8408,Sheet3!AT$3,Sheet4!$E$2:$E$8408,Sheet3!AT$4,Sheet4!$A$2:$A$8408,Sheet3!$B$1,Sheet4!$B$2:$B$8408,Sheet3!$A$3)","v":11},{"$f":"+SUMIFS(Sheet4!$FV$2:$FV$8408,Sheet4!$C$2:$C$8408,Sheet3!$B23,Sheet4!$D$2:$D$8408,Sheet3!AU$3,Sheet4!$E$2:$E$8408,Sheet3!AU$4,Sheet4!$A$2:$A$8408,Sheet3!$B$1,Sheet4!$B$2:$B$8408,Sheet3!$A$3)","v":0},{"$f":"+SUMIFS(Sheet4!$FV$2:$FV$8408,Sheet4!$C$2:$C$8408,Sheet3!$B23,Sheet4!$D$2:$D$8408,Sheet3!AV$3,Sheet4!$E$2:$E$8408,Sheet3!AV$4,Sheet4!$A$2:$A$8408,Sheet3!$B$1,Sheet4!$B$2:$B$8408,Sheet3!$A$3)","v":0},{"$f":"+SUMIFS(Sheet4!$FV$2:$FV$8408,Sheet4!$C$2:$C$8408,Sheet3!$B23,Sheet4!$D$2:$D$8408,Sheet3!AW$3,Sheet4!$E$2:$E$8408,Sheet3!AW$4,Sheet4!$A$2:$A$8408,Sheet3!$B$1,Sheet4!$B$2:$B$8408,Sheet3!$A$3)","v":4196},{"$f":"+SUMIFS(Sheet4!$FV$2:$FV$8408,Sheet4!$C$2:$C$8408,Sheet3!$B23,Sheet4!$D$2:$D$8408,Sheet3!AX$3,Sheet4!$E$2:$E$8408,Sheet3!AX$4,Sheet4!$A$2:$A$8408,Sheet3!$B$1,Sheet4!$B$2:$B$8408,Sheet3!$A$3)","v":1554},{"$f":"+SUMIFS(Sheet4!$FV$2:$FV$8408,Sheet4!$C$2:$C$8408,Sheet3!$B23,Sheet4!$D$2:$D$8408,Sheet3!AY$3,Sheet4!$E$2:$E$8408,Sheet3!AY$4,Sheet4!$A$2:$A$8408,Sheet3!$B$1,Sheet4!$B$2:$B$8408,Sheet3!$A$3)","v":137},{"$f":"+SUMIFS(Sheet4!$FV$2:$FV$8408,Sheet4!$C$2:$C$8408,Sheet3!$B23,Sheet4!$D$2:$D$8408,Sheet3!AZ$3,Sheet4!$E$2:$E$8408,Sheet3!AZ$4,Sheet4!$A$2:$A$8408,Sheet3!$B$1,Sheet4!$B$2:$B$8408,Sheet3!$A$3)","v":0},{"$f":"+SUMIFS(Sheet4!$FV$2:$FV$8408,Sheet4!$C$2:$C$8408,Sheet3!$B23,Sheet4!$D$2:$D$8408,Sheet3!BA$3,Sheet4!$E$2:$E$8408,Sheet3!BA$4,Sheet4!$A$2:$A$8408,Sheet3!$B$1,Sheet4!$B$2:$B$8408,Sheet3!$A$3)","v":0},{"$f":"+SUMIFS(Sheet4!$FV$2:$FV$8408,Sheet4!$C$2:$C$8408,Sheet3!$B23,Sheet4!$D$2:$D$8408,Sheet3!BB$3,Sheet4!$E$2:$E$8408,Sheet3!BB$4,Sheet4!$A$2:$A$8408,Sheet3!$B$1,Sheet4!$B$2:$B$8408,Sheet3!$A$3)","v":0},{"$f":"+SUMIFS(Sheet4!$FV$2:$FV$8408,Sheet4!$C$2:$C$8408,Sheet3!$B23,Sheet4!$D$2:$D$8408,Sheet3!BC$3,Sheet4!$E$2:$E$8408,Sheet3!BC$4,Sheet4!$A$2:$A$8408,Sheet3!$B$1,Sheet4!$B$2:$B$8408,Sheet3!$A$3)","v":13},{"$f":"+SUMIFS(Sheet4!$FV$2:$FV$8408,Sheet4!$C$2:$C$8408,Sheet3!$B23,Sheet4!$D$2:$D$8408,Sheet3!BD$3,Sheet4!$E$2:$E$8408,Sheet3!BD$4,Sheet4!$A$2:$A$8408,Sheet3!$B$1,Sheet4!$B$2:$B$8408,Sheet3!$A$3)","v":17},{"$f":"+SUMIFS(Sheet4!$FV$2:$FV$8408,Sheet4!$C$2:$C$8408,Sheet3!$B23,Sheet4!$D$2:$D$8408,Sheet3!BE$3,Sheet4!$E$2:$E$8408,Sheet3!BE$4,Sheet4!$A$2:$A$8408,Sheet3!$B$1,Sheet4!$B$2:$B$8408,Sheet3!$A$3)","v":0},{"$f":"+SUMIFS(Sheet4!$FV$2:$FV$8408,Sheet4!$C$2:$C$8408,Sheet3!$B23,Sheet4!$D$2:$D$8408,Sheet3!BF$3,Sheet4!$E$2:$E$8408,Sheet3!BF$4,Sheet4!$A$2:$A$8408,Sheet3!$B$1,Sheet4!$B$2:$B$8408,Sheet3!$A$3)","v":0},{"$f":"+SUMIFS(Sheet4!$FV$2:$FV$8408,Sheet4!$C$2:$C$8408,Sheet3!$B23,Sheet4!$D$2:$D$8408,Sheet3!BG$3,Sheet4!$E$2:$E$8408,Sheet3!BG$4,Sheet4!$A$2:$A$8408,Sheet3!$B$1,Sheet4!$B$2:$B$8408,Sheet3!$A$3)","v":14},{"$f":"+SUMIFS(Sheet4!$FV$2:$FV$8408,Sheet4!$C$2:$C$8408,Sheet3!$B23,Sheet4!$D$2:$D$8408,Sheet3!BH$3,Sheet4!$E$2:$E$8408,Sheet3!BH$4,Sheet4!$A$2:$A$8408,Sheet3!$B$1,Sheet4!$B$2:$B$8408,Sheet3!$A$3)","v":123},{"$f":"+SUMIFS(Sheet4!$FV$2:$FV$8408,Sheet4!$C$2:$C$8408,Sheet3!$B23,Sheet4!$D$2:$D$8408,Sheet3!BI$3,Sheet4!$E$2:$E$8408,Sheet3!BI$4,Sheet4!$A$2:$A$8408,Sheet3!$B$1,Sheet4!$B$2:$B$8408,Sheet3!$A$3)","v":145},{"$f":"+SUMIFS(Sheet4!$FV$2:$FV$8408,Sheet4!$C$2:$C$8408,Sheet3!$B23,Sheet4!$D$2:$D$8408,Sheet3!BJ$3,Sheet4!$E$2:$E$8408,Sheet3!BJ$4,Sheet4!$A$2:$A$8408,Sheet3!$B$1,Sheet4!$B$2:$B$8408,Sheet3!$A$3)","v":0},{"$f":"+SUMIFS(Sheet4!$FV$2:$FV$8408,Sheet4!$C$2:$C$8408,Sheet3!$B23,Sheet4!$D$2:$D$8408,Sheet3!BK$3,Sheet4!$E$2:$E$8408,Sheet3!BK$4,Sheet4!$A$2:$A$8408,Sheet3!$B$1,Sheet4!$B$2:$B$8408,Sheet3!$A$3)","v":0},{"$f":"+SUMIFS(Sheet4!$FV$2:$FV$8408,Sheet4!$C$2:$C$8408,Sheet3!$B23,Sheet4!$D$2:$D$8408,Sheet3!BL$3,Sheet4!$E$2:$E$8408,Sheet3!BL$4,Sheet4!$A$2:$A$8408,Sheet3!$B$1,Sheet4!$B$2:$B$8408,Sheet3!$A$3)","v":23},{"$f":"+SUMIFS(Sheet4!$FV$2:$FV$8408,Sheet4!$C$2:$C$8408,Sheet3!$B23,Sheet4!$D$2:$D$8408,Sheet3!BM$3,Sheet4!$E$2:$E$8408,Sheet3!BM$4,Sheet4!$A$2:$A$8408,Sheet3!$B$1,Sheet4!$B$2:$B$8408,Sheet3!$A$3)","v":21},{"$f":"+SUMIFS(Sheet4!$FV$2:$FV$8408,Sheet4!$C$2:$C$8408,Sheet3!$B23,Sheet4!$D$2:$D$8408,Sheet3!BN$3,Sheet4!$E$2:$E$8408,Sheet3!BN$4,Sheet4!$A$2:$A$8408,Sheet3!$B$1,Sheet4!$B$2:$B$8408,Sheet3!$A$3)","v":3},{"$f":"+SUMIFS(Sheet4!$FV$2:$FV$8408,Sheet4!$C$2:$C$8408,Sheet3!$B23,Sheet4!$D$2:$D$8408,Sheet3!BO$3,Sheet4!$E$2:$E$8408,Sheet3!BO$4,Sheet4!$A$2:$A$8408,Sheet3!$B$1,Sheet4!$B$2:$B$8408,Sheet3!$A$3)","v":0},{"$f":"+SUMIFS(Sheet4!$FV$2:$FV$8408,Sheet4!$C$2:$C$8408,Sheet3!$B23,Sheet4!$D$2:$D$8408,Sheet3!BP$3,Sheet4!$E$2:$E$8408,Sheet3!BP$4,Sheet4!$A$2:$A$8408,Sheet3!$B$1,Sheet4!$B$2:$B$8408,Sheet3!$A$3)","v":0},{"$f":"+SUMIFS(Sheet4!$FV$2:$FV$8408,Sheet4!$C$2:$C$8408,Sheet3!$B23,Sheet4!$D$2:$D$8408,Sheet3!BQ$3,Sheet4!$E$2:$E$8408,Sheet3!BQ$4,Sheet4!$A$2:$A$8408,Sheet3!$B$1,Sheet4!$B$2:$B$8408,Sheet3!$A$3)","v":14},{"$f":"+SUMIFS(Sheet4!$FV$2:$FV$8408,Sheet4!$C$2:$C$8408,Sheet3!$B23,Sheet4!$D$2:$D$8408,Sheet3!BR$3,Sheet4!$E$2:$E$8408,Sheet3!BR$4,Sheet4!$A$2:$A$8408,Sheet3!$B$1,Sheet4!$B$2:$B$8408,Sheet3!$A$3)","v":128},{"$f":"+SUMIFS(Sheet4!$FV$2:$FV$8408,Sheet4!$C$2:$C$8408,Sheet3!$B23,Sheet4!$D$2:$D$8408,Sheet3!BS$3,Sheet4!$E$2:$E$8408,Sheet3!BS$4,Sheet4!$A$2:$A$8408,Sheet3!$B$1,Sheet4!$B$2:$B$8408,Sheet3!$A$3)","v":347},{"$f":"+SUMIFS(Sheet4!$FV$2:$FV$8408,Sheet4!$C$2:$C$8408,Sheet3!$B23,Sheet4!$D$2:$D$8408,Sheet3!BT$3,Sheet4!$E$2:$E$8408,Sheet3!BT$4,Sheet4!$A$2:$A$8408,Sheet3!$B$1,Sheet4!$B$2:$B$8408,Sheet3!$A$3)","v":12},{"$f":"+SUMIFS(Sheet4!$FV$2:$FV$8408,Sheet4!$C$2:$C$8408,Sheet3!$B23,Sheet4!$D$2:$D$8408,Sheet3!BU$3,Sheet4!$E$2:$E$8408,Sheet3!BU$4,Sheet4!$A$2:$A$8408,Sheet3!$B$1,Sheet4!$B$2:$B$8408,Sheet3!$A$3)","v":0},{"$f":"+SUMIFS(Sheet4!$FV$2:$FV$8408,Sheet4!$C$2:$C$8408,Sheet3!$B23,Sheet4!$D$2:$D$8408,Sheet3!BV$3,Sheet4!$E$2:$E$8408,Sheet3!BV$4,Sheet4!$A$2:$A$8408,Sheet3!$B$1,Sheet4!$B$2:$B$8408,Sheet3!$A$3)","v":728},{"$f":"+SUMIFS(Sheet4!$FV$2:$FV$8408,Sheet4!$C$2:$C$8408,Sheet3!$B23,Sheet4!$D$2:$D$8408,Sheet3!BW$3,Sheet4!$E$2:$E$8408,Sheet3!BW$4,Sheet4!$A$2:$A$8408,Sheet3!$B$1,Sheet4!$B$2:$B$8408,Sheet3!$A$3)","v":917},{"$f":"+SUMIFS(Sheet4!$FV$2:$FV$8408,Sheet4!$C$2:$C$8408,Sheet3!$B23,Sheet4!$D$2:$D$8408,Sheet3!BX$3,Sheet4!$E$2:$E$8408,Sheet3!BX$4,Sheet4!$A$2:$A$8408,Sheet3!$B$1,Sheet4!$B$2:$B$8408,Sheet3!$A$3)","v":355},{"$f":"+SUMIFS(Sheet4!$FV$2:$FV$8408,Sheet4!$C$2:$C$8408,Sheet3!$B23,Sheet4!$D$2:$D$8408,Sheet3!BY$3,Sheet4!$E$2:$E$8408,Sheet3!BY$4,Sheet4!$A$2:$A$8408,Sheet3!$B$1,Sheet4!$B$2:$B$8408,Sheet3!$A$3)","v":6},{"$f":"+SUMIFS(Sheet4!$FV$2:$FV$8408,Sheet4!$C$2:$C$8408,Sheet3!$B23,Sheet4!$D$2:$D$8408,Sheet3!BZ$3,Sheet4!$E$2:$E$8408,Sheet3!BZ$4,Sheet4!$A$2:$A$8408,Sheet3!$B$1,Sheet4!$B$2:$B$8408,Sheet3!$A$3)","v":0},{"$f":"+SUMIFS(Sheet4!$FV$2:$FV$8408,Sheet4!$C$2:$C$8408,Sheet3!$B23,Sheet4!$D$2:$D$8408,Sheet3!CA$3,Sheet4!$E$2:$E$8408,Sheet3!CA$4,Sheet4!$A$2:$A$8408,Sheet3!$B$1,Sheet4!$B$2:$B$8408,Sheet3!$A$3)","v":378},{"$f":"+SUMIFS(Sheet4!$FV$2:$FV$8408,Sheet4!$C$2:$C$8408,Sheet3!$B23,Sheet4!$D$2:$D$8408,Sheet3!CB$3,Sheet4!$E$2:$E$8408,Sheet3!CB$4,Sheet4!$A$2:$A$8408,Sheet3!$B$1,Sheet4!$B$2:$B$8408,Sheet3!$A$3)","v":472},{"$f":"+SUMIFS(Sheet4!$FV$2:$FV$8408,Sheet4!$C$2:$C$8408,Sheet3!$B23,Sheet4!$D$2:$D$8408,Sheet3!CC$3,Sheet4!$E$2:$E$8408,Sheet3!CC$4,Sheet4!$A$2:$A$8408,Sheet3!$B$1,Sheet4!$B$2:$B$8408,Sheet3!$A$3)","v":196},{"$f":"+SUMIFS(Sheet4!$FV$2:$FV$8408,Sheet4!$C$2:$C$8408,Sheet3!$B23,Sheet4!$D$2:$D$8408,Sheet3!CD$3,Sheet4!$E$2:$E$8408,Sheet3!CD$4,Sheet4!$A$2:$A$8408,Sheet3!$B$1,Sheet4!$B$2:$B$8408,Sheet3!$A$3)","v":0},{"$f":"+SUMIFS(Sheet4!$FV$2:$FV$8408,Sheet4!$C$2:$C$8408,Sheet3!$B23,Sheet4!$D$2:$D$8408,Sheet3!CE$3,Sheet4!$E$2:$E$8408,Sheet3!CE$4,Sheet4!$A$2:$A$8408,Sheet3!$B$1,Sheet4!$B$2:$B$8408,Sheet3!$A$3)","v":0},{"$f":"+SUMIFS(Sheet4!$FV$2:$FV$8408,Sheet4!$C$2:$C$8408,Sheet3!$B23,Sheet4!$D$2:$D$8408,Sheet3!CF$3,Sheet4!$E$2:$E$8408,Sheet3!CF$4,Sheet4!$A$2:$A$8408,Sheet3!$B$1,Sheet4!$B$2:$B$8408,Sheet3!$A$3)","v":212},{"$f":"+SUMIFS(Sheet4!$FV$2:$FV$8408,Sheet4!$C$2:$C$8408,Sheet3!$B23,Sheet4!$D$2:$D$8408,Sheet3!CG$3,Sheet4!$E$2:$E$8408,Sheet3!CG$4,Sheet4!$A$2:$A$8408,Sheet3!$B$1,Sheet4!$B$2:$B$8408,Sheet3!$A$3)","v":113},{"$f":"+SUMIFS(Sheet4!$FV$2:$FV$8408,Sheet4!$C$2:$C$8408,Sheet3!$B23,Sheet4!$D$2:$D$8408,Sheet3!CH$3,Sheet4!$E$2:$E$8408,Sheet3!CH$4,Sheet4!$A$2:$A$8408,Sheet3!$B$1,Sheet4!$B$2:$B$8408,Sheet3!$A$3)","v":21},{"$f":"+SUMIFS(Sheet4!$FV$2:$FV$8408,Sheet4!$C$2:$C$8408,Sheet3!$B23,Sheet4!$D$2:$D$8408,Sheet3!CI$3,Sheet4!$E$2:$E$8408,Sheet3!CI$4,Sheet4!$A$2:$A$8408,Sheet3!$B$1,Sheet4!$B$2:$B$8408,Sheet3!$A$3)","v":0},{"$f":"+SUMIFS(Sheet4!$FV$2:$FV$8408,Sheet4!$C$2:$C$8408,Sheet3!$B23,Sheet4!$D$2:$D$8408,Sheet3!CJ$3,Sheet4!$E$2:$E$8408,Sheet3!CJ$4,Sheet4!$A$2:$A$8408,Sheet3!$B$1,Sheet4!$B$2:$B$8408,Sheet3!$A$3)","v":0},{"$f":"+SUMIFS(Sheet4!$FV$2:$FV$8408,Sheet4!$C$2:$C$8408,Sheet3!$B23,Sheet4!$D$2:$D$8408,Sheet3!CK$3,Sheet4!$E$2:$E$8408,Sheet3!CK$4,Sheet4!$A$2:$A$8408,Sheet3!$B$1,Sheet4!$B$2:$B$8408,Sheet3!$A$3)","v":0},{"$f":"+SUMIFS(Sheet4!$FV$2:$FV$8408,Sheet4!$C$2:$C$8408,Sheet3!$B23,Sheet4!$D$2:$D$8408,Sheet3!CL$3,Sheet4!$E$2:$E$8408,Sheet3!CL$4,Sheet4!$A$2:$A$8408,Sheet3!$B$1,Sheet4!$B$2:$B$8408,Sheet3!$A$3)","v":0},{"$f":"+SUMIFS(Sheet4!$FV$2:$FV$8408,Sheet4!$C$2:$C$8408,Sheet3!$B23,Sheet4!$D$2:$D$8408,Sheet3!CM$3,Sheet4!$E$2:$E$8408,Sheet3!CM$4,Sheet4!$A$2:$A$8408,Sheet3!$B$1,Sheet4!$B$2:$B$8408,Sheet3!$A$3)","v":0},{"$f":"+SUMIFS(Sheet4!$FV$2:$FV$8408,Sheet4!$C$2:$C$8408,Sheet3!$B23,Sheet4!$D$2:$D$8408,Sheet3!CN$3,Sheet4!$E$2:$E$8408,Sheet3!CN$4,Sheet4!$A$2:$A$8408,Sheet3!$B$1,Sheet4!$B$2:$B$8408,Sheet3!$A$3)","v":0},{"$f":"+SUMIFS(Sheet4!$FV$2:$FV$8408,Sheet4!$C$2:$C$8408,Sheet3!$B23,Sheet4!$D$2:$D$8408,Sheet3!CO$3,Sheet4!$E$2:$E$8408,Sheet3!CO$4,Sheet4!$A$2:$A$8408,Sheet3!$B$1,Sheet4!$B$2:$B$8408,Sheet3!$A$3)","v":0},{"$f":"+SUMIFS(Sheet4!$FV$2:$FV$8408,Sheet4!$C$2:$C$8408,Sheet3!$B23,Sheet4!$D$2:$D$8408,Sheet3!CP$3,Sheet4!$E$2:$E$8408,Sheet3!CP$4,Sheet4!$A$2:$A$8408,Sheet3!$B$1,Sheet4!$B$2:$B$8408,Sheet3!$A$3)","v":10},{"$f":"+SUMIFS(Sheet4!$FV$2:$FV$8408,Sheet4!$C$2:$C$8408,Sheet3!$B23,Sheet4!$D$2:$D$8408,Sheet3!CQ$3,Sheet4!$E$2:$E$8408,Sheet3!CQ$4,Sheet4!$A$2:$A$8408,Sheet3!$B$1,Sheet4!$B$2:$B$8408,Sheet3!$A$3)","v":0},{"$f":"+SUMIFS(Sheet4!$FV$2:$FV$8408,Sheet4!$C$2:$C$8408,Sheet3!$B23,Sheet4!$D$2:$D$8408,Sheet3!CR$3,Sheet4!$E$2:$E$8408,Sheet3!CR$4,Sheet4!$A$2:$A$8408,Sheet3!$B$1,Sheet4!$B$2:$B$8408,Sheet3!$A$3)","v":0},{"$f":"+SUMIFS(Sheet4!$FV$2:$FV$8408,Sheet4!$C$2:$C$8408,Sheet3!$B23,Sheet4!$D$2:$D$8408,Sheet3!CS$3,Sheet4!$E$2:$E$8408,Sheet3!CS$4,Sheet4!$A$2:$A$8408,Sheet3!$B$1,Sheet4!$B$2:$B$8408,Sheet3!$A$3)","v":0},{"$f":"+SUMIFS(Sheet4!$FV$2:$FV$8408,Sheet4!$C$2:$C$8408,Sheet3!$B23,Sheet4!$D$2:$D$8408,Sheet3!CT$3,Sheet4!$E$2:$E$8408,Sheet3!CT$4,Sheet4!$A$2:$A$8408,Sheet3!$B$1,Sheet4!$B$2:$B$8408,Sheet3!$A$3)","v":0},{"$f":"+IF(SUMIFS(Sheet4!$FW$2:$FW$8408,Sheet4!$C$2:$C$8408,Sheet3!$B23,Sheet4!$D$2:$D$8408,Sheet3!CU$3,Sheet4!$A$2:$A$8408,Sheet3!$B$1,Sheet4!$B$2:$B$8408,Sheet3!$A$3)<3,0,SUMIFS(Sheet4!$FW$2:$FW$8408,Sheet4!$C$2:$C$8408,Sheet3!$B23,Sheet4!$D$2:$D$8408,Sheet3!CU$3,Sheet4!$A$2:$A$8408,Sheet3!$B$1,Sheet4!$B$2:$B$8408,Sheet3!$A$3))","v":84},{"$f":"+IF(SUMIFS(Sheet4!$FW$2:$FW$8408,Sheet4!$C$2:$C$8408,Sheet3!$B23,Sheet4!$D$2:$D$8408,Sheet3!CV$3,Sheet4!$A$2:$A$8408,Sheet3!$B$1,Sheet4!$B$2:$B$8408,Sheet3!$A$3)<3,0,SUMIFS(Sheet4!$FW$2:$FW$8408,Sheet4!$C$2:$C$8408,Sheet3!$B23,Sheet4!$D$2:$D$8408,Sheet3!CV$3,Sheet4!$A$2:$A$8408,Sheet3!$B$1,Sheet4!$B$2:$B$8408,Sheet3!$A$3))","v":76},{"$f":"+IF(SUMIFS(Sheet4!$FW$2:$FW$8408,Sheet4!$C$2:$C$8408,Sheet3!$B23,Sheet4!$D$2:$D$8408,Sheet3!CW$3,Sheet4!$A$2:$A$8408,Sheet3!$B$1,Sheet4!$B$2:$B$8408,Sheet3!$A$3)<3,0,SUMIFS(Sheet4!$FW$2:$FW$8408,Sheet4!$C$2:$C$8408,Sheet3!$B23,Sheet4!$D$2:$D$8408,Sheet3!CW$3,Sheet4!$A$2:$A$8408,Sheet3!$B$1,Sheet4!$B$2:$B$8408,Sheet3!$A$3))","v":1016},{"$f":"+IF(SUMIFS(Sheet4!$FW$2:$FW$8408,Sheet4!$C$2:$C$8408,Sheet3!$B23,Sheet4!$D$2:$D$8408,Sheet3!CX$3,Sheet4!$A$2:$A$8408,Sheet3!$B$1,Sheet4!$B$2:$B$8408,Sheet3!$A$3)<3,0,SUMIFS(Sheet4!$FW$2:$FW$8408,Sheet4!$C$2:$C$8408,Sheet3!$B23,Sheet4!$D$2:$D$8408,Sheet3!CX$3,Sheet4!$A$2:$A$8408,Sheet3!$B$1,Sheet4!$B$2:$B$8408,Sheet3!$A$3))","v":0},{"$f":"+IF(SUMIFS(Sheet4!$FW$2:$FW$8408,Sheet4!$C$2:$C$8408,Sheet3!$B23,Sheet4!$D$2:$D$8408,Sheet3!CY$3,Sheet4!$A$2:$A$8408,Sheet3!$B$1,Sheet4!$B$2:$B$8408,Sheet3!$A$3)<3,0,SUMIFS(Sheet4!$FW$2:$FW$8408,Sheet4!$C$2:$C$8408,Sheet3!$B23,Sheet4!$D$2:$D$8408,Sheet3!CY$3,Sheet4!$A$2:$A$8408,Sheet3!$B$1,Sheet4!$B$2:$B$8408,Sheet3!$A$3))","v":7},{"$f":"+IF(SUMIFS(Sheet4!$FW$2:$FW$8408,Sheet4!$C$2:$C$8408,Sheet3!$B23,Sheet4!$D$2:$D$8408,Sheet3!CZ$3,Sheet4!$A$2:$A$8408,Sheet3!$B$1,Sheet4!$B$2:$B$8408,Sheet3!$A$3)<3,0,SUMIFS(Sheet4!$FW$2:$FW$8408,Sheet4!$C$2:$C$8408,Sheet3!$B23,Sheet4!$D$2:$D$8408,Sheet3!CZ$3,Sheet4!$A$2:$A$8408,Sheet3!$B$1,Sheet4!$B$2:$B$8408,Sheet3!$A$3))","v":1621},{"$f":"+IF(SUMIFS(Sheet4!$FW$2:$FW$8408,Sheet4!$C$2:$C$8408,Sheet3!$B23,Sheet4!$D$2:$D$8408,Sheet3!DA$3,Sheet4!$A$2:$A$8408,Sheet3!$B$1,Sheet4!$B$2:$B$8408,Sheet3!$A$3)<3,0,SUMIFS(Sheet4!$FW$2:$FW$8408,Sheet4!$C$2:$C$8408,Sheet3!$B23,Sheet4!$D$2:$D$8408,Sheet3!DA$3,Sheet4!$A$2:$A$8408,Sheet3!$B$1,Sheet4!$B$2:$B$8408,Sheet3!$A$3))","v":507},{"$f":"+IF(SUMIFS(Sheet4!$FW$2:$FW$8408,Sheet4!$C$2:$C$8408,Sheet3!$B23,Sheet4!$D$2:$D$8408,Sheet3!DB$3,Sheet4!$A$2:$A$8408,Sheet3!$B$1,Sheet4!$B$2:$B$8408,Sheet3!$A$3)<3,0,SUMIFS(Sheet4!$FW$2:$FW$8408,Sheet4!$C$2:$C$8408,Sheet3!$B23,Sheet4!$D$2:$D$8408,Sheet3!DB$3,Sheet4!$A$2:$A$8408,Sheet3!$B$1,Sheet4!$B$2:$B$8408,Sheet3!$A$3))","v":1452},{"$f":"+IF(SUMIFS(Sheet4!$FW$2:$FW$8408,Sheet4!$C$2:$C$8408,Sheet3!$B23,Sheet4!$D$2:$D$8408,Sheet3!DC$3,Sheet4!$A$2:$A$8408,Sheet3!$B$1,Sheet4!$B$2:$B$8408,Sheet3!$A$3)<3,0,SUMIFS(Sheet4!$FW$2:$FW$8408,Sheet4!$C$2:$C$8408,Sheet3!$B23,Sheet4!$D$2:$D$8408,Sheet3!DC$3,Sheet4!$A$2:$A$8408,Sheet3!$B$1,Sheet4!$B$2:$B$8408,Sheet3!$A$3))","v":625},{"$f":"+IF(SUMIFS(Sheet4!$FW$2:$FW$8408,Sheet4!$C$2:$C$8408,Sheet3!$B23,Sheet4!$D$2:$D$8408,Sheet3!DD$3,Sheet4!$A$2:$A$8408,Sheet3!$B$1,Sheet4!$B$2:$B$8408,Sheet3!$A$3)<3,0,SUMIFS(Sheet4!$FW$2:$FW$8408,Sheet4!$C$2:$C$8408,Sheet3!$B23,Sheet4!$D$2:$D$8408,Sheet3!DD$3,Sheet4!$A$2:$A$8408,Sheet3!$B$1,Sheet4!$B$2:$B$8408,Sheet3!$A$3))","v":5891},{"$f":"+IF(SUMIFS(Sheet4!$FW$2:$FW$8408,Sheet4!$C$2:$C$8408,Sheet3!$B23,Sheet4!$D$2:$D$8408,Sheet3!DE$3,Sheet4!$A$2:$A$8408,Sheet3!$B$1,Sheet4!$B$2:$B$8408,Sheet3!$A$3)<3,0,SUMIFS(Sheet4!$FW$2:$FW$8408,Sheet4!$C$2:$C$8408,Sheet3!$B23,Sheet4!$D$2:$D$8408,Sheet3!DE$3,Sheet4!$A$2:$A$8408,Sheet3!$B$1,Sheet4!$B$2:$B$8408,Sheet3!$A$3))","v":36},{"$f":"+IF(SUMIFS(Sheet4!$FW$2:$FW$8408,Sheet4!$C$2:$C$8408,Sheet3!$B23,Sheet4!$D$2:$D$8408,Sheet3!DF$3,Sheet4!$A$2:$A$8408,Sheet3!$B$1,Sheet4!$B$2:$B$8408,Sheet3!$A$3)<3,0,SUMIFS(Sheet4!$FW$2:$FW$8408,Sheet4!$C$2:$C$8408,Sheet3!$B23,Sheet4!$D$2:$D$8408,Sheet3!DF$3,Sheet4!$A$2:$A$8408,Sheet3!$B$1,Sheet4!$B$2:$B$8408,Sheet3!$A$3))","v":288},{"$f":"+IF(SUMIFS(Sheet4!$FW$2:$FW$8408,Sheet4!$C$2:$C$8408,Sheet3!$B23,Sheet4!$D$2:$D$8408,Sheet3!DG$3,Sheet4!$A$2:$A$8408,Sheet3!$B$1,Sheet4!$B$2:$B$8408,Sheet3!$A$3)<3,0,SUMIFS(Sheet4!$FW$2:$FW$8408,Sheet4!$C$2:$C$8408,Sheet3!$B23,Sheet4!$D$2:$D$8408,Sheet3!DG$3,Sheet4!$A$2:$A$8408,Sheet3!$B$1,Sheet4!$B$2:$B$8408,Sheet3!$A$3))","v":50},{"$f":"+IF(SUMIFS(Sheet4!$FW$2:$FW$8408,Sheet4!$C$2:$C$8408,Sheet3!$B23,Sheet4!$D$2:$D$8408,Sheet3!DH$3,Sheet4!$A$2:$A$8408,Sheet3!$B$1,Sheet4!$B$2:$B$8408,Sheet3!$A$3)<3,0,SUMIFS(Sheet4!$FW$2:$FW$8408,Sheet4!$C$2:$C$8408,Sheet3!$B23,Sheet4!$D$2:$D$8408,Sheet3!DH$3,Sheet4!$A$2:$A$8408,Sheet3!$B$1,Sheet4!$B$2:$B$8408,Sheet3!$A$3))","v":504},{"$f":"+IF(SUMIFS(Sheet4!$FW$2:$FW$8408,Sheet4!$C$2:$C$8408,Sheet3!$B23,Sheet4!$D$2:$D$8408,Sheet3!DI$3,Sheet4!$A$2:$A$8408,Sheet3!$B$1,Sheet4!$B$2:$B$8408,Sheet3!$A$3)<3,0,SUMIFS(Sheet4!$FW$2:$FW$8408,Sheet4!$C$2:$C$8408,Sheet3!$B23,Sheet4!$D$2:$D$8408,Sheet3!DI$3,Sheet4!$A$2:$A$8408,Sheet3!$B$1,Sheet4!$B$2:$B$8408,Sheet3!$A$3))","v":2007},{"$f":"+IF(SUMIFS(Sheet4!$FW$2:$FW$8408,Sheet4!$C$2:$C$8408,Sheet3!$B23,Sheet4!$D$2:$D$8408,Sheet3!DJ$3,Sheet4!$A$2:$A$8408,Sheet3!$B$1,Sheet4!$B$2:$B$8408,Sheet3!$A$3)<3,0,SUMIFS(Sheet4!$FW$2:$FW$8408,Sheet4!$C$2:$C$8408,Sheet3!$B23,Sheet4!$D$2:$D$8408,Sheet3!DJ$3,Sheet4!$A$2:$A$8408,Sheet3!$B$1,Sheet4!$B$2:$B$8408,Sheet3!$A$3))","v":1048},{"$f":"+IF(SUMIFS(Sheet4!$FW$2:$FW$8408,Sheet4!$C$2:$C$8408,Sheet3!$B23,Sheet4!$D$2:$D$8408,Sheet3!DK$3,Sheet4!$A$2:$A$8408,Sheet3!$B$1,Sheet4!$B$2:$B$8408,Sheet3!$A$3)<3,0,SUMIFS(Sheet4!$FW$2:$FW$8408,Sheet4!$C$2:$C$8408,Sheet3!$B23,Sheet4!$D$2:$D$8408,Sheet3!DK$3,Sheet4!$A$2:$A$8408,Sheet3!$B$1,Sheet4!$B$2:$B$8408,Sheet3!$A$3))","v":349},{"$f":"+IF(SUMIFS(Sheet4!$FW$2:$FW$8408,Sheet4!$C$2:$C$8408,Sheet3!$B23,Sheet4!$D$2:$D$8408,Sheet3!DL$3,Sheet4!$A$2:$A$8408,Sheet3!$B$1,Sheet4!$B$2:$B$8408,Sheet3!$A$3)<3,0,SUMIFS(Sheet4!$FW$2:$FW$8408,Sheet4!$C$2:$C$8408,Sheet3!$B23,Sheet4!$D$2:$D$8408,Sheet3!DL$3,Sheet4!$A$2:$A$8408,Sheet3!$B$1,Sheet4!$B$2:$B$8408,Sheet3!$A$3))","v":0},{"$f":"+IF(SUMIFS(Sheet4!$FW$2:$FW$8408,Sheet4!$C$2:$C$8408,Sheet3!$B23,Sheet4!$D$2:$D$8408,Sheet3!DM$3,Sheet4!$A$2:$A$8408,Sheet3!$B$1,Sheet4!$B$2:$B$8408,Sheet3!$A$3)<3,0,SUMIFS(Sheet4!$FW$2:$FW$8408,Sheet4!$C$2:$C$8408,Sheet3!$B23,Sheet4!$D$2:$D$8408,Sheet3!DM$3,Sheet4!$A$2:$A$8408,Sheet3!$B$1,Sheet4!$B$2:$B$8408,Sheet3!$A$3))","v":11},{"$f":"+IF(SUMIFS(Sheet4!$FW$2:$FW$8408,Sheet4!$C$2:$C$8408,Sheet3!$B23,Sheet4!$E$2:$E$8408,Sheet3!DN$4,Sheet4!$A$2:$A$8408,Sheet3!$B$1,Sheet4!$B$2:$B$8408,Sheet3!$A$3)<3,0,SUMIFS(Sheet4!$FW$2:$FW$8408,Sheet4!$C$2:$C$8408,Sheet3!$B23,Sheet4!$E$2:$E$8408,Sheet3!DN$4,Sheet4!$A$2:$A$8408,Sheet3!$B$1,Sheet4!$B$2:$B$8408,Sheet3!$A$3))","v":9398},{"$f":"+IF(SUMIFS(Sheet4!$FW$2:$FW$8408,Sheet4!$C$2:$C$8408,Sheet3!$B23,Sheet4!$E$2:$E$8408,Sheet3!DO$4,Sheet4!$A$2:$A$8408,Sheet3!$B$1,Sheet4!$B$2:$B$8408,Sheet3!$A$3)<3,0,SUMIFS(Sheet4!$FW$2:$FW$8408,Sheet4!$C$2:$C$8408,Sheet3!$B23,Sheet4!$E$2:$E$8408,Sheet3!DO$4,Sheet4!$A$2:$A$8408,Sheet3!$B$1,Sheet4!$B$2:$B$8408,Sheet3!$A$3))","v":4641},{"$f":"+IF(SUMIFS(Sheet4!$FW$2:$FW$8408,Sheet4!$C$2:$C$8408,Sheet3!$B23,Sheet4!$E$2:$E$8408,Sheet3!DP$4,Sheet4!$A$2:$A$8408,Sheet3!$B$1,Sheet4!$B$2:$B$8408,Sheet3!$A$3)<3,0,SUMIFS(Sheet4!$FW$2:$FW$8408,Sheet4!$C$2:$C$8408,Sheet3!$B23,Sheet4!$E$2:$E$8408,Sheet3!DP$4,Sheet4!$A$2:$A$8408,Sheet3!$B$1,Sheet4!$B$2:$B$8408,Sheet3!$A$3))","v":1507},{"$f":"+IF(SUMIFS(Sheet4!$FW$2:$FW$8408,Sheet4!$C$2:$C$8408,Sheet3!$B23,Sheet4!$E$2:$E$8408,Sheet3!DQ$4,Sheet4!$A$2:$A$8408,Sheet3!$B$1,Sheet4!$B$2:$B$8408,Sheet3!$A$3)<3,0,SUMIFS(Sheet4!$FW$2:$FW$8408,Sheet4!$C$2:$C$8408,Sheet3!$B23,Sheet4!$E$2:$E$8408,Sheet3!DQ$4,Sheet4!$A$2:$A$8408,Sheet3!$B$1,Sheet4!$B$2:$B$8408,Sheet3!$A$3))","v":26},{"$f":"+IF(SUMIFS(Sheet4!$FW$2:$FW$8408,Sheet4!$C$2:$C$8408,Sheet3!$B23,Sheet4!$E$2:$E$8408,Sheet3!DR$4,Sheet4!$A$2:$A$8408,Sheet3!$B$1,Sheet4!$B$2:$B$8408,Sheet3!$A$3)<3,0,SUMIFS(Sheet4!$FW$2:$FW$8408,Sheet4!$C$2:$C$8408,Sheet3!$B23,Sheet4!$E$2:$E$8408,Sheet3!DR$4,Sheet4!$A$2:$A$8408,Sheet3!$B$1,Sheet4!$B$2:$B$8408,Sheet3!$A$3))","v":0}]
[4,"170","Área Metropolitana de Lisboa",{"$f":"+SUMIFS(Sheet4!$FV$2:$FV$8408,Sheet4!$C$2:$C$8408,Sheet3!$B24,Sheet4!$D$2:$D$8408,Sheet3!D$3,Sheet4!$E$2:$E$8408,Sheet3!D$4,Sheet4!$A$2:$A$8408,Sheet3!$B$1,Sheet4!$B$2:$B$8408,Sheet3!$A$3)","v":12},{"$f":"+SUMIFS(Sheet4!$FV$2:$FV$8408,Sheet4!$C$2:$C$8408,Sheet3!$B24,Sheet4!$D$2:$D$8408,Sheet3!E$3,Sheet4!$E$2:$E$8408,Sheet3!E$4,Sheet4!$A$2:$A$8408,Sheet3!$B$1,Sheet4!$B$2:$B$8408,Sheet3!$A$3)","v":4},{"$f":"+SUMIFS(Sheet4!$FV$2:$FV$8408,Sheet4!$C$2:$C$8408,Sheet3!$B24,Sheet4!$D$2:$D$8408,Sheet3!F$3,Sheet4!$E$2:$E$8408,Sheet3!F$4,Sheet4!$A$2:$A$8408,Sheet3!$B$1,Sheet4!$B$2:$B$8408,Sheet3!$A$3)","v":3},{"$f":"+SUMIFS(Sheet4!$FV$2:$FV$8408,Sheet4!$C$2:$C$8408,Sheet3!$B24,Sheet4!$D$2:$D$8408,Sheet3!G$3,Sheet4!$E$2:$E$8408,Sheet3!G$4,Sheet4!$A$2:$A$8408,Sheet3!$B$1,Sheet4!$B$2:$B$8408,Sheet3!$A$3)","v":0},{"$f":"+SUMIFS(Sheet4!$FV$2:$FV$8408,Sheet4!$C$2:$C$8408,Sheet3!$B24,Sheet4!$D$2:$D$8408,Sheet3!H$3,Sheet4!$E$2:$E$8408,Sheet3!H$4,Sheet4!$A$2:$A$8408,Sheet3!$B$1,Sheet4!$B$2:$B$8408,Sheet3!$A$3)","v":0},{"$f":"+SUMIFS(Sheet4!$FV$2:$FV$8408,Sheet4!$C$2:$C$8408,Sheet3!$B24,Sheet4!$D$2:$D$8408,Sheet3!I$3,Sheet4!$E$2:$E$8408,Sheet3!I$4,Sheet4!$A$2:$A$8408,Sheet3!$B$1,Sheet4!$B$2:$B$8408,Sheet3!$A$3)","v":8},{"$f":"+SUMIFS(Sheet4!$FV$2:$FV$8408,Sheet4!$C$2:$C$8408,Sheet3!$B24,Sheet4!$D$2:$D$8408,Sheet3!J$3,Sheet4!$E$2:$E$8408,Sheet3!J$4,Sheet4!$A$2:$A$8408,Sheet3!$B$1,Sheet4!$B$2:$B$8408,Sheet3!$A$3)","v":21},{"$f":"+SUMIFS(Sheet4!$FV$2:$FV$8408,Sheet4!$C$2:$C$8408,Sheet3!$B24,Sheet4!$D$2:$D$8408,Sheet3!K$3,Sheet4!$E$2:$E$8408,Sheet3!K$4,Sheet4!$A$2:$A$8408,Sheet3!$B$1,Sheet4!$B$2:$B$8408,Sheet3!$A$3)","v":12},{"$f":"+SUMIFS(Sheet4!$FV$2:$FV$8408,Sheet4!$C$2:$C$8408,Sheet3!$B24,Sheet4!$D$2:$D$8408,Sheet3!L$3,Sheet4!$E$2:$E$8408,Sheet3!L$4,Sheet4!$A$2:$A$8408,Sheet3!$B$1,Sheet4!$B$2:$B$8408,Sheet3!$A$3)","v":0},{"$f":"+SUMIFS(Sheet4!$FV$2:$FV$8408,Sheet4!$C$2:$C$8408,Sheet3!$B24,Sheet4!$D$2:$D$8408,Sheet3!M$3,Sheet4!$E$2:$E$8408,Sheet3!M$4,Sheet4!$A$2:$A$8408,Sheet3!$B$1,Sheet4!$B$2:$B$8408,Sheet3!$A$3)","v":0},{"$f":"+SUMIFS(Sheet4!$FV$2:$FV$8408,Sheet4!$C$2:$C$8408,Sheet3!$B24,Sheet4!$D$2:$D$8408,Sheet3!N$3,Sheet4!$E$2:$E$8408,Sheet3!N$4,Sheet4!$A$2:$A$8408,Sheet3!$B$1,Sheet4!$B$2:$B$8408,Sheet3!$A$3)","v":15},{"$f":"+SUMIFS(Sheet4!$FV$2:$FV$8408,Sheet4!$C$2:$C$8408,Sheet3!$B24,Sheet4!$D$2:$D$8408,Sheet3!O$3,Sheet4!$E$2:$E$8408,Sheet3!O$4,Sheet4!$A$2:$A$8408,Sheet3!$B$1,Sheet4!$B$2:$B$8408,Sheet3!$A$3)","v":11},{"$f":"+SUMIFS(Sheet4!$FV$2:$FV$8408,Sheet4!$C$2:$C$8408,Sheet3!$B24,Sheet4!$D$2:$D$8408,Sheet3!P$3,Sheet4!$E$2:$E$8408,Sheet3!P$4,Sheet4!$A$2:$A$8408,Sheet3!$B$1,Sheet4!$B$2:$B$8408,Sheet3!$A$3)","v":8},{"$f":"+SUMIFS(Sheet4!$FV$2:$FV$8408,Sheet4!$C$2:$C$8408,Sheet3!$B24,Sheet4!$D$2:$D$8408,Sheet3!Q$3,Sheet4!$E$2:$E$8408,Sheet3!Q$4,Sheet4!$A$2:$A$8408,Sheet3!$B$1,Sheet4!$B$2:$B$8408,Sheet3!$A$3)","v":0},{"$f":"+SUMIFS(Sheet4!$FV$2:$FV$8408,Sheet4!$C$2:$C$8408,Sheet3!$B24,Sheet4!$D$2:$D$8408,Sheet3!R$3,Sheet4!$E$2:$E$8408,Sheet3!R$4,Sheet4!$A$2:$A$8408,Sheet3!$B$1,Sheet4!$B$2:$B$8408,Sheet3!$A$3)","v":0},{"$f":"+SUMIFS(Sheet4!$FV$2:$FV$8408,Sheet4!$C$2:$C$8408,Sheet3!$B24,Sheet4!$D$2:$D$8408,Sheet3!S$3,Sheet4!$E$2:$E$8408,Sheet3!S$4,Sheet4!$A$2:$A$8408,Sheet3!$B$1,Sheet4!$B$2:$B$8408,Sheet3!$A$3)","v":0},{"$f":"+SUMIFS(Sheet4!$FV$2:$FV$8408,Sheet4!$C$2:$C$8408,Sheet3!$B24,Sheet4!$D$2:$D$8408,Sheet3!T$3,Sheet4!$E$2:$E$8408,Sheet3!T$4,Sheet4!$A$2:$A$8408,Sheet3!$B$1,Sheet4!$B$2:$B$8408,Sheet3!$A$3)","v":5},{"$f":"+SUMIFS(Sheet4!$FV$2:$FV$8408,Sheet4!$C$2:$C$8408,Sheet3!$B24,Sheet4!$D$2:$D$8408,Sheet3!U$3,Sheet4!$E$2:$E$8408,Sheet3!U$4,Sheet4!$A$2:$A$8408,Sheet3!$B$1,Sheet4!$B$2:$B$8408,Sheet3!$A$3)","v":50},{"$f":"+SUMIFS(Sheet4!$FV$2:$FV$8408,Sheet4!$C$2:$C$8408,Sheet3!$B24,Sheet4!$D$2:$D$8408,Sheet3!V$3,Sheet4!$E$2:$E$8408,Sheet3!V$4,Sheet4!$A$2:$A$8408,Sheet3!$B$1,Sheet4!$B$2:$B$8408,Sheet3!$A$3)","v":3},{"$f":"+SUMIFS(Sheet4!$FV$2:$FV$8408,Sheet4!$C$2:$C$8408,Sheet3!$B24,Sheet4!$D$2:$D$8408,Sheet3!W$3,Sheet4!$E$2:$E$8408,Sheet3!W$4,Sheet4!$A$2:$A$8408,Sheet3!$B$1,Sheet4!$B$2:$B$8408,Sheet3!$A$3)","v":0},{"$f":"+SUMIFS(Sheet4!$FV$2:$FV$8408,Sheet4!$C$2:$C$8408,Sheet3!$B24,Sheet4!$D$2:$D$8408,Sheet3!X$3,Sheet4!$E$2:$E$8408,Sheet3!X$4,Sheet4!$A$2:$A$8408,Sheet3!$B$1,Sheet4!$B$2:$B$8408,Sheet3!$A$3)","v":0},{"$f":"+SUMIFS(Sheet4!$FV$2:$FV$8408,Sheet4!$C$2:$C$8408,Sheet3!$B24,Sheet4!$D$2:$D$8408,Sheet3!Y$3,Sheet4!$E$2:$E$8408,Sheet3!Y$4,Sheet4!$A$2:$A$8408,Sheet3!$B$1,Sheet4!$B$2:$B$8408,Sheet3!$A$3)","v":0},{"$f":"+SUMIFS(Sheet4!$FV$2:$FV$8408,Sheet4!$C$2:$C$8408,Sheet3!$B24,Sheet4!$D$2:$D$8408,Sheet3!Z$3,Sheet4!$E$2:$E$8408,Sheet3!Z$4,Sheet4!$A$2:$A$8408,Sheet3!$B$1,Sheet4!$B$2:$B$8408,Sheet3!$A$3)","v":0},{"$f":"+SUMIFS(Sheet4!$FV$2:$FV$8408,Sheet4!$C$2:$C$8408,Sheet3!$B24,Sheet4!$D$2:$D$8408,Sheet3!AA$3,Sheet4!$E$2:$E$8408,Sheet3!AA$4,Sheet4!$A$2:$A$8408,Sheet3!$B$1,Sheet4!$B$2:$B$8408,Sheet3!$A$3)","v":0},{"$f":"+SUMIFS(Sheet4!$FV$2:$FV$8408,Sheet4!$C$2:$C$8408,Sheet3!$B24,Sheet4!$D$2:$D$8408,Sheet3!AB$3,Sheet4!$E$2:$E$8408,Sheet3!AB$4,Sheet4!$A$2:$A$8408,Sheet3!$B$1,Sheet4!$B$2:$B$8408,Sheet3!$A$3)","v":0},{"$f":"+SUMIFS(Sheet4!$FV$2:$FV$8408,Sheet4!$C$2:$C$8408,Sheet3!$B24,Sheet4!$D$2:$D$8408,Sheet3!AC$3,Sheet4!$E$2:$E$8408,Sheet3!AC$4,Sheet4!$A$2:$A$8408,Sheet3!$B$1,Sheet4!$B$2:$B$8408,Sheet3!$A$3)","v":35},{"$f":"+SUMIFS(Sheet4!$FV$2:$FV$8408,Sheet4!$C$2:$C$8408,Sheet3!$B24,Sheet4!$D$2:$D$8408,Sheet3!AD$3,Sheet4!$E$2:$E$8408,Sheet3!AD$4,Sheet4!$A$2:$A$8408,Sheet3!$B$1,Sheet4!$B$2:$B$8408,Sheet3!$A$3)","v":26},{"$f":"+SUMIFS(Sheet4!$FV$2:$FV$8408,Sheet4!$C$2:$C$8408,Sheet3!$B24,Sheet4!$D$2:$D$8408,Sheet3!AE$3,Sheet4!$E$2:$E$8408,Sheet3!AE$4,Sheet4!$A$2:$A$8408,Sheet3!$B$1,Sheet4!$B$2:$B$8408,Sheet3!$A$3)","v":11},{"$f":"+SUMIFS(Sheet4!$FV$2:$FV$8408,Sheet4!$C$2:$C$8408,Sheet3!$B24,Sheet4!$D$2:$D$8408,Sheet3!AF$3,Sheet4!$E$2:$E$8408,Sheet3!AF$4,Sheet4!$A$2:$A$8408,Sheet3!$B$1,Sheet4!$B$2:$B$8408,Sheet3!$A$3)","v":0},{"$f":"+SUMIFS(Sheet4!$FV$2:$FV$8408,Sheet4!$C$2:$C$8408,Sheet3!$B24,Sheet4!$D$2:$D$8408,Sheet3!AG$3,Sheet4!$E$2:$E$8408,Sheet3!AG$4,Sheet4!$A$2:$A$8408,Sheet3!$B$1,Sheet4!$B$2:$B$8408,Sheet3!$A$3)","v":0},{"$f":"+SUMIFS(Sheet4!$FV$2:$FV$8408,Sheet4!$C$2:$C$8408,Sheet3!$B24,Sheet4!$D$2:$D$8408,Sheet3!AH$3,Sheet4!$E$2:$E$8408,Sheet3!AH$4,Sheet4!$A$2:$A$8408,Sheet3!$B$1,Sheet4!$B$2:$B$8408,Sheet3!$A$3)","v":36},{"$f":"+SUMIFS(Sheet4!$FV$2:$FV$8408,Sheet4!$C$2:$C$8408,Sheet3!$B24,Sheet4!$D$2:$D$8408,Sheet3!AI$3,Sheet4!$E$2:$E$8408,Sheet3!AI$4,Sheet4!$A$2:$A$8408,Sheet3!$B$1,Sheet4!$B$2:$B$8408,Sheet3!$A$3)","v":87},{"$f":"+SUMIFS(Sheet4!$FV$2:$FV$8408,Sheet4!$C$2:$C$8408,Sheet3!$B24,Sheet4!$D$2:$D$8408,Sheet3!AJ$3,Sheet4!$E$2:$E$8408,Sheet3!AJ$4,Sheet4!$A$2:$A$8408,Sheet3!$B$1,Sheet4!$B$2:$B$8408,Sheet3!$A$3)","v":52},{"$f":"+SUMIFS(Sheet4!$FV$2:$FV$8408,Sheet4!$C$2:$C$8408,Sheet3!$B24,Sheet4!$D$2:$D$8408,Sheet3!AK$3,Sheet4!$E$2:$E$8408,Sheet3!AK$4,Sheet4!$A$2:$A$8408,Sheet3!$B$1,Sheet4!$B$2:$B$8408,Sheet3!$A$3)","v":0},{"$f":"+SUMIFS(Sheet4!$FV$2:$FV$8408,Sheet4!$C$2:$C$8408,Sheet3!$B24,Sheet4!$D$2:$D$8408,Sheet3!AL$3,Sheet4!$E$2:$E$8408,Sheet3!AL$4,Sheet4!$A$2:$A$8408,Sheet3!$B$1,Sheet4!$B$2:$B$8408,Sheet3!$A$3)","v":0},{"$f":"+SUMIFS(Sheet4!$FV$2:$FV$8408,Sheet4!$C$2:$C$8408,Sheet3!$B24,Sheet4!$D$2:$D$8408,Sheet3!AM$3,Sheet4!$E$2:$E$8408,Sheet3!AM$4,Sheet4!$A$2:$A$8408,Sheet3!$B$1,Sheet4!$B$2:$B$8408,Sheet3!$A$3)","v":33},{"$f":"+SUMIFS(Sheet4!$FV$2:$FV$8408,Sheet4!$C$2:$C$8408,Sheet3!$B24,Sheet4!$D$2:$D$8408,Sheet3!AN$3,Sheet4!$E$2:$E$8408,Sheet3!AN$4,Sheet4!$A$2:$A$8408,Sheet3!$B$1,Sheet4!$B$2:$B$8408,Sheet3!$A$3)","v":31},{"$f":"+SUMIFS(Sheet4!$FV$2:$FV$8408,Sheet4!$C$2:$C$8408,Sheet3!$B24,Sheet4!$D$2:$D$8408,Sheet3!AO$3,Sheet4!$E$2:$E$8408,Sheet3!AO$4,Sheet4!$A$2:$A$8408,Sheet3!$B$1,Sheet4!$B$2:$B$8408,Sheet3!$A$3)","v":29},{"$f":"+SUMIFS(Sheet4!$FV$2:$FV$8408,Sheet4!$C$2:$C$8408,Sheet3!$B24,Sheet4!$D$2:$D$8408,Sheet3!AP$3,Sheet4!$E$2:$E$8408,Sheet3!AP$4,Sheet4!$A$2:$A$8408,Sheet3!$B$1,Sheet4!$B$2:$B$8408,Sheet3!$A$3)","v":7},{"$f":"+SUMIFS(Sheet4!$FV$2:$FV$8408,Sheet4!$C$2:$C$8408,Sheet3!$B24,Sheet4!$D$2:$D$8408,Sheet3!AQ$3,Sheet4!$E$2:$E$8408,Sheet3!AQ$4,Sheet4!$A$2:$A$8408,Sheet3!$B$1,Sheet4!$B$2:$B$8408,Sheet3!$A$3)","v":0},{"$f":"+SUMIFS(Sheet4!$FV$2:$FV$8408,Sheet4!$C$2:$C$8408,Sheet3!$B24,Sheet4!$D$2:$D$8408,Sheet3!AR$3,Sheet4!$E$2:$E$8408,Sheet3!AR$4,Sheet4!$A$2:$A$8408,Sheet3!$B$1,Sheet4!$B$2:$B$8408,Sheet3!$A$3)","v":0},{"$f":"+SUMIFS(Sheet4!$FV$2:$FV$8408,Sheet4!$C$2:$C$8408,Sheet3!$B24,Sheet4!$D$2:$D$8408,Sheet3!AS$3,Sheet4!$E$2:$E$8408,Sheet3!AS$4,Sheet4!$A$2:$A$8408,Sheet3!$B$1,Sheet4!$B$2:$B$8408,Sheet3!$A$3)","v":0},{"$f":"+SUMIFS(Sheet4!$FV$2:$FV$8408,Sheet4!$C$2:$C$8408,Sheet3!$B24,Sheet4!$D$2:$D$8408,Sheet3!AT$3,Sheet4!$E$2:$E$8408,Sheet3!AT$4,Sheet4!$A$2:$A$8408,Sheet3!$B$1,Sheet4!$B$2:$B$8408,Sheet3!$A$3)","v":0},{"$f":"+SUMIFS(Sheet4!$FV$2:$FV$8408,Sheet4!$C$2:$C$8408,Sheet3!$B24,Sheet4!$D$2:$D$8408,Sheet3!AU$3,Sheet4!$E$2:$E$8408,Sheet3!AU$4,Sheet4!$A$2:$A$8408,Sheet3!$B$1,Sheet4!$B$2:$B$8408,Sheet3!$A$3)","v":0},{"$f":"+SUMIFS(Sheet4!$FV$2:$FV$8408,Sheet4!$C$2:$C$8408,Sheet3!$B24,Sheet4!$D$2:$D$8408,Sheet3!AV$3,Sheet4!$E$2:$E$8408,Sheet3!AV$4,Sheet4!$A$2:$A$8408,Sheet3!$B$1,Sheet4!$B$2:$B$8408,Sheet3!$A$3)","v":0},{"$f":"+SUMIFS(Sheet4!$FV$2:$FV$8408,Sheet4!$C$2:$C$8408,Sheet3!$B24,Sheet4!$D$2:$D$8408,Sheet3!AW$3,Sheet4!$E$2:$E$8408,Sheet3!AW$4,Sheet4!$A$2:$A$8408,Sheet3!$B$1,Sheet4!$B$2:$B$8408,Sheet3!$A$3)","v":52},{"$f":"+SUMIFS(Sheet4!$FV$2:$FV$8408,Sheet4!$C$2:$C$8408,Sheet3!$B24,Sheet4!$D$2:$D$8408,Sheet3!AX$3,Sheet4!$E$2:$E$8408,Sheet3!AX$4,Sheet4!$A$2:$A$8408,Sheet3!$B$1,Sheet4!$B$2:$B$8408,Sheet3!$A$3)","v":54},{"$f":"+SUMIFS(Sheet4!$FV$2:$FV$8408,Sheet4!$C$2:$C$8408,Sheet3!$B24,Sheet4!$D$2:$D$8408,Sheet3!AY$3,Sheet4!$E$2:$E$8408,Sheet3!AY$4,Sheet4!$A$2:$A$8408,Sheet3!$B$1,Sheet4!$B$2:$B$8408,Sheet3!$A$3)","v":37},{"$f":"+SUMIFS(Sheet4!$FV$2:$FV$8408,Sheet4!$C$2:$C$8408,Sheet3!$B24,Sheet4!$D$2:$D$8408,Sheet3!AZ$3,Sheet4!$E$2:$E$8408,Sheet3!AZ$4,Sheet4!$A$2:$A$8408,Sheet3!$B$1,Sheet4!$B$2:$B$8408,Sheet3!$A$3)","v":8},{"$f":"+SUMIFS(Sheet4!$FV$2:$FV$8408,Sheet4!$C$2:$C$8408,Sheet3!$B24,Sheet4!$D$2:$D$8408,Sheet3!BA$3,Sheet4!$E$2:$E$8408,Sheet3!BA$4,Sheet4!$A$2:$A$8408,Sheet3!$B$1,Sheet4!$B$2:$B$8408,Sheet3!$A$3)","v":0},{"$f":"+SUMIFS(Sheet4!$FV$2:$FV$8408,Sheet4!$C$2:$C$8408,Sheet3!$B24,Sheet4!$D$2:$D$8408,Sheet3!BB$3,Sheet4!$E$2:$E$8408,Sheet3!BB$4,Sheet4!$A$2:$A$8408,Sheet3!$B$1,Sheet4!$B$2:$B$8408,Sheet3!$A$3)","v":3},{"$f":"+SUMIFS(Sheet4!$FV$2:$FV$8408,Sheet4!$C$2:$C$8408,Sheet3!$B24,Sheet4!$D$2:$D$8408,Sheet3!BC$3,Sheet4!$E$2:$E$8408,Sheet3!BC$4,Sheet4!$A$2:$A$8408,Sheet3!$B$1,Sheet4!$B$2:$B$8408,Sheet3!$A$3)","v":10},{"$f":"+SUMIFS(Sheet4!$FV$2:$FV$8408,Sheet4!$C$2:$C$8408,Sheet3!$B24,Sheet4!$D$2:$D$8408,Sheet3!BD$3,Sheet4!$E$2:$E$8408,Sheet3!BD$4,Sheet4!$A$2:$A$8408,Sheet3!$B$1,Sheet4!$B$2:$B$8408,Sheet3!$A$3)","v":6},{"$f":"+SUMIFS(Sheet4!$FV$2:$FV$8408,Sheet4!$C$2:$C$8408,Sheet3!$B24,Sheet4!$D$2:$D$8408,Sheet3!BE$3,Sheet4!$E$2:$E$8408,Sheet3!BE$4,Sheet4!$A$2:$A$8408,Sheet3!$B$1,Sheet4!$B$2:$B$8408,Sheet3!$A$3)","v":0},{"$f":"+SUMIFS(Sheet4!$FV$2:$FV$8408,Sheet4!$C$2:$C$8408,Sheet3!$B24,Sheet4!$D$2:$D$8408,Sheet3!BF$3,Sheet4!$E$2:$E$8408,Sheet3!BF$4,Sheet4!$A$2:$A$8408,Sheet3!$B$1,Sheet4!$B$2:$B$8408,Sheet3!$A$3)","v":0},{"$f":"+SUMIFS(Sheet4!$FV$2:$FV$8408,Sheet4!$C$2:$C$8408,Sheet3!$B24,Sheet4!$D$2:$D$8408,Sheet3!BG$3,Sheet4!$E$2:$E$8408,Sheet3!BG$4,Sheet4!$A$2:$A$8408,Sheet3!$B$1,Sheet4!$B$2:$B$8408,Sheet3!$A$3)","v":4},{"$f":"+SUMIFS(Sheet4!$FV$2:$FV$8408,Sheet4!$C$2:$C$8408,Sheet3!$B24,Sheet4!$D$2:$D$8408,Sheet3!BH$3,Sheet4!$E$2:$E$8408,Sheet3!BH$4,Sheet4!$A$2:$A$8408,Sheet3!$B$1,Sheet4!$B$2:$B$8408,Sheet3!$A$3)","v":20},{"$f":"+SUMIFS(Sheet4!$FV$2:$FV$8408,Sheet4!$C$2:$C$8408,Sheet3!$B24,Sheet4!$D$2:$D$8408,Sheet3!BI$3,Sheet4!$E$2:$E$8408,Sheet3!BI$4,Sheet4!$A$2:$A$8408,Sheet3!$B$1,Sheet4!$B$2:$B$8408,Sheet3!$A$3)","v":15},{"$f":"+SUMIFS(Sheet4!$FV$2:$FV$8408,Sheet4!$C$2:$C$8408,Sheet3!$B24,Sheet4!$D$2:$D$8408,Sheet3!BJ$3,Sheet4!$E$2:$E$8408,Sheet3!BJ$4,Sheet4!$A$2:$A$8408,Sheet3!$B$1,Sheet4!$B$2:$B$8408,Sheet3!$A$3)","v":6},{"$f":"+SUMIFS(Sheet4!$FV$2:$FV$8408,Sheet4!$C$2:$C$8408,Sheet3!$B24,Sheet4!$D$2:$D$8408,Sheet3!BK$3,Sheet4!$E$2:$E$8408,Sheet3!BK$4,Sheet4!$A$2:$A$8408,Sheet3!$B$1,Sheet4!$B$2:$B$8408,Sheet3!$A$3)","v":0},{"$f":"+SUMIFS(Sheet4!$FV$2:$FV$8408,Sheet4!$C$2:$C$8408,Sheet3!$B24,Sheet4!$D$2:$D$8408,Sheet3!BL$3,Sheet4!$E$2:$E$8408,Sheet3!BL$4,Sheet4!$A$2:$A$8408,Sheet3!$B$1,Sheet4!$B$2:$B$8408,Sheet3!$A$3)","v":58},{"$f":"+SUMIFS(Sheet4!$FV$2:$FV$8408,Sheet4!$C$2:$C$8408,Sheet3!$B24,Sheet4!$D$2:$D$8408,Sheet3!BM$3,Sheet4!$E$2:$E$8408,Sheet3!BM$4,Sheet4!$A$2:$A$8408,Sheet3!$B$1,Sheet4!$B$2:$B$8408,Sheet3!$A$3)","v":26},{"$f":"+SUMIFS(Sheet4!$FV$2:$FV$8408,Sheet4!$C$2:$C$8408,Sheet3!$B24,Sheet4!$D$2:$D$8408,Sheet3!BN$3,Sheet4!$E$2:$E$8408,Sheet3!BN$4,Sheet4!$A$2:$A$8408,Sheet3!$B$1,Sheet4!$B$2:$B$8408,Sheet3!$A$3)","v":6},{"$f":"+SUMIFS(Sheet4!$FV$2:$FV$8408,Sheet4!$C$2:$C$8408,Sheet3!$B24,Sheet4!$D$2:$D$8408,Sheet3!BO$3,Sheet4!$E$2:$E$8408,Sheet3!BO$4,Sheet4!$A$2:$A$8408,Sheet3!$B$1,Sheet4!$B$2:$B$8408,Sheet3!$A$3)","v":0},{"$f":"+SUMIFS(Sheet4!$FV$2:$FV$8408,Sheet4!$C$2:$C$8408,Sheet3!$B24,Sheet4!$D$2:$D$8408,Sheet3!BP$3,Sheet4!$E$2:$E$8408,Sheet3!BP$4,Sheet4!$A$2:$A$8408,Sheet3!$B$1,Sheet4!$B$2:$B$8408,Sheet3!$A$3)","v":0},{"$f":"+SUMIFS(Sheet4!$FV$2:$FV$8408,Sheet4!$C$2:$C$8408,Sheet3!$B24,Sheet4!$D$2:$D$8408,Sheet3!BQ$3,Sheet4!$E$2:$E$8408,Sheet3!BQ$4,Sheet4!$A$2:$A$8408,Sheet3!$B$1,Sheet4!$B$2:$B$8408,Sheet3!$A$3)","v":0},{"$f":"+SUMIFS(Sheet4!$FV$2:$FV$8408,Sheet4!$C$2:$C$8408,Sheet3!$B24,Sheet4!$D$2:$D$8408,Sheet3!BR$3,Sheet4!$E$2:$E$8408,Sheet3!BR$4,Sheet4!$A$2:$A$8408,Sheet3!$B$1,Sheet4!$B$2:$B$8408,Sheet3!$A$3)","v":16},{"$f":"+SUMIFS(Sheet4!$FV$2:$FV$8408,Sheet4!$C$2:$C$8408,Sheet3!$B24,Sheet4!$D$2:$D$8408,Sheet3!BS$3,Sheet4!$E$2:$E$8408,Sheet3!BS$4,Sheet4!$A$2:$A$8408,Sheet3!$B$1,Sheet4!$B$2:$B$8408,Sheet3!$A$3)","v":12},{"$f":"+SUMIFS(Sheet4!$FV$2:$FV$8408,Sheet4!$C$2:$C$8408,Sheet3!$B24,Sheet4!$D$2:$D$8408,Sheet3!BT$3,Sheet4!$E$2:$E$8408,Sheet3!BT$4,Sheet4!$A$2:$A$8408,Sheet3!$B$1,Sheet4!$B$2:$B$8408,Sheet3!$A$3)","v":6},{"$f":"+SUMIFS(Sheet4!$FV$2:$FV$8408,Sheet4!$C$2:$C$8408,Sheet3!$B24,Sheet4!$D$2:$D$8408,Sheet3!BU$3,Sheet4!$E$2:$E$8408,Sheet3!BU$4,Sheet4!$A$2:$A$8408,Sheet3!$B$1,Sheet4!$B$2:$B$8408,Sheet3!$A$3)","v":0},{"$f":"+SUMIFS(Sheet4!$FV$2:$FV$8408,Sheet4!$C$2:$C$8408,Sheet3!$B24,Sheet4!$D$2:$D$8408,Sheet3!BV$3,Sheet4!$E$2:$E$8408,Sheet3!BV$4,Sheet4!$A$2:$A$8408,Sheet3!$B$1,Sheet4!$B$2:$B$8408,Sheet3!$A$3)","v":299},{"$f":"+SUMIFS(Sheet4!$FV$2:$FV$8408,Sheet4!$C$2:$C$8408,Sheet3!$B24,Sheet4!$D$2:$D$8408,Sheet3!BW$3,Sheet4!$E$2:$E$8408,Sheet3!BW$4,Sheet4!$A$2:$A$8408,Sheet3!$B$1,Sheet4!$B$2:$B$8408,Sheet3!$A$3)","v":49},{"$f":"+SUMIFS(Sheet4!$FV$2:$FV$8408,Sheet4!$C$2:$C$8408,Sheet3!$B24,Sheet4!$D$2:$D$8408,Sheet3!BX$3,Sheet4!$E$2:$E$8408,Sheet3!BX$4,Sheet4!$A$2:$A$8408,Sheet3!$B$1,Sheet4!$B$2:$B$8408,Sheet3!$A$3)","v":19},{"$f":"+SUMIFS(Sheet4!$FV$2:$FV$8408,Sheet4!$C$2:$C$8408,Sheet3!$B24,Sheet4!$D$2:$D$8408,Sheet3!BY$3,Sheet4!$E$2:$E$8408,Sheet3!BY$4,Sheet4!$A$2:$A$8408,Sheet3!$B$1,Sheet4!$B$2:$B$8408,Sheet3!$A$3)","v":0},{"$f":"+SUMIFS(Sheet4!$FV$2:$FV$8408,Sheet4!$C$2:$C$8408,Sheet3!$B24,Sheet4!$D$2:$D$8408,Sheet3!BZ$3,Sheet4!$E$2:$E$8408,Sheet3!BZ$4,Sheet4!$A$2:$A$8408,Sheet3!$B$1,Sheet4!$B$2:$B$8408,Sheet3!$A$3)","v":0},{"$f":"+SUMIFS(Sheet4!$FV$2:$FV$8408,Sheet4!$C$2:$C$8408,Sheet3!$B24,Sheet4!$D$2:$D$8408,Sheet3!CA$3,Sheet4!$E$2:$E$8408,Sheet3!CA$4,Sheet4!$A$2:$A$8408,Sheet3!$B$1,Sheet4!$B$2:$B$8408,Sheet3!$A$3)","v":38},{"$f":"+SUMIFS(Sheet4!$FV$2:$FV$8408,Sheet4!$C$2:$C$8408,Sheet3!$B24,Sheet4!$D$2:$D$8408,Sheet3!CB$3,Sheet4!$E$2:$E$8408,Sheet3!CB$4,Sheet4!$A$2:$A$8408,Sheet3!$B$1,Sheet4!$B$2:$B$8408,Sheet3!$A$3)","v":11},{"$f":"+SUMIFS(Sheet4!$FV$2:$FV$8408,Sheet4!$C$2:$C$8408,Sheet3!$B24,Sheet4!$D$2:$D$8408,Sheet3!CC$3,Sheet4!$E$2:$E$8408,Sheet3!CC$4,Sheet4!$A$2:$A$8408,Sheet3!$B$1,Sheet4!$B$2:$B$8408,Sheet3!$A$3)","v":11},{"$f":"+SUMIFS(Sheet4!$FV$2:$FV$8408,Sheet4!$C$2:$C$8408,Sheet3!$B24,Sheet4!$D$2:$D$8408,Sheet3!CD$3,Sheet4!$E$2:$E$8408,Sheet3!CD$4,Sheet4!$A$2:$A$8408,Sheet3!$B$1,Sheet4!$B$2:$B$8408,Sheet3!$A$3)","v":11},{"$f":"+SUMIFS(Sheet4!$FV$2:$FV$8408,Sheet4!$C$2:$C$8408,Sheet3!$B24,Sheet4!$D$2:$D$8408,Sheet3!CE$3,Sheet4!$E$2:$E$8408,Sheet3!CE$4,Sheet4!$A$2:$A$8408,Sheet3!$B$1,Sheet4!$B$2:$B$8408,Sheet3!$A$3)","v":0},{"$f":"+SUMIFS(Sheet4!$FV$2:$FV$8408,Sheet4!$C$2:$C$8408,Sheet3!$B24,Sheet4!$D$2:$D$8408,Sheet3!CF$3,Sheet4!$E$2:$E$8408,Sheet3!CF$4,Sheet4!$A$2:$A$8408,Sheet3!$B$1,Sheet4!$B$2:$B$8408,Sheet3!$A$3)","v":72},{"$f":"+SUMIFS(Sheet4!$FV$2:$FV$8408,Sheet4!$C$2:$C$8408,Sheet3!$B24,Sheet4!$D$2:$D$8408,Sheet3!CG$3,Sheet4!$E$2:$E$8408,Sheet3!CG$4,Sheet4!$A$2:$A$8408,Sheet3!$B$1,Sheet4!$B$2:$B$8408,Sheet3!$A$3)","v":83},{"$f":"+SUMIFS(Sheet4!$FV$2:$FV$8408,Sheet4!$C$2:$C$8408,Sheet3!$B24,Sheet4!$D$2:$D$8408,Sheet3!CH$3,Sheet4!$E$2:$E$8408,Sheet3!CH$4,Sheet4!$A$2:$A$8408,Sheet3!$B$1,Sheet4!$B$2:$B$8408,Sheet3!$A$3)","v":30},{"$f":"+SUMIFS(Sheet4!$FV$2:$FV$8408,Sheet4!$C$2:$C$8408,Sheet3!$B24,Sheet4!$D$2:$D$8408,Sheet3!CI$3,Sheet4!$E$2:$E$8408,Sheet3!CI$4,Sheet4!$A$2:$A$8408,Sheet3!$B$1,Sheet4!$B$2:$B$8408,Sheet3!$A$3)","v":3},{"$f":"+SUMIFS(Sheet4!$FV$2:$FV$8408,Sheet4!$C$2:$C$8408,Sheet3!$B24,Sheet4!$D$2:$D$8408,Sheet3!CJ$3,Sheet4!$E$2:$E$8408,Sheet3!CJ$4,Sheet4!$A$2:$A$8408,Sheet3!$B$1,Sheet4!$B$2:$B$8408,Sheet3!$A$3)","v":0},{"$f":"+SUMIFS(Sheet4!$FV$2:$FV$8408,Sheet4!$C$2:$C$8408,Sheet3!$B24,Sheet4!$D$2:$D$8408,Sheet3!CK$3,Sheet4!$E$2:$E$8408,Sheet3!CK$4,Sheet4!$A$2:$A$8408,Sheet3!$B$1,Sheet4!$B$2:$B$8408,Sheet3!$A$3)","v":0},{"$f":"+SUMIFS(Sheet4!$FV$2:$FV$8408,Sheet4!$C$2:$C$8408,Sheet3!$B24,Sheet4!$D$2:$D$8408,Sheet3!CL$3,Sheet4!$E$2:$E$8408,Sheet3!CL$4,Sheet4!$A$2:$A$8408,Sheet3!$B$1,Sheet4!$B$2:$B$8408,Sheet3!$A$3)","v":15},{"$f":"+SUMIFS(Sheet4!$FV$2:$FV$8408,Sheet4!$C$2:$C$8408,Sheet3!$B24,Sheet4!$D$2:$D$8408,Sheet3!CM$3,Sheet4!$E$2:$E$8408,Sheet3!CM$4,Sheet4!$A$2:$A$8408,Sheet3!$B$1,Sheet4!$B$2:$B$8408,Sheet3!$A$3)","v":15},{"$f":"+SUMIFS(Sheet4!$FV$2:$FV$8408,Sheet4!$C$2:$C$8408,Sheet3!$B24,Sheet4!$D$2:$D$8408,Sheet3!CN$3,Sheet4!$E$2:$E$8408,Sheet3!CN$4,Sheet4!$A$2:$A$8408,Sheet3!$B$1,Sheet4!$B$2:$B$8408,Sheet3!$A$3)","v":8},{"$f":"+SUMIFS(Sheet4!$FV$2:$FV$8408,Sheet4!$C$2:$C$8408,Sheet3!$B24,Sheet4!$D$2:$D$8408,Sheet3!CO$3,Sheet4!$E$2:$E$8408,Sheet3!CO$4,Sheet4!$A$2:$A$8408,Sheet3!$B$1,Sheet4!$B$2:$B$8408,Sheet3!$A$3)","v":0},{"$f":"+SUMIFS(Sheet4!$FV$2:$FV$8408,Sheet4!$C$2:$C$8408,Sheet3!$B24,Sheet4!$D$2:$D$8408,Sheet3!CP$3,Sheet4!$E$2:$E$8408,Sheet3!CP$4,Sheet4!$A$2:$A$8408,Sheet3!$B$1,Sheet4!$B$2:$B$8408,Sheet3!$A$3)","v":5},{"$f":"+SUMIFS(Sheet4!$FV$2:$FV$8408,Sheet4!$C$2:$C$8408,Sheet3!$B24,Sheet4!$D$2:$D$8408,Sheet3!CQ$3,Sheet4!$E$2:$E$8408,Sheet3!CQ$4,Sheet4!$A$2:$A$8408,Sheet3!$B$1,Sheet4!$B$2:$B$8408,Sheet3!$A$3)","v":5},{"$f":"+SUMIFS(Sheet4!$FV$2:$FV$8408,Sheet4!$C$2:$C$8408,Sheet3!$B24,Sheet4!$D$2:$D$8408,Sheet3!CR$3,Sheet4!$E$2:$E$8408,Sheet3!CR$4,Sheet4!$A$2:$A$8408,Sheet3!$B$1,Sheet4!$B$2:$B$8408,Sheet3!$A$3)","v":0},{"$f":"+SUMIFS(Sheet4!$FV$2:$FV$8408,Sheet4!$C$2:$C$8408,Sheet3!$B24,Sheet4!$D$2:$D$8408,Sheet3!CS$3,Sheet4!$E$2:$E$8408,Sheet3!CS$4,Sheet4!$A$2:$A$8408,Sheet3!$B$1,Sheet4!$B$2:$B$8408,Sheet3!$A$3)","v":0},{"$f":"+SUMIFS(Sheet4!$FV$2:$FV$8408,Sheet4!$C$2:$C$8408,Sheet3!$B24,Sheet4!$D$2:$D$8408,Sheet3!CT$3,Sheet4!$E$2:$E$8408,Sheet3!CT$4,Sheet4!$A$2:$A$8408,Sheet3!$B$1,Sheet4!$B$2:$B$8408,Sheet3!$A$3)","v":0},{"$f":"+IF(SUMIFS(Sheet4!$FW$2:$FW$8408,Sheet4!$C$2:$C$8408,Sheet3!$B24,Sheet4!$D$2:$D$8408,Sheet3!CU$3,Sheet4!$A$2:$A$8408,Sheet3!$B$1,Sheet4!$B$2:$B$8408,Sheet3!$A$3)<3,0,SUMIFS(Sheet4!$FW$2:$FW$8408,Sheet4!$C$2:$C$8408,Sheet3!$B24,Sheet4!$D$2:$D$8408,Sheet3!CU$3,Sheet4!$A$2:$A$8408,Sheet3!$B$1,Sheet4!$B$2:$B$8408,Sheet3!$A$3))","v":23},{"$f":"+IF(SUMIFS(Sheet4!$FW$2:$FW$8408,Sheet4!$C$2:$C$8408,Sheet3!$B24,Sheet4!$D$2:$D$8408,Sheet3!CV$3,Sheet4!$A$2:$A$8408,Sheet3!$B$1,Sheet4!$B$2:$B$8408,Sheet3!$A$3)<3,0,SUMIFS(Sheet4!$FW$2:$FW$8408,Sheet4!$C$2:$C$8408,Sheet3!$B24,Sheet4!$D$2:$D$8408,Sheet3!CV$3,Sheet4!$A$2:$A$8408,Sheet3!$B$1,Sheet4!$B$2:$B$8408,Sheet3!$A$3))","v":48},{"$f":"+IF(SUMIFS(Sheet4!$FW$2:$FW$8408,Sheet4!$C$2:$C$8408,Sheet3!$B24,Sheet4!$D$2:$D$8408,Sheet3!CW$3,Sheet4!$A$2:$A$8408,Sheet3!$B$1,Sheet4!$B$2:$B$8408,Sheet3!$A$3)<3,0,SUMIFS(Sheet4!$FW$2:$FW$8408,Sheet4!$C$2:$C$8408,Sheet3!$B24,Sheet4!$D$2:$D$8408,Sheet3!CW$3,Sheet4!$A$2:$A$8408,Sheet3!$B$1,Sheet4!$B$2:$B$8408,Sheet3!$A$3))","v":43},{"$f":"+IF(SUMIFS(Sheet4!$FW$2:$FW$8408,Sheet4!$C$2:$C$8408,Sheet3!$B24,Sheet4!$D$2:$D$8408,Sheet3!CX$3,Sheet4!$A$2:$A$8408,Sheet3!$B$1,Sheet4!$B$2:$B$8408,Sheet3!$A$3)<3,0,SUMIFS(Sheet4!$FW$2:$FW$8408,Sheet4!$C$2:$C$8408,Sheet3!$B24,Sheet4!$D$2:$D$8408,Sheet3!CX$3,Sheet4!$A$2:$A$8408,Sheet3!$B$1,Sheet4!$B$2:$B$8408,Sheet3!$A$3))","v":58},{"$f":"+IF(SUMIFS(Sheet4!$FW$2:$FW$8408,Sheet4!$C$2:$C$8408,Sheet3!$B24,Sheet4!$D$2:$D$8408,Sheet3!CY$3,Sheet4!$A$2:$A$8408,Sheet3!$B$1,Sheet4!$B$2:$B$8408,Sheet3!$A$3)<3,0,SUMIFS(Sheet4!$FW$2:$FW$8408,Sheet4!$C$2:$C$8408,Sheet3!$B24,Sheet4!$D$2:$D$8408,Sheet3!CY$3,Sheet4!$A$2:$A$8408,Sheet3!$B$1,Sheet4!$B$2:$B$8408,Sheet3!$A$3))","v":5},{"$f":"+IF(SUMIFS(Sheet4!$FW$2:$FW$8408,Sheet4!$C$2:$C$8408,Sheet3!$B24,Sheet4!$D$2:$D$8408,Sheet3!CZ$3,Sheet4!$A$2:$A$8408,Sheet3!$B$1,Sheet4!$B$2:$B$8408,Sheet3!$A$3)<3,0,SUMIFS(Sheet4!$FW$2:$FW$8408,Sheet4!$C$2:$C$8408,Sheet3!$B24,Sheet4!$D$2:$D$8408,Sheet3!CZ$3,Sheet4!$A$2:$A$8408,Sheet3!$B$1,Sheet4!$B$2:$B$8408,Sheet3!$A$3))","v":76},{"$f":"+IF(SUMIFS(Sheet4!$FW$2:$FW$8408,Sheet4!$C$2:$C$8408,Sheet3!$B24,Sheet4!$D$2:$D$8408,Sheet3!DA$3,Sheet4!$A$2:$A$8408,Sheet3!$B$1,Sheet4!$B$2:$B$8408,Sheet3!$A$3)<3,0,SUMIFS(Sheet4!$FW$2:$FW$8408,Sheet4!$C$2:$C$8408,Sheet3!$B24,Sheet4!$D$2:$D$8408,Sheet3!DA$3,Sheet4!$A$2:$A$8408,Sheet3!$B$1,Sheet4!$B$2:$B$8408,Sheet3!$A$3))","v":180},{"$f":"+IF(SUMIFS(Sheet4!$FW$2:$FW$8408,Sheet4!$C$2:$C$8408,Sheet3!$B24,Sheet4!$D$2:$D$8408,Sheet3!DB$3,Sheet4!$A$2:$A$8408,Sheet3!$B$1,Sheet4!$B$2:$B$8408,Sheet3!$A$3)<3,0,SUMIFS(Sheet4!$FW$2:$FW$8408,Sheet4!$C$2:$C$8408,Sheet3!$B24,Sheet4!$D$2:$D$8408,Sheet3!DB$3,Sheet4!$A$2:$A$8408,Sheet3!$B$1,Sheet4!$B$2:$B$8408,Sheet3!$A$3))","v":103},{"$f":"+IF(SUMIFS(Sheet4!$FW$2:$FW$8408,Sheet4!$C$2:$C$8408,Sheet3!$B24,Sheet4!$D$2:$D$8408,Sheet3!DC$3,Sheet4!$A$2:$A$8408,Sheet3!$B$1,Sheet4!$B$2:$B$8408,Sheet3!$A$3)<3,0,SUMIFS(Sheet4!$FW$2:$FW$8408,Sheet4!$C$2:$C$8408,Sheet3!$B24,Sheet4!$D$2:$D$8408,Sheet3!DC$3,Sheet4!$A$2:$A$8408,Sheet3!$B$1,Sheet4!$B$2:$B$8408,Sheet3!$A$3))","v":0},{"$f":"+IF(SUMIFS(Sheet4!$FW$2:$FW$8408,Sheet4!$C$2:$C$8408,Sheet3!$B24,Sheet4!$D$2:$D$8408,Sheet3!DD$3,Sheet4!$A$2:$A$8408,Sheet3!$B$1,Sheet4!$B$2:$B$8408,Sheet3!$A$3)<3,0,SUMIFS(Sheet4!$FW$2:$FW$8408,Sheet4!$C$2:$C$8408,Sheet3!$B24,Sheet4!$D$2:$D$8408,Sheet3!DD$3,Sheet4!$A$2:$A$8408,Sheet3!$B$1,Sheet4!$B$2:$B$8408,Sheet3!$A$3))","v":156},{"$f":"+IF(SUMIFS(Sheet4!$FW$2:$FW$8408,Sheet4!$C$2:$C$8408,Sheet3!$B24,Sheet4!$D$2:$D$8408,Sheet3!DE$3,Sheet4!$A$2:$A$8408,Sheet3!$B$1,Sheet4!$B$2:$B$8408,Sheet3!$A$3)<3,0,SUMIFS(Sheet4!$FW$2:$FW$8408,Sheet4!$C$2:$C$8408,Sheet3!$B24,Sheet4!$D$2:$D$8408,Sheet3!DE$3,Sheet4!$A$2:$A$8408,Sheet3!$B$1,Sheet4!$B$2:$B$8408,Sheet3!$A$3))","v":21},{"$f":"+IF(SUMIFS(Sheet4!$FW$2:$FW$8408,Sheet4!$C$2:$C$8408,Sheet3!$B24,Sheet4!$D$2:$D$8408,Sheet3!DF$3,Sheet4!$A$2:$A$8408,Sheet3!$B$1,Sheet4!$B$2:$B$8408,Sheet3!$A$3)<3,0,SUMIFS(Sheet4!$FW$2:$FW$8408,Sheet4!$C$2:$C$8408,Sheet3!$B24,Sheet4!$D$2:$D$8408,Sheet3!DF$3,Sheet4!$A$2:$A$8408,Sheet3!$B$1,Sheet4!$B$2:$B$8408,Sheet3!$A$3))","v":49},{"$f":"+IF(SUMIFS(Sheet4!$FW$2:$FW$8408,Sheet4!$C$2:$C$8408,Sheet3!$B24,Sheet4!$D$2:$D$8408,Sheet3!DG$3,Sheet4!$A$2:$A$8408,Sheet3!$B$1,Sheet4!$B$2:$B$8408,Sheet3!$A$3)<3,0,SUMIFS(Sheet4!$FW$2:$FW$8408,Sheet4!$C$2:$C$8408,Sheet3!$B24,Sheet4!$D$2:$D$8408,Sheet3!DG$3,Sheet4!$A$2:$A$8408,Sheet3!$B$1,Sheet4!$B$2:$B$8408,Sheet3!$A$3))","v":93},{"$f":"+IF(SUMIFS(Sheet4!$FW$2:$FW$8408,Sheet4!$C$2:$C$8408,Sheet3!$B24,Sheet4!$D$2:$D$8408,Sheet3!DH$3,Sheet4!$A$2:$A$8408,Sheet3!$B$1,Sheet4!$B$2:$B$8408,Sheet3!$A$3)<3,0,SUMIFS(Sheet4!$FW$2:$FW$8408,Sheet4!$C$2:$C$8408,Sheet3!$B24,Sheet4!$D$2:$D$8408,Sheet3!DH$3,Sheet4!$A$2:$A$8408,Sheet3!$B$1,Sheet4!$B$2:$B$8408,Sheet3!$A$3))","v":40},{"$f":"+IF(SUMIFS(Sheet4!$FW$2:$FW$8408,Sheet4!$C$2:$C$8408,Sheet3!$B24,Sheet4!$D$2:$D$8408,Sheet3!DI$3,Sheet4!$A$2:$A$8408,Sheet3!$B$1,Sheet4!$B$2:$B$8408,Sheet3!$A$3)<3,0,SUMIFS(Sheet4!$FW$2:$FW$8408,Sheet4!$C$2:$C$8408,Sheet3!$B24,Sheet4!$D$2:$D$8408,Sheet3!DI$3,Sheet4!$A$2:$A$8408,Sheet3!$B$1,Sheet4!$B$2:$B$8408,Sheet3!$A$3))","v":371},{"$f":"+IF(SUMIFS(Sheet4!$FW$2:$FW$8408,Sheet4!$C$2:$C$8408,Sheet3!$B24,Sheet4!$D$2:$D$8408,Sheet3!DJ$3,Sheet4!$A$2:$A$8408,Sheet3!$B$1,Sheet4!$B$2:$B$8408,Sheet3!$A$3)<3,0,SUMIFS(Sheet4!$FW$2:$FW$8408,Sheet4!$C$2:$C$8408,Sheet3!$B24,Sheet4!$D$2:$D$8408,Sheet3!DJ$3,Sheet4!$A$2:$A$8408,Sheet3!$B$1,Sheet4!$B$2:$B$8408,Sheet3!$A$3))","v":78},{"$f":"+IF(SUMIFS(Sheet4!$FW$2:$FW$8408,Sheet4!$C$2:$C$8408,Sheet3!$B24,Sheet4!$D$2:$D$8408,Sheet3!DK$3,Sheet4!$A$2:$A$8408,Sheet3!$B$1,Sheet4!$B$2:$B$8408,Sheet3!$A$3)<3,0,SUMIFS(Sheet4!$FW$2:$FW$8408,Sheet4!$C$2:$C$8408,Sheet3!$B24,Sheet4!$D$2:$D$8408,Sheet3!DK$3,Sheet4!$A$2:$A$8408,Sheet3!$B$1,Sheet4!$B$2:$B$8408,Sheet3!$A$3))","v":192},{"$f":"+IF(SUMIFS(Sheet4!$FW$2:$FW$8408,Sheet4!$C$2:$C$8408,Sheet3!$B24,Sheet4!$D$2:$D$8408,Sheet3!DL$3,Sheet4!$A$2:$A$8408,Sheet3!$B$1,Sheet4!$B$2:$B$8408,Sheet3!$A$3)<3,0,SUMIFS(Sheet4!$FW$2:$FW$8408,Sheet4!$C$2:$C$8408,Sheet3!$B24,Sheet4!$D$2:$D$8408,Sheet3!DL$3,Sheet4!$A$2:$A$8408,Sheet3!$B$1,Sheet4!$B$2:$B$8408,Sheet3!$A$3))","v":41},{"$f":"+IF(SUMIFS(Sheet4!$FW$2:$FW$8408,Sheet4!$C$2:$C$8408,Sheet3!$B24,Sheet4!$D$2:$D$8408,Sheet3!DM$3,Sheet4!$A$2:$A$8408,Sheet3!$B$1,Sheet4!$B$2:$B$8408,Sheet3!$A$3)<3,0,SUMIFS(Sheet4!$FW$2:$FW$8408,Sheet4!$C$2:$C$8408,Sheet3!$B24,Sheet4!$D$2:$D$8408,Sheet3!DM$3,Sheet4!$A$2:$A$8408,Sheet3!$B$1,Sheet4!$B$2:$B$8408,Sheet3!$A$3))","v":13},{"$f":"+IF(SUMIFS(Sheet4!$FW$2:$FW$8408,Sheet4!$C$2:$C$8408,Sheet3!$B24,Sheet4!$E$2:$E$8408,Sheet3!DN$4,Sheet4!$A$2:$A$8408,Sheet3!$B$1,Sheet4!$B$2:$B$8408,Sheet3!$A$3)<3,0,SUMIFS(Sheet4!$FW$2:$FW$8408,Sheet4!$C$2:$C$8408,Sheet3!$B24,Sheet4!$E$2:$E$8408,Sheet3!DN$4,Sheet4!$A$2:$A$8408,Sheet3!$B$1,Sheet4!$B$2:$B$8408,Sheet3!$A$3))","v":694},{"$f":"+IF(SUMIFS(Sheet4!$FW$2:$FW$8408,Sheet4!$C$2:$C$8408,Sheet3!$B24,Sheet4!$E$2:$E$8408,Sheet3!DO$4,Sheet4!$A$2:$A$8408,Sheet3!$B$1,Sheet4!$B$2:$B$8408,Sheet3!$A$3)<3,0,SUMIFS(Sheet4!$FW$2:$FW$8408,Sheet4!$C$2:$C$8408,Sheet3!$B24,Sheet4!$E$2:$E$8408,Sheet3!DO$4,Sheet4!$A$2:$A$8408,Sheet3!$B$1,Sheet4!$B$2:$B$8408,Sheet3!$A$3))","v":503},{"$f":"+IF(SUMIFS(Sheet4!$FW$2:$FW$8408,Sheet4!$C$2:$C$8408,Sheet3!$B24,Sheet4!$E$2:$E$8408,Sheet3!DP$4,Sheet4!$A$2:$A$8408,Sheet3!$B$1,Sheet4!$B$2:$B$8408,Sheet3!$A$3)<3,0,SUMIFS(Sheet4!$FW$2:$FW$8408,Sheet4!$C$2:$C$8408,Sheet3!$B24,Sheet4!$E$2:$E$8408,Sheet3!DP$4,Sheet4!$A$2:$A$8408,Sheet3!$B$1,Sheet4!$B$2:$B$8408,Sheet3!$A$3))","v":326},{"$f":"+IF(SUMIFS(Sheet4!$FW$2:$FW$8408,Sheet4!$C$2:$C$8408,Sheet3!$B24,Sheet4!$E$2:$E$8408,Sheet3!DQ$4,Sheet4!$A$2:$A$8408,Sheet3!$B$1,Sheet4!$B$2:$B$8408,Sheet3!$A$3)<3,0,SUMIFS(Sheet4!$FW$2:$FW$8408,Sheet4!$C$2:$C$8408,Sheet3!$B24,Sheet4!$E$2:$E$8408,Sheet3!DQ$4,Sheet4!$A$2:$A$8408,Sheet3!$B$1,Sheet4!$B$2:$B$8408,Sheet3!$A$3))","v":64},{"$f":"+IF(SUMIFS(Sheet4!$FW$2:$FW$8408,Sheet4!$C$2:$C$8408,Sheet3!$B24,Sheet4!$E$2:$E$8408,Sheet3!DR$4,Sheet4!$A$2:$A$8408,Sheet3!$B$1,Sheet4!$B$2:$B$8408,Sheet3!$A$3)<3,0,SUMIFS(Sheet4!$FW$2:$FW$8408,Sheet4!$C$2:$C$8408,Sheet3!$B24,Sheet4!$E$2:$E$8408,Sheet3!DR$4,Sheet4!$A$2:$A$8408,Sheet3!$B$1,Sheet4!$B$2:$B$8408,Sheet3!$A$3))","v":4}]
[4,"181","Alentejo Litoral",{"$f":"+SUMIFS(Sheet4!$FV$2:$FV$8408,Sheet4!$C$2:$C$8408,Sheet3!$B25,Sheet4!$D$2:$D$8408,Sheet3!D$3,Sheet4!$E$2:$E$8408,Sheet3!D$4,Sheet4!$A$2:$A$8408,Sheet3!$B$1,Sheet4!$B$2:$B$8408,Sheet3!$A$3)","v":47},{"$f":"+SUMIFS(Sheet4!$FV$2:$FV$8408,Sheet4!$C$2:$C$8408,Sheet3!$B25,Sheet4!$D$2:$D$8408,Sheet3!E$3,Sheet4!$E$2:$E$8408,Sheet3!E$4,Sheet4!$A$2:$A$8408,Sheet3!$B$1,Sheet4!$B$2:$B$8408,Sheet3!$A$3)","v":0},{"$f":"+SUMIFS(Sheet4!$FV$2:$FV$8408,Sheet4!$C$2:$C$8408,Sheet3!$B25,Sheet4!$D$2:$D$8408,Sheet3!F$3,Sheet4!$E$2:$E$8408,Sheet3!F$4,Sheet4!$A$2:$A$8408,Sheet3!$B$1,Sheet4!$B$2:$B$8408,Sheet3!$A$3)","v":6},{"$f":"+SUMIFS(Sheet4!$FV$2:$FV$8408,Sheet4!$C$2:$C$8408,Sheet3!$B25,Sheet4!$D$2:$D$8408,Sheet3!G$3,Sheet4!$E$2:$E$8408,Sheet3!G$4,Sheet4!$A$2:$A$8408,Sheet3!$B$1,Sheet4!$B$2:$B$8408,Sheet3!$A$3)","v":3},{"$f":"+SUMIFS(Sheet4!$FV$2:$FV$8408,Sheet4!$C$2:$C$8408,Sheet3!$B25,Sheet4!$D$2:$D$8408,Sheet3!H$3,Sheet4!$E$2:$E$8408,Sheet3!H$4,Sheet4!$A$2:$A$8408,Sheet3!$B$1,Sheet4!$B$2:$B$8408,Sheet3!$A$3)","v":0},{"$f":"+SUMIFS(Sheet4!$FV$2:$FV$8408,Sheet4!$C$2:$C$8408,Sheet3!$B25,Sheet4!$D$2:$D$8408,Sheet3!I$3,Sheet4!$E$2:$E$8408,Sheet3!I$4,Sheet4!$A$2:$A$8408,Sheet3!$B$1,Sheet4!$B$2:$B$8408,Sheet3!$A$3)","v":0},{"$f":"+SUMIFS(Sheet4!$FV$2:$FV$8408,Sheet4!$C$2:$C$8408,Sheet3!$B25,Sheet4!$D$2:$D$8408,Sheet3!J$3,Sheet4!$E$2:$E$8408,Sheet3!J$4,Sheet4!$A$2:$A$8408,Sheet3!$B$1,Sheet4!$B$2:$B$8408,Sheet3!$A$3)","v":0},{"$f":"+SUMIFS(Sheet4!$FV$2:$FV$8408,Sheet4!$C$2:$C$8408,Sheet3!$B25,Sheet4!$D$2:$D$8408,Sheet3!K$3,Sheet4!$E$2:$E$8408,Sheet3!K$4,Sheet4!$A$2:$A$8408,Sheet3!$B$1,Sheet4!$B$2:$B$8408,Sheet3!$A$3)","v":12},{"$f":"+SUMIFS(Sheet4!$FV$2:$FV$8408,Sheet4!$C$2:$C$8408,Sheet3!$B25,Sheet4!$D$2:$D$8408,Sheet3!L$3,Sheet4!$E$2:$E$8408,Sheet3!L$4,Sheet4!$A$2:$A$8408,Sheet3!$B$1,Sheet4!$B$2:$B$8408,Sheet3!$A$3)","v":0},{"$f":"+SUMIFS(Sheet4!$FV$2:$FV$8408,Sheet4!$C$2:$C$8408,Sheet3!$B25,Sheet4!$D$2:$D$8408,Sheet3!M$3,Sheet4!$E$2:$E$8408,Sheet3!M$4,Sheet4!$A$2:$A$8408,Sheet3!$B$1,Sheet4!$B$2:$B$8408,Sheet3!$A$3)","v":0},{"$f":"+SUMIFS(Sheet4!$FV$2:$FV$8408,Sheet4!$C$2:$C$8408,Sheet3!$B25,Sheet4!$D$2:$D$8408,Sheet3!N$3,Sheet4!$E$2:$E$8408,Sheet3!N$4,Sheet4!$A$2:$A$8408,Sheet3!$B$1,Sheet4!$B$2:$B$8408,Sheet3!$A$3)","v":11},{"$f":"+SUMIFS(Sheet4!$FV$2:$FV$8408,Sheet4!$C$2:$C$8408,Sheet3!$B25,Sheet4!$D$2:$D$8408,Sheet3!O$3,Sheet4!$E$2:$E$8408,Sheet3!O$4,Sheet4!$A$2:$A$8408,Sheet3!$B$1,Sheet4!$B$2:$B$8408,Sheet3!$A$3)","v":21},{"$f":"+SUMIFS(Sheet4!$FV$2:$FV$8408,Sheet4!$C$2:$C$8408,Sheet3!$B25,Sheet4!$D$2:$D$8408,Sheet3!P$3,Sheet4!$E$2:$E$8408,Sheet3!P$4,Sheet4!$A$2:$A$8408,Sheet3!$B$1,Sheet4!$B$2:$B$8408,Sheet3!$A$3)","v":31},{"$f":"+SUMIFS(Sheet4!$FV$2:$FV$8408,Sheet4!$C$2:$C$8408,Sheet3!$B25,Sheet4!$D$2:$D$8408,Sheet3!Q$3,Sheet4!$E$2:$E$8408,Sheet3!Q$4,Sheet4!$A$2:$A$8408,Sheet3!$B$1,Sheet4!$B$2:$B$8408,Sheet3!$A$3)","v":4},{"$f":"+SUMIFS(Sheet4!$FV$2:$FV$8408,Sheet4!$C$2:$C$8408,Sheet3!$B25,Sheet4!$D$2:$D$8408,Sheet3!R$3,Sheet4!$E$2:$E$8408,Sheet3!R$4,Sheet4!$A$2:$A$8408,Sheet3!$B$1,Sheet4!$B$2:$B$8408,Sheet3!$A$3)","v":0},{"$f":"+SUMIFS(Sheet4!$FV$2:$FV$8408,Sheet4!$C$2:$C$8408,Sheet3!$B25,Sheet4!$D$2:$D$8408,Sheet3!S$3,Sheet4!$E$2:$E$8408,Sheet3!S$4,Sheet4!$A$2:$A$8408,Sheet3!$B$1,Sheet4!$B$2:$B$8408,Sheet3!$A$3)","v":9},{"$f":"+SUMIFS(Sheet4!$FV$2:$FV$8408,Sheet4!$C$2:$C$8408,Sheet3!$B25,Sheet4!$D$2:$D$8408,Sheet3!T$3,Sheet4!$E$2:$E$8408,Sheet3!T$4,Sheet4!$A$2:$A$8408,Sheet3!$B$1,Sheet4!$B$2:$B$8408,Sheet3!$A$3)","v":41},{"$f":"+SUMIFS(Sheet4!$FV$2:$FV$8408,Sheet4!$C$2:$C$8408,Sheet3!$B25,Sheet4!$D$2:$D$8408,Sheet3!U$3,Sheet4!$E$2:$E$8408,Sheet3!U$4,Sheet4!$A$2:$A$8408,Sheet3!$B$1,Sheet4!$B$2:$B$8408,Sheet3!$A$3)","v":48},{"$f":"+SUMIFS(Sheet4!$FV$2:$FV$8408,Sheet4!$C$2:$C$8408,Sheet3!$B25,Sheet4!$D$2:$D$8408,Sheet3!V$3,Sheet4!$E$2:$E$8408,Sheet3!V$4,Sheet4!$A$2:$A$8408,Sheet3!$B$1,Sheet4!$B$2:$B$8408,Sheet3!$A$3)","v":3},{"$f":"+SUMIFS(Sheet4!$FV$2:$FV$8408,Sheet4!$C$2:$C$8408,Sheet3!$B25,Sheet4!$D$2:$D$8408,Sheet3!W$3,Sheet4!$E$2:$E$8408,Sheet3!W$4,Sheet4!$A$2:$A$8408,Sheet3!$B$1,Sheet4!$B$2:$B$8408,Sheet3!$A$3)","v":0},{"$f":"+SUMIFS(Sheet4!$FV$2:$FV$8408,Sheet4!$C$2:$C$8408,Sheet3!$B25,Sheet4!$D$2:$D$8408,Sheet3!X$3,Sheet4!$E$2:$E$8408,Sheet3!X$4,Sheet4!$A$2:$A$8408,Sheet3!$B$1,Sheet4!$B$2:$B$8408,Sheet3!$A$3)","v":0},{"$f":"+SUMIFS(Sheet4!$FV$2:$FV$8408,Sheet4!$C$2:$C$8408,Sheet3!$B25,Sheet4!$D$2:$D$8408,Sheet3!Y$3,Sheet4!$E$2:$E$8408,Sheet3!Y$4,Sheet4!$A$2:$A$8408,Sheet3!$B$1,Sheet4!$B$2:$B$8408,Sheet3!$A$3)","v":0},{"$f":"+SUMIFS(Sheet4!$FV$2:$FV$8408,Sheet4!$C$2:$C$8408,Sheet3!$B25,Sheet4!$D$2:$D$8408,Sheet3!Z$3,Sheet4!$E$2:$E$8408,Sheet3!Z$4,Sheet4!$A$2:$A$8408,Sheet3!$B$1,Sheet4!$B$2:$B$8408,Sheet3!$A$3)","v":11},{"$f":"+SUMIFS(Sheet4!$FV$2:$FV$8408,Sheet4!$C$2:$C$8408,Sheet3!$B25,Sheet4!$D$2:$D$8408,Sheet3!AA$3,Sheet4!$E$2:$E$8408,Sheet3!AA$4,Sheet4!$A$2:$A$8408,Sheet3!$B$1,Sheet4!$B$2:$B$8408,Sheet3!$A$3)","v":3},{"$f":"+SUMIFS(Sheet4!$FV$2:$FV$8408,Sheet4!$C$2:$C$8408,Sheet3!$B25,Sheet4!$D$2:$D$8408,Sheet3!AB$3,Sheet4!$E$2:$E$8408,Sheet3!AB$4,Sheet4!$A$2:$A$8408,Sheet3!$B$1,Sheet4!$B$2:$B$8408,Sheet3!$A$3)","v":0},{"$f":"+SUMIFS(Sheet4!$FV$2:$FV$8408,Sheet4!$C$2:$C$8408,Sheet3!$B25,Sheet4!$D$2:$D$8408,Sheet3!AC$3,Sheet4!$E$2:$E$8408,Sheet3!AC$4,Sheet4!$A$2:$A$8408,Sheet3!$B$1,Sheet4!$B$2:$B$8408,Sheet3!$A$3)","v":66},{"$f":"+SUMIFS(Sheet4!$FV$2:$FV$8408,Sheet4!$C$2:$C$8408,Sheet3!$B25,Sheet4!$D$2:$D$8408,Sheet3!AD$3,Sheet4!$E$2:$E$8408,Sheet3!AD$4,Sheet4!$A$2:$A$8408,Sheet3!$B$1,Sheet4!$B$2:$B$8408,Sheet3!$A$3)","v":29},{"$f":"+SUMIFS(Sheet4!$FV$2:$FV$8408,Sheet4!$C$2:$C$8408,Sheet3!$B25,Sheet4!$D$2:$D$8408,Sheet3!AE$3,Sheet4!$E$2:$E$8408,Sheet3!AE$4,Sheet4!$A$2:$A$8408,Sheet3!$B$1,Sheet4!$B$2:$B$8408,Sheet3!$A$3)","v":18},{"$f":"+SUMIFS(Sheet4!$FV$2:$FV$8408,Sheet4!$C$2:$C$8408,Sheet3!$B25,Sheet4!$D$2:$D$8408,Sheet3!AF$3,Sheet4!$E$2:$E$8408,Sheet3!AF$4,Sheet4!$A$2:$A$8408,Sheet3!$B$1,Sheet4!$B$2:$B$8408,Sheet3!$A$3)","v":0},{"$f":"+SUMIFS(Sheet4!$FV$2:$FV$8408,Sheet4!$C$2:$C$8408,Sheet3!$B25,Sheet4!$D$2:$D$8408,Sheet3!AG$3,Sheet4!$E$2:$E$8408,Sheet3!AG$4,Sheet4!$A$2:$A$8408,Sheet3!$B$1,Sheet4!$B$2:$B$8408,Sheet3!$A$3)","v":0},{"$f":"+SUMIFS(Sheet4!$FV$2:$FV$8408,Sheet4!$C$2:$C$8408,Sheet3!$B25,Sheet4!$D$2:$D$8408,Sheet3!AH$3,Sheet4!$E$2:$E$8408,Sheet3!AH$4,Sheet4!$A$2:$A$8408,Sheet3!$B$1,Sheet4!$B$2:$B$8408,Sheet3!$A$3)","v":0},{"$f":"+SUMIFS(Sheet4!$FV$2:$FV$8408,Sheet4!$C$2:$C$8408,Sheet3!$B25,Sheet4!$D$2:$D$8408,Sheet3!AI$3,Sheet4!$E$2:$E$8408,Sheet3!AI$4,Sheet4!$A$2:$A$8408,Sheet3!$B$1,Sheet4!$B$2:$B$8408,Sheet3!$A$3)","v":9},{"$f":"+SUMIFS(Sheet4!$FV$2:$FV$8408,Sheet4!$C$2:$C$8408,Sheet3!$B25,Sheet4!$D$2:$D$8408,Sheet3!AJ$3,Sheet4!$E$2:$E$8408,Sheet3!AJ$4,Sheet4!$A$2:$A$8408,Sheet3!$B$1,Sheet4!$B$2:$B$8408,Sheet3!$A$3)","v":6},{"$f":"+SUMIFS(Sheet4!$FV$2:$FV$8408,Sheet4!$C$2:$C$8408,Sheet3!$B25,Sheet4!$D$2:$D$8408,Sheet3!AK$3,Sheet4!$E$2:$E$8408,Sheet3!AK$4,Sheet4!$A$2:$A$8408,Sheet3!$B$1,Sheet4!$B$2:$B$8408,Sheet3!$A$3)","v":0},{"$f":"+SUMIFS(Sheet4!$FV$2:$FV$8408,Sheet4!$C$2:$C$8408,Sheet3!$B25,Sheet4!$D$2:$D$8408,Sheet3!AL$3,Sheet4!$E$2:$E$8408,Sheet3!AL$4,Sheet4!$A$2:$A$8408,Sheet3!$B$1,Sheet4!$B$2:$B$8408,Sheet3!$A$3)","v":0},{"$f":"+SUMIFS(Sheet4!$FV$2:$FV$8408,Sheet4!$C$2:$C$8408,Sheet3!$B25,Sheet4!$D$2:$D$8408,Sheet3!AM$3,Sheet4!$E$2:$E$8408,Sheet3!AM$4,Sheet4!$A$2:$A$8408,Sheet3!$B$1,Sheet4!$B$2:$B$8408,Sheet3!$A$3)","v":38},{"$f":"+SUMIFS(Sheet4!$FV$2:$FV$8408,Sheet4!$C$2:$C$8408,Sheet3!$B25,Sheet4!$D$2:$D$8408,Sheet3!AN$3,Sheet4!$E$2:$E$8408,Sheet3!AN$4,Sheet4!$A$2:$A$8408,Sheet3!$B$1,Sheet4!$B$2:$B$8408,Sheet3!$A$3)","v":90},{"$f":"+SUMIFS(Sheet4!$FV$2:$FV$8408,Sheet4!$C$2:$C$8408,Sheet3!$B25,Sheet4!$D$2:$D$8408,Sheet3!AO$3,Sheet4!$E$2:$E$8408,Sheet3!AO$4,Sheet4!$A$2:$A$8408,Sheet3!$B$1,Sheet4!$B$2:$B$8408,Sheet3!$A$3)","v":148},{"$f":"+SUMIFS(Sheet4!$FV$2:$FV$8408,Sheet4!$C$2:$C$8408,Sheet3!$B25,Sheet4!$D$2:$D$8408,Sheet3!AP$3,Sheet4!$E$2:$E$8408,Sheet3!AP$4,Sheet4!$A$2:$A$8408,Sheet3!$B$1,Sheet4!$B$2:$B$8408,Sheet3!$A$3)","v":31},{"$f":"+SUMIFS(Sheet4!$FV$2:$FV$8408,Sheet4!$C$2:$C$8408,Sheet3!$B25,Sheet4!$D$2:$D$8408,Sheet3!AQ$3,Sheet4!$E$2:$E$8408,Sheet3!AQ$4,Sheet4!$A$2:$A$8408,Sheet3!$B$1,Sheet4!$B$2:$B$8408,Sheet3!$A$3)","v":0},{"$f":"+SUMIFS(Sheet4!$FV$2:$FV$8408,Sheet4!$C$2:$C$8408,Sheet3!$B25,Sheet4!$D$2:$D$8408,Sheet3!AR$3,Sheet4!$E$2:$E$8408,Sheet3!AR$4,Sheet4!$A$2:$A$8408,Sheet3!$B$1,Sheet4!$B$2:$B$8408,Sheet3!$A$3)","v":53},{"$f":"+SUMIFS(Sheet4!$FV$2:$FV$8408,Sheet4!$C$2:$C$8408,Sheet3!$B25,Sheet4!$D$2:$D$8408,Sheet3!AS$3,Sheet4!$E$2:$E$8408,Sheet3!AS$4,Sheet4!$A$2:$A$8408,Sheet3!$B$1,Sheet4!$B$2:$B$8408,Sheet3!$A$3)","v":5},{"$f":"+SUMIFS(Sheet4!$FV$2:$FV$8408,Sheet4!$C$2:$C$8408,Sheet3!$B25,Sheet4!$D$2:$D$8408,Sheet3!AT$3,Sheet4!$E$2:$E$8408,Sheet3!AT$4,Sheet4!$A$2:$A$8408,Sheet3!$B$1,Sheet4!$B$2:$B$8408,Sheet3!$A$3)","v":18},{"$f":"+SUMIFS(Sheet4!$FV$2:$FV$8408,Sheet4!$C$2:$C$8408,Sheet3!$B25,Sheet4!$D$2:$D$8408,Sheet3!AU$3,Sheet4!$E$2:$E$8408,Sheet3!AU$4,Sheet4!$A$2:$A$8408,Sheet3!$B$1,Sheet4!$B$2:$B$8408,Sheet3!$A$3)","v":5},{"$f":"+SUMIFS(Sheet4!$FV$2:$FV$8408,Sheet4!$C$2:$C$8408,Sheet3!$B25,Sheet4!$D$2:$D$8408,Sheet3!AV$3,Sheet4!$E$2:$E$8408,Sheet3!AV$4,Sheet4!$A$2:$A$8408,Sheet3!$B$1,Sheet4!$B$2:$B$8408,Sheet3!$A$3)","v":0},{"$f":"+SUMIFS(Sheet4!$FV$2:$FV$8408,Sheet4!$C$2:$C$8408,Sheet3!$B25,Sheet4!$D$2:$D$8408,Sheet3!AW$3,Sheet4!$E$2:$E$8408,Sheet3!AW$4,Sheet4!$A$2:$A$8408,Sheet3!$B$1,Sheet4!$B$2:$B$8408,Sheet3!$A$3)","v":91},{"$f":"+SUMIFS(Sheet4!$FV$2:$FV$8408,Sheet4!$C$2:$C$8408,Sheet3!$B25,Sheet4!$D$2:$D$8408,Sheet3!AX$3,Sheet4!$E$2:$E$8408,Sheet3!AX$4,Sheet4!$A$2:$A$8408,Sheet3!$B$1,Sheet4!$B$2:$B$8408,Sheet3!$A$3)","v":150},{"$f":"+SUMIFS(Sheet4!$FV$2:$FV$8408,Sheet4!$C$2:$C$8408,Sheet3!$B25,Sheet4!$D$2:$D$8408,Sheet3!AY$3,Sheet4!$E$2:$E$8408,Sheet3!AY$4,Sheet4!$A$2:$A$8408,Sheet3!$B$1,Sheet4!$B$2:$B$8408,Sheet3!$A$3)","v":122},{"$f":"+SUMIFS(Sheet4!$FV$2:$FV$8408,Sheet4!$C$2:$C$8408,Sheet3!$B25,Sheet4!$D$2:$D$8408,Sheet3!AZ$3,Sheet4!$E$2:$E$8408,Sheet3!AZ$4,Sheet4!$A$2:$A$8408,Sheet3!$B$1,Sheet4!$B$2:$B$8408,Sheet3!$A$3)","v":35},{"$f":"+SUMIFS(Sheet4!$FV$2:$FV$8408,Sheet4!$C$2:$C$8408,Sheet3!$B25,Sheet4!$D$2:$D$8408,Sheet3!BA$3,Sheet4!$E$2:$E$8408,Sheet3!BA$4,Sheet4!$A$2:$A$8408,Sheet3!$B$1,Sheet4!$B$2:$B$8408,Sheet3!$A$3)","v":5},{"$f":"+SUMIFS(Sheet4!$FV$2:$FV$8408,Sheet4!$C$2:$C$8408,Sheet3!$B25,Sheet4!$D$2:$D$8408,Sheet3!BB$3,Sheet4!$E$2:$E$8408,Sheet3!BB$4,Sheet4!$A$2:$A$8408,Sheet3!$B$1,Sheet4!$B$2:$B$8408,Sheet3!$A$3)","v":0},{"$f":"+SUMIFS(Sheet4!$FV$2:$FV$8408,Sheet4!$C$2:$C$8408,Sheet3!$B25,Sheet4!$D$2:$D$8408,Sheet3!BC$3,Sheet4!$E$2:$E$8408,Sheet3!BC$4,Sheet4!$A$2:$A$8408,Sheet3!$B$1,Sheet4!$B$2:$B$8408,Sheet3!$A$3)","v":0},{"$f":"+SUMIFS(Sheet4!$FV$2:$FV$8408,Sheet4!$C$2:$C$8408,Sheet3!$B25,Sheet4!$D$2:$D$8408,Sheet3!BD$3,Sheet4!$E$2:$E$8408,Sheet3!BD$4,Sheet4!$A$2:$A$8408,Sheet3!$B$1,Sheet4!$B$2:$B$8408,Sheet3!$A$3)","v":10},{"$f":"+SUMIFS(Sheet4!$FV$2:$FV$8408,Sheet4!$C$2:$C$8408,Sheet3!$B25,Sheet4!$D$2:$D$8408,Sheet3!BE$3,Sheet4!$E$2:$E$8408,Sheet3!BE$4,Sheet4!$A$2:$A$8408,Sheet3!$B$1,Sheet4!$B$2:$B$8408,Sheet3!$A$3)","v":3},{"$f":"+SUMIFS(Sheet4!$FV$2:$FV$8408,Sheet4!$C$2:$C$8408,Sheet3!$B25,Sheet4!$D$2:$D$8408,Sheet3!BF$3,Sheet4!$E$2:$E$8408,Sheet3!BF$4,Sheet4!$A$2:$A$8408,Sheet3!$B$1,Sheet4!$B$2:$B$8408,Sheet3!$A$3)","v":0},{"$f":"+SUMIFS(Sheet4!$FV$2:$FV$8408,Sheet4!$C$2:$C$8408,Sheet3!$B25,Sheet4!$D$2:$D$8408,Sheet3!BG$3,Sheet4!$E$2:$E$8408,Sheet3!BG$4,Sheet4!$A$2:$A$8408,Sheet3!$B$1,Sheet4!$B$2:$B$8408,Sheet3!$A$3)","v":5},{"$f":"+SUMIFS(Sheet4!$FV$2:$FV$8408,Sheet4!$C$2:$C$8408,Sheet3!$B25,Sheet4!$D$2:$D$8408,Sheet3!BH$3,Sheet4!$E$2:$E$8408,Sheet3!BH$4,Sheet4!$A$2:$A$8408,Sheet3!$B$1,Sheet4!$B$2:$B$8408,Sheet3!$A$3)","v":40},{"$f":"+SUMIFS(Sheet4!$FV$2:$FV$8408,Sheet4!$C$2:$C$8408,Sheet3!$B25,Sheet4!$D$2:$D$8408,Sheet3!BI$3,Sheet4!$E$2:$E$8408,Sheet3!BI$4,Sheet4!$A$2:$A$8408,Sheet3!$B$1,Sheet4!$B$2:$B$8408,Sheet3!$A$3)","v":54},{"$f":"+SUMIFS(Sheet4!$FV$2:$FV$8408,Sheet4!$C$2:$C$8408,Sheet3!$B25,Sheet4!$D$2:$D$8408,Sheet3!BJ$3,Sheet4!$E$2:$E$8408,Sheet3!BJ$4,Sheet4!$A$2:$A$8408,Sheet3!$B$1,Sheet4!$B$2:$B$8408,Sheet3!$A$3)","v":7},{"$f":"+SUMIFS(Sheet4!$FV$2:$FV$8408,Sheet4!$C$2:$C$8408,Sheet3!$B25,Sheet4!$D$2:$D$8408,Sheet3!BK$3,Sheet4!$E$2:$E$8408,Sheet3!BK$4,Sheet4!$A$2:$A$8408,Sheet3!$B$1,Sheet4!$B$2:$B$8408,Sheet3!$A$3)","v":0},{"$f":"+SUMIFS(Sheet4!$FV$2:$FV$8408,Sheet4!$C$2:$C$8408,Sheet3!$B25,Sheet4!$D$2:$D$8408,Sheet3!BL$3,Sheet4!$E$2:$E$8408,Sheet3!BL$4,Sheet4!$A$2:$A$8408,Sheet3!$B$1,Sheet4!$B$2:$B$8408,Sheet3!$A$3)","v":32},{"$f":"+SUMIFS(Sheet4!$FV$2:$FV$8408,Sheet4!$C$2:$C$8408,Sheet3!$B25,Sheet4!$D$2:$D$8408,Sheet3!BM$3,Sheet4!$E$2:$E$8408,Sheet3!BM$4,Sheet4!$A$2:$A$8408,Sheet3!$B$1,Sheet4!$B$2:$B$8408,Sheet3!$A$3)","v":13},{"$f":"+SUMIFS(Sheet4!$FV$2:$FV$8408,Sheet4!$C$2:$C$8408,Sheet3!$B25,Sheet4!$D$2:$D$8408,Sheet3!BN$3,Sheet4!$E$2:$E$8408,Sheet3!BN$4,Sheet4!$A$2:$A$8408,Sheet3!$B$1,Sheet4!$B$2:$B$8408,Sheet3!$A$3)","v":0},{"$f":"+SUMIFS(Sheet4!$FV$2:$FV$8408,Sheet4!$C$2:$C$8408,Sheet3!$B25,Sheet4!$D$2:$D$8408,Sheet3!BO$3,Sheet4!$E$2:$E$8408,Sheet3!BO$4,Sheet4!$A$2:$A$8408,Sheet3!$B$1,Sheet4!$B$2:$B$8408,Sheet3!$A$3)","v":0},{"$f":"+SUMIFS(Sheet4!$FV$2:$FV$8408,Sheet4!$C$2:$C$8408,Sheet3!$B25,Sheet4!$D$2:$D$8408,Sheet3!BP$3,Sheet4!$E$2:$E$8408,Sheet3!BP$4,Sheet4!$A$2:$A$8408,Sheet3!$B$1,Sheet4!$B$2:$B$8408,Sheet3!$A$3)","v":0},{"$f":"+SUMIFS(Sheet4!$FV$2:$FV$8408,Sheet4!$C$2:$C$8408,Sheet3!$B25,Sheet4!$D$2:$D$8408,Sheet3!BQ$3,Sheet4!$E$2:$E$8408,Sheet3!BQ$4,Sheet4!$A$2:$A$8408,Sheet3!$B$1,Sheet4!$B$2:$B$8408,Sheet3!$A$3)","v":0},{"$f":"+SUMIFS(Sheet4!$FV$2:$FV$8408,Sheet4!$C$2:$C$8408,Sheet3!$B25,Sheet4!$D$2:$D$8408,Sheet3!BR$3,Sheet4!$E$2:$E$8408,Sheet3!BR$4,Sheet4!$A$2:$A$8408,Sheet3!$B$1,Sheet4!$B$2:$B$8408,Sheet3!$A$3)","v":67},{"$f":"+SUMIFS(Sheet4!$FV$2:$FV$8408,Sheet4!$C$2:$C$8408,Sheet3!$B25,Sheet4!$D$2:$D$8408,Sheet3!BS$3,Sheet4!$E$2:$E$8408,Sheet3!BS$4,Sheet4!$A$2:$A$8408,Sheet3!$B$1,Sheet4!$B$2:$B$8408,Sheet3!$A$3)","v":195},{"$f":"+SUMIFS(Sheet4!$FV$2:$FV$8408,Sheet4!$C$2:$C$8408,Sheet3!$B25,Sheet4!$D$2:$D$8408,Sheet3!BT$3,Sheet4!$E$2:$E$8408,Sheet3!BT$4,Sheet4!$A$2:$A$8408,Sheet3!$B$1,Sheet4!$B$2:$B$8408,Sheet3!$A$3)","v":91},{"$f":"+SUMIFS(Sheet4!$FV$2:$FV$8408,Sheet4!$C$2:$C$8408,Sheet3!$B25,Sheet4!$D$2:$D$8408,Sheet3!BU$3,Sheet4!$E$2:$E$8408,Sheet3!BU$4,Sheet4!$A$2:$A$8408,Sheet3!$B$1,Sheet4!$B$2:$B$8408,Sheet3!$A$3)","v":4},{"$f":"+SUMIFS(Sheet4!$FV$2:$FV$8408,Sheet4!$C$2:$C$8408,Sheet3!$B25,Sheet4!$D$2:$D$8408,Sheet3!BV$3,Sheet4!$E$2:$E$8408,Sheet3!BV$4,Sheet4!$A$2:$A$8408,Sheet3!$B$1,Sheet4!$B$2:$B$8408,Sheet3!$A$3)","v":143},{"$f":"+SUMIFS(Sheet4!$FV$2:$FV$8408,Sheet4!$C$2:$C$8408,Sheet3!$B25,Sheet4!$D$2:$D$8408,Sheet3!BW$3,Sheet4!$E$2:$E$8408,Sheet3!BW$4,Sheet4!$A$2:$A$8408,Sheet3!$B$1,Sheet4!$B$2:$B$8408,Sheet3!$A$3)","v":207},{"$f":"+SUMIFS(Sheet4!$FV$2:$FV$8408,Sheet4!$C$2:$C$8408,Sheet3!$B25,Sheet4!$D$2:$D$8408,Sheet3!BX$3,Sheet4!$E$2:$E$8408,Sheet3!BX$4,Sheet4!$A$2:$A$8408,Sheet3!$B$1,Sheet4!$B$2:$B$8408,Sheet3!$A$3)","v":244},{"$f":"+SUMIFS(Sheet4!$FV$2:$FV$8408,Sheet4!$C$2:$C$8408,Sheet3!$B25,Sheet4!$D$2:$D$8408,Sheet3!BY$3,Sheet4!$E$2:$E$8408,Sheet3!BY$4,Sheet4!$A$2:$A$8408,Sheet3!$B$1,Sheet4!$B$2:$B$8408,Sheet3!$A$3)","v":51},{"$f":"+SUMIFS(Sheet4!$FV$2:$FV$8408,Sheet4!$C$2:$C$8408,Sheet3!$B25,Sheet4!$D$2:$D$8408,Sheet3!BZ$3,Sheet4!$E$2:$E$8408,Sheet3!BZ$4,Sheet4!$A$2:$A$8408,Sheet3!$B$1,Sheet4!$B$2:$B$8408,Sheet3!$A$3)","v":0},{"$f":"+SUMIFS(Sheet4!$FV$2:$FV$8408,Sheet4!$C$2:$C$8408,Sheet3!$B25,Sheet4!$D$2:$D$8408,Sheet3!CA$3,Sheet4!$E$2:$E$8408,Sheet3!CA$4,Sheet4!$A$2:$A$8408,Sheet3!$B$1,Sheet4!$B$2:$B$8408,Sheet3!$A$3)","v":38},{"$f":"+SUMIFS(Sheet4!$FV$2:$FV$8408,Sheet4!$C$2:$C$8408,Sheet3!$B25,Sheet4!$D$2:$D$8408,Sheet3!CB$3,Sheet4!$E$2:$E$8408,Sheet3!CB$4,Sheet4!$A$2:$A$8408,Sheet3!$B$1,Sheet4!$B$2:$B$8408,Sheet3!$A$3)","v":49},{"$f":"+SUMIFS(Sheet4!$FV$2:$FV$8408,Sheet4!$C$2:$C$8408,Sheet3!$B25,Sheet4!$D$2:$D$8408,Sheet3!CC$3,Sheet4!$E$2:$E$8408,Sheet3!CC$4,Sheet4!$A$2:$A$8408,Sheet3!$B$1,Sheet4!$B$2:$B$8408,Sheet3!$A$3)","v":58},{"$f":"+SUMIFS(Sheet4!$FV$2:$FV$8408,Sheet4!$C$2:$C$8408,Sheet3!$B25,Sheet4!$D$2:$D$8408,Sheet3!CD$3,Sheet4!$E$2:$E$8408,Sheet3!CD$4,Sheet4!$A$2:$A$8408,Sheet3!$B$1,Sheet4!$B$2:$B$8408,Sheet3!$A$3)","v":47},{"$f":"+SUMIFS(Sheet4!$FV$2:$FV$8408,Sheet4!$C$2:$C$8408,Sheet3!$B25,Sheet4!$D$2:$D$8408,Sheet3!CE$3,Sheet4!$E$2:$E$8408,Sheet3!CE$4,Sheet4!$A$2:$A$8408,Sheet3!$B$1,Sheet4!$B$2:$B$8408,Sheet3!$A$3)","v":4},{"$f":"+SUMIFS(Sheet4!$FV$2:$FV$8408,Sheet4!$C$2:$C$8408,Sheet3!$B25,Sheet4!$D$2:$D$8408,Sheet3!CF$3,Sheet4!$E$2:$E$8408,Sheet3!CF$4,Sheet4!$A$2:$A$8408,Sheet3!$B$1,Sheet4!$B$2:$B$8408,Sheet3!$A$3)","v":166},{"$f":"+SUMIFS(Sheet4!$FV$2:$FV$8408,Sheet4!$C$2:$C$8408,Sheet3!$B25,Sheet4!$D$2:$D$8408,Sheet3!CG$3,Sheet4!$E$2:$E$8408,Sheet3!CG$4,Sheet4!$A$2:$A$8408,Sheet3!$B$1,Sheet4!$B$2:$B$8408,Sheet3!$A$3)","v":299},{"$f":"+SUMIFS(Sheet4!$FV$2:$FV$8408,Sheet4!$C$2:$C$8408,Sheet3!$B25,Sheet4!$D$2:$D$8408,Sheet3!CH$3,Sheet4!$E$2:$E$8408,Sheet3!CH$4,Sheet4!$A$2:$A$8408,Sheet3!$B$1,Sheet4!$B$2:$B$8408,Sheet3!$A$3)","v":328},{"$f":"+SUMIFS(Sheet4!$FV$2:$FV$8408,Sheet4!$C$2:$C$8408,Sheet3!$B25,Sheet4!$D$2:$D$8408,Sheet3!CI$3,Sheet4!$E$2:$E$8408,Sheet3!CI$4,Sheet4!$A$2:$A$8408,Sheet3!$B$1,Sheet4!$B$2:$B$8408,Sheet3!$A$3)","v":33},{"$f":"+SUMIFS(Sheet4!$FV$2:$FV$8408,Sheet4!$C$2:$C$8408,Sheet3!$B25,Sheet4!$D$2:$D$8408,Sheet3!CJ$3,Sheet4!$E$2:$E$8408,Sheet3!CJ$4,Sheet4!$A$2:$A$8408,Sheet3!$B$1,Sheet4!$B$2:$B$8408,Sheet3!$A$3)","v":0},{"$f":"+SUMIFS(Sheet4!$FV$2:$FV$8408,Sheet4!$C$2:$C$8408,Sheet3!$B25,Sheet4!$D$2:$D$8408,Sheet3!CK$3,Sheet4!$E$2:$E$8408,Sheet3!CK$4,Sheet4!$A$2:$A$8408,Sheet3!$B$1,Sheet4!$B$2:$B$8408,Sheet3!$A$3)","v":0},{"$f":"+SUMIFS(Sheet4!$FV$2:$FV$8408,Sheet4!$C$2:$C$8408,Sheet3!$B25,Sheet4!$D$2:$D$8408,Sheet3!CL$3,Sheet4!$E$2:$E$8408,Sheet3!CL$4,Sheet4!$A$2:$A$8408,Sheet3!$B$1,Sheet4!$B$2:$B$8408,Sheet3!$A$3)","v":0},{"$f":"+SUMIFS(Sheet4!$FV$2:$FV$8408,Sheet4!$C$2:$C$8408,Sheet3!$B25,Sheet4!$D$2:$D$8408,Sheet3!CM$3,Sheet4!$E$2:$E$8408,Sheet3!CM$4,Sheet4!$A$2:$A$8408,Sheet3!$B$1,Sheet4!$B$2:$B$8408,Sheet3!$A$3)","v":12},{"$f":"+SUMIFS(Sheet4!$FV$2:$FV$8408,Sheet4!$C$2:$C$8408,Sheet3!$B25,Sheet4!$D$2:$D$8408,Sheet3!CN$3,Sheet4!$E$2:$E$8408,Sheet3!CN$4,Sheet4!$A$2:$A$8408,Sheet3!$B$1,Sheet4!$B$2:$B$8408,Sheet3!$A$3)","v":0},{"$f":"+SUMIFS(Sheet4!$FV$2:$FV$8408,Sheet4!$C$2:$C$8408,Sheet3!$B25,Sheet4!$D$2:$D$8408,Sheet3!CO$3,Sheet4!$E$2:$E$8408,Sheet3!CO$4,Sheet4!$A$2:$A$8408,Sheet3!$B$1,Sheet4!$B$2:$B$8408,Sheet3!$A$3)","v":0},{"$f":"+SUMIFS(Sheet4!$FV$2:$FV$8408,Sheet4!$C$2:$C$8408,Sheet3!$B25,Sheet4!$D$2:$D$8408,Sheet3!CP$3,Sheet4!$E$2:$E$8408,Sheet3!CP$4,Sheet4!$A$2:$A$8408,Sheet3!$B$1,Sheet4!$B$2:$B$8408,Sheet3!$A$3)","v":0},{"$f":"+SUMIFS(Sheet4!$FV$2:$FV$8408,Sheet4!$C$2:$C$8408,Sheet3!$B25,Sheet4!$D$2:$D$8408,Sheet3!CQ$3,Sheet4!$E$2:$E$8408,Sheet3!CQ$4,Sheet4!$A$2:$A$8408,Sheet3!$B$1,Sheet4!$B$2:$B$8408,Sheet3!$A$3)","v":0},{"$f":"+SUMIFS(Sheet4!$FV$2:$FV$8408,Sheet4!$C$2:$C$8408,Sheet3!$B25,Sheet4!$D$2:$D$8408,Sheet3!CR$3,Sheet4!$E$2:$E$8408,Sheet3!CR$4,Sheet4!$A$2:$A$8408,Sheet3!$B$1,Sheet4!$B$2:$B$8408,Sheet3!$A$3)","v":0},{"$f":"+SUMIFS(Sheet4!$FV$2:$FV$8408,Sheet4!$C$2:$C$8408,Sheet3!$B25,Sheet4!$D$2:$D$8408,Sheet3!CS$3,Sheet4!$E$2:$E$8408,Sheet3!CS$4,Sheet4!$A$2:$A$8408,Sheet3!$B$1,Sheet4!$B$2:$B$8408,Sheet3!$A$3)","v":0},{"$f":"+SUMIFS(Sheet4!$FV$2:$FV$8408,Sheet4!$C$2:$C$8408,Sheet3!$B25,Sheet4!$D$2:$D$8408,Sheet3!CT$3,Sheet4!$E$2:$E$8408,Sheet3!CT$4,Sheet4!$A$2:$A$8408,Sheet3!$B$1,Sheet4!$B$2:$B$8408,Sheet3!$A$3)","v":0},{"$f":"+IF(SUMIFS(Sheet4!$FW$2:$FW$8408,Sheet4!$C$2:$C$8408,Sheet3!$B25,Sheet4!$D$2:$D$8408,Sheet3!CU$3,Sheet4!$A$2:$A$8408,Sheet3!$B$1,Sheet4!$B$2:$B$8408,Sheet3!$A$3)<3,0,SUMIFS(Sheet4!$FW$2:$FW$8408,Sheet4!$C$2:$C$8408,Sheet3!$B25,Sheet4!$D$2:$D$8408,Sheet3!CU$3,Sheet4!$A$2:$A$8408,Sheet3!$B$1,Sheet4!$B$2:$B$8408,Sheet3!$A$3))","v":65},{"$f":"+IF(SUMIFS(Sheet4!$FW$2:$FW$8408,Sheet4!$C$2:$C$8408,Sheet3!$B25,Sheet4!$D$2:$D$8408,Sheet3!CV$3,Sheet4!$A$2:$A$8408,Sheet3!$B$1,Sheet4!$B$2:$B$8408,Sheet3!$A$3)<3,0,SUMIFS(Sheet4!$FW$2:$FW$8408,Sheet4!$C$2:$C$8408,Sheet3!$B25,Sheet4!$D$2:$D$8408,Sheet3!CV$3,Sheet4!$A$2:$A$8408,Sheet3!$B$1,Sheet4!$B$2:$B$8408,Sheet3!$A$3))","v":15},{"$f":"+IF(SUMIFS(Sheet4!$FW$2:$FW$8408,Sheet4!$C$2:$C$8408,Sheet3!$B25,Sheet4!$D$2:$D$8408,Sheet3!CW$3,Sheet4!$A$2:$A$8408,Sheet3!$B$1,Sheet4!$B$2:$B$8408,Sheet3!$A$3)<3,0,SUMIFS(Sheet4!$FW$2:$FW$8408,Sheet4!$C$2:$C$8408,Sheet3!$B25,Sheet4!$D$2:$D$8408,Sheet3!CW$3,Sheet4!$A$2:$A$8408,Sheet3!$B$1,Sheet4!$B$2:$B$8408,Sheet3!$A$3))","v":71},{"$f":"+IF(SUMIFS(Sheet4!$FW$2:$FW$8408,Sheet4!$C$2:$C$8408,Sheet3!$B25,Sheet4!$D$2:$D$8408,Sheet3!CX$3,Sheet4!$A$2:$A$8408,Sheet3!$B$1,Sheet4!$B$2:$B$8408,Sheet3!$A$3)<3,0,SUMIFS(Sheet4!$FW$2:$FW$8408,Sheet4!$C$2:$C$8408,Sheet3!$B25,Sheet4!$D$2:$D$8408,Sheet3!CX$3,Sheet4!$A$2:$A$8408,Sheet3!$B$1,Sheet4!$B$2:$B$8408,Sheet3!$A$3))","v":106},{"$f":"+IF(SUMIFS(Sheet4!$FW$2:$FW$8408,Sheet4!$C$2:$C$8408,Sheet3!$B25,Sheet4!$D$2:$D$8408,Sheet3!CY$3,Sheet4!$A$2:$A$8408,Sheet3!$B$1,Sheet4!$B$2:$B$8408,Sheet3!$A$3)<3,0,SUMIFS(Sheet4!$FW$2:$FW$8408,Sheet4!$C$2:$C$8408,Sheet3!$B25,Sheet4!$D$2:$D$8408,Sheet3!CY$3,Sheet4!$A$2:$A$8408,Sheet3!$B$1,Sheet4!$B$2:$B$8408,Sheet3!$A$3))","v":15},{"$f":"+IF(SUMIFS(Sheet4!$FW$2:$FW$8408,Sheet4!$C$2:$C$8408,Sheet3!$B25,Sheet4!$D$2:$D$8408,Sheet3!CZ$3,Sheet4!$A$2:$A$8408,Sheet3!$B$1,Sheet4!$B$2:$B$8408,Sheet3!$A$3)<3,0,SUMIFS(Sheet4!$FW$2:$FW$8408,Sheet4!$C$2:$C$8408,Sheet3!$B25,Sheet4!$D$2:$D$8408,Sheet3!CZ$3,Sheet4!$A$2:$A$8408,Sheet3!$B$1,Sheet4!$B$2:$B$8408,Sheet3!$A$3))","v":120},{"$f":"+IF(SUMIFS(Sheet4!$FW$2:$FW$8408,Sheet4!$C$2:$C$8408,Sheet3!$B25,Sheet4!$D$2:$D$8408,Sheet3!DA$3,Sheet4!$A$2:$A$8408,Sheet3!$B$1,Sheet4!$B$2:$B$8408,Sheet3!$A$3)<3,0,SUMIFS(Sheet4!$FW$2:$FW$8408,Sheet4!$C$2:$C$8408,Sheet3!$B25,Sheet4!$D$2:$D$8408,Sheet3!DA$3,Sheet4!$A$2:$A$8408,Sheet3!$B$1,Sheet4!$B$2:$B$8408,Sheet3!$A$3))","v":22},{"$f":"+IF(SUMIFS(Sheet4!$FW$2:$FW$8408,Sheet4!$C$2:$C$8408,Sheet3!$B25,Sheet4!$D$2:$D$8408,Sheet3!DB$3,Sheet4!$A$2:$A$8408,Sheet3!$B$1,Sheet4!$B$2:$B$8408,Sheet3!$A$3)<3,0,SUMIFS(Sheet4!$FW$2:$FW$8408,Sheet4!$C$2:$C$8408,Sheet3!$B25,Sheet4!$D$2:$D$8408,Sheet3!DB$3,Sheet4!$A$2:$A$8408,Sheet3!$B$1,Sheet4!$B$2:$B$8408,Sheet3!$A$3))","v":315},{"$f":"+IF(SUMIFS(Sheet4!$FW$2:$FW$8408,Sheet4!$C$2:$C$8408,Sheet3!$B25,Sheet4!$D$2:$D$8408,Sheet3!DC$3,Sheet4!$A$2:$A$8408,Sheet3!$B$1,Sheet4!$B$2:$B$8408,Sheet3!$A$3)<3,0,SUMIFS(Sheet4!$FW$2:$FW$8408,Sheet4!$C$2:$C$8408,Sheet3!$B25,Sheet4!$D$2:$D$8408,Sheet3!DC$3,Sheet4!$A$2:$A$8408,Sheet3!$B$1,Sheet4!$B$2:$B$8408,Sheet3!$A$3))","v":86},{"$f":"+IF(SUMIFS(Sheet4!$FW$2:$FW$8408,Sheet4!$C$2:$C$8408,Sheet3!$B25,Sheet4!$D$2:$D$8408,Sheet3!DD$3,Sheet4!$A$2:$A$8408,Sheet3!$B$1,Sheet4!$B$2:$B$8408,Sheet3!$A$3)<3,0,SUMIFS(Sheet4!$FW$2:$FW$8408,Sheet4!$C$2:$C$8408,Sheet3!$B25,Sheet4!$D$2:$D$8408,Sheet3!DD$3,Sheet4!$A$2:$A$8408,Sheet3!$B$1,Sheet4!$B$2:$B$8408,Sheet3!$A$3))","v":404},{"$f":"+IF(SUMIFS(Sheet4!$FW$2:$FW$8408,Sheet4!$C$2:$C$8408,Sheet3!$B25,Sheet4!$D$2:$D$8408,Sheet3!DE$3,Sheet4!$A$2:$A$8408,Sheet3!$B$1,Sheet4!$B$2:$B$8408,Sheet3!$A$3)<3,0,SUMIFS(Sheet4!$FW$2:$FW$8408,Sheet4!$C$2:$C$8408,Sheet3!$B25,Sheet4!$D$2:$D$8408,Sheet3!DE$3,Sheet4!$A$2:$A$8408,Sheet3!$B$1,Sheet4!$B$2:$B$8408,Sheet3!$A$3))","v":14},{"$f":"+IF(SUMIFS(Sheet4!$FW$2:$FW$8408,Sheet4!$C$2:$C$8408,Sheet3!$B25,Sheet4!$D$2:$D$8408,Sheet3!DF$3,Sheet4!$A$2:$A$8408,Sheet3!$B$1,Sheet4!$B$2:$B$8408,Sheet3!$A$3)<3,0,SUMIFS(Sheet4!$FW$2:$FW$8408,Sheet4!$C$2:$C$8408,Sheet3!$B25,Sheet4!$D$2:$D$8408,Sheet3!DF$3,Sheet4!$A$2:$A$8408,Sheet3!$B$1,Sheet4!$B$2:$B$8408,Sheet3!$A$3))","v":112},{"$f":"+IF(SUMIFS(Sheet4!$FW$2:$FW$8408,Sheet4!$C$2:$C$8408,Sheet3!$B25,Sheet4!$D$2:$D$8408,Sheet3!DG$3,Sheet4!$A$2:$A$8408,Sheet3!$B$1,Sheet4!$B$2:$B$8408,Sheet3!$A$3)<3,0,SUMIFS(Sheet4!$FW$2:$FW$8408,Sheet4!$C$2:$C$8408,Sheet3!$B25,Sheet4!$D$2:$D$8408,Sheet3!DG$3,Sheet4!$A$2:$A$8408,Sheet3!$B$1,Sheet4!$B$2:$B$8408,Sheet3!$A$3))","v":51},{"$f":"+IF(SUMIFS(Sheet4!$FW$2:$FW$8408,Sheet4!$C$2:$C$8408,Sheet3!$B25,Sheet4!$D$2:$D$8408,Sheet3!DH$3,Sheet4!$A$2:$A$8408,Sheet3!$B$1,Sheet4!$B$2:$B$8408,Sheet3!$A$3)<3,0,SUMIFS(Sheet4!$FW$2:$FW$8408,Sheet4!$C$2:$C$8408,Sheet3!$B25,Sheet4!$D$2:$D$8408,Sheet3!DH$3,Sheet4!$A$2:$A$8408,Sheet3!$B$1,Sheet4!$B$2:$B$8408,Sheet3!$A$3))","v":360},{"$f":"+IF(SUMIFS(Sheet4!$FW$2:$FW$8408,Sheet4!$C$2:$C$8408,Sheet3!$B25,Sheet4!$D$2:$D$8408,Sheet3!DI$3,Sheet4!$A$2:$A$8408,Sheet3!$B$1,Sheet4!$B$2:$B$8408,Sheet3!$A$3)<3,0,SUMIFS(Sheet4!$FW$2:$FW$8408,Sheet4!$C$2:$C$8408,Sheet3!$B25,Sheet4!$D$2:$D$8408,Sheet3!DI$3,Sheet4!$A$2:$A$8408,Sheet3!$B$1,Sheet4!$B$2:$B$8408,Sheet3!$A$3))","v":650},{"$f":"+IF(SUMIFS(Sheet4!$FW$2:$FW$8408,Sheet4!$C$2:$C$8408,Sheet3!$B25,Sheet4!$D$2:$D$8408,Sheet3!DJ$3,Sheet4!$A$2:$A$8408,Sheet3!$B$1,Sheet4!$B$2:$B$8408,Sheet3!$A$3)<3,0,SUMIFS(Sheet4!$FW$2:$FW$8408,Sheet4!$C$2:$C$8408,Sheet3!$B25,Sheet4!$D$2:$D$8408,Sheet3!DJ$3,Sheet4!$A$2:$A$8408,Sheet3!$B$1,Sheet4!$B$2:$B$8408,Sheet3!$A$3))","v":201},{"$f":"+IF(SUMIFS(Sheet4!$FW$2:$FW$8408,Sheet4!$C$2:$C$8408,Sheet3!$B25,Sheet4!$D$2:$D$8408,Sheet3!DK$3,Sheet4!$A$2:$A$8408,Sheet3!$B$1,Sheet4!$B$2:$B$8408,Sheet3!$A$3)<3,0,SUMIFS(Sheet4!$FW$2:$FW$8408,Sheet4!$C$2:$C$8408,Sheet3!$B25,Sheet4!$D$2:$D$8408,Sheet3!DK$3,Sheet4!$A$2:$A$8408,Sheet3!$B$1,Sheet4!$B$2:$B$8408,Sheet3!$A$3))","v":827},{"$f":"+IF(SUMIFS(Sheet4!$FW$2:$FW$8408,Sheet4!$C$2:$C$8408,Sheet3!$B25,Sheet4!$D$2:$D$8408,Sheet3!DL$3,Sheet4!$A$2:$A$8408,Sheet3!$B$1,Sheet4!$B$2:$B$8408,Sheet3!$A$3)<3,0,SUMIFS(Sheet4!$FW$2:$FW$8408,Sheet4!$C$2:$C$8408,Sheet3!$B25,Sheet4!$D$2:$D$8408,Sheet3!DL$3,Sheet4!$A$2:$A$8408,Sheet3!$B$1,Sheet4!$B$2:$B$8408,Sheet3!$A$3))","v":14},{"$f":"+IF(SUMIFS(Sheet4!$FW$2:$FW$8408,Sheet4!$C$2:$C$8408,Sheet3!$B25,Sheet4!$D$2:$D$8408,Sheet3!DM$3,Sheet4!$A$2:$A$8408,Sheet3!$B$1,Sheet4!$B$2:$B$8408,Sheet3!$A$3)<3,0,SUMIFS(Sheet4!$FW$2:$FW$8408,Sheet4!$C$2:$C$8408,Sheet3!$B25,Sheet4!$D$2:$D$8408,Sheet3!DM$3,Sheet4!$A$2:$A$8408,Sheet3!$B$1,Sheet4!$B$2:$B$8408,Sheet3!$A$3))","v":0},{"$f":"+IF(SUMIFS(Sheet4!$FW$2:$FW$8408,Sheet4!$C$2:$C$8408,Sheet3!$B25,Sheet4!$E$2:$E$8408,Sheet3!DN$4,Sheet4!$A$2:$A$8408,Sheet3!$B$1,Sheet4!$B$2:$B$8408,Sheet3!$A$3)<3,0,SUMIFS(Sheet4!$FW$2:$FW$8408,Sheet4!$C$2:$C$8408,Sheet3!$B25,Sheet4!$E$2:$E$8408,Sheet3!DN$4,Sheet4!$A$2:$A$8408,Sheet3!$B$1,Sheet4!$B$2:$B$8408,Sheet3!$A$3))","v":718},{"$f":"+IF(SUMIFS(Sheet4!$FW$2:$FW$8408,Sheet4!$C$2:$C$8408,Sheet3!$B25,Sheet4!$E$2:$E$8408,Sheet3!DO$4,Sheet4!$A$2:$A$8408,Sheet3!$B$1,Sheet4!$B$2:$B$8408,Sheet3!$A$3)<3,0,SUMIFS(Sheet4!$FW$2:$FW$8408,Sheet4!$C$2:$C$8408,Sheet3!$B25,Sheet4!$E$2:$E$8408,Sheet3!DO$4,Sheet4!$A$2:$A$8408,Sheet3!$B$1,Sheet4!$B$2:$B$8408,Sheet3!$A$3))","v":1049},{"$f":"+IF(SUMIFS(Sheet4!$FW$2:$FW$8408,Sheet4!$C$2:$C$8408,Sheet3!$B25,Sheet4!$E$2:$E$8408,Sheet3!DP$4,Sheet4!$A$2:$A$8408,Sheet3!$B$1,Sheet4!$B$2:$B$8408,Sheet3!$A$3)<3,0,SUMIFS(Sheet4!$FW$2:$FW$8408,Sheet4!$C$2:$C$8408,Sheet3!$B25,Sheet4!$E$2:$E$8408,Sheet3!DP$4,Sheet4!$A$2:$A$8408,Sheet3!$B$1,Sheet4!$B$2:$B$8408,Sheet3!$A$3))","v":1335},{"$f":"+IF(SUMIFS(Sheet4!$FW$2:$FW$8408,Sheet4!$C$2:$C$8408,Sheet3!$B25,Sheet4!$E$2:$E$8408,Sheet3!DQ$4,Sheet4!$A$2:$A$8408,Sheet3!$B$1,Sheet4!$B$2:$B$8408,Sheet3!$A$3)<3,0,SUMIFS(Sheet4!$FW$2:$FW$8408,Sheet4!$C$2:$C$8408,Sheet3!$B25,Sheet4!$E$2:$E$8408,Sheet3!DQ$4,Sheet4!$A$2:$A$8408,Sheet3!$B$1,Sheet4!$B$2:$B$8408,Sheet3!$A$3))","v":327},{"$f":"+IF(SUMIFS(Sheet4!$FW$2:$FW$8408,Sheet4!$C$2:$C$8408,Sheet3!$B25,Sheet4!$E$2:$E$8408,Sheet3!DR$4,Sheet4!$A$2:$A$8408,Sheet3!$B$1,Sheet4!$B$2:$B$8408,Sheet3!$A$3)<3,0,SUMIFS(Sheet4!$FW$2:$FW$8408,Sheet4!$C$2:$C$8408,Sheet3!$B25,Sheet4!$E$2:$E$8408,Sheet3!DR$4,Sheet4!$A$2:$A$8408,Sheet3!$B$1,Sheet4!$B$2:$B$8408,Sheet3!$A$3))","v":19}]
[5,"184","Baixo Alentejo",{"$f":"+SUMIFS(Sheet4!$FV$2:$FV$8408,Sheet4!$C$2:$C$8408,Sheet3!$B26,Sheet4!$D$2:$D$8408,Sheet3!D$3,Sheet4!$E$2:$E$8408,Sheet3!D$4,Sheet4!$A$2:$A$8408,Sheet3!$B$1,Sheet4!$B$2:$B$8408,Sheet3!$A$3)","v":73},{"$f":"+SUMIFS(Sheet4!$FV$2:$FV$8408,Sheet4!$C$2:$C$8408,Sheet3!$B26,Sheet4!$D$2:$D$8408,Sheet3!E$3,Sheet4!$E$2:$E$8408,Sheet3!E$4,Sheet4!$A$2:$A$8408,Sheet3!$B$1,Sheet4!$B$2:$B$8408,Sheet3!$A$3)","v":5},{"$f":"+SUMIFS(Sheet4!$FV$2:$FV$8408,Sheet4!$C$2:$C$8408,Sheet3!$B26,Sheet4!$D$2:$D$8408,Sheet3!F$3,Sheet4!$E$2:$E$8408,Sheet3!F$4,Sheet4!$A$2:$A$8408,Sheet3!$B$1,Sheet4!$B$2:$B$8408,Sheet3!$A$3)","v":6},{"$f":"+SUMIFS(Sheet4!$FV$2:$FV$8408,Sheet4!$C$2:$C$8408,Sheet3!$B26,Sheet4!$D$2:$D$8408,Sheet3!G$3,Sheet4!$E$2:$E$8408,Sheet3!G$4,Sheet4!$A$2:$A$8408,Sheet3!$B$1,Sheet4!$B$2:$B$8408,Sheet3!$A$3)","v":0},{"$f":"+SUMIFS(Sheet4!$FV$2:$FV$8408,Sheet4!$C$2:$C$8408,Sheet3!$B26,Sheet4!$D$2:$D$8408,Sheet3!H$3,Sheet4!$E$2:$E$8408,Sheet3!H$4,Sheet4!$A$2:$A$8408,Sheet3!$B$1,Sheet4!$B$2:$B$8408,Sheet3!$A$3)","v":0},{"$f":"+SUMIFS(Sheet4!$FV$2:$FV$8408,Sheet4!$C$2:$C$8408,Sheet3!$B26,Sheet4!$D$2:$D$8408,Sheet3!I$3,Sheet4!$E$2:$E$8408,Sheet3!I$4,Sheet4!$A$2:$A$8408,Sheet3!$B$1,Sheet4!$B$2:$B$8408,Sheet3!$A$3)","v":4},{"$f":"+SUMIFS(Sheet4!$FV$2:$FV$8408,Sheet4!$C$2:$C$8408,Sheet3!$B26,Sheet4!$D$2:$D$8408,Sheet3!J$3,Sheet4!$E$2:$E$8408,Sheet3!J$4,Sheet4!$A$2:$A$8408,Sheet3!$B$1,Sheet4!$B$2:$B$8408,Sheet3!$A$3)","v":6},{"$f":"+SUMIFS(Sheet4!$FV$2:$FV$8408,Sheet4!$C$2:$C$8408,Sheet3!$B26,Sheet4!$D$2:$D$8408,Sheet3!K$3,Sheet4!$E$2:$E$8408,Sheet3!K$4,Sheet4!$A$2:$A$8408,Sheet3!$B$1,Sheet4!$B$2:$B$8408,Sheet3!$A$3)","v":46},{"$f":"+SUMIFS(Sheet4!$FV$2:$FV$8408,Sheet4!$C$2:$C$8408,Sheet3!$B26,Sheet4!$D$2:$D$8408,Sheet3!L$3,Sheet4!$E$2:$E$8408,Sheet3!L$4,Sheet4!$A$2:$A$8408,Sheet3!$B$1,Sheet4!$B$2:$B$8408,Sheet3!$A$3)","v":14},{"$f":"+SUMIFS(Sheet4!$FV$2:$FV$8408,Sheet4!$C$2:$C$8408,Sheet3!$B26,Sheet4!$D$2:$D$8408,Sheet3!M$3,Sheet4!$E$2:$E$8408,Sheet3!M$4,Sheet4!$A$2:$A$8408,Sheet3!$B$1,Sheet4!$B$2:$B$8408,Sheet3!$A$3)","v":0},{"$f":"+SUMIFS(Sheet4!$FV$2:$FV$8408,Sheet4!$C$2:$C$8408,Sheet3!$B26,Sheet4!$D$2:$D$8408,Sheet3!N$3,Sheet4!$E$2:$E$8408,Sheet3!N$4,Sheet4!$A$2:$A$8408,Sheet3!$B$1,Sheet4!$B$2:$B$8408,Sheet3!$A$3)","v":144},{"$f":"+SUMIFS(Sheet4!$FV$2:$FV$8408,Sheet4!$C$2:$C$8408,Sheet3!$B26,Sheet4!$D$2:$D$8408,Sheet3!O$3,Sheet4!$E$2:$E$8408,Sheet3!O$4,Sheet4!$A$2:$A$8408,Sheet3!$B$1,Sheet4!$B$2:$B$8408,Sheet3!$A$3)","v":199},{"$f":"+SUMIFS(Sheet4!$FV$2:$FV$8408,Sheet4!$C$2:$C$8408,Sheet3!$B26,Sheet4!$D$2:$D$8408,Sheet3!P$3,Sheet4!$E$2:$E$8408,Sheet3!P$4,Sheet4!$A$2:$A$8408,Sheet3!$B$1,Sheet4!$B$2:$B$8408,Sheet3!$A$3)","v":220},{"$f":"+SUMIFS(Sheet4!$FV$2:$FV$8408,Sheet4!$C$2:$C$8408,Sheet3!$B26,Sheet4!$D$2:$D$8408,Sheet3!Q$3,Sheet4!$E$2:$E$8408,Sheet3!Q$4,Sheet4!$A$2:$A$8408,Sheet3!$B$1,Sheet4!$B$2:$B$8408,Sheet3!$A$3)","v":34},{"$f":"+SUMIFS(Sheet4!$FV$2:$FV$8408,Sheet4!$C$2:$C$8408,Sheet3!$B26,Sheet4!$D$2:$D$8408,Sheet3!R$3,Sheet4!$E$2:$E$8408,Sheet3!R$4,Sheet4!$A$2:$A$8408,Sheet3!$B$1,Sheet4!$B$2:$B$8408,Sheet3!$A$3)","v":0},{"$f":"+SUMIFS(Sheet4!$FV$2:$FV$8408,Sheet4!$C$2:$C$8408,Sheet3!$B26,Sheet4!$D$2:$D$8408,Sheet3!S$3,Sheet4!$E$2:$E$8408,Sheet3!S$4,Sheet4!$A$2:$A$8408,Sheet3!$B$1,Sheet4!$B$2:$B$8408,Sheet3!$A$3)","v":0},{"$f":"+SUMIFS(Sheet4!$FV$2:$FV$8408,Sheet4!$C$2:$C$8408,Sheet3!$B26,Sheet4!$D$2:$D$8408,Sheet3!T$3,Sheet4!$E$2:$E$8408,Sheet3!T$4,Sheet4!$A$2:$A$8408,Sheet3!$B$1,Sheet4!$B$2:$B$8408,Sheet3!$A$3)","v":0},{"$f":"+SUMIFS(Sheet4!$FV$2:$FV$8408,Sheet4!$C$2:$C$8408,Sheet3!$B26,Sheet4!$D$2:$D$8408,Sheet3!U$3,Sheet4!$E$2:$E$8408,Sheet3!U$4,Sheet4!$A$2:$A$8408,Sheet3!$B$1,Sheet4!$B$2:$B$8408,Sheet3!$A$3)","v":0},{"$f":"+SUMIFS(Sheet4!$FV$2:$FV$8408,Sheet4!$C$2:$C$8408,Sheet3!$B26,Sheet4!$D$2:$D$8408,Sheet3!V$3,Sheet4!$E$2:$E$8408,Sheet3!V$4,Sheet4!$A$2:$A$8408,Sheet3!$B$1,Sheet4!$B$2:$B$8408,Sheet3!$A$3)","v":0},{"$f":"+SUMIFS(Sheet4!$FV$2:$FV$8408,Sheet4!$C$2:$C$8408,Sheet3!$B26,Sheet4!$D$2:$D$8408,Sheet3!W$3,Sheet4!$E$2:$E$8408,Sheet3!W$4,Sheet4!$A$2:$A$8408,Sheet3!$B$1,Sheet4!$B$2:$B$8408,Sheet3!$A$3)","v":0},{"$f":"+SUMIFS(Sheet4!$FV$2:$FV$8408,Sheet4!$C$2:$C$8408,Sheet3!$B26,Sheet4!$D$2:$D$8408,Sheet3!X$3,Sheet4!$E$2:$E$8408,Sheet3!X$4,Sheet4!$A$2:$A$8408,Sheet3!$B$1,Sheet4!$B$2:$B$8408,Sheet3!$A$3)","v":10},{"$f":"+SUMIFS(Sheet4!$FV$2:$FV$8408,Sheet4!$C$2:$C$8408,Sheet3!$B26,Sheet4!$D$2:$D$8408,Sheet3!Y$3,Sheet4!$E$2:$E$8408,Sheet3!Y$4,Sheet4!$A$2:$A$8408,Sheet3!$B$1,Sheet4!$B$2:$B$8408,Sheet3!$A$3)","v":30},{"$f":"+SUMIFS(Sheet4!$FV$2:$FV$8408,Sheet4!$C$2:$C$8408,Sheet3!$B26,Sheet4!$D$2:$D$8408,Sheet3!Z$3,Sheet4!$E$2:$E$8408,Sheet3!Z$4,Sheet4!$A$2:$A$8408,Sheet3!$B$1,Sheet4!$B$2:$B$8408,Sheet3!$A$3)","v":45},{"$f":"+SUMIFS(Sheet4!$FV$2:$FV$8408,Sheet4!$C$2:$C$8408,Sheet3!$B26,Sheet4!$D$2:$D$8408,Sheet3!AA$3,Sheet4!$E$2:$E$8408,Sheet3!AA$4,Sheet4!$A$2:$A$8408,Sheet3!$B$1,Sheet4!$B$2:$B$8408,Sheet3!$A$3)","v":5},{"$f":"+SUMIFS(Sheet4!$FV$2:$FV$8408,Sheet4!$C$2:$C$8408,Sheet3!$B26,Sheet4!$D$2:$D$8408,Sheet3!AB$3,Sheet4!$E$2:$E$8408,Sheet3!AB$4,Sheet4!$A$2:$A$8408,Sheet3!$B$1,Sheet4!$B$2:$B$8408,Sheet3!$A$3)","v":0},{"$f":"+SUMIFS(Sheet4!$FV$2:$FV$8408,Sheet4!$C$2:$C$8408,Sheet3!$B26,Sheet4!$D$2:$D$8408,Sheet3!AC$3,Sheet4!$E$2:$E$8408,Sheet3!AC$4,Sheet4!$A$2:$A$8408,Sheet3!$B$1,Sheet4!$B$2:$B$8408,Sheet3!$A$3)","v":57},{"$f":"+SUMIFS(Sheet4!$FV$2:$FV$8408,Sheet4!$C$2:$C$8408,Sheet3!$B26,Sheet4!$D$2:$D$8408,Sheet3!AD$3,Sheet4!$E$2:$E$8408,Sheet3!AD$4,Sheet4!$A$2:$A$8408,Sheet3!$B$1,Sheet4!$B$2:$B$8408,Sheet3!$A$3)","v":31},{"$f":"+SUMIFS(Sheet4!$FV$2:$FV$8408,Sheet4!$C$2:$C$8408,Sheet3!$B26,Sheet4!$D$2:$D$8408,Sheet3!AE$3,Sheet4!$E$2:$E$8408,Sheet3!AE$4,Sheet4!$A$2:$A$8408,Sheet3!$B$1,Sheet4!$B$2:$B$8408,Sheet3!$A$3)","v":20},{"$f":"+SUMIFS(Sheet4!$FV$2:$FV$8408,Sheet4!$C$2:$C$8408,Sheet3!$B26,Sheet4!$D$2:$D$8408,Sheet3!AF$3,Sheet4!$E$2:$E$8408,Sheet3!AF$4,Sheet4!$A$2:$A$8408,Sheet3!$B$1,Sheet4!$B$2:$B$8408,Sheet3!$A$3)","v":7},{"$f":"+SUMIFS(Sheet4!$FV$2:$FV$8408,Sheet4!$C$2:$C$8408,Sheet3!$B26,Sheet4!$D$2:$D$8408,Sheet3!AG$3,Sheet4!$E$2:$E$8408,Sheet3!AG$4,Sheet4!$A$2:$A$8408,Sheet3!$B$1,Sheet4!$B$2:$B$8408,Sheet3!$A$3)","v":0},{"$f":"+SUMIFS(Sheet4!$FV$2:$FV$8408,Sheet4!$C$2:$C$8408,Sheet3!$B26,Sheet4!$D$2:$D$8408,Sheet3!AH$3,Sheet4!$E$2:$E$8408,Sheet3!AH$4,Sheet4!$A$2:$A$8408,Sheet3!$B$1,Sheet4!$B$2:$B$8408,Sheet3!$A$3)","v":92},{"$f":"+SUMIFS(Sheet4!$FV$2:$FV$8408,Sheet4!$C$2:$C$8408,Sheet3!$B26,Sheet4!$D$2:$D$8408,Sheet3!AI$3,Sheet4!$E$2:$E$8408,Sheet3!AI$4,Sheet4!$A$2:$A$8408,Sheet3!$B$1,Sheet4!$B$2:$B$8408,Sheet3!$A$3)","v":107},{"$f":"+SUMIFS(Sheet4!$FV$2:$FV$8408,Sheet4!$C$2:$C$8408,Sheet3!$B26,Sheet4!$D$2:$D$8408,Sheet3!AJ$3,Sheet4!$E$2:$E$8408,Sheet3!AJ$4,Sheet4!$A$2:$A$8408,Sheet3!$B$1,Sheet4!$B$2:$B$8408,Sheet3!$A$3)","v":46},{"$f":"+SUMIFS(Sheet4!$FV$2:$FV$8408,Sheet4!$C$2:$C$8408,Sheet3!$B26,Sheet4!$D$2:$D$8408,Sheet3!AK$3,Sheet4!$E$2:$E$8408,Sheet3!AK$4,Sheet4!$A$2:$A$8408,Sheet3!$B$1,Sheet4!$B$2:$B$8408,Sheet3!$A$3)","v":0},{"$f":"+SUMIFS(Sheet4!$FV$2:$FV$8408,Sheet4!$C$2:$C$8408,Sheet3!$B26,Sheet4!$D$2:$D$8408,Sheet3!AL$3,Sheet4!$E$2:$E$8408,Sheet3!AL$4,Sheet4!$A$2:$A$8408,Sheet3!$B$1,Sheet4!$B$2:$B$8408,Sheet3!$A$3)","v":0},{"$f":"+SUMIFS(Sheet4!$FV$2:$FV$8408,Sheet4!$C$2:$C$8408,Sheet3!$B26,Sheet4!$D$2:$D$8408,Sheet3!AM$3,Sheet4!$E$2:$E$8408,Sheet3!AM$4,Sheet4!$A$2:$A$8408,Sheet3!$B$1,Sheet4!$B$2:$B$8408,Sheet3!$A$3)","v":41},{"$f":"+SUMIFS(Sheet4!$FV$2:$FV$8408,Sheet4!$C$2:$C$8408,Sheet3!$B26,Sheet4!$D$2:$D$8408,Sheet3!AN$3,Sheet4!$E$2:$E$8408,Sheet3!AN$4,Sheet4!$A$2:$A$8408,Sheet3!$B$1,Sheet4!$B$2:$B$8408,Sheet3!$A$3)","v":95},{"$f":"+SUMIFS(Sheet4!$FV$2:$FV$8408,Sheet4!$C$2:$C$8408,Sheet3!$B26,Sheet4!$D$2:$D$8408,Sheet3!AO$3,Sheet4!$E$2:$E$8408,Sheet3!AO$4,Sheet4!$A$2:$A$8408,Sheet3!$B$1,Sheet4!$B$2:$B$8408,Sheet3!$A$3)","v":275},{"$f":"+SUMIFS(Sheet4!$FV$2:$FV$8408,Sheet4!$C$2:$C$8408,Sheet3!$B26,Sheet4!$D$2:$D$8408,Sheet3!AP$3,Sheet4!$E$2:$E$8408,Sheet3!AP$4,Sheet4!$A$2:$A$8408,Sheet3!$B$1,Sheet4!$B$2:$B$8408,Sheet3!$A$3)","v":57},{"$f":"+SUMIFS(Sheet4!$FV$2:$FV$8408,Sheet4!$C$2:$C$8408,Sheet3!$B26,Sheet4!$D$2:$D$8408,Sheet3!AQ$3,Sheet4!$E$2:$E$8408,Sheet3!AQ$4,Sheet4!$A$2:$A$8408,Sheet3!$B$1,Sheet4!$B$2:$B$8408,Sheet3!$A$3)","v":3},{"$f":"+SUMIFS(Sheet4!$FV$2:$FV$8408,Sheet4!$C$2:$C$8408,Sheet3!$B26,Sheet4!$D$2:$D$8408,Sheet3!AR$3,Sheet4!$E$2:$E$8408,Sheet3!AR$4,Sheet4!$A$2:$A$8408,Sheet3!$B$1,Sheet4!$B$2:$B$8408,Sheet3!$A$3)","v":862},{"$f":"+SUMIFS(Sheet4!$FV$2:$FV$8408,Sheet4!$C$2:$C$8408,Sheet3!$B26,Sheet4!$D$2:$D$8408,Sheet3!AS$3,Sheet4!$E$2:$E$8408,Sheet3!AS$4,Sheet4!$A$2:$A$8408,Sheet3!$B$1,Sheet4!$B$2:$B$8408,Sheet3!$A$3)","v":596},{"$f":"+SUMIFS(Sheet4!$FV$2:$FV$8408,Sheet4!$C$2:$C$8408,Sheet3!$B26,Sheet4!$D$2:$D$8408,Sheet3!AT$3,Sheet4!$E$2:$E$8408,Sheet3!AT$4,Sheet4!$A$2:$A$8408,Sheet3!$B$1,Sheet4!$B$2:$B$8408,Sheet3!$A$3)","v":474},{"$f":"+SUMIFS(Sheet4!$FV$2:$FV$8408,Sheet4!$C$2:$C$8408,Sheet3!$B26,Sheet4!$D$2:$D$8408,Sheet3!AU$3,Sheet4!$E$2:$E$8408,Sheet3!AU$4,Sheet4!$A$2:$A$8408,Sheet3!$B$1,Sheet4!$B$2:$B$8408,Sheet3!$A$3)","v":92},{"$f":"+SUMIFS(Sheet4!$FV$2:$FV$8408,Sheet4!$C$2:$C$8408,Sheet3!$B26,Sheet4!$D$2:$D$8408,Sheet3!AV$3,Sheet4!$E$2:$E$8408,Sheet3!AV$4,Sheet4!$A$2:$A$8408,Sheet3!$B$1,Sheet4!$B$2:$B$8408,Sheet3!$A$3)","v":3},{"$f":"+SUMIFS(Sheet4!$FV$2:$FV$8408,Sheet4!$C$2:$C$8408,Sheet3!$B26,Sheet4!$D$2:$D$8408,Sheet3!AW$3,Sheet4!$E$2:$E$8408,Sheet3!AW$4,Sheet4!$A$2:$A$8408,Sheet3!$B$1,Sheet4!$B$2:$B$8408,Sheet3!$A$3)","v":338},{"$f":"+SUMIFS(Sheet4!$FV$2:$FV$8408,Sheet4!$C$2:$C$8408,Sheet3!$B26,Sheet4!$D$2:$D$8408,Sheet3!AX$3,Sheet4!$E$2:$E$8408,Sheet3!AX$4,Sheet4!$A$2:$A$8408,Sheet3!$B$1,Sheet4!$B$2:$B$8408,Sheet3!$A$3)","v":355},{"$f":"+SUMIFS(Sheet4!$FV$2:$FV$8408,Sheet4!$C$2:$C$8408,Sheet3!$B26,Sheet4!$D$2:$D$8408,Sheet3!AY$3,Sheet4!$E$2:$E$8408,Sheet3!AY$4,Sheet4!$A$2:$A$8408,Sheet3!$B$1,Sheet4!$B$2:$B$8408,Sheet3!$A$3)","v":244},{"$f":"+SUMIFS(Sheet4!$FV$2:$FV$8408,Sheet4!$C$2:$C$8408,Sheet3!$B26,Sheet4!$D$2:$D$8408,Sheet3!AZ$3,Sheet4!$E$2:$E$8408,Sheet3!AZ$4,Sheet4!$A$2:$A$8408,Sheet3!$B$1,Sheet4!$B$2:$B$8408,Sheet3!$A$3)","v":62},{"$f":"+SUMIFS(Sheet4!$FV$2:$FV$8408,Sheet4!$C$2:$C$8408,Sheet3!$B26,Sheet4!$D$2:$D$8408,Sheet3!BA$3,Sheet4!$E$2:$E$8408,Sheet3!BA$4,Sheet4!$A$2:$A$8408,Sheet3!$B$1,Sheet4!$B$2:$B$8408,Sheet3!$A$3)","v":0},{"$f":"+SUMIFS(Sheet4!$FV$2:$FV$8408,Sheet4!$C$2:$C$8408,Sheet3!$B26,Sheet4!$D$2:$D$8408,Sheet3!BB$3,Sheet4!$E$2:$E$8408,Sheet3!BB$4,Sheet4!$A$2:$A$8408,Sheet3!$B$1,Sheet4!$B$2:$B$8408,Sheet3!$A$3)","v":0},{"$f":"+SUMIFS(Sheet4!$FV$2:$FV$8408,Sheet4!$C$2:$C$8408,Sheet3!$B26,Sheet4!$D$2:$D$8408,Sheet3!BC$3,Sheet4!$E$2:$E$8408,Sheet3!BC$4,Sheet4!$A$2:$A$8408,Sheet3!$B$1,Sheet4!$B$2:$B$8408,Sheet3!$A$3)","v":0},{"$f":"+SUMIFS(Sheet4!$FV$2:$FV$8408,Sheet4!$C$2:$C$8408,Sheet3!$B26,Sheet4!$D$2:$D$8408,Sheet3!BD$3,Sheet4!$E$2:$E$8408,Sheet3!BD$4,Sheet4!$A$2:$A$8408,Sheet3!$B$1,Sheet4!$B$2:$B$8408,Sheet3!$A$3)","v":0},{"$f":"+SUMIFS(Sheet4!$FV$2:$FV$8408,Sheet4!$C$2:$C$8408,Sheet3!$B26,Sheet4!$D$2:$D$8408,Sheet3!BE$3,Sheet4!$E$2:$E$8408,Sheet3!BE$4,Sheet4!$A$2:$A$8408,Sheet3!$B$1,Sheet4!$B$2:$B$8408,Sheet3!$A$3)","v":0},{"$f":"+SUMIFS(Sheet4!$FV$2:$FV$8408,Sheet4!$C$2:$C$8408,Sheet3!$B26,Sheet4!$D$2:$D$8408,Sheet3!BF$3,Sheet4!$E$2:$E$8408,Sheet3!BF$4,Sheet4!$A$2:$A$8408,Sheet3!$B$1,Sheet4!$B$2:$B$8408,Sheet3!$A$3)","v":0},{"$f":"+SUMIFS(Sheet4!$FV$2:$FV$8408,Sheet4!$C$2:$C$8408,Sheet3!$B26,Sheet4!$D$2:$D$8408,Sheet3!BG$3,Sheet4!$E$2:$E$8408,Sheet3!BG$4,Sheet4!$A$2:$A$8408,Sheet3!$B$1,Sheet4!$B$2:$B$8408,Sheet3!$A$3)","v":3},{"$f":"+SUMIFS(Sheet4!$FV$2:$FV$8408,Sheet4!$C$2:$C$8408,Sheet3!$B26,Sheet4!$D$2:$D$8408,Sheet3!BH$3,Sheet4!$E$2:$E$8408,Sheet3!BH$4,Sheet4!$A$2:$A$8408,Sheet3!$B$1,Sheet4!$B$2:$B$8408,Sheet3!$A$3)","v":16},{"$f":"+SUMIFS(Sheet4!$FV$2:$FV$8408,Sheet4!$C$2:$C$8408,Sheet3!$B26,Sheet4!$D$2:$D$8408,Sheet3!BI$3,Sheet4!$E$2:$E$8408,Sheet3!BI$4,Sheet4!$A$2:$A$8408,Sheet3!$B$1,Sheet4!$B$2:$B$8408,Sheet3!$A$3)","v":55},{"$f":"+SUMIFS(Sheet4!$FV$2:$FV$8408,Sheet4!$C$2:$C$8408,Sheet3!$B26,Sheet4!$D$2:$D$8408,Sheet3!BJ$3,Sheet4!$E$2:$E$8408,Sheet3!BJ$4,Sheet4!$A$2:$A$8408,Sheet3!$B$1,Sheet4!$B$2:$B$8408,Sheet3!$A$3)","v":20},{"$f":"+SUMIFS(Sheet4!$FV$2:$FV$8408,Sheet4!$C$2:$C$8408,Sheet3!$B26,Sheet4!$D$2:$D$8408,Sheet3!BK$3,Sheet4!$E$2:$E$8408,Sheet3!BK$4,Sheet4!$A$2:$A$8408,Sheet3!$B$1,Sheet4!$B$2:$B$8408,Sheet3!$A$3)","v":0},{"$f":"+SUMIFS(Sheet4!$FV$2:$FV$8408,Sheet4!$C$2:$C$8408,Sheet3!$B26,Sheet4!$D$2:$D$8408,Sheet3!BL$3,Sheet4!$E$2:$E$8408,Sheet3!BL$4,Sheet4!$A$2:$A$8408,Sheet3!$B$1,Sheet4!$B$2:$B$8408,Sheet3!$A$3)","v":36},{"$f":"+SUMIFS(Sheet4!$FV$2:$FV$8408,Sheet4!$C$2:$C$8408,Sheet3!$B26,Sheet4!$D$2:$D$8408,Sheet3!BM$3,Sheet4!$E$2:$E$8408,Sheet3!BM$4,Sheet4!$A$2:$A$8408,Sheet3!$B$1,Sheet4!$B$2:$B$8408,Sheet3!$A$3)","v":21},{"$f":"+SUMIFS(Sheet4!$FV$2:$FV$8408,Sheet4!$C$2:$C$8408,Sheet3!$B26,Sheet4!$D$2:$D$8408,Sheet3!BN$3,Sheet4!$E$2:$E$8408,Sheet3!BN$4,Sheet4!$A$2:$A$8408,Sheet3!$B$1,Sheet4!$B$2:$B$8408,Sheet3!$A$3)","v":6},{"$f":"+SUMIFS(Sheet4!$FV$2:$FV$8408,Sheet4!$C$2:$C$8408,Sheet3!$B26,Sheet4!$D$2:$D$8408,Sheet3!BO$3,Sheet4!$E$2:$E$8408,Sheet3!BO$4,Sheet4!$A$2:$A$8408,Sheet3!$B$1,Sheet4!$B$2:$B$8408,Sheet3!$A$3)","v":3},{"$f":"+SUMIFS(Sheet4!$FV$2:$FV$8408,Sheet4!$C$2:$C$8408,Sheet3!$B26,Sheet4!$D$2:$D$8408,Sheet3!BP$3,Sheet4!$E$2:$E$8408,Sheet3!BP$4,Sheet4!$A$2:$A$8408,Sheet3!$B$1,Sheet4!$B$2:$B$8408,Sheet3!$A$3)","v":0},{"$f":"+SUMIFS(Sheet4!$FV$2:$FV$8408,Sheet4!$C$2:$C$8408,Sheet3!$B26,Sheet4!$D$2:$D$8408,Sheet3!BQ$3,Sheet4!$E$2:$E$8408,Sheet3!BQ$4,Sheet4!$A$2:$A$8408,Sheet3!$B$1,Sheet4!$B$2:$B$8408,Sheet3!$A$3)","v":0},{"$f":"+SUMIFS(Sheet4!$FV$2:$FV$8408,Sheet4!$C$2:$C$8408,Sheet3!$B26,Sheet4!$D$2:$D$8408,Sheet3!BR$3,Sheet4!$E$2:$E$8408,Sheet3!BR$4,Sheet4!$A$2:$A$8408,Sheet3!$B$1,Sheet4!$B$2:$B$8408,Sheet3!$A$3)","v":5},{"$f":"+SUMIFS(Sheet4!$FV$2:$FV$8408,Sheet4!$C$2:$C$8408,Sheet3!$B26,Sheet4!$D$2:$D$8408,Sheet3!BS$3,Sheet4!$E$2:$E$8408,Sheet3!BS$4,Sheet4!$A$2:$A$8408,Sheet3!$B$1,Sheet4!$B$2:$B$8408,Sheet3!$A$3)","v":257},{"$f":"+SUMIFS(Sheet4!$FV$2:$FV$8408,Sheet4!$C$2:$C$8408,Sheet3!$B26,Sheet4!$D$2:$D$8408,Sheet3!BT$3,Sheet4!$E$2:$E$8408,Sheet3!BT$4,Sheet4!$A$2:$A$8408,Sheet3!$B$1,Sheet4!$B$2:$B$8408,Sheet3!$A$3)","v":236},{"$f":"+SUMIFS(Sheet4!$FV$2:$FV$8408,Sheet4!$C$2:$C$8408,Sheet3!$B26,Sheet4!$D$2:$D$8408,Sheet3!BU$3,Sheet4!$E$2:$E$8408,Sheet3!BU$4,Sheet4!$A$2:$A$8408,Sheet3!$B$1,Sheet4!$B$2:$B$8408,Sheet3!$A$3)","v":6},{"$f":"+SUMIFS(Sheet4!$FV$2:$FV$8408,Sheet4!$C$2:$C$8408,Sheet3!$B26,Sheet4!$D$2:$D$8408,Sheet3!BV$3,Sheet4!$E$2:$E$8408,Sheet3!BV$4,Sheet4!$A$2:$A$8408,Sheet3!$B$1,Sheet4!$B$2:$B$8408,Sheet3!$A$3)","v":469},{"$f":"+SUMIFS(Sheet4!$FV$2:$FV$8408,Sheet4!$C$2:$C$8408,Sheet3!$B26,Sheet4!$D$2:$D$8408,Sheet3!BW$3,Sheet4!$E$2:$E$8408,Sheet3!BW$4,Sheet4!$A$2:$A$8408,Sheet3!$B$1,Sheet4!$B$2:$B$8408,Sheet3!$A$3)","v":399},{"$f":"+SUMIFS(Sheet4!$FV$2:$FV$8408,Sheet4!$C$2:$C$8408,Sheet3!$B26,Sheet4!$D$2:$D$8408,Sheet3!BX$3,Sheet4!$E$2:$E$8408,Sheet3!BX$4,Sheet4!$A$2:$A$8408,Sheet3!$B$1,Sheet4!$B$2:$B$8408,Sheet3!$A$3)","v":549},{"$f":"+SUMIFS(Sheet4!$FV$2:$FV$8408,Sheet4!$C$2:$C$8408,Sheet3!$B26,Sheet4!$D$2:$D$8408,Sheet3!BY$3,Sheet4!$E$2:$E$8408,Sheet3!BY$4,Sheet4!$A$2:$A$8408,Sheet3!$B$1,Sheet4!$B$2:$B$8408,Sheet3!$A$3)","v":146},{"$f":"+SUMIFS(Sheet4!$FV$2:$FV$8408,Sheet4!$C$2:$C$8408,Sheet3!$B26,Sheet4!$D$2:$D$8408,Sheet3!BZ$3,Sheet4!$E$2:$E$8408,Sheet3!BZ$4,Sheet4!$A$2:$A$8408,Sheet3!$B$1,Sheet4!$B$2:$B$8408,Sheet3!$A$3)","v":3},{"$f":"+SUMIFS(Sheet4!$FV$2:$FV$8408,Sheet4!$C$2:$C$8408,Sheet3!$B26,Sheet4!$D$2:$D$8408,Sheet3!CA$3,Sheet4!$E$2:$E$8408,Sheet3!CA$4,Sheet4!$A$2:$A$8408,Sheet3!$B$1,Sheet4!$B$2:$B$8408,Sheet3!$A$3)","v":60},{"$f":"+SUMIFS(Sheet4!$FV$2:$FV$8408,Sheet4!$C$2:$C$8408,Sheet3!$B26,Sheet4!$D$2:$D$8408,Sheet3!CB$3,Sheet4!$E$2:$E$8408,Sheet3!CB$4,Sheet4!$A$2:$A$8408,Sheet3!$B$1,Sheet4!$B$2:$B$8408,Sheet3!$A$3)","v":110},{"$f":"+SUMIFS(Sheet4!$FV$2:$FV$8408,Sheet4!$C$2:$C$8408,Sheet3!$B26,Sheet4!$D$2:$D$8408,Sheet3!CC$3,Sheet4!$E$2:$E$8408,Sheet3!CC$4,Sheet4!$A$2:$A$8408,Sheet3!$B$1,Sheet4!$B$2:$B$8408,Sheet3!$A$3)","v":177},{"$f":"+SUMIFS(Sheet4!$FV$2:$FV$8408,Sheet4!$C$2:$C$8408,Sheet3!$B26,Sheet4!$D$2:$D$8408,Sheet3!CD$3,Sheet4!$E$2:$E$8408,Sheet3!CD$4,Sheet4!$A$2:$A$8408,Sheet3!$B$1,Sheet4!$B$2:$B$8408,Sheet3!$A$3)","v":124},{"$f":"+SUMIFS(Sheet4!$FV$2:$FV$8408,Sheet4!$C$2:$C$8408,Sheet3!$B26,Sheet4!$D$2:$D$8408,Sheet3!CE$3,Sheet4!$E$2:$E$8408,Sheet3!CE$4,Sheet4!$A$2:$A$8408,Sheet3!$B$1,Sheet4!$B$2:$B$8408,Sheet3!$A$3)","v":11},{"$f":"+SUMIFS(Sheet4!$FV$2:$FV$8408,Sheet4!$C$2:$C$8408,Sheet3!$B26,Sheet4!$D$2:$D$8408,Sheet3!CF$3,Sheet4!$E$2:$E$8408,Sheet3!CF$4,Sheet4!$A$2:$A$8408,Sheet3!$B$1,Sheet4!$B$2:$B$8408,Sheet3!$A$3)","v":252},{"$f":"+SUMIFS(Sheet4!$FV$2:$FV$8408,Sheet4!$C$2:$C$8408,Sheet3!$B26,Sheet4!$D$2:$D$8408,Sheet3!CG$3,Sheet4!$E$2:$E$8408,Sheet3!CG$4,Sheet4!$A$2:$A$8408,Sheet3!$B$1,Sheet4!$B$2:$B$8408,Sheet3!$A$3)","v":335},{"$f":"+SUMIFS(Sheet4!$FV$2:$FV$8408,Sheet4!$C$2:$C$8408,Sheet3!$B26,Sheet4!$D$2:$D$8408,Sheet3!CH$3,Sheet4!$E$2:$E$8408,Sheet3!CH$4,Sheet4!$A$2:$A$8408,Sheet3!$B$1,Sheet4!$B$2:$B$8408,Sheet3!$A$3)","v":420},{"$f":"+SUMIFS(Sheet4!$FV$2:$FV$8408,Sheet4!$C$2:$C$8408,Sheet3!$B26,Sheet4!$D$2:$D$8408,Sheet3!CI$3,Sheet4!$E$2:$E$8408,Sheet3!CI$4,Sheet4!$A$2:$A$8408,Sheet3!$B$1,Sheet4!$B$2:$B$8408,Sheet3!$A$3)","v":32},{"$f":"+SUMIFS(Sheet4!$FV$2:$FV$8408,Sheet4!$C$2:$C$8408,Sheet3!$B26,Sheet4!$D$2:$D$8408,Sheet3!CJ$3,Sheet4!$E$2:$E$8408,Sheet3!CJ$4,Sheet4!$A$2:$A$8408,Sheet3!$B$1,Sheet4!$B$2:$B$8408,Sheet3!$A$3)","v":0},{"$f":"+SUMIFS(Sheet4!$FV$2:$FV$8408,Sheet4!$C$2:$C$8408,Sheet3!$B26,Sheet4!$D$2:$D$8408,Sheet3!CK$3,Sheet4!$E$2:$E$8408,Sheet3!CK$4,Sheet4!$A$2:$A$8408,Sheet3!$B$1,Sheet4!$B$2:$B$8408,Sheet3!$A$3)","v":0},{"$f":"+SUMIFS(Sheet4!$FV$2:$FV$8408,Sheet4!$C$2:$C$8408,Sheet3!$B26,Sheet4!$D$2:$D$8408,Sheet3!CL$3,Sheet4!$E$2:$E$8408,Sheet3!CL$4,Sheet4!$A$2:$A$8408,Sheet3!$B$1,Sheet4!$B$2:$B$8408,Sheet3!$A$3)","v":4},{"$f":"+SUMIFS(Sheet4!$FV$2:$FV$8408,Sheet4!$C$2:$C$8408,Sheet3!$B26,Sheet4!$D$2:$D$8408,Sheet3!CM$3,Sheet4!$E$2:$E$8408,Sheet3!CM$4,Sheet4!$A$2:$A$8408,Sheet3!$B$1,Sheet4!$B$2:$B$8408,Sheet3!$A$3)","v":4},{"$f":"+SUMIFS(Sheet4!$FV$2:$FV$8408,Sheet4!$C$2:$C$8408,Sheet3!$B26,Sheet4!$D$2:$D$8408,Sheet3!CN$3,Sheet4!$E$2:$E$8408,Sheet3!CN$4,Sheet4!$A$2:$A$8408,Sheet3!$B$1,Sheet4!$B$2:$B$8408,Sheet3!$A$3)","v":0},{"$f":"+SUMIFS(Sheet4!$FV$2:$FV$8408,Sheet4!$C$2:$C$8408,Sheet3!$B26,Sheet4!$D$2:$D$8408,Sheet3!CO$3,Sheet4!$E$2:$E$8408,Sheet3!CO$4,Sheet4!$A$2:$A$8408,Sheet3!$B$1,Sheet4!$B$2:$B$8408,Sheet3!$A$3)","v":0},{"$f":"+SUMIFS(Sheet4!$FV$2:$FV$8408,Sheet4!$C$2:$C$8408,Sheet3!$B26,Sheet4!$D$2:$D$8408,Sheet3!CP$3,Sheet4!$E$2:$E$8408,Sheet3!CP$4,Sheet4!$A$2:$A$8408,Sheet3!$B$1,Sheet4!$B$2:$B$8408,Sheet3!$A$3)","v":0},{"$f":"+SUMIFS(Sheet4!$FV$2:$FV$8408,Sheet4!$C$2:$C$8408,Sheet3!$B26,Sheet4!$D$2:$D$8408,Sheet3!CQ$3,Sheet4!$E$2:$E$8408,Sheet3!CQ$4,Sheet4!$A$2:$A$8408,Sheet3!$B$1,Sheet4!$B$2:$B$8408,Sheet3!$A$3)","v":0},{"$f":"+SUMIFS(Sheet4!$FV$2:$FV$8408,Sheet4!$C$2:$C$8408,Sheet3!$B26,Sheet4!$D$2:$D$8408,Sheet3!CR$3,Sheet4!$E$2:$E$8408,Sheet3!CR$4,Sheet4!$A$2:$A$8408,Sheet3!$B$1,Sheet4!$B$2:$B$8408,Sheet3!$A$3)","v":0},{"$f":"+SUMIFS(Sheet4!$FV$2:$FV$8408,Sheet4!$C$2:$C$8408,Sheet3!$B26,Sheet4!$D$2:$D$8408,Sheet3!CS$3,Sheet4!$E$2:$E$8408,Sheet3!CS$4,Sheet4!$A$2:$A$8408,Sheet3!$B$1,Sheet4!$B$2:$B$8408,Sheet3!$A$3)","v":0},{"$f":"+SUMIFS(Sheet4!$FV$2:$FV$8408,Sheet4!$C$2:$C$8408,Sheet3!$B26,Sheet4!$D$2:$D$8408,Sheet3!CT$3,Sheet4!$E$2:$E$8408,Sheet3!CT$4,Sheet4!$A$2:$A$8408,Sheet3!$B$1,Sheet4!$B$2:$B$8408,Sheet3!$A$3)","v":0},{"$f":"+IF(SUMIFS(Sheet4!$FW$2:$FW$8408,Sheet4!$C$2:$C$8408,Sheet3!$B26,Sheet4!$D$2:$D$8408,Sheet3!CU$3,Sheet4!$A$2:$A$8408,Sheet3!$B$1,Sheet4!$B$2:$B$8408,Sheet3!$A$3)<3,0,SUMIFS(Sheet4!$FW$2:$FW$8408,Sheet4!$C$2:$C$8408,Sheet3!$B26,Sheet4!$D$2:$D$8408,Sheet3!CU$3,Sheet4!$A$2:$A$8408,Sheet3!$B$1,Sheet4!$B$2:$B$8408,Sheet3!$A$3))","v":86},{"$f":"+IF(SUMIFS(Sheet4!$FW$2:$FW$8408,Sheet4!$C$2:$C$8408,Sheet3!$B26,Sheet4!$D$2:$D$8408,Sheet3!CV$3,Sheet4!$A$2:$A$8408,Sheet3!$B$1,Sheet4!$B$2:$B$8408,Sheet3!$A$3)<3,0,SUMIFS(Sheet4!$FW$2:$FW$8408,Sheet4!$C$2:$C$8408,Sheet3!$B26,Sheet4!$D$2:$D$8408,Sheet3!CV$3,Sheet4!$A$2:$A$8408,Sheet3!$B$1,Sheet4!$B$2:$B$8408,Sheet3!$A$3))","v":72},{"$f":"+IF(SUMIFS(Sheet4!$FW$2:$FW$8408,Sheet4!$C$2:$C$8408,Sheet3!$B26,Sheet4!$D$2:$D$8408,Sheet3!CW$3,Sheet4!$A$2:$A$8408,Sheet3!$B$1,Sheet4!$B$2:$B$8408,Sheet3!$A$3)<3,0,SUMIFS(Sheet4!$FW$2:$FW$8408,Sheet4!$C$2:$C$8408,Sheet3!$B26,Sheet4!$D$2:$D$8408,Sheet3!CW$3,Sheet4!$A$2:$A$8408,Sheet3!$B$1,Sheet4!$B$2:$B$8408,Sheet3!$A$3))","v":603},{"$f":"+IF(SUMIFS(Sheet4!$FW$2:$FW$8408,Sheet4!$C$2:$C$8408,Sheet3!$B26,Sheet4!$D$2:$D$8408,Sheet3!CX$3,Sheet4!$A$2:$A$8408,Sheet3!$B$1,Sheet4!$B$2:$B$8408,Sheet3!$A$3)<3,0,SUMIFS(Sheet4!$FW$2:$FW$8408,Sheet4!$C$2:$C$8408,Sheet3!$B26,Sheet4!$D$2:$D$8408,Sheet3!CX$3,Sheet4!$A$2:$A$8408,Sheet3!$B$1,Sheet4!$B$2:$B$8408,Sheet3!$A$3))","v":0},{"$f":"+IF(SUMIFS(Sheet4!$FW$2:$FW$8408,Sheet4!$C$2:$C$8408,Sheet3!$B26,Sheet4!$D$2:$D$8408,Sheet3!CY$3,Sheet4!$A$2:$A$8408,Sheet3!$B$1,Sheet4!$B$2:$B$8408,Sheet3!$A$3)<3,0,SUMIFS(Sheet4!$FW$2:$FW$8408,Sheet4!$C$2:$C$8408,Sheet3!$B26,Sheet4!$D$2:$D$8408,Sheet3!CY$3,Sheet4!$A$2:$A$8408,Sheet3!$B$1,Sheet4!$B$2:$B$8408,Sheet3!$A$3))","v":93},{"$f":"+IF(SUMIFS(Sheet4!$FW$2:$FW$8408,Sheet4!$C$2:$C$8408,Sheet3!$B26,Sheet4!$D$2:$D$8408,Sheet3!CZ$3,Sheet4!$A$2:$A$8408,Sheet3!$B$1,Sheet4!$B$2:$B$8408,Sheet3!$A$3)<3,0,SUMIFS(Sheet4!$FW$2:$FW$8408,Sheet4!$C$2:$C$8408,Sheet3!$B26,Sheet4!$D$2:$D$8408,Sheet3!CZ$3,Sheet4!$A$2:$A$8408,Sheet3!$B$1,Sheet4!$B$2:$B$8408,Sheet3!$A$3))","v":119},{"$f":"+IF(SUMIFS(Sheet4!$FW$2:$FW$8408,Sheet4!$C$2:$C$8408,Sheet3!$B26,Sheet4!$D$2:$D$8408,Sheet3!DA$3,Sheet4!$A$2:$A$8408,Sheet3!$B$1,Sheet4!$B$2:$B$8408,Sheet3!$A$3)<3,0,SUMIFS(Sheet4!$FW$2:$FW$8408,Sheet4!$C$2:$C$8408,Sheet3!$B26,Sheet4!$D$2:$D$8408,Sheet3!DA$3,Sheet4!$A$2:$A$8408,Sheet3!$B$1,Sheet4!$B$2:$B$8408,Sheet3!$A$3))","v":252},{"$f":"+IF(SUMIFS(Sheet4!$FW$2:$FW$8408,Sheet4!$C$2:$C$8408,Sheet3!$B26,Sheet4!$D$2:$D$8408,Sheet3!DB$3,Sheet4!$A$2:$A$8408,Sheet3!$B$1,Sheet4!$B$2:$B$8408,Sheet3!$A$3)<3,0,SUMIFS(Sheet4!$FW$2:$FW$8408,Sheet4!$C$2:$C$8408,Sheet3!$B26,Sheet4!$D$2:$D$8408,Sheet3!DB$3,Sheet4!$A$2:$A$8408,Sheet3!$B$1,Sheet4!$B$2:$B$8408,Sheet3!$A$3))","v":475},{"$f":"+IF(SUMIFS(Sheet4!$FW$2:$FW$8408,Sheet4!$C$2:$C$8408,Sheet3!$B26,Sheet4!$D$2:$D$8408,Sheet3!DC$3,Sheet4!$A$2:$A$8408,Sheet3!$B$1,Sheet4!$B$2:$B$8408,Sheet3!$A$3)<3,0,SUMIFS(Sheet4!$FW$2:$FW$8408,Sheet4!$C$2:$C$8408,Sheet3!$B26,Sheet4!$D$2:$D$8408,Sheet3!DC$3,Sheet4!$A$2:$A$8408,Sheet3!$B$1,Sheet4!$B$2:$B$8408,Sheet3!$A$3))","v":2028},{"$f":"+IF(SUMIFS(Sheet4!$FW$2:$FW$8408,Sheet4!$C$2:$C$8408,Sheet3!$B26,Sheet4!$D$2:$D$8408,Sheet3!DD$3,Sheet4!$A$2:$A$8408,Sheet3!$B$1,Sheet4!$B$2:$B$8408,Sheet3!$A$3)<3,0,SUMIFS(Sheet4!$FW$2:$FW$8408,Sheet4!$C$2:$C$8408,Sheet3!$B26,Sheet4!$D$2:$D$8408,Sheet3!DD$3,Sheet4!$A$2:$A$8408,Sheet3!$B$1,Sheet4!$B$2:$B$8408,Sheet3!$A$3))","v":1009},{"$f":"+IF(SUMIFS(Sheet4!$FW$2:$FW$8408,Sheet4!$C$2:$C$8408,Sheet3!$B26,Sheet4!$D$2:$D$8408,Sheet3!DE$3,Sheet4!$A$2:$A$8408,Sheet3!$B$1,Sheet4!$B$2:$B$8408,Sheet3!$A$3)<3,0,SUMIFS(Sheet4!$FW$2:$FW$8408,Sheet4!$C$2:$C$8408,Sheet3!$B26,Sheet4!$D$2:$D$8408,Sheet3!DE$3,Sheet4!$A$2:$A$8408,Sheet3!$B$1,Sheet4!$B$2:$B$8408,Sheet3!$A$3))","v":4},{"$f":"+IF(SUMIFS(Sheet4!$FW$2:$FW$8408,Sheet4!$C$2:$C$8408,Sheet3!$B26,Sheet4!$D$2:$D$8408,Sheet3!DF$3,Sheet4!$A$2:$A$8408,Sheet3!$B$1,Sheet4!$B$2:$B$8408,Sheet3!$A$3)<3,0,SUMIFS(Sheet4!$FW$2:$FW$8408,Sheet4!$C$2:$C$8408,Sheet3!$B26,Sheet4!$D$2:$D$8408,Sheet3!DF$3,Sheet4!$A$2:$A$8408,Sheet3!$B$1,Sheet4!$B$2:$B$8408,Sheet3!$A$3))","v":96},{"$f":"+IF(SUMIFS(Sheet4!$FW$2:$FW$8408,Sheet4!$C$2:$C$8408,Sheet3!$B26,Sheet4!$D$2:$D$8408,Sheet3!DG$3,Sheet4!$A$2:$A$8408,Sheet3!$B$1,Sheet4!$B$2:$B$8408,Sheet3!$A$3)<3,0,SUMIFS(Sheet4!$FW$2:$FW$8408,Sheet4!$C$2:$C$8408,Sheet3!$B26,Sheet4!$D$2:$D$8408,Sheet3!DG$3,Sheet4!$A$2:$A$8408,Sheet3!$B$1,Sheet4!$B$2:$B$8408,Sheet3!$A$3))","v":68},{"$f":"+IF(SUMIFS(Sheet4!$FW$2:$FW$8408,Sheet4!$C$2:$C$8408,Sheet3!$B26,Sheet4!$D$2:$D$8408,Sheet3!DH$3,Sheet4!$A$2:$A$8408,Sheet3!$B$1,Sheet4!$B$2:$B$8408,Sheet3!$A$3)<3,0,SUMIFS(Sheet4!$FW$2:$FW$8408,Sheet4!$C$2:$C$8408,Sheet3!$B26,Sheet4!$D$2:$D$8408,Sheet3!DH$3,Sheet4!$A$2:$A$8408,Sheet3!$B$1,Sheet4!$B$2:$B$8408,Sheet3!$A$3))","v":508},{"$f":"+IF(SUMIFS(Sheet4!$FW$2:$FW$8408,Sheet4!$C$2:$C$8408,Sheet3!$B26,Sheet4!$D$2:$D$8408,Sheet3!DI$3,Sheet4!$A$2:$A$8408,Sheet3!$B$1,Sheet4!$B$2:$B$8408,Sheet3!$A$3)<3,0,SUMIFS(Sheet4!$FW$2:$FW$8408,Sheet4!$C$2:$C$8408,Sheet3!$B26,Sheet4!$D$2:$D$8408,Sheet3!DI$3,Sheet4!$A$2:$A$8408,Sheet3!$B$1,Sheet4!$B$2:$B$8408,Sheet3!$A$3))","v":1571},{"$f":"+IF(SUMIFS(Sheet4!$FW$2:$FW$8408,Sheet4!$C$2:$C$8408,Sheet3!$B26,Sheet4!$D$2:$D$8408,Sheet3!DJ$3,Sheet4!$A$2:$A$8408,Sheet3!$B$1,Sheet4!$B$2:$B$8408,Sheet3!$A$3)<3,0,SUMIFS(Sheet4!$FW$2:$FW$8408,Sheet4!$C$2:$C$8408,Sheet3!$B26,Sheet4!$D$2:$D$8408,Sheet3!DJ$3,Sheet4!$A$2:$A$8408,Sheet3!$B$1,Sheet4!$B$2:$B$8408,Sheet3!$A$3))","v":486},{"$f":"+IF(SUMIFS(Sheet4!$FW$2:$FW$8408,Sheet4!$C$2:$C$8408,Sheet3!$B26,Sheet4!$D$2:$D$8408,Sheet3!DK$3,Sheet4!$A$2:$A$8408,Sheet3!$B$1,Sheet4!$B$2:$B$8408,Sheet3!$A$3)<3,0,SUMIFS(Sheet4!$FW$2:$FW$8408,Sheet4!$C$2:$C$8408,Sheet3!$B26,Sheet4!$D$2:$D$8408,Sheet3!DK$3,Sheet4!$A$2:$A$8408,Sheet3!$B$1,Sheet4!$B$2:$B$8408,Sheet3!$A$3))","v":1041},{"$f":"+IF(SUMIFS(Sheet4!$FW$2:$FW$8408,Sheet4!$C$2:$C$8408,Sheet3!$B26,Sheet4!$D$2:$D$8408,Sheet3!DL$3,Sheet4!$A$2:$A$8408,Sheet3!$B$1,Sheet4!$B$2:$B$8408,Sheet3!$A$3)<3,0,SUMIFS(Sheet4!$FW$2:$FW$8408,Sheet4!$C$2:$C$8408,Sheet3!$B26,Sheet4!$D$2:$D$8408,Sheet3!DL$3,Sheet4!$A$2:$A$8408,Sheet3!$B$1,Sheet4!$B$2:$B$8408,Sheet3!$A$3))","v":11},{"$f":"+IF(SUMIFS(Sheet4!$FW$2:$FW$8408,Sheet4!$C$2:$C$8408,Sheet3!$B26,Sheet4!$D$2:$D$8408,Sheet3!DM$3,Sheet4!$A$2:$A$8408,Sheet3!$B$1,Sheet4!$B$2:$B$8408,Sheet3!$A$3)<3,0,SUMIFS(Sheet4!$FW$2:$FW$8408,Sheet4!$C$2:$C$8408,Sheet3!$B26,Sheet4!$D$2:$D$8408,Sheet3!DM$3,Sheet4!$A$2:$A$8408,Sheet3!$B$1,Sheet4!$B$2:$B$8408,Sheet3!$A$3))","v":0},{"$f":"+IF(SUMIFS(Sheet4!$FW$2:$FW$8408,Sheet4!$C$2:$C$8408,Sheet3!$B26,Sheet4!$E$2:$E$8408,Sheet3!DN$4,Sheet4!$A$2:$A$8408,Sheet3!$B$1,Sheet4!$B$2:$B$8408,Sheet3!$A$3)<3,0,SUMIFS(Sheet4!$FW$2:$FW$8408,Sheet4!$C$2:$C$8408,Sheet3!$B26,Sheet4!$E$2:$E$8408,Sheet3!DN$4,Sheet4!$A$2:$A$8408,Sheet3!$B$1,Sheet4!$B$2:$B$8408,Sheet3!$A$3))","v":2453},{"$f":"+IF(SUMIFS(Sheet4!$FW$2:$FW$8408,Sheet4!$C$2:$C$8408,Sheet3!$B26,Sheet4!$E$2:$E$8408,Sheet3!DO$4,Sheet4!$A$2:$A$8408,Sheet3!$B$1,Sheet4!$B$2:$B$8408,Sheet3!$A$3)<3,0,SUMIFS(Sheet4!$FW$2:$FW$8408,Sheet4!$C$2:$C$8408,Sheet3!$B26,Sheet4!$E$2:$E$8408,Sheet3!DO$4,Sheet4!$A$2:$A$8408,Sheet3!$B$1,Sheet4!$B$2:$B$8408,Sheet3!$A$3))","v":2335},{"$f":"+IF(SUMIFS(Sheet4!$FW$2:$FW$8408,Sheet4!$C$2:$C$8408,Sheet3!$B26,Sheet4!$E$2:$E$8408,Sheet3!DP$4,Sheet4!$A$2:$A$8408,Sheet3!$B$1,Sheet4!$B$2:$B$8408,Sheet3!$A$3)<3,0,SUMIFS(Sheet4!$FW$2:$FW$8408,Sheet4!$C$2:$C$8408,Sheet3!$B26,Sheet4!$E$2:$E$8408,Sheet3!DP$4,Sheet4!$A$2:$A$8408,Sheet3!$B$1,Sheet4!$B$2:$B$8408,Sheet3!$A$3))","v":2864},{"$f":"+IF(SUMIFS(Sheet4!$FW$2:$FW$8408,Sheet4!$C$2:$C$8408,Sheet3!$B26,Sheet4!$E$2:$E$8408,Sheet3!DQ$4,Sheet4!$A$2:$A$8408,Sheet3!$B$1,Sheet4!$B$2:$B$8408,Sheet3!$A$3)<3,0,SUMIFS(Sheet4!$FW$2:$FW$8408,Sheet4!$C$2:$C$8408,Sheet3!$B26,Sheet4!$E$2:$E$8408,Sheet3!DQ$4,Sheet4!$A$2:$A$8408,Sheet3!$B$1,Sheet4!$B$2:$B$8408,Sheet3!$A$3))","v":841},{"$f":"+IF(SUMIFS(Sheet4!$FW$2:$FW$8408,Sheet4!$C$2:$C$8408,Sheet3!$B26,Sheet4!$E$2:$E$8408,Sheet3!DR$4,Sheet4!$A$2:$A$8408,Sheet3!$B$1,Sheet4!$B$2:$B$8408,Sheet3!$A$3)<3,0,SUMIFS(Sheet4!$FW$2:$FW$8408,Sheet4!$C$2:$C$8408,Sheet3!$B26,Sheet4!$E$2:$E$8408,Sheet3!DR$4,Sheet4!$A$2:$A$8408,Sheet3!$B$1,Sheet4!$B$2:$B$8408,Sheet3!$A$3))","v":30}]
[5,"185","Lezíria do Tejo",{"$f":"+SUMIFS(Sheet4!$FV$2:$FV$8408,Sheet4!$C$2:$C$8408,Sheet3!$B27,Sheet4!$D$2:$D$8408,Sheet3!D$3,Sheet4!$E$2:$E$8408,Sheet3!D$4,Sheet4!$A$2:$A$8408,Sheet3!$B$1,Sheet4!$B$2:$B$8408,Sheet3!$A$3)","v":41},{"$f":"+SUMIFS(Sheet4!$FV$2:$FV$8408,Sheet4!$C$2:$C$8408,Sheet3!$B27,Sheet4!$D$2:$D$8408,Sheet3!E$3,Sheet4!$E$2:$E$8408,Sheet3!E$4,Sheet4!$A$2:$A$8408,Sheet3!$B$1,Sheet4!$B$2:$B$8408,Sheet3!$A$3)","v":19},{"$f":"+SUMIFS(Sheet4!$FV$2:$FV$8408,Sheet4!$C$2:$C$8408,Sheet3!$B27,Sheet4!$D$2:$D$8408,Sheet3!F$3,Sheet4!$E$2:$E$8408,Sheet3!F$4,Sheet4!$A$2:$A$8408,Sheet3!$B$1,Sheet4!$B$2:$B$8408,Sheet3!$A$3)","v":9},{"$f":"+SUMIFS(Sheet4!$FV$2:$FV$8408,Sheet4!$C$2:$C$8408,Sheet3!$B27,Sheet4!$D$2:$D$8408,Sheet3!G$3,Sheet4!$E$2:$E$8408,Sheet3!G$4,Sheet4!$A$2:$A$8408,Sheet3!$B$1,Sheet4!$B$2:$B$8408,Sheet3!$A$3)","v":3},{"$f":"+SUMIFS(Sheet4!$FV$2:$FV$8408,Sheet4!$C$2:$C$8408,Sheet3!$B27,Sheet4!$D$2:$D$8408,Sheet3!H$3,Sheet4!$E$2:$E$8408,Sheet3!H$4,Sheet4!$A$2:$A$8408,Sheet3!$B$1,Sheet4!$B$2:$B$8408,Sheet3!$A$3)","v":0},{"$f":"+SUMIFS(Sheet4!$FV$2:$FV$8408,Sheet4!$C$2:$C$8408,Sheet3!$B27,Sheet4!$D$2:$D$8408,Sheet3!I$3,Sheet4!$E$2:$E$8408,Sheet3!I$4,Sheet4!$A$2:$A$8408,Sheet3!$B$1,Sheet4!$B$2:$B$8408,Sheet3!$A$3)","v":57},{"$f":"+SUMIFS(Sheet4!$FV$2:$FV$8408,Sheet4!$C$2:$C$8408,Sheet3!$B27,Sheet4!$D$2:$D$8408,Sheet3!J$3,Sheet4!$E$2:$E$8408,Sheet3!J$4,Sheet4!$A$2:$A$8408,Sheet3!$B$1,Sheet4!$B$2:$B$8408,Sheet3!$A$3)","v":99},{"$f":"+SUMIFS(Sheet4!$FV$2:$FV$8408,Sheet4!$C$2:$C$8408,Sheet3!$B27,Sheet4!$D$2:$D$8408,Sheet3!K$3,Sheet4!$E$2:$E$8408,Sheet3!K$4,Sheet4!$A$2:$A$8408,Sheet3!$B$1,Sheet4!$B$2:$B$8408,Sheet3!$A$3)","v":137},{"$f":"+SUMIFS(Sheet4!$FV$2:$FV$8408,Sheet4!$C$2:$C$8408,Sheet3!$B27,Sheet4!$D$2:$D$8408,Sheet3!L$3,Sheet4!$E$2:$E$8408,Sheet3!L$4,Sheet4!$A$2:$A$8408,Sheet3!$B$1,Sheet4!$B$2:$B$8408,Sheet3!$A$3)","v":15},{"$f":"+SUMIFS(Sheet4!$FV$2:$FV$8408,Sheet4!$C$2:$C$8408,Sheet3!$B27,Sheet4!$D$2:$D$8408,Sheet3!M$3,Sheet4!$E$2:$E$8408,Sheet3!M$4,Sheet4!$A$2:$A$8408,Sheet3!$B$1,Sheet4!$B$2:$B$8408,Sheet3!$A$3)","v":0},{"$f":"+SUMIFS(Sheet4!$FV$2:$FV$8408,Sheet4!$C$2:$C$8408,Sheet3!$B27,Sheet4!$D$2:$D$8408,Sheet3!N$3,Sheet4!$E$2:$E$8408,Sheet3!N$4,Sheet4!$A$2:$A$8408,Sheet3!$B$1,Sheet4!$B$2:$B$8408,Sheet3!$A$3)","v":27},{"$f":"+SUMIFS(Sheet4!$FV$2:$FV$8408,Sheet4!$C$2:$C$8408,Sheet3!$B27,Sheet4!$D$2:$D$8408,Sheet3!O$3,Sheet4!$E$2:$E$8408,Sheet3!O$4,Sheet4!$A$2:$A$8408,Sheet3!$B$1,Sheet4!$B$2:$B$8408,Sheet3!$A$3)","v":50},{"$f":"+SUMIFS(Sheet4!$FV$2:$FV$8408,Sheet4!$C$2:$C$8408,Sheet3!$B27,Sheet4!$D$2:$D$8408,Sheet3!P$3,Sheet4!$E$2:$E$8408,Sheet3!P$4,Sheet4!$A$2:$A$8408,Sheet3!$B$1,Sheet4!$B$2:$B$8408,Sheet3!$A$3)","v":29},{"$f":"+SUMIFS(Sheet4!$FV$2:$FV$8408,Sheet4!$C$2:$C$8408,Sheet3!$B27,Sheet4!$D$2:$D$8408,Sheet3!Q$3,Sheet4!$E$2:$E$8408,Sheet3!Q$4,Sheet4!$A$2:$A$8408,Sheet3!$B$1,Sheet4!$B$2:$B$8408,Sheet3!$A$3)","v":5},{"$f":"+SUMIFS(Sheet4!$FV$2:$FV$8408,Sheet4!$C$2:$C$8408,Sheet3!$B27,Sheet4!$D$2:$D$8408,Sheet3!R$3,Sheet4!$E$2:$E$8408,Sheet3!R$4,Sheet4!$A$2:$A$8408,Sheet3!$B$1,Sheet4!$B$2:$B$8408,Sheet3!$A$3)","v":0},{"$f":"+SUMIFS(Sheet4!$FV$2:$FV$8408,Sheet4!$C$2:$C$8408,Sheet3!$B27,Sheet4!$D$2:$D$8408,Sheet3!S$3,Sheet4!$E$2:$E$8408,Sheet3!S$4,Sheet4!$A$2:$A$8408,Sheet3!$B$1,Sheet4!$B$2:$B$8408,Sheet3!$A$3)","v":0},{"$f":"+SUMIFS(Sheet4!$FV$2:$FV$8408,Sheet4!$C$2:$C$8408,Sheet3!$B27,Sheet4!$D$2:$D$8408,Sheet3!T$3,Sheet4!$E$2:$E$8408,Sheet3!T$4,Sheet4!$A$2:$A$8408,Sheet3!$B$1,Sheet4!$B$2:$B$8408,Sheet3!$A$3)","v":26},{"$f":"+SUMIFS(Sheet4!$FV$2:$FV$8408,Sheet4!$C$2:$C$8408,Sheet3!$B27,Sheet4!$D$2:$D$8408,Sheet3!U$3,Sheet4!$E$2:$E$8408,Sheet3!U$4,Sheet4!$A$2:$A$8408,Sheet3!$B$1,Sheet4!$B$2:$B$8408,Sheet3!$A$3)","v":83},{"$f":"+SUMIFS(Sheet4!$FV$2:$FV$8408,Sheet4!$C$2:$C$8408,Sheet3!$B27,Sheet4!$D$2:$D$8408,Sheet3!V$3,Sheet4!$E$2:$E$8408,Sheet3!V$4,Sheet4!$A$2:$A$8408,Sheet3!$B$1,Sheet4!$B$2:$B$8408,Sheet3!$A$3)","v":5},{"$f":"+SUMIFS(Sheet4!$FV$2:$FV$8408,Sheet4!$C$2:$C$8408,Sheet3!$B27,Sheet4!$D$2:$D$8408,Sheet3!W$3,Sheet4!$E$2:$E$8408,Sheet3!W$4,Sheet4!$A$2:$A$8408,Sheet3!$B$1,Sheet4!$B$2:$B$8408,Sheet3!$A$3)","v":0},{"$f":"+SUMIFS(Sheet4!$FV$2:$FV$8408,Sheet4!$C$2:$C$8408,Sheet3!$B27,Sheet4!$D$2:$D$8408,Sheet3!X$3,Sheet4!$E$2:$E$8408,Sheet3!X$4,Sheet4!$A$2:$A$8408,Sheet3!$B$1,Sheet4!$B$2:$B$8408,Sheet3!$A$3)","v":9},{"$f":"+SUMIFS(Sheet4!$FV$2:$FV$8408,Sheet4!$C$2:$C$8408,Sheet3!$B27,Sheet4!$D$2:$D$8408,Sheet3!Y$3,Sheet4!$E$2:$E$8408,Sheet3!Y$4,Sheet4!$A$2:$A$8408,Sheet3!$B$1,Sheet4!$B$2:$B$8408,Sheet3!$A$3)","v":15},{"$f":"+SUMIFS(Sheet4!$FV$2:$FV$8408,Sheet4!$C$2:$C$8408,Sheet3!$B27,Sheet4!$D$2:$D$8408,Sheet3!Z$3,Sheet4!$E$2:$E$8408,Sheet3!Z$4,Sheet4!$A$2:$A$8408,Sheet3!$B$1,Sheet4!$B$2:$B$8408,Sheet3!$A$3)","v":7},{"$f":"+SUMIFS(Sheet4!$FV$2:$FV$8408,Sheet4!$C$2:$C$8408,Sheet3!$B27,Sheet4!$D$2:$D$8408,Sheet3!AA$3,Sheet4!$E$2:$E$8408,Sheet3!AA$4,Sheet4!$A$2:$A$8408,Sheet3!$B$1,Sheet4!$B$2:$B$8408,Sheet3!$A$3)","v":0},{"$f":"+SUMIFS(Sheet4!$FV$2:$FV$8408,Sheet4!$C$2:$C$8408,Sheet3!$B27,Sheet4!$D$2:$D$8408,Sheet3!AB$3,Sheet4!$E$2:$E$8408,Sheet3!AB$4,Sheet4!$A$2:$A$8408,Sheet3!$B$1,Sheet4!$B$2:$B$8408,Sheet3!$A$3)","v":0},{"$f":"+SUMIFS(Sheet4!$FV$2:$FV$8408,Sheet4!$C$2:$C$8408,Sheet3!$B27,Sheet4!$D$2:$D$8408,Sheet3!AC$3,Sheet4!$E$2:$E$8408,Sheet3!AC$4,Sheet4!$A$2:$A$8408,Sheet3!$B$1,Sheet4!$B$2:$B$8408,Sheet3!$A$3)","v":31},{"$f":"+SUMIFS(Sheet4!$FV$2:$FV$8408,Sheet4!$C$2:$C$8408,Sheet3!$B27,Sheet4!$D$2:$D$8408,Sheet3!AD$3,Sheet4!$E$2:$E$8408,Sheet3!AD$4,Sheet4!$A$2:$A$8408,Sheet3!$B$1,Sheet4!$B$2:$B$8408,Sheet3!$A$3)","v":21},{"$f":"+SUMIFS(Sheet4!$FV$2:$FV$8408,Sheet4!$C$2:$C$8408,Sheet3!$B27,Sheet4!$D$2:$D$8408,Sheet3!AE$3,Sheet4!$E$2:$E$8408,Sheet3!AE$4,Sheet4!$A$2:$A$8408,Sheet3!$B$1,Sheet4!$B$2:$B$8408,Sheet3!$A$3)","v":16},{"$f":"+SUMIFS(Sheet4!$FV$2:$FV$8408,Sheet4!$C$2:$C$8408,Sheet3!$B27,Sheet4!$D$2:$D$8408,Sheet3!AF$3,Sheet4!$E$2:$E$8408,Sheet3!AF$4,Sheet4!$A$2:$A$8408,Sheet3!$B$1,Sheet4!$B$2:$B$8408,Sheet3!$A$3)","v":3},{"$f":"+SUMIFS(Sheet4!$FV$2:$FV$8408,Sheet4!$C$2:$C$8408,Sheet3!$B27,Sheet4!$D$2:$D$8408,Sheet3!AG$3,Sheet4!$E$2:$E$8408,Sheet3!AG$4,Sheet4!$A$2:$A$8408,Sheet3!$B$1,Sheet4!$B$2:$B$8408,Sheet3!$A$3)","v":0},{"$f":"+SUMIFS(Sheet4!$FV$2:$FV$8408,Sheet4!$C$2:$C$8408,Sheet3!$B27,Sheet4!$D$2:$D$8408,Sheet3!AH$3,Sheet4!$E$2:$E$8408,Sheet3!AH$4,Sheet4!$A$2:$A$8408,Sheet3!$B$1,Sheet4!$B$2:$B$8408,Sheet3!$A$3)","v":35},{"$f":"+SUMIFS(Sheet4!$FV$2:$FV$8408,Sheet4!$C$2:$C$8408,Sheet3!$B27,Sheet4!$D$2:$D$8408,Sheet3!AI$3,Sheet4!$E$2:$E$8408,Sheet3!AI$4,Sheet4!$A$2:$A$8408,Sheet3!$B$1,Sheet4!$B$2:$B$8408,Sheet3!$A$3)","v":89},{"$f":"+SUMIFS(Sheet4!$FV$2:$FV$8408,Sheet4!$C$2:$C$8408,Sheet3!$B27,Sheet4!$D$2:$D$8408,Sheet3!AJ$3,Sheet4!$E$2:$E$8408,Sheet3!AJ$4,Sheet4!$A$2:$A$8408,Sheet3!$B$1,Sheet4!$B$2:$B$8408,Sheet3!$A$3)","v":31},{"$f":"+SUMIFS(Sheet4!$FV$2:$FV$8408,Sheet4!$C$2:$C$8408,Sheet3!$B27,Sheet4!$D$2:$D$8408,Sheet3!AK$3,Sheet4!$E$2:$E$8408,Sheet3!AK$4,Sheet4!$A$2:$A$8408,Sheet3!$B$1,Sheet4!$B$2:$B$8408,Sheet3!$A$3)","v":0},{"$f":"+SUMIFS(Sheet4!$FV$2:$FV$8408,Sheet4!$C$2:$C$8408,Sheet3!$B27,Sheet4!$D$2:$D$8408,Sheet3!AL$3,Sheet4!$E$2:$E$8408,Sheet3!AL$4,Sheet4!$A$2:$A$8408,Sheet3!$B$1,Sheet4!$B$2:$B$8408,Sheet3!$A$3)","v":0},{"$f":"+SUMIFS(Sheet4!$FV$2:$FV$8408,Sheet4!$C$2:$C$8408,Sheet3!$B27,Sheet4!$D$2:$D$8408,Sheet3!AM$3,Sheet4!$E$2:$E$8408,Sheet3!AM$4,Sheet4!$A$2:$A$8408,Sheet3!$B$1,Sheet4!$B$2:$B$8408,Sheet3!$A$3)","v":56},{"$f":"+SUMIFS(Sheet4!$FV$2:$FV$8408,Sheet4!$C$2:$C$8408,Sheet3!$B27,Sheet4!$D$2:$D$8408,Sheet3!AN$3,Sheet4!$E$2:$E$8408,Sheet3!AN$4,Sheet4!$A$2:$A$8408,Sheet3!$B$1,Sheet4!$B$2:$B$8408,Sheet3!$A$3)","v":65},{"$f":"+SUMIFS(Sheet4!$FV$2:$FV$8408,Sheet4!$C$2:$C$8408,Sheet3!$B27,Sheet4!$D$2:$D$8408,Sheet3!AO$3,Sheet4!$E$2:$E$8408,Sheet3!AO$4,Sheet4!$A$2:$A$8408,Sheet3!$B$1,Sheet4!$B$2:$B$8408,Sheet3!$A$3)","v":91},{"$f":"+SUMIFS(Sheet4!$FV$2:$FV$8408,Sheet4!$C$2:$C$8408,Sheet3!$B27,Sheet4!$D$2:$D$8408,Sheet3!AP$3,Sheet4!$E$2:$E$8408,Sheet3!AP$4,Sheet4!$A$2:$A$8408,Sheet3!$B$1,Sheet4!$B$2:$B$8408,Sheet3!$A$3)","v":31},{"$f":"+SUMIFS(Sheet4!$FV$2:$FV$8408,Sheet4!$C$2:$C$8408,Sheet3!$B27,Sheet4!$D$2:$D$8408,Sheet3!AQ$3,Sheet4!$E$2:$E$8408,Sheet3!AQ$4,Sheet4!$A$2:$A$8408,Sheet3!$B$1,Sheet4!$B$2:$B$8408,Sheet3!$A$3)","v":3},{"$f":"+SUMIFS(Sheet4!$FV$2:$FV$8408,Sheet4!$C$2:$C$8408,Sheet3!$B27,Sheet4!$D$2:$D$8408,Sheet3!AR$3,Sheet4!$E$2:$E$8408,Sheet3!AR$4,Sheet4!$A$2:$A$8408,Sheet3!$B$1,Sheet4!$B$2:$B$8408,Sheet3!$A$3)","v":177},{"$f":"+SUMIFS(Sheet4!$FV$2:$FV$8408,Sheet4!$C$2:$C$8408,Sheet3!$B27,Sheet4!$D$2:$D$8408,Sheet3!AS$3,Sheet4!$E$2:$E$8408,Sheet3!AS$4,Sheet4!$A$2:$A$8408,Sheet3!$B$1,Sheet4!$B$2:$B$8408,Sheet3!$A$3)","v":44},{"$f":"+SUMIFS(Sheet4!$FV$2:$FV$8408,Sheet4!$C$2:$C$8408,Sheet3!$B27,Sheet4!$D$2:$D$8408,Sheet3!AT$3,Sheet4!$E$2:$E$8408,Sheet3!AT$4,Sheet4!$A$2:$A$8408,Sheet3!$B$1,Sheet4!$B$2:$B$8408,Sheet3!$A$3)","v":8},{"$f":"+SUMIFS(Sheet4!$FV$2:$FV$8408,Sheet4!$C$2:$C$8408,Sheet3!$B27,Sheet4!$D$2:$D$8408,Sheet3!AU$3,Sheet4!$E$2:$E$8408,Sheet3!AU$4,Sheet4!$A$2:$A$8408,Sheet3!$B$1,Sheet4!$B$2:$B$8408,Sheet3!$A$3)","v":0},{"$f":"+SUMIFS(Sheet4!$FV$2:$FV$8408,Sheet4!$C$2:$C$8408,Sheet3!$B27,Sheet4!$D$2:$D$8408,Sheet3!AV$3,Sheet4!$E$2:$E$8408,Sheet3!AV$4,Sheet4!$A$2:$A$8408,Sheet3!$B$1,Sheet4!$B$2:$B$8408,Sheet3!$A$3)","v":0},{"$f":"+SUMIFS(Sheet4!$FV$2:$FV$8408,Sheet4!$C$2:$C$8408,Sheet3!$B27,Sheet4!$D$2:$D$8408,Sheet3!AW$3,Sheet4!$E$2:$E$8408,Sheet3!AW$4,Sheet4!$A$2:$A$8408,Sheet3!$B$1,Sheet4!$B$2:$B$8408,Sheet3!$A$3)","v":262},{"$f":"+SUMIFS(Sheet4!$FV$2:$FV$8408,Sheet4!$C$2:$C$8408,Sheet3!$B27,Sheet4!$D$2:$D$8408,Sheet3!AX$3,Sheet4!$E$2:$E$8408,Sheet3!AX$4,Sheet4!$A$2:$A$8408,Sheet3!$B$1,Sheet4!$B$2:$B$8408,Sheet3!$A$3)","v":184},{"$f":"+SUMIFS(Sheet4!$FV$2:$FV$8408,Sheet4!$C$2:$C$8408,Sheet3!$B27,Sheet4!$D$2:$D$8408,Sheet3!AY$3,Sheet4!$E$2:$E$8408,Sheet3!AY$4,Sheet4!$A$2:$A$8408,Sheet3!$B$1,Sheet4!$B$2:$B$8408,Sheet3!$A$3)","v":112},{"$f":"+SUMIFS(Sheet4!$FV$2:$FV$8408,Sheet4!$C$2:$C$8408,Sheet3!$B27,Sheet4!$D$2:$D$8408,Sheet3!AZ$3,Sheet4!$E$2:$E$8408,Sheet3!AZ$4,Sheet4!$A$2:$A$8408,Sheet3!$B$1,Sheet4!$B$2:$B$8408,Sheet3!$A$3)","v":36},{"$f":"+SUMIFS(Sheet4!$FV$2:$FV$8408,Sheet4!$C$2:$C$8408,Sheet3!$B27,Sheet4!$D$2:$D$8408,Sheet3!BA$3,Sheet4!$E$2:$E$8408,Sheet3!BA$4,Sheet4!$A$2:$A$8408,Sheet3!$B$1,Sheet4!$B$2:$B$8408,Sheet3!$A$3)","v":6},{"$f":"+SUMIFS(Sheet4!$FV$2:$FV$8408,Sheet4!$C$2:$C$8408,Sheet3!$B27,Sheet4!$D$2:$D$8408,Sheet3!BB$3,Sheet4!$E$2:$E$8408,Sheet3!BB$4,Sheet4!$A$2:$A$8408,Sheet3!$B$1,Sheet4!$B$2:$B$8408,Sheet3!$A$3)","v":6},{"$f":"+SUMIFS(Sheet4!$FV$2:$FV$8408,Sheet4!$C$2:$C$8408,Sheet3!$B27,Sheet4!$D$2:$D$8408,Sheet3!BC$3,Sheet4!$E$2:$E$8408,Sheet3!BC$4,Sheet4!$A$2:$A$8408,Sheet3!$B$1,Sheet4!$B$2:$B$8408,Sheet3!$A$3)","v":3},{"$f":"+SUMIFS(Sheet4!$FV$2:$FV$8408,Sheet4!$C$2:$C$8408,Sheet3!$B27,Sheet4!$D$2:$D$8408,Sheet3!BD$3,Sheet4!$E$2:$E$8408,Sheet3!BD$4,Sheet4!$A$2:$A$8408,Sheet3!$B$1,Sheet4!$B$2:$B$8408,Sheet3!$A$3)","v":7},{"$f":"+SUMIFS(Sheet4!$FV$2:$FV$8408,Sheet4!$C$2:$C$8408,Sheet3!$B27,Sheet4!$D$2:$D$8408,Sheet3!BE$3,Sheet4!$E$2:$E$8408,Sheet3!BE$4,Sheet4!$A$2:$A$8408,Sheet3!$B$1,Sheet4!$B$2:$B$8408,Sheet3!$A$3)","v":5},{"$f":"+SUMIFS(Sheet4!$FV$2:$FV$8408,Sheet4!$C$2:$C$8408,Sheet3!$B27,Sheet4!$D$2:$D$8408,Sheet3!BF$3,Sheet4!$E$2:$E$8408,Sheet3!BF$4,Sheet4!$A$2:$A$8408,Sheet3!$B$1,Sheet4!$B$2:$B$8408,Sheet3!$A$3)","v":0},{"$f":"+SUMIFS(Sheet4!$FV$2:$FV$8408,Sheet4!$C$2:$C$8408,Sheet3!$B27,Sheet4!$D$2:$D$8408,Sheet3!BG$3,Sheet4!$E$2:$E$8408,Sheet3!BG$4,Sheet4!$A$2:$A$8408,Sheet3!$B$1,Sheet4!$B$2:$B$8408,Sheet3!$A$3)","v":7},{"$f":"+SUMIFS(Sheet4!$FV$2:$FV$8408,Sheet4!$C$2:$C$8408,Sheet3!$B27,Sheet4!$D$2:$D$8408,Sheet3!BH$3,Sheet4!$E$2:$E$8408,Sheet3!BH$4,Sheet4!$A$2:$A$8408,Sheet3!$B$1,Sheet4!$B$2:$B$8408,Sheet3!$A$3)","v":13},{"$f":"+SUMIFS(Sheet4!$FV$2:$FV$8408,Sheet4!$C$2:$C$8408,Sheet3!$B27,Sheet4!$D$2:$D$8408,Sheet3!BI$3,Sheet4!$E$2:$E$8408,Sheet3!BI$4,Sheet4!$A$2:$A$8408,Sheet3!$B$1,Sheet4!$B$2:$B$8408,Sheet3!$A$3)","v":18},{"$f":"+SUMIFS(Sheet4!$FV$2:$FV$8408,Sheet4!$C$2:$C$8408,Sheet3!$B27,Sheet4!$D$2:$D$8408,Sheet3!BJ$3,Sheet4!$E$2:$E$8408,Sheet3!BJ$4,Sheet4!$A$2:$A$8408,Sheet3!$B$1,Sheet4!$B$2:$B$8408,Sheet3!$A$3)","v":5},{"$f":"+SUMIFS(Sheet4!$FV$2:$FV$8408,Sheet4!$C$2:$C$8408,Sheet3!$B27,Sheet4!$D$2:$D$8408,Sheet3!BK$3,Sheet4!$E$2:$E$8408,Sheet3!BK$4,Sheet4!$A$2:$A$8408,Sheet3!$B$1,Sheet4!$B$2:$B$8408,Sheet3!$A$3)","v":0},{"$f":"+SUMIFS(Sheet4!$FV$2:$FV$8408,Sheet4!$C$2:$C$8408,Sheet3!$B27,Sheet4!$D$2:$D$8408,Sheet3!BL$3,Sheet4!$E$2:$E$8408,Sheet3!BL$4,Sheet4!$A$2:$A$8408,Sheet3!$B$1,Sheet4!$B$2:$B$8408,Sheet3!$A$3)","v":49},{"$f":"+SUMIFS(Sheet4!$FV$2:$FV$8408,Sheet4!$C$2:$C$8408,Sheet3!$B27,Sheet4!$D$2:$D$8408,Sheet3!BM$3,Sheet4!$E$2:$E$8408,Sheet3!BM$4,Sheet4!$A$2:$A$8408,Sheet3!$B$1,Sheet4!$B$2:$B$8408,Sheet3!$A$3)","v":15},{"$f":"+SUMIFS(Sheet4!$FV$2:$FV$8408,Sheet4!$C$2:$C$8408,Sheet3!$B27,Sheet4!$D$2:$D$8408,Sheet3!BN$3,Sheet4!$E$2:$E$8408,Sheet3!BN$4,Sheet4!$A$2:$A$8408,Sheet3!$B$1,Sheet4!$B$2:$B$8408,Sheet3!$A$3)","v":9},{"$f":"+SUMIFS(Sheet4!$FV$2:$FV$8408,Sheet4!$C$2:$C$8408,Sheet3!$B27,Sheet4!$D$2:$D$8408,Sheet3!BO$3,Sheet4!$E$2:$E$8408,Sheet3!BO$4,Sheet4!$A$2:$A$8408,Sheet3!$B$1,Sheet4!$B$2:$B$8408,Sheet3!$A$3)","v":0},{"$f":"+SUMIFS(Sheet4!$FV$2:$FV$8408,Sheet4!$C$2:$C$8408,Sheet3!$B27,Sheet4!$D$2:$D$8408,Sheet3!BP$3,Sheet4!$E$2:$E$8408,Sheet3!BP$4,Sheet4!$A$2:$A$8408,Sheet3!$B$1,Sheet4!$B$2:$B$8408,Sheet3!$A$3)","v":0},{"$f":"+SUMIFS(Sheet4!$FV$2:$FV$8408,Sheet4!$C$2:$C$8408,Sheet3!$B27,Sheet4!$D$2:$D$8408,Sheet3!BQ$3,Sheet4!$E$2:$E$8408,Sheet3!BQ$4,Sheet4!$A$2:$A$8408,Sheet3!$B$1,Sheet4!$B$2:$B$8408,Sheet3!$A$3)","v":5},{"$f":"+SUMIFS(Sheet4!$FV$2:$FV$8408,Sheet4!$C$2:$C$8408,Sheet3!$B27,Sheet4!$D$2:$D$8408,Sheet3!BR$3,Sheet4!$E$2:$E$8408,Sheet3!BR$4,Sheet4!$A$2:$A$8408,Sheet3!$B$1,Sheet4!$B$2:$B$8408,Sheet3!$A$3)","v":8},{"$f":"+SUMIFS(Sheet4!$FV$2:$FV$8408,Sheet4!$C$2:$C$8408,Sheet3!$B27,Sheet4!$D$2:$D$8408,Sheet3!BS$3,Sheet4!$E$2:$E$8408,Sheet3!BS$4,Sheet4!$A$2:$A$8408,Sheet3!$B$1,Sheet4!$B$2:$B$8408,Sheet3!$A$3)","v":19},{"$f":"+SUMIFS(Sheet4!$FV$2:$FV$8408,Sheet4!$C$2:$C$8408,Sheet3!$B27,Sheet4!$D$2:$D$8408,Sheet3!BT$3,Sheet4!$E$2:$E$8408,Sheet3!BT$4,Sheet4!$A$2:$A$8408,Sheet3!$B$1,Sheet4!$B$2:$B$8408,Sheet3!$A$3)","v":17},{"$f":"+SUMIFS(Sheet4!$FV$2:$FV$8408,Sheet4!$C$2:$C$8408,Sheet3!$B27,Sheet4!$D$2:$D$8408,Sheet3!BU$3,Sheet4!$E$2:$E$8408,Sheet3!BU$4,Sheet4!$A$2:$A$8408,Sheet3!$B$1,Sheet4!$B$2:$B$8408,Sheet3!$A$3)","v":0},{"$f":"+SUMIFS(Sheet4!$FV$2:$FV$8408,Sheet4!$C$2:$C$8408,Sheet3!$B27,Sheet4!$D$2:$D$8408,Sheet3!BV$3,Sheet4!$E$2:$E$8408,Sheet3!BV$4,Sheet4!$A$2:$A$8408,Sheet3!$B$1,Sheet4!$B$2:$B$8408,Sheet3!$A$3)","v":195},{"$f":"+SUMIFS(Sheet4!$FV$2:$FV$8408,Sheet4!$C$2:$C$8408,Sheet3!$B27,Sheet4!$D$2:$D$8408,Sheet3!BW$3,Sheet4!$E$2:$E$8408,Sheet3!BW$4,Sheet4!$A$2:$A$8408,Sheet3!$B$1,Sheet4!$B$2:$B$8408,Sheet3!$A$3)","v":51},{"$f":"+SUMIFS(Sheet4!$FV$2:$FV$8408,Sheet4!$C$2:$C$8408,Sheet3!$B27,Sheet4!$D$2:$D$8408,Sheet3!BX$3,Sheet4!$E$2:$E$8408,Sheet3!BX$4,Sheet4!$A$2:$A$8408,Sheet3!$B$1,Sheet4!$B$2:$B$8408,Sheet3!$A$3)","v":37},{"$f":"+SUMIFS(Sheet4!$FV$2:$FV$8408,Sheet4!$C$2:$C$8408,Sheet3!$B27,Sheet4!$D$2:$D$8408,Sheet3!BY$3,Sheet4!$E$2:$E$8408,Sheet3!BY$4,Sheet4!$A$2:$A$8408,Sheet3!$B$1,Sheet4!$B$2:$B$8408,Sheet3!$A$3)","v":4},{"$f":"+SUMIFS(Sheet4!$FV$2:$FV$8408,Sheet4!$C$2:$C$8408,Sheet3!$B27,Sheet4!$D$2:$D$8408,Sheet3!BZ$3,Sheet4!$E$2:$E$8408,Sheet3!BZ$4,Sheet4!$A$2:$A$8408,Sheet3!$B$1,Sheet4!$B$2:$B$8408,Sheet3!$A$3)","v":0},{"$f":"+SUMIFS(Sheet4!$FV$2:$FV$8408,Sheet4!$C$2:$C$8408,Sheet3!$B27,Sheet4!$D$2:$D$8408,Sheet3!CA$3,Sheet4!$E$2:$E$8408,Sheet3!CA$4,Sheet4!$A$2:$A$8408,Sheet3!$B$1,Sheet4!$B$2:$B$8408,Sheet3!$A$3)","v":34},{"$f":"+SUMIFS(Sheet4!$FV$2:$FV$8408,Sheet4!$C$2:$C$8408,Sheet3!$B27,Sheet4!$D$2:$D$8408,Sheet3!CB$3,Sheet4!$E$2:$E$8408,Sheet3!CB$4,Sheet4!$A$2:$A$8408,Sheet3!$B$1,Sheet4!$B$2:$B$8408,Sheet3!$A$3)","v":35},{"$f":"+SUMIFS(Sheet4!$FV$2:$FV$8408,Sheet4!$C$2:$C$8408,Sheet3!$B27,Sheet4!$D$2:$D$8408,Sheet3!CC$3,Sheet4!$E$2:$E$8408,Sheet3!CC$4,Sheet4!$A$2:$A$8408,Sheet3!$B$1,Sheet4!$B$2:$B$8408,Sheet3!$A$3)","v":25},{"$f":"+SUMIFS(Sheet4!$FV$2:$FV$8408,Sheet4!$C$2:$C$8408,Sheet3!$B27,Sheet4!$D$2:$D$8408,Sheet3!CD$3,Sheet4!$E$2:$E$8408,Sheet3!CD$4,Sheet4!$A$2:$A$8408,Sheet3!$B$1,Sheet4!$B$2:$B$8408,Sheet3!$A$3)","v":32},{"$f":"+SUMIFS(Sheet4!$FV$2:$FV$8408,Sheet4!$C$2:$C$8408,Sheet3!$B27,Sheet4!$D$2:$D$8408,Sheet3!CE$3,Sheet4!$E$2:$E$8408,Sheet3!CE$4,Sheet4!$A$2:$A$8408,Sheet3!$B$1,Sheet4!$B$2:$B$8408,Sheet3!$A$3)","v":7},{"$f":"+SUMIFS(Sheet4!$FV$2:$FV$8408,Sheet4!$C$2:$C$8408,Sheet3!$B27,Sheet4!$D$2:$D$8408,Sheet3!CF$3,Sheet4!$E$2:$E$8408,Sheet3!CF$4,Sheet4!$A$2:$A$8408,Sheet3!$B$1,Sheet4!$B$2:$B$8408,Sheet3!$A$3)","v":196},{"$f":"+SUMIFS(Sheet4!$FV$2:$FV$8408,Sheet4!$C$2:$C$8408,Sheet3!$B27,Sheet4!$D$2:$D$8408,Sheet3!CG$3,Sheet4!$E$2:$E$8408,Sheet3!CG$4,Sheet4!$A$2:$A$8408,Sheet3!$B$1,Sheet4!$B$2:$B$8408,Sheet3!$A$3)","v":163},{"$f":"+SUMIFS(Sheet4!$FV$2:$FV$8408,Sheet4!$C$2:$C$8408,Sheet3!$B27,Sheet4!$D$2:$D$8408,Sheet3!CH$3,Sheet4!$E$2:$E$8408,Sheet3!CH$4,Sheet4!$A$2:$A$8408,Sheet3!$B$1,Sheet4!$B$2:$B$8408,Sheet3!$A$3)","v":119},{"$f":"+SUMIFS(Sheet4!$FV$2:$FV$8408,Sheet4!$C$2:$C$8408,Sheet3!$B27,Sheet4!$D$2:$D$8408,Sheet3!CI$3,Sheet4!$E$2:$E$8408,Sheet3!CI$4,Sheet4!$A$2:$A$8408,Sheet3!$B$1,Sheet4!$B$2:$B$8408,Sheet3!$A$3)","v":14},{"$f":"+SUMIFS(Sheet4!$FV$2:$FV$8408,Sheet4!$C$2:$C$8408,Sheet3!$B27,Sheet4!$D$2:$D$8408,Sheet3!CJ$3,Sheet4!$E$2:$E$8408,Sheet3!CJ$4,Sheet4!$A$2:$A$8408,Sheet3!$B$1,Sheet4!$B$2:$B$8408,Sheet3!$A$3)","v":0},{"$f":"+SUMIFS(Sheet4!$FV$2:$FV$8408,Sheet4!$C$2:$C$8408,Sheet3!$B27,Sheet4!$D$2:$D$8408,Sheet3!CK$3,Sheet4!$E$2:$E$8408,Sheet3!CK$4,Sheet4!$A$2:$A$8408,Sheet3!$B$1,Sheet4!$B$2:$B$8408,Sheet3!$A$3)","v":4},{"$f":"+SUMIFS(Sheet4!$FV$2:$FV$8408,Sheet4!$C$2:$C$8408,Sheet3!$B27,Sheet4!$D$2:$D$8408,Sheet3!CL$3,Sheet4!$E$2:$E$8408,Sheet3!CL$4,Sheet4!$A$2:$A$8408,Sheet3!$B$1,Sheet4!$B$2:$B$8408,Sheet3!$A$3)","v":63},{"$f":"+SUMIFS(Sheet4!$FV$2:$FV$8408,Sheet4!$C$2:$C$8408,Sheet3!$B27,Sheet4!$D$2:$D$8408,Sheet3!CM$3,Sheet4!$E$2:$E$8408,Sheet3!CM$4,Sheet4!$A$2:$A$8408,Sheet3!$B$1,Sheet4!$B$2:$B$8408,Sheet3!$A$3)","v":106},{"$f":"+SUMIFS(Sheet4!$FV$2:$FV$8408,Sheet4!$C$2:$C$8408,Sheet3!$B27,Sheet4!$D$2:$D$8408,Sheet3!CN$3,Sheet4!$E$2:$E$8408,Sheet3!CN$4,Sheet4!$A$2:$A$8408,Sheet3!$B$1,Sheet4!$B$2:$B$8408,Sheet3!$A$3)","v":13},{"$f":"+SUMIFS(Sheet4!$FV$2:$FV$8408,Sheet4!$C$2:$C$8408,Sheet3!$B27,Sheet4!$D$2:$D$8408,Sheet3!CO$3,Sheet4!$E$2:$E$8408,Sheet3!CO$4,Sheet4!$A$2:$A$8408,Sheet3!$B$1,Sheet4!$B$2:$B$8408,Sheet3!$A$3)","v":0},{"$f":"+SUMIFS(Sheet4!$FV$2:$FV$8408,Sheet4!$C$2:$C$8408,Sheet3!$B27,Sheet4!$D$2:$D$8408,Sheet3!CP$3,Sheet4!$E$2:$E$8408,Sheet3!CP$4,Sheet4!$A$2:$A$8408,Sheet3!$B$1,Sheet4!$B$2:$B$8408,Sheet3!$A$3)","v":0},{"$f":"+SUMIFS(Sheet4!$FV$2:$FV$8408,Sheet4!$C$2:$C$8408,Sheet3!$B27,Sheet4!$D$2:$D$8408,Sheet3!CQ$3,Sheet4!$E$2:$E$8408,Sheet3!CQ$4,Sheet4!$A$2:$A$8408,Sheet3!$B$1,Sheet4!$B$2:$B$8408,Sheet3!$A$3)","v":5},{"$f":"+SUMIFS(Sheet4!$FV$2:$FV$8408,Sheet4!$C$2:$C$8408,Sheet3!$B27,Sheet4!$D$2:$D$8408,Sheet3!CR$3,Sheet4!$E$2:$E$8408,Sheet3!CR$4,Sheet4!$A$2:$A$8408,Sheet3!$B$1,Sheet4!$B$2:$B$8408,Sheet3!$A$3)","v":7},{"$f":"+SUMIFS(Sheet4!$FV$2:$FV$8408,Sheet4!$C$2:$C$8408,Sheet3!$B27,Sheet4!$D$2:$D$8408,Sheet3!CS$3,Sheet4!$E$2:$E$8408,Sheet3!CS$4,Sheet4!$A$2:$A$8408,Sheet3!$B$1,Sheet4!$B$2:$B$8408,Sheet3!$A$3)","v":0},{"$f":"+SUMIFS(Sheet4!$FV$2:$FV$8408,Sheet4!$C$2:$C$8408,Sheet3!$B27,Sheet4!$D$2:$D$8408,Sheet3!CT$3,Sheet4!$E$2:$E$8408,Sheet3!CT$4,Sheet4!$A$2:$A$8408,Sheet3!$B$1,Sheet4!$B$2:$B$8408,Sheet3!$A$3)","v":0},{"$f":"+IF(SUMIFS(Sheet4!$FW$2:$FW$8408,Sheet4!$C$2:$C$8408,Sheet3!$B27,Sheet4!$D$2:$D$8408,Sheet3!CU$3,Sheet4!$A$2:$A$8408,Sheet3!$B$1,Sheet4!$B$2:$B$8408,Sheet3!$A$3)<3,0,SUMIFS(Sheet4!$FW$2:$FW$8408,Sheet4!$C$2:$C$8408,Sheet3!$B27,Sheet4!$D$2:$D$8408,Sheet3!CU$3,Sheet4!$A$2:$A$8408,Sheet3!$B$1,Sheet4!$B$2:$B$8408,Sheet3!$A$3))","v":73},{"$f":"+IF(SUMIFS(Sheet4!$FW$2:$FW$8408,Sheet4!$C$2:$C$8408,Sheet3!$B27,Sheet4!$D$2:$D$8408,Sheet3!CV$3,Sheet4!$A$2:$A$8408,Sheet3!$B$1,Sheet4!$B$2:$B$8408,Sheet3!$A$3)<3,0,SUMIFS(Sheet4!$FW$2:$FW$8408,Sheet4!$C$2:$C$8408,Sheet3!$B27,Sheet4!$D$2:$D$8408,Sheet3!CV$3,Sheet4!$A$2:$A$8408,Sheet3!$B$1,Sheet4!$B$2:$B$8408,Sheet3!$A$3))","v":314},{"$f":"+IF(SUMIFS(Sheet4!$FW$2:$FW$8408,Sheet4!$C$2:$C$8408,Sheet3!$B27,Sheet4!$D$2:$D$8408,Sheet3!CW$3,Sheet4!$A$2:$A$8408,Sheet3!$B$1,Sheet4!$B$2:$B$8408,Sheet3!$A$3)<3,0,SUMIFS(Sheet4!$FW$2:$FW$8408,Sheet4!$C$2:$C$8408,Sheet3!$B27,Sheet4!$D$2:$D$8408,Sheet3!CW$3,Sheet4!$A$2:$A$8408,Sheet3!$B$1,Sheet4!$B$2:$B$8408,Sheet3!$A$3))","v":114},{"$f":"+IF(SUMIFS(Sheet4!$FW$2:$FW$8408,Sheet4!$C$2:$C$8408,Sheet3!$B27,Sheet4!$D$2:$D$8408,Sheet3!CX$3,Sheet4!$A$2:$A$8408,Sheet3!$B$1,Sheet4!$B$2:$B$8408,Sheet3!$A$3)<3,0,SUMIFS(Sheet4!$FW$2:$FW$8408,Sheet4!$C$2:$C$8408,Sheet3!$B27,Sheet4!$D$2:$D$8408,Sheet3!CX$3,Sheet4!$A$2:$A$8408,Sheet3!$B$1,Sheet4!$B$2:$B$8408,Sheet3!$A$3))","v":114},{"$f":"+IF(SUMIFS(Sheet4!$FW$2:$FW$8408,Sheet4!$C$2:$C$8408,Sheet3!$B27,Sheet4!$D$2:$D$8408,Sheet3!CY$3,Sheet4!$A$2:$A$8408,Sheet3!$B$1,Sheet4!$B$2:$B$8408,Sheet3!$A$3)<3,0,SUMIFS(Sheet4!$FW$2:$FW$8408,Sheet4!$C$2:$C$8408,Sheet3!$B27,Sheet4!$D$2:$D$8408,Sheet3!CY$3,Sheet4!$A$2:$A$8408,Sheet3!$B$1,Sheet4!$B$2:$B$8408,Sheet3!$A$3))","v":33},{"$f":"+IF(SUMIFS(Sheet4!$FW$2:$FW$8408,Sheet4!$C$2:$C$8408,Sheet3!$B27,Sheet4!$D$2:$D$8408,Sheet3!CZ$3,Sheet4!$A$2:$A$8408,Sheet3!$B$1,Sheet4!$B$2:$B$8408,Sheet3!$A$3)<3,0,SUMIFS(Sheet4!$FW$2:$FW$8408,Sheet4!$C$2:$C$8408,Sheet3!$B27,Sheet4!$D$2:$D$8408,Sheet3!CZ$3,Sheet4!$A$2:$A$8408,Sheet3!$B$1,Sheet4!$B$2:$B$8408,Sheet3!$A$3))","v":75},{"$f":"+IF(SUMIFS(Sheet4!$FW$2:$FW$8408,Sheet4!$C$2:$C$8408,Sheet3!$B27,Sheet4!$D$2:$D$8408,Sheet3!DA$3,Sheet4!$A$2:$A$8408,Sheet3!$B$1,Sheet4!$B$2:$B$8408,Sheet3!$A$3)<3,0,SUMIFS(Sheet4!$FW$2:$FW$8408,Sheet4!$C$2:$C$8408,Sheet3!$B27,Sheet4!$D$2:$D$8408,Sheet3!DA$3,Sheet4!$A$2:$A$8408,Sheet3!$B$1,Sheet4!$B$2:$B$8408,Sheet3!$A$3))","v":162},{"$f":"+IF(SUMIFS(Sheet4!$FW$2:$FW$8408,Sheet4!$C$2:$C$8408,Sheet3!$B27,Sheet4!$D$2:$D$8408,Sheet3!DB$3,Sheet4!$A$2:$A$8408,Sheet3!$B$1,Sheet4!$B$2:$B$8408,Sheet3!$A$3)<3,0,SUMIFS(Sheet4!$FW$2:$FW$8408,Sheet4!$C$2:$C$8408,Sheet3!$B27,Sheet4!$D$2:$D$8408,Sheet3!DB$3,Sheet4!$A$2:$A$8408,Sheet3!$B$1,Sheet4!$B$2:$B$8408,Sheet3!$A$3))","v":250},{"$f":"+IF(SUMIFS(Sheet4!$FW$2:$FW$8408,Sheet4!$C$2:$C$8408,Sheet3!$B27,Sheet4!$D$2:$D$8408,Sheet3!DC$3,Sheet4!$A$2:$A$8408,Sheet3!$B$1,Sheet4!$B$2:$B$8408,Sheet3!$A$3)<3,0,SUMIFS(Sheet4!$FW$2:$FW$8408,Sheet4!$C$2:$C$8408,Sheet3!$B27,Sheet4!$D$2:$D$8408,Sheet3!DC$3,Sheet4!$A$2:$A$8408,Sheet3!$B$1,Sheet4!$B$2:$B$8408,Sheet3!$A$3))","v":232},{"$f":"+IF(SUMIFS(Sheet4!$FW$2:$FW$8408,Sheet4!$C$2:$C$8408,Sheet3!$B27,Sheet4!$D$2:$D$8408,Sheet3!DD$3,Sheet4!$A$2:$A$8408,Sheet3!$B$1,Sheet4!$B$2:$B$8408,Sheet3!$A$3)<3,0,SUMIFS(Sheet4!$FW$2:$FW$8408,Sheet4!$C$2:$C$8408,Sheet3!$B27,Sheet4!$D$2:$D$8408,Sheet3!DD$3,Sheet4!$A$2:$A$8408,Sheet3!$B$1,Sheet4!$B$2:$B$8408,Sheet3!$A$3))","v":600},{"$f":"+IF(SUMIFS(Sheet4!$FW$2:$FW$8408,Sheet4!$C$2:$C$8408,Sheet3!$B27,Sheet4!$D$2:$D$8408,Sheet3!DE$3,Sheet4!$A$2:$A$8408,Sheet3!$B$1,Sheet4!$B$2:$B$8408,Sheet3!$A$3)<3,0,SUMIFS(Sheet4!$FW$2:$FW$8408,Sheet4!$C$2:$C$8408,Sheet3!$B27,Sheet4!$D$2:$D$8408,Sheet3!DE$3,Sheet4!$A$2:$A$8408,Sheet3!$B$1,Sheet4!$B$2:$B$8408,Sheet3!$A$3))","v":21},{"$f":"+IF(SUMIFS(Sheet4!$FW$2:$FW$8408,Sheet4!$C$2:$C$8408,Sheet3!$B27,Sheet4!$D$2:$D$8408,Sheet3!DF$3,Sheet4!$A$2:$A$8408,Sheet3!$B$1,Sheet4!$B$2:$B$8408,Sheet3!$A$3)<3,0,SUMIFS(Sheet4!$FW$2:$FW$8408,Sheet4!$C$2:$C$8408,Sheet3!$B27,Sheet4!$D$2:$D$8408,Sheet3!DF$3,Sheet4!$A$2:$A$8408,Sheet3!$B$1,Sheet4!$B$2:$B$8408,Sheet3!$A$3))","v":46},{"$f":"+IF(SUMIFS(Sheet4!$FW$2:$FW$8408,Sheet4!$C$2:$C$8408,Sheet3!$B27,Sheet4!$D$2:$D$8408,Sheet3!DG$3,Sheet4!$A$2:$A$8408,Sheet3!$B$1,Sheet4!$B$2:$B$8408,Sheet3!$A$3)<3,0,SUMIFS(Sheet4!$FW$2:$FW$8408,Sheet4!$C$2:$C$8408,Sheet3!$B27,Sheet4!$D$2:$D$8408,Sheet3!DG$3,Sheet4!$A$2:$A$8408,Sheet3!$B$1,Sheet4!$B$2:$B$8408,Sheet3!$A$3))","v":77},{"$f":"+IF(SUMIFS(Sheet4!$FW$2:$FW$8408,Sheet4!$C$2:$C$8408,Sheet3!$B27,Sheet4!$D$2:$D$8408,Sheet3!DH$3,Sheet4!$A$2:$A$8408,Sheet3!$B$1,Sheet4!$B$2:$B$8408,Sheet3!$A$3)<3,0,SUMIFS(Sheet4!$FW$2:$FW$8408,Sheet4!$C$2:$C$8408,Sheet3!$B27,Sheet4!$D$2:$D$8408,Sheet3!DH$3,Sheet4!$A$2:$A$8408,Sheet3!$B$1,Sheet4!$B$2:$B$8408,Sheet3!$A$3))","v":56},{"$f":"+IF(SUMIFS(Sheet4!$FW$2:$FW$8408,Sheet4!$C$2:$C$8408,Sheet3!$B27,Sheet4!$D$2:$D$8408,Sheet3!DI$3,Sheet4!$A$2:$A$8408,Sheet3!$B$1,Sheet4!$B$2:$B$8408,Sheet3!$A$3)<3,0,SUMIFS(Sheet4!$FW$2:$FW$8408,Sheet4!$C$2:$C$8408,Sheet3!$B27,Sheet4!$D$2:$D$8408,Sheet3!DI$3,Sheet4!$A$2:$A$8408,Sheet3!$B$1,Sheet4!$B$2:$B$8408,Sheet3!$A$3))","v":293},{"$f":"+IF(SUMIFS(Sheet4!$FW$2:$FW$8408,Sheet4!$C$2:$C$8408,Sheet3!$B27,Sheet4!$D$2:$D$8408,Sheet3!DJ$3,Sheet4!$A$2:$A$8408,Sheet3!$B$1,Sheet4!$B$2:$B$8408,Sheet3!$A$3)<3,0,SUMIFS(Sheet4!$FW$2:$FW$8408,Sheet4!$C$2:$C$8408,Sheet3!$B27,Sheet4!$D$2:$D$8408,Sheet3!DJ$3,Sheet4!$A$2:$A$8408,Sheet3!$B$1,Sheet4!$B$2:$B$8408,Sheet3!$A$3))","v":137},{"$f":"+IF(SUMIFS(Sheet4!$FW$2:$FW$8408,Sheet4!$C$2:$C$8408,Sheet3!$B27,Sheet4!$D$2:$D$8408,Sheet3!DK$3,Sheet4!$A$2:$A$8408,Sheet3!$B$1,Sheet4!$B$2:$B$8408,Sheet3!$A$3)<3,0,SUMIFS(Sheet4!$FW$2:$FW$8408,Sheet4!$C$2:$C$8408,Sheet3!$B27,Sheet4!$D$2:$D$8408,Sheet3!DK$3,Sheet4!$A$2:$A$8408,Sheet3!$B$1,Sheet4!$B$2:$B$8408,Sheet3!$A$3))","v":494},{"$f":"+IF(SUMIFS(Sheet4!$FW$2:$FW$8408,Sheet4!$C$2:$C$8408,Sheet3!$B27,Sheet4!$D$2:$D$8408,Sheet3!DL$3,Sheet4!$A$2:$A$8408,Sheet3!$B$1,Sheet4!$B$2:$B$8408,Sheet3!$A$3)<3,0,SUMIFS(Sheet4!$FW$2:$FW$8408,Sheet4!$C$2:$C$8408,Sheet3!$B27,Sheet4!$D$2:$D$8408,Sheet3!DL$3,Sheet4!$A$2:$A$8408,Sheet3!$B$1,Sheet4!$B$2:$B$8408,Sheet3!$A$3))","v":191},{"$f":"+IF(SUMIFS(Sheet4!$FW$2:$FW$8408,Sheet4!$C$2:$C$8408,Sheet3!$B27,Sheet4!$D$2:$D$8408,Sheet3!DM$3,Sheet4!$A$2:$A$8408,Sheet3!$B$1,Sheet4!$B$2:$B$8408,Sheet3!$A$3)<3,0,SUMIFS(Sheet4!$FW$2:$FW$8408,Sheet4!$C$2:$C$8408,Sheet3!$B27,Sheet4!$D$2:$D$8408,Sheet3!DM$3,Sheet4!$A$2:$A$8408,Sheet3!$B$1,Sheet4!$B$2:$B$8408,Sheet3!$A$3))","v":13},{"$f":"+IF(SUMIFS(Sheet4!$FW$2:$FW$8408,Sheet4!$C$2:$C$8408,Sheet3!$B27,Sheet4!$E$2:$E$8408,Sheet3!DN$4,Sheet4!$A$2:$A$8408,Sheet3!$B$1,Sheet4!$B$2:$B$8408,Sheet3!$A$3)<3,0,SUMIFS(Sheet4!$FW$2:$FW$8408,Sheet4!$C$2:$C$8408,Sheet3!$B27,Sheet4!$E$2:$E$8408,Sheet3!DN$4,Sheet4!$A$2:$A$8408,Sheet3!$B$1,Sheet4!$B$2:$B$8408,Sheet3!$A$3))","v":1207},{"$f":"+IF(SUMIFS(Sheet4!$FW$2:$FW$8408,Sheet4!$C$2:$C$8408,Sheet3!$B27,Sheet4!$E$2:$E$8408,Sheet3!DO$4,Sheet4!$A$2:$A$8408,Sheet3!$B$1,Sheet4!$B$2:$B$8408,Sheet3!$A$3)<3,0,SUMIFS(Sheet4!$FW$2:$FW$8408,Sheet4!$C$2:$C$8408,Sheet3!$B27,Sheet4!$E$2:$E$8408,Sheet3!DO$4,Sheet4!$A$2:$A$8408,Sheet3!$B$1,Sheet4!$B$2:$B$8408,Sheet3!$A$3))","v":988},{"$f":"+IF(SUMIFS(Sheet4!$FW$2:$FW$8408,Sheet4!$C$2:$C$8408,Sheet3!$B27,Sheet4!$E$2:$E$8408,Sheet3!DP$4,Sheet4!$A$2:$A$8408,Sheet3!$B$1,Sheet4!$B$2:$B$8408,Sheet3!$A$3)<3,0,SUMIFS(Sheet4!$FW$2:$FW$8408,Sheet4!$C$2:$C$8408,Sheet3!$B27,Sheet4!$E$2:$E$8408,Sheet3!DP$4,Sheet4!$A$2:$A$8408,Sheet3!$B$1,Sheet4!$B$2:$B$8408,Sheet3!$A$3))","v":882},{"$f":"+IF(SUMIFS(Sheet4!$FW$2:$FW$8408,Sheet4!$C$2:$C$8408,Sheet3!$B27,Sheet4!$E$2:$E$8408,Sheet3!DQ$4,Sheet4!$A$2:$A$8408,Sheet3!$B$1,Sheet4!$B$2:$B$8408,Sheet3!$A$3)<3,0,SUMIFS(Sheet4!$FW$2:$FW$8408,Sheet4!$C$2:$C$8408,Sheet3!$B27,Sheet4!$E$2:$E$8408,Sheet3!DQ$4,Sheet4!$A$2:$A$8408,Sheet3!$B$1,Sheet4!$B$2:$B$8408,Sheet3!$A$3))","v":197},{"$f":"+IF(SUMIFS(Sheet4!$FW$2:$FW$8408,Sheet4!$C$2:$C$8408,Sheet3!$B27,Sheet4!$E$2:$E$8408,Sheet3!DR$4,Sheet4!$A$2:$A$8408,Sheet3!$B$1,Sheet4!$B$2:$B$8408,Sheet3!$A$3)<3,0,SUMIFS(Sheet4!$FW$2:$FW$8408,Sheet4!$C$2:$C$8408,Sheet3!$B27,Sheet4!$E$2:$E$8408,Sheet3!DR$4,Sheet4!$A$2:$A$8408,Sheet3!$B$1,Sheet4!$B$2:$B$8408,Sheet3!$A$3))","v":21}]
[5,"186","Alto Alentejo",{"$f":"+SUMIFS(Sheet4!$FV$2:$FV$8408,Sheet4!$C$2:$C$8408,Sheet3!$B28,Sheet4!$D$2:$D$8408,Sheet3!D$3,Sheet4!$E$2:$E$8408,Sheet3!D$4,Sheet4!$A$2:$A$8408,Sheet3!$B$1,Sheet4!$B$2:$B$8408,Sheet3!$A$3)","v":6},{"$f":"+SUMIFS(Sheet4!$FV$2:$FV$8408,Sheet4!$C$2:$C$8408,Sheet3!$B28,Sheet4!$D$2:$D$8408,Sheet3!E$3,Sheet4!$E$2:$E$8408,Sheet3!E$4,Sheet4!$A$2:$A$8408,Sheet3!$B$1,Sheet4!$B$2:$B$8408,Sheet3!$A$3)","v":0},{"$f":"+SUMIFS(Sheet4!$FV$2:$FV$8408,Sheet4!$C$2:$C$8408,Sheet3!$B28,Sheet4!$D$2:$D$8408,Sheet3!F$3,Sheet4!$E$2:$E$8408,Sheet3!F$4,Sheet4!$A$2:$A$8408,Sheet3!$B$1,Sheet4!$B$2:$B$8408,Sheet3!$A$3)","v":3},{"$f":"+SUMIFS(Sheet4!$FV$2:$FV$8408,Sheet4!$C$2:$C$8408,Sheet3!$B28,Sheet4!$D$2:$D$8408,Sheet3!G$3,Sheet4!$E$2:$E$8408,Sheet3!G$4,Sheet4!$A$2:$A$8408,Sheet3!$B$1,Sheet4!$B$2:$B$8408,Sheet3!$A$3)","v":0},{"$f":"+SUMIFS(Sheet4!$FV$2:$FV$8408,Sheet4!$C$2:$C$8408,Sheet3!$B28,Sheet4!$D$2:$D$8408,Sheet3!H$3,Sheet4!$E$2:$E$8408,Sheet3!H$4,Sheet4!$A$2:$A$8408,Sheet3!$B$1,Sheet4!$B$2:$B$8408,Sheet3!$A$3)","v":0},{"$f":"+SUMIFS(Sheet4!$FV$2:$FV$8408,Sheet4!$C$2:$C$8408,Sheet3!$B28,Sheet4!$D$2:$D$8408,Sheet3!I$3,Sheet4!$E$2:$E$8408,Sheet3!I$4,Sheet4!$A$2:$A$8408,Sheet3!$B$1,Sheet4!$B$2:$B$8408,Sheet3!$A$3)","v":0},{"$f":"+SUMIFS(Sheet4!$FV$2:$FV$8408,Sheet4!$C$2:$C$8408,Sheet3!$B28,Sheet4!$D$2:$D$8408,Sheet3!J$3,Sheet4!$E$2:$E$8408,Sheet3!J$4,Sheet4!$A$2:$A$8408,Sheet3!$B$1,Sheet4!$B$2:$B$8408,Sheet3!$A$3)","v":4},{"$f":"+SUMIFS(Sheet4!$FV$2:$FV$8408,Sheet4!$C$2:$C$8408,Sheet3!$B28,Sheet4!$D$2:$D$8408,Sheet3!K$3,Sheet4!$E$2:$E$8408,Sheet3!K$4,Sheet4!$A$2:$A$8408,Sheet3!$B$1,Sheet4!$B$2:$B$8408,Sheet3!$A$3)","v":13},{"$f":"+SUMIFS(Sheet4!$FV$2:$FV$8408,Sheet4!$C$2:$C$8408,Sheet3!$B28,Sheet4!$D$2:$D$8408,Sheet3!L$3,Sheet4!$E$2:$E$8408,Sheet3!L$4,Sheet4!$A$2:$A$8408,Sheet3!$B$1,Sheet4!$B$2:$B$8408,Sheet3!$A$3)","v":0},{"$f":"+SUMIFS(Sheet4!$FV$2:$FV$8408,Sheet4!$C$2:$C$8408,Sheet3!$B28,Sheet4!$D$2:$D$8408,Sheet3!M$3,Sheet4!$E$2:$E$8408,Sheet3!M$4,Sheet4!$A$2:$A$8408,Sheet3!$B$1,Sheet4!$B$2:$B$8408,Sheet3!$A$3)","v":0},{"$f":"+SUMIFS(Sheet4!$FV$2:$FV$8408,Sheet4!$C$2:$C$8408,Sheet3!$B28,Sheet4!$D$2:$D$8408,Sheet3!N$3,Sheet4!$E$2:$E$8408,Sheet3!N$4,Sheet4!$A$2:$A$8408,Sheet3!$B$1,Sheet4!$B$2:$B$8408,Sheet3!$A$3)","v":17},{"$f":"+SUMIFS(Sheet4!$FV$2:$FV$8408,Sheet4!$C$2:$C$8408,Sheet3!$B28,Sheet4!$D$2:$D$8408,Sheet3!O$3,Sheet4!$E$2:$E$8408,Sheet3!O$4,Sheet4!$A$2:$A$8408,Sheet3!$B$1,Sheet4!$B$2:$B$8408,Sheet3!$A$3)","v":29},{"$f":"+SUMIFS(Sheet4!$FV$2:$FV$8408,Sheet4!$C$2:$C$8408,Sheet3!$B28,Sheet4!$D$2:$D$8408,Sheet3!P$3,Sheet4!$E$2:$E$8408,Sheet3!P$4,Sheet4!$A$2:$A$8408,Sheet3!$B$1,Sheet4!$B$2:$B$8408,Sheet3!$A$3)","v":14},{"$f":"+SUMIFS(Sheet4!$FV$2:$FV$8408,Sheet4!$C$2:$C$8408,Sheet3!$B28,Sheet4!$D$2:$D$8408,Sheet3!Q$3,Sheet4!$E$2:$E$8408,Sheet3!Q$4,Sheet4!$A$2:$A$8408,Sheet3!$B$1,Sheet4!$B$2:$B$8408,Sheet3!$A$3)","v":3},{"$f":"+SUMIFS(Sheet4!$FV$2:$FV$8408,Sheet4!$C$2:$C$8408,Sheet3!$B28,Sheet4!$D$2:$D$8408,Sheet3!R$3,Sheet4!$E$2:$E$8408,Sheet3!R$4,Sheet4!$A$2:$A$8408,Sheet3!$B$1,Sheet4!$B$2:$B$8408,Sheet3!$A$3)","v":0},{"$f":"+SUMIFS(Sheet4!$FV$2:$FV$8408,Sheet4!$C$2:$C$8408,Sheet3!$B28,Sheet4!$D$2:$D$8408,Sheet3!S$3,Sheet4!$E$2:$E$8408,Sheet3!S$4,Sheet4!$A$2:$A$8408,Sheet3!$B$1,Sheet4!$B$2:$B$8408,Sheet3!$A$3)","v":0},{"$f":"+SUMIFS(Sheet4!$FV$2:$FV$8408,Sheet4!$C$2:$C$8408,Sheet3!$B28,Sheet4!$D$2:$D$8408,Sheet3!T$3,Sheet4!$E$2:$E$8408,Sheet3!T$4,Sheet4!$A$2:$A$8408,Sheet3!$B$1,Sheet4!$B$2:$B$8408,Sheet3!$A$3)","v":0},{"$f":"+SUMIFS(Sheet4!$FV$2:$FV$8408,Sheet4!$C$2:$C$8408,Sheet3!$B28,Sheet4!$D$2:$D$8408,Sheet3!U$3,Sheet4!$E$2:$E$8408,Sheet3!U$4,Sheet4!$A$2:$A$8408,Sheet3!$B$1,Sheet4!$B$2:$B$8408,Sheet3!$A$3)","v":0},{"$f":"+SUMIFS(Sheet4!$FV$2:$FV$8408,Sheet4!$C$2:$C$8408,Sheet3!$B28,Sheet4!$D$2:$D$8408,Sheet3!V$3,Sheet4!$E$2:$E$8408,Sheet3!V$4,Sheet4!$A$2:$A$8408,Sheet3!$B$1,Sheet4!$B$2:$B$8408,Sheet3!$A$3)","v":0},{"$f":"+SUMIFS(Sheet4!$FV$2:$FV$8408,Sheet4!$C$2:$C$8408,Sheet3!$B28,Sheet4!$D$2:$D$8408,Sheet3!W$3,Sheet4!$E$2:$E$8408,Sheet3!W$4,Sheet4!$A$2:$A$8408,Sheet3!$B$1,Sheet4!$B$2:$B$8408,Sheet3!$A$3)","v":0},{"$f":"+SUMIFS(Sheet4!$FV$2:$FV$8408,Sheet4!$C$2:$C$8408,Sheet3!$B28,Sheet4!$D$2:$D$8408,Sheet3!X$3,Sheet4!$E$2:$E$8408,Sheet3!X$4,Sheet4!$A$2:$A$8408,Sheet3!$B$1,Sheet4!$B$2:$B$8408,Sheet3!$A$3)","v":0},{"$f":"+SUMIFS(Sheet4!$FV$2:$FV$8408,Sheet4!$C$2:$C$8408,Sheet3!$B28,Sheet4!$D$2:$D$8408,Sheet3!Y$3,Sheet4!$E$2:$E$8408,Sheet3!Y$4,Sheet4!$A$2:$A$8408,Sheet3!$B$1,Sheet4!$B$2:$B$8408,Sheet3!$A$3)","v":0},{"$f":"+SUMIFS(Sheet4!$FV$2:$FV$8408,Sheet4!$C$2:$C$8408,Sheet3!$B28,Sheet4!$D$2:$D$8408,Sheet3!Z$3,Sheet4!$E$2:$E$8408,Sheet3!Z$4,Sheet4!$A$2:$A$8408,Sheet3!$B$1,Sheet4!$B$2:$B$8408,Sheet3!$A$3)","v":18},{"$f":"+SUMIFS(Sheet4!$FV$2:$FV$8408,Sheet4!$C$2:$C$8408,Sheet3!$B28,Sheet4!$D$2:$D$8408,Sheet3!AA$3,Sheet4!$E$2:$E$8408,Sheet3!AA$4,Sheet4!$A$2:$A$8408,Sheet3!$B$1,Sheet4!$B$2:$B$8408,Sheet3!$A$3)","v":4},{"$f":"+SUMIFS(Sheet4!$FV$2:$FV$8408,Sheet4!$C$2:$C$8408,Sheet3!$B28,Sheet4!$D$2:$D$8408,Sheet3!AB$3,Sheet4!$E$2:$E$8408,Sheet3!AB$4,Sheet4!$A$2:$A$8408,Sheet3!$B$1,Sheet4!$B$2:$B$8408,Sheet3!$A$3)","v":0},{"$f":"+SUMIFS(Sheet4!$FV$2:$FV$8408,Sheet4!$C$2:$C$8408,Sheet3!$B28,Sheet4!$D$2:$D$8408,Sheet3!AC$3,Sheet4!$E$2:$E$8408,Sheet3!AC$4,Sheet4!$A$2:$A$8408,Sheet3!$B$1,Sheet4!$B$2:$B$8408,Sheet3!$A$3)","v":66},{"$f":"+SUMIFS(Sheet4!$FV$2:$FV$8408,Sheet4!$C$2:$C$8408,Sheet3!$B28,Sheet4!$D$2:$D$8408,Sheet3!AD$3,Sheet4!$E$2:$E$8408,Sheet3!AD$4,Sheet4!$A$2:$A$8408,Sheet3!$B$1,Sheet4!$B$2:$B$8408,Sheet3!$A$3)","v":30},{"$f":"+SUMIFS(Sheet4!$FV$2:$FV$8408,Sheet4!$C$2:$C$8408,Sheet3!$B28,Sheet4!$D$2:$D$8408,Sheet3!AE$3,Sheet4!$E$2:$E$8408,Sheet3!AE$4,Sheet4!$A$2:$A$8408,Sheet3!$B$1,Sheet4!$B$2:$B$8408,Sheet3!$A$3)","v":33},{"$f":"+SUMIFS(Sheet4!$FV$2:$FV$8408,Sheet4!$C$2:$C$8408,Sheet3!$B28,Sheet4!$D$2:$D$8408,Sheet3!AF$3,Sheet4!$E$2:$E$8408,Sheet3!AF$4,Sheet4!$A$2:$A$8408,Sheet3!$B$1,Sheet4!$B$2:$B$8408,Sheet3!$A$3)","v":5},{"$f":"+SUMIFS(Sheet4!$FV$2:$FV$8408,Sheet4!$C$2:$C$8408,Sheet3!$B28,Sheet4!$D$2:$D$8408,Sheet3!AG$3,Sheet4!$E$2:$E$8408,Sheet3!AG$4,Sheet4!$A$2:$A$8408,Sheet3!$B$1,Sheet4!$B$2:$B$8408,Sheet3!$A$3)","v":0},{"$f":"+SUMIFS(Sheet4!$FV$2:$FV$8408,Sheet4!$C$2:$C$8408,Sheet3!$B28,Sheet4!$D$2:$D$8408,Sheet3!AH$3,Sheet4!$E$2:$E$8408,Sheet3!AH$4,Sheet4!$A$2:$A$8408,Sheet3!$B$1,Sheet4!$B$2:$B$8408,Sheet3!$A$3)","v":29},{"$f":"+SUMIFS(Sheet4!$FV$2:$FV$8408,Sheet4!$C$2:$C$8408,Sheet3!$B28,Sheet4!$D$2:$D$8408,Sheet3!AI$3,Sheet4!$E$2:$E$8408,Sheet3!AI$4,Sheet4!$A$2:$A$8408,Sheet3!$B$1,Sheet4!$B$2:$B$8408,Sheet3!$A$3)","v":33},{"$f":"+SUMIFS(Sheet4!$FV$2:$FV$8408,Sheet4!$C$2:$C$8408,Sheet3!$B28,Sheet4!$D$2:$D$8408,Sheet3!AJ$3,Sheet4!$E$2:$E$8408,Sheet3!AJ$4,Sheet4!$A$2:$A$8408,Sheet3!$B$1,Sheet4!$B$2:$B$8408,Sheet3!$A$3)","v":26},{"$f":"+SUMIFS(Sheet4!$FV$2:$FV$8408,Sheet4!$C$2:$C$8408,Sheet3!$B28,Sheet4!$D$2:$D$8408,Sheet3!AK$3,Sheet4!$E$2:$E$8408,Sheet3!AK$4,Sheet4!$A$2:$A$8408,Sheet3!$B$1,Sheet4!$B$2:$B$8408,Sheet3!$A$3)","v":0},{"$f":"+SUMIFS(Sheet4!$FV$2:$FV$8408,Sheet4!$C$2:$C$8408,Sheet3!$B28,Sheet4!$D$2:$D$8408,Sheet3!AL$3,Sheet4!$E$2:$E$8408,Sheet3!AL$4,Sheet4!$A$2:$A$8408,Sheet3!$B$1,Sheet4!$B$2:$B$8408,Sheet3!$A$3)","v":0},{"$f":"+SUMIFS(Sheet4!$FV$2:$FV$8408,Sheet4!$C$2:$C$8408,Sheet3!$B28,Sheet4!$D$2:$D$8408,Sheet3!AM$3,Sheet4!$E$2:$E$8408,Sheet3!AM$4,Sheet4!$A$2:$A$8408,Sheet3!$B$1,Sheet4!$B$2:$B$8408,Sheet3!$A$3)","v":42},{"$f":"+SUMIFS(Sheet4!$FV$2:$FV$8408,Sheet4!$C$2:$C$8408,Sheet3!$B28,Sheet4!$D$2:$D$8408,Sheet3!AN$3,Sheet4!$E$2:$E$8408,Sheet3!AN$4,Sheet4!$A$2:$A$8408,Sheet3!$B$1,Sheet4!$B$2:$B$8408,Sheet3!$A$3)","v":42},{"$f":"+SUMIFS(Sheet4!$FV$2:$FV$8408,Sheet4!$C$2:$C$8408,Sheet3!$B28,Sheet4!$D$2:$D$8408,Sheet3!AO$3,Sheet4!$E$2:$E$8408,Sheet3!AO$4,Sheet4!$A$2:$A$8408,Sheet3!$B$1,Sheet4!$B$2:$B$8408,Sheet3!$A$3)","v":44},{"$f":"+SUMIFS(Sheet4!$FV$2:$FV$8408,Sheet4!$C$2:$C$8408,Sheet3!$B28,Sheet4!$D$2:$D$8408,Sheet3!AP$3,Sheet4!$E$2:$E$8408,Sheet3!AP$4,Sheet4!$A$2:$A$8408,Sheet3!$B$1,Sheet4!$B$2:$B$8408,Sheet3!$A$3)","v":8},{"$f":"+SUMIFS(Sheet4!$FV$2:$FV$8408,Sheet4!$C$2:$C$8408,Sheet3!$B28,Sheet4!$D$2:$D$8408,Sheet3!AQ$3,Sheet4!$E$2:$E$8408,Sheet3!AQ$4,Sheet4!$A$2:$A$8408,Sheet3!$B$1,Sheet4!$B$2:$B$8408,Sheet3!$A$3)","v":0},{"$f":"+SUMIFS(Sheet4!$FV$2:$FV$8408,Sheet4!$C$2:$C$8408,Sheet3!$B28,Sheet4!$D$2:$D$8408,Sheet3!AR$3,Sheet4!$E$2:$E$8408,Sheet3!AR$4,Sheet4!$A$2:$A$8408,Sheet3!$B$1,Sheet4!$B$2:$B$8408,Sheet3!$A$3)","v":794},{"$f":"+SUMIFS(Sheet4!$FV$2:$FV$8408,Sheet4!$C$2:$C$8408,Sheet3!$B28,Sheet4!$D$2:$D$8408,Sheet3!AS$3,Sheet4!$E$2:$E$8408,Sheet3!AS$4,Sheet4!$A$2:$A$8408,Sheet3!$B$1,Sheet4!$B$2:$B$8408,Sheet3!$A$3)","v":332},{"$f":"+SUMIFS(Sheet4!$FV$2:$FV$8408,Sheet4!$C$2:$C$8408,Sheet3!$B28,Sheet4!$D$2:$D$8408,Sheet3!AT$3,Sheet4!$E$2:$E$8408,Sheet3!AT$4,Sheet4!$A$2:$A$8408,Sheet3!$B$1,Sheet4!$B$2:$B$8408,Sheet3!$A$3)","v":135},{"$f":"+SUMIFS(Sheet4!$FV$2:$FV$8408,Sheet4!$C$2:$C$8408,Sheet3!$B28,Sheet4!$D$2:$D$8408,Sheet3!AU$3,Sheet4!$E$2:$E$8408,Sheet3!AU$4,Sheet4!$A$2:$A$8408,Sheet3!$B$1,Sheet4!$B$2:$B$8408,Sheet3!$A$3)","v":23},{"$f":"+SUMIFS(Sheet4!$FV$2:$FV$8408,Sheet4!$C$2:$C$8408,Sheet3!$B28,Sheet4!$D$2:$D$8408,Sheet3!AV$3,Sheet4!$E$2:$E$8408,Sheet3!AV$4,Sheet4!$A$2:$A$8408,Sheet3!$B$1,Sheet4!$B$2:$B$8408,Sheet3!$A$3)","v":0},{"$f":"+SUMIFS(Sheet4!$FV$2:$FV$8408,Sheet4!$C$2:$C$8408,Sheet3!$B28,Sheet4!$D$2:$D$8408,Sheet3!AW$3,Sheet4!$E$2:$E$8408,Sheet3!AW$4,Sheet4!$A$2:$A$8408,Sheet3!$B$1,Sheet4!$B$2:$B$8408,Sheet3!$A$3)","v":430},{"$f":"+SUMIFS(Sheet4!$FV$2:$FV$8408,Sheet4!$C$2:$C$8408,Sheet3!$B28,Sheet4!$D$2:$D$8408,Sheet3!AX$3,Sheet4!$E$2:$E$8408,Sheet3!AX$4,Sheet4!$A$2:$A$8408,Sheet3!$B$1,Sheet4!$B$2:$B$8408,Sheet3!$A$3)","v":307},{"$f":"+SUMIFS(Sheet4!$FV$2:$FV$8408,Sheet4!$C$2:$C$8408,Sheet3!$B28,Sheet4!$D$2:$D$8408,Sheet3!AY$3,Sheet4!$E$2:$E$8408,Sheet3!AY$4,Sheet4!$A$2:$A$8408,Sheet3!$B$1,Sheet4!$B$2:$B$8408,Sheet3!$A$3)","v":142},{"$f":"+SUMIFS(Sheet4!$FV$2:$FV$8408,Sheet4!$C$2:$C$8408,Sheet3!$B28,Sheet4!$D$2:$D$8408,Sheet3!AZ$3,Sheet4!$E$2:$E$8408,Sheet3!AZ$4,Sheet4!$A$2:$A$8408,Sheet3!$B$1,Sheet4!$B$2:$B$8408,Sheet3!$A$3)","v":32},{"$f":"+SUMIFS(Sheet4!$FV$2:$FV$8408,Sheet4!$C$2:$C$8408,Sheet3!$B28,Sheet4!$D$2:$D$8408,Sheet3!BA$3,Sheet4!$E$2:$E$8408,Sheet3!BA$4,Sheet4!$A$2:$A$8408,Sheet3!$B$1,Sheet4!$B$2:$B$8408,Sheet3!$A$3)","v":3},{"$f":"+SUMIFS(Sheet4!$FV$2:$FV$8408,Sheet4!$C$2:$C$8408,Sheet3!$B28,Sheet4!$D$2:$D$8408,Sheet3!BB$3,Sheet4!$E$2:$E$8408,Sheet3!BB$4,Sheet4!$A$2:$A$8408,Sheet3!$B$1,Sheet4!$B$2:$B$8408,Sheet3!$A$3)","v":0},{"$f":"+SUMIFS(Sheet4!$FV$2:$FV$8408,Sheet4!$C$2:$C$8408,Sheet3!$B28,Sheet4!$D$2:$D$8408,Sheet3!BC$3,Sheet4!$E$2:$E$8408,Sheet3!BC$4,Sheet4!$A$2:$A$8408,Sheet3!$B$1,Sheet4!$B$2:$B$8408,Sheet3!$A$3)","v":0},{"$f":"+SUMIFS(Sheet4!$FV$2:$FV$8408,Sheet4!$C$2:$C$8408,Sheet3!$B28,Sheet4!$D$2:$D$8408,Sheet3!BD$3,Sheet4!$E$2:$E$8408,Sheet3!BD$4,Sheet4!$A$2:$A$8408,Sheet3!$B$1,Sheet4!$B$2:$B$8408,Sheet3!$A$3)","v":7},{"$f":"+SUMIFS(Sheet4!$FV$2:$FV$8408,Sheet4!$C$2:$C$8408,Sheet3!$B28,Sheet4!$D$2:$D$8408,Sheet3!BE$3,Sheet4!$E$2:$E$8408,Sheet3!BE$4,Sheet4!$A$2:$A$8408,Sheet3!$B$1,Sheet4!$B$2:$B$8408,Sheet3!$A$3)","v":3},{"$f":"+SUMIFS(Sheet4!$FV$2:$FV$8408,Sheet4!$C$2:$C$8408,Sheet3!$B28,Sheet4!$D$2:$D$8408,Sheet3!BF$3,Sheet4!$E$2:$E$8408,Sheet3!BF$4,Sheet4!$A$2:$A$8408,Sheet3!$B$1,Sheet4!$B$2:$B$8408,Sheet3!$A$3)","v":0},{"$f":"+SUMIFS(Sheet4!$FV$2:$FV$8408,Sheet4!$C$2:$C$8408,Sheet3!$B28,Sheet4!$D$2:$D$8408,Sheet3!BG$3,Sheet4!$E$2:$E$8408,Sheet3!BG$4,Sheet4!$A$2:$A$8408,Sheet3!$B$1,Sheet4!$B$2:$B$8408,Sheet3!$A$3)","v":0},{"$f":"+SUMIFS(Sheet4!$FV$2:$FV$8408,Sheet4!$C$2:$C$8408,Sheet3!$B28,Sheet4!$D$2:$D$8408,Sheet3!BH$3,Sheet4!$E$2:$E$8408,Sheet3!BH$4,Sheet4!$A$2:$A$8408,Sheet3!$B$1,Sheet4!$B$2:$B$8408,Sheet3!$A$3)","v":33},{"$f":"+SUMIFS(Sheet4!$FV$2:$FV$8408,Sheet4!$C$2:$C$8408,Sheet3!$B28,Sheet4!$D$2:$D$8408,Sheet3!BI$3,Sheet4!$E$2:$E$8408,Sheet3!BI$4,Sheet4!$A$2:$A$8408,Sheet3!$B$1,Sheet4!$B$2:$B$8408,Sheet3!$A$3)","v":86},{"$f":"+SUMIFS(Sheet4!$FV$2:$FV$8408,Sheet4!$C$2:$C$8408,Sheet3!$B28,Sheet4!$D$2:$D$8408,Sheet3!BJ$3,Sheet4!$E$2:$E$8408,Sheet3!BJ$4,Sheet4!$A$2:$A$8408,Sheet3!$B$1,Sheet4!$B$2:$B$8408,Sheet3!$A$3)","v":25},{"$f":"+SUMIFS(Sheet4!$FV$2:$FV$8408,Sheet4!$C$2:$C$8408,Sheet3!$B28,Sheet4!$D$2:$D$8408,Sheet3!BK$3,Sheet4!$E$2:$E$8408,Sheet3!BK$4,Sheet4!$A$2:$A$8408,Sheet3!$B$1,Sheet4!$B$2:$B$8408,Sheet3!$A$3)","v":0},{"$f":"+SUMIFS(Sheet4!$FV$2:$FV$8408,Sheet4!$C$2:$C$8408,Sheet3!$B28,Sheet4!$D$2:$D$8408,Sheet3!BL$3,Sheet4!$E$2:$E$8408,Sheet3!BL$4,Sheet4!$A$2:$A$8408,Sheet3!$B$1,Sheet4!$B$2:$B$8408,Sheet3!$A$3)","v":10},{"$f":"+SUMIFS(Sheet4!$FV$2:$FV$8408,Sheet4!$C$2:$C$8408,Sheet3!$B28,Sheet4!$D$2:$D$8408,Sheet3!BM$3,Sheet4!$E$2:$E$8408,Sheet3!BM$4,Sheet4!$A$2:$A$8408,Sheet3!$B$1,Sheet4!$B$2:$B$8408,Sheet3!$A$3)","v":12},{"$f":"+SUMIFS(Sheet4!$FV$2:$FV$8408,Sheet4!$C$2:$C$8408,Sheet3!$B28,Sheet4!$D$2:$D$8408,Sheet3!BN$3,Sheet4!$E$2:$E$8408,Sheet3!BN$4,Sheet4!$A$2:$A$8408,Sheet3!$B$1,Sheet4!$B$2:$B$8408,Sheet3!$A$3)","v":9},{"$f":"+SUMIFS(Sheet4!$FV$2:$FV$8408,Sheet4!$C$2:$C$8408,Sheet3!$B28,Sheet4!$D$2:$D$8408,Sheet3!BO$3,Sheet4!$E$2:$E$8408,Sheet3!BO$4,Sheet4!$A$2:$A$8408,Sheet3!$B$1,Sheet4!$B$2:$B$8408,Sheet3!$A$3)","v":0},{"$f":"+SUMIFS(Sheet4!$FV$2:$FV$8408,Sheet4!$C$2:$C$8408,Sheet3!$B28,Sheet4!$D$2:$D$8408,Sheet3!BP$3,Sheet4!$E$2:$E$8408,Sheet3!BP$4,Sheet4!$A$2:$A$8408,Sheet3!$B$1,Sheet4!$B$2:$B$8408,Sheet3!$A$3)","v":0},{"$f":"+SUMIFS(Sheet4!$FV$2:$FV$8408,Sheet4!$C$2:$C$8408,Sheet3!$B28,Sheet4!$D$2:$D$8408,Sheet3!BQ$3,Sheet4!$E$2:$E$8408,Sheet3!BQ$4,Sheet4!$A$2:$A$8408,Sheet3!$B$1,Sheet4!$B$2:$B$8408,Sheet3!$A$3)","v":0},{"$f":"+SUMIFS(Sheet4!$FV$2:$FV$8408,Sheet4!$C$2:$C$8408,Sheet3!$B28,Sheet4!$D$2:$D$8408,Sheet3!BR$3,Sheet4!$E$2:$E$8408,Sheet3!BR$4,Sheet4!$A$2:$A$8408,Sheet3!$B$1,Sheet4!$B$2:$B$8408,Sheet3!$A$3)","v":18},{"$f":"+SUMIFS(Sheet4!$FV$2:$FV$8408,Sheet4!$C$2:$C$8408,Sheet3!$B28,Sheet4!$D$2:$D$8408,Sheet3!BS$3,Sheet4!$E$2:$E$8408,Sheet3!BS$4,Sheet4!$A$2:$A$8408,Sheet3!$B$1,Sheet4!$B$2:$B$8408,Sheet3!$A$3)","v":318},{"$f":"+SUMIFS(Sheet4!$FV$2:$FV$8408,Sheet4!$C$2:$C$8408,Sheet3!$B28,Sheet4!$D$2:$D$8408,Sheet3!BT$3,Sheet4!$E$2:$E$8408,Sheet3!BT$4,Sheet4!$A$2:$A$8408,Sheet3!$B$1,Sheet4!$B$2:$B$8408,Sheet3!$A$3)","v":288},{"$f":"+SUMIFS(Sheet4!$FV$2:$FV$8408,Sheet4!$C$2:$C$8408,Sheet3!$B28,Sheet4!$D$2:$D$8408,Sheet3!BU$3,Sheet4!$E$2:$E$8408,Sheet3!BU$4,Sheet4!$A$2:$A$8408,Sheet3!$B$1,Sheet4!$B$2:$B$8408,Sheet3!$A$3)","v":19},{"$f":"+SUMIFS(Sheet4!$FV$2:$FV$8408,Sheet4!$C$2:$C$8408,Sheet3!$B28,Sheet4!$D$2:$D$8408,Sheet3!BV$3,Sheet4!$E$2:$E$8408,Sheet3!BV$4,Sheet4!$A$2:$A$8408,Sheet3!$B$1,Sheet4!$B$2:$B$8408,Sheet3!$A$3)","v":504},{"$f":"+SUMIFS(Sheet4!$FV$2:$FV$8408,Sheet4!$C$2:$C$8408,Sheet3!$B28,Sheet4!$D$2:$D$8408,Sheet3!BW$3,Sheet4!$E$2:$E$8408,Sheet3!BW$4,Sheet4!$A$2:$A$8408,Sheet3!$B$1,Sheet4!$B$2:$B$8408,Sheet3!$A$3)","v":435},{"$f":"+SUMIFS(Sheet4!$FV$2:$FV$8408,Sheet4!$C$2:$C$8408,Sheet3!$B28,Sheet4!$D$2:$D$8408,Sheet3!BX$3,Sheet4!$E$2:$E$8408,Sheet3!BX$4,Sheet4!$A$2:$A$8408,Sheet3!$B$1,Sheet4!$B$2:$B$8408,Sheet3!$A$3)","v":326},{"$f":"+SUMIFS(Sheet4!$FV$2:$FV$8408,Sheet4!$C$2:$C$8408,Sheet3!$B28,Sheet4!$D$2:$D$8408,Sheet3!BY$3,Sheet4!$E$2:$E$8408,Sheet3!BY$4,Sheet4!$A$2:$A$8408,Sheet3!$B$1,Sheet4!$B$2:$B$8408,Sheet3!$A$3)","v":68},{"$f":"+SUMIFS(Sheet4!$FV$2:$FV$8408,Sheet4!$C$2:$C$8408,Sheet3!$B28,Sheet4!$D$2:$D$8408,Sheet3!BZ$3,Sheet4!$E$2:$E$8408,Sheet3!BZ$4,Sheet4!$A$2:$A$8408,Sheet3!$B$1,Sheet4!$B$2:$B$8408,Sheet3!$A$3)","v":3},{"$f":"+SUMIFS(Sheet4!$FV$2:$FV$8408,Sheet4!$C$2:$C$8408,Sheet3!$B28,Sheet4!$D$2:$D$8408,Sheet3!CA$3,Sheet4!$E$2:$E$8408,Sheet3!CA$4,Sheet4!$A$2:$A$8408,Sheet3!$B$1,Sheet4!$B$2:$B$8408,Sheet3!$A$3)","v":127},{"$f":"+SUMIFS(Sheet4!$FV$2:$FV$8408,Sheet4!$C$2:$C$8408,Sheet3!$B28,Sheet4!$D$2:$D$8408,Sheet3!CB$3,Sheet4!$E$2:$E$8408,Sheet3!CB$4,Sheet4!$A$2:$A$8408,Sheet3!$B$1,Sheet4!$B$2:$B$8408,Sheet3!$A$3)","v":161},{"$f":"+SUMIFS(Sheet4!$FV$2:$FV$8408,Sheet4!$C$2:$C$8408,Sheet3!$B28,Sheet4!$D$2:$D$8408,Sheet3!CC$3,Sheet4!$E$2:$E$8408,Sheet3!CC$4,Sheet4!$A$2:$A$8408,Sheet3!$B$1,Sheet4!$B$2:$B$8408,Sheet3!$A$3)","v":130},{"$f":"+SUMIFS(Sheet4!$FV$2:$FV$8408,Sheet4!$C$2:$C$8408,Sheet3!$B28,Sheet4!$D$2:$D$8408,Sheet3!CD$3,Sheet4!$E$2:$E$8408,Sheet3!CD$4,Sheet4!$A$2:$A$8408,Sheet3!$B$1,Sheet4!$B$2:$B$8408,Sheet3!$A$3)","v":90},{"$f":"+SUMIFS(Sheet4!$FV$2:$FV$8408,Sheet4!$C$2:$C$8408,Sheet3!$B28,Sheet4!$D$2:$D$8408,Sheet3!CE$3,Sheet4!$E$2:$E$8408,Sheet3!CE$4,Sheet4!$A$2:$A$8408,Sheet3!$B$1,Sheet4!$B$2:$B$8408,Sheet3!$A$3)","v":8},{"$f":"+SUMIFS(Sheet4!$FV$2:$FV$8408,Sheet4!$C$2:$C$8408,Sheet3!$B28,Sheet4!$D$2:$D$8408,Sheet3!CF$3,Sheet4!$E$2:$E$8408,Sheet3!CF$4,Sheet4!$A$2:$A$8408,Sheet3!$B$1,Sheet4!$B$2:$B$8408,Sheet3!$A$3)","v":106},{"$f":"+SUMIFS(Sheet4!$FV$2:$FV$8408,Sheet4!$C$2:$C$8408,Sheet3!$B28,Sheet4!$D$2:$D$8408,Sheet3!CG$3,Sheet4!$E$2:$E$8408,Sheet3!CG$4,Sheet4!$A$2:$A$8408,Sheet3!$B$1,Sheet4!$B$2:$B$8408,Sheet3!$A$3)","v":144},{"$f":"+SUMIFS(Sheet4!$FV$2:$FV$8408,Sheet4!$C$2:$C$8408,Sheet3!$B28,Sheet4!$D$2:$D$8408,Sheet3!CH$3,Sheet4!$E$2:$E$8408,Sheet3!CH$4,Sheet4!$A$2:$A$8408,Sheet3!$B$1,Sheet4!$B$2:$B$8408,Sheet3!$A$3)","v":159},{"$f":"+SUMIFS(Sheet4!$FV$2:$FV$8408,Sheet4!$C$2:$C$8408,Sheet3!$B28,Sheet4!$D$2:$D$8408,Sheet3!CI$3,Sheet4!$E$2:$E$8408,Sheet3!CI$4,Sheet4!$A$2:$A$8408,Sheet3!$B$1,Sheet4!$B$2:$B$8408,Sheet3!$A$3)","v":21},{"$f":"+SUMIFS(Sheet4!$FV$2:$FV$8408,Sheet4!$C$2:$C$8408,Sheet3!$B28,Sheet4!$D$2:$D$8408,Sheet3!CJ$3,Sheet4!$E$2:$E$8408,Sheet3!CJ$4,Sheet4!$A$2:$A$8408,Sheet3!$B$1,Sheet4!$B$2:$B$8408,Sheet3!$A$3)","v":0},{"$f":"+SUMIFS(Sheet4!$FV$2:$FV$8408,Sheet4!$C$2:$C$8408,Sheet3!$B28,Sheet4!$D$2:$D$8408,Sheet3!CK$3,Sheet4!$E$2:$E$8408,Sheet3!CK$4,Sheet4!$A$2:$A$8408,Sheet3!$B$1,Sheet4!$B$2:$B$8408,Sheet3!$A$3)","v":0},{"$f":"+SUMIFS(Sheet4!$FV$2:$FV$8408,Sheet4!$C$2:$C$8408,Sheet3!$B28,Sheet4!$D$2:$D$8408,Sheet3!CL$3,Sheet4!$E$2:$E$8408,Sheet3!CL$4,Sheet4!$A$2:$A$8408,Sheet3!$B$1,Sheet4!$B$2:$B$8408,Sheet3!$A$3)","v":0},{"$f":"+SUMIFS(Sheet4!$FV$2:$FV$8408,Sheet4!$C$2:$C$8408,Sheet3!$B28,Sheet4!$D$2:$D$8408,Sheet3!CM$3,Sheet4!$E$2:$E$8408,Sheet3!CM$4,Sheet4!$A$2:$A$8408,Sheet3!$B$1,Sheet4!$B$2:$B$8408,Sheet3!$A$3)","v":10},{"$f":"+SUMIFS(Sheet4!$FV$2:$FV$8408,Sheet4!$C$2:$C$8408,Sheet3!$B28,Sheet4!$D$2:$D$8408,Sheet3!CN$3,Sheet4!$E$2:$E$8408,Sheet3!CN$4,Sheet4!$A$2:$A$8408,Sheet3!$B$1,Sheet4!$B$2:$B$8408,Sheet3!$A$3)","v":0},{"$f":"+SUMIFS(Sheet4!$FV$2:$FV$8408,Sheet4!$C$2:$C$8408,Sheet3!$B28,Sheet4!$D$2:$D$8408,Sheet3!CO$3,Sheet4!$E$2:$E$8408,Sheet3!CO$4,Sheet4!$A$2:$A$8408,Sheet3!$B$1,Sheet4!$B$2:$B$8408,Sheet3!$A$3)","v":0},{"$f":"+SUMIFS(Sheet4!$FV$2:$FV$8408,Sheet4!$C$2:$C$8408,Sheet3!$B28,Sheet4!$D$2:$D$8408,Sheet3!CP$3,Sheet4!$E$2:$E$8408,Sheet3!CP$4,Sheet4!$A$2:$A$8408,Sheet3!$B$1,Sheet4!$B$2:$B$8408,Sheet3!$A$3)","v":0},{"$f":"+SUMIFS(Sheet4!$FV$2:$FV$8408,Sheet4!$C$2:$C$8408,Sheet3!$B28,Sheet4!$D$2:$D$8408,Sheet3!CQ$3,Sheet4!$E$2:$E$8408,Sheet3!CQ$4,Sheet4!$A$2:$A$8408,Sheet3!$B$1,Sheet4!$B$2:$B$8408,Sheet3!$A$3)","v":0},{"$f":"+SUMIFS(Sheet4!$FV$2:$FV$8408,Sheet4!$C$2:$C$8408,Sheet3!$B28,Sheet4!$D$2:$D$8408,Sheet3!CR$3,Sheet4!$E$2:$E$8408,Sheet3!CR$4,Sheet4!$A$2:$A$8408,Sheet3!$B$1,Sheet4!$B$2:$B$8408,Sheet3!$A$3)","v":0},{"$f":"+SUMIFS(Sheet4!$FV$2:$FV$8408,Sheet4!$C$2:$C$8408,Sheet3!$B28,Sheet4!$D$2:$D$8408,Sheet3!CS$3,Sheet4!$E$2:$E$8408,Sheet3!CS$4,Sheet4!$A$2:$A$8408,Sheet3!$B$1,Sheet4!$B$2:$B$8408,Sheet3!$A$3)","v":0},{"$f":"+SUMIFS(Sheet4!$FV$2:$FV$8408,Sheet4!$C$2:$C$8408,Sheet3!$B28,Sheet4!$D$2:$D$8408,Sheet3!CT$3,Sheet4!$E$2:$E$8408,Sheet3!CT$4,Sheet4!$A$2:$A$8408,Sheet3!$B$1,Sheet4!$B$2:$B$8408,Sheet3!$A$3)","v":0},{"$f":"+IF(SUMIFS(Sheet4!$FW$2:$FW$8408,Sheet4!$C$2:$C$8408,Sheet3!$B28,Sheet4!$D$2:$D$8408,Sheet3!CU$3,Sheet4!$A$2:$A$8408,Sheet3!$B$1,Sheet4!$B$2:$B$8408,Sheet3!$A$3)<3,0,SUMIFS(Sheet4!$FW$2:$FW$8408,Sheet4!$C$2:$C$8408,Sheet3!$B28,Sheet4!$D$2:$D$8408,Sheet3!CU$3,Sheet4!$A$2:$A$8408,Sheet3!$B$1,Sheet4!$B$2:$B$8408,Sheet3!$A$3))","v":15},{"$f":"+IF(SUMIFS(Sheet4!$FW$2:$FW$8408,Sheet4!$C$2:$C$8408,Sheet3!$B28,Sheet4!$D$2:$D$8408,Sheet3!CV$3,Sheet4!$A$2:$A$8408,Sheet3!$B$1,Sheet4!$B$2:$B$8408,Sheet3!$A$3)<3,0,SUMIFS(Sheet4!$FW$2:$FW$8408,Sheet4!$C$2:$C$8408,Sheet3!$B28,Sheet4!$D$2:$D$8408,Sheet3!CV$3,Sheet4!$A$2:$A$8408,Sheet3!$B$1,Sheet4!$B$2:$B$8408,Sheet3!$A$3))","v":23},{"$f":"+IF(SUMIFS(Sheet4!$FW$2:$FW$8408,Sheet4!$C$2:$C$8408,Sheet3!$B28,Sheet4!$D$2:$D$8408,Sheet3!CW$3,Sheet4!$A$2:$A$8408,Sheet3!$B$1,Sheet4!$B$2:$B$8408,Sheet3!$A$3)<3,0,SUMIFS(Sheet4!$FW$2:$FW$8408,Sheet4!$C$2:$C$8408,Sheet3!$B28,Sheet4!$D$2:$D$8408,Sheet3!CW$3,Sheet4!$A$2:$A$8408,Sheet3!$B$1,Sheet4!$B$2:$B$8408,Sheet3!$A$3))","v":64},{"$f":"+IF(SUMIFS(Sheet4!$FW$2:$FW$8408,Sheet4!$C$2:$C$8408,Sheet3!$B28,Sheet4!$D$2:$D$8408,Sheet3!CX$3,Sheet4!$A$2:$A$8408,Sheet3!$B$1,Sheet4!$B$2:$B$8408,Sheet3!$A$3)<3,0,SUMIFS(Sheet4!$FW$2:$FW$8408,Sheet4!$C$2:$C$8408,Sheet3!$B28,Sheet4!$D$2:$D$8408,Sheet3!CX$3,Sheet4!$A$2:$A$8408,Sheet3!$B$1,Sheet4!$B$2:$B$8408,Sheet3!$A$3))","v":3},{"$f":"+IF(SUMIFS(Sheet4!$FW$2:$FW$8408,Sheet4!$C$2:$C$8408,Sheet3!$B28,Sheet4!$D$2:$D$8408,Sheet3!CY$3,Sheet4!$A$2:$A$8408,Sheet3!$B$1,Sheet4!$B$2:$B$8408,Sheet3!$A$3)<3,0,SUMIFS(Sheet4!$FW$2:$FW$8408,Sheet4!$C$2:$C$8408,Sheet3!$B28,Sheet4!$D$2:$D$8408,Sheet3!CY$3,Sheet4!$A$2:$A$8408,Sheet3!$B$1,Sheet4!$B$2:$B$8408,Sheet3!$A$3))","v":28},{"$f":"+IF(SUMIFS(Sheet4!$FW$2:$FW$8408,Sheet4!$C$2:$C$8408,Sheet3!$B28,Sheet4!$D$2:$D$8408,Sheet3!CZ$3,Sheet4!$A$2:$A$8408,Sheet3!$B$1,Sheet4!$B$2:$B$8408,Sheet3!$A$3)<3,0,SUMIFS(Sheet4!$FW$2:$FW$8408,Sheet4!$C$2:$C$8408,Sheet3!$B28,Sheet4!$D$2:$D$8408,Sheet3!CZ$3,Sheet4!$A$2:$A$8408,Sheet3!$B$1,Sheet4!$B$2:$B$8408,Sheet3!$A$3))","v":138},{"$f":"+IF(SUMIFS(Sheet4!$FW$2:$FW$8408,Sheet4!$C$2:$C$8408,Sheet3!$B28,Sheet4!$D$2:$D$8408,Sheet3!DA$3,Sheet4!$A$2:$A$8408,Sheet3!$B$1,Sheet4!$B$2:$B$8408,Sheet3!$A$3)<3,0,SUMIFS(Sheet4!$FW$2:$FW$8408,Sheet4!$C$2:$C$8408,Sheet3!$B28,Sheet4!$D$2:$D$8408,Sheet3!DA$3,Sheet4!$A$2:$A$8408,Sheet3!$B$1,Sheet4!$B$2:$B$8408,Sheet3!$A$3))","v":94},{"$f":"+IF(SUMIFS(Sheet4!$FW$2:$FW$8408,Sheet4!$C$2:$C$8408,Sheet3!$B28,Sheet4!$D$2:$D$8408,Sheet3!DB$3,Sheet4!$A$2:$A$8408,Sheet3!$B$1,Sheet4!$B$2:$B$8408,Sheet3!$A$3)<3,0,SUMIFS(Sheet4!$FW$2:$FW$8408,Sheet4!$C$2:$C$8408,Sheet3!$B28,Sheet4!$D$2:$D$8408,Sheet3!DB$3,Sheet4!$A$2:$A$8408,Sheet3!$B$1,Sheet4!$B$2:$B$8408,Sheet3!$A$3))","v":142},{"$f":"+IF(SUMIFS(Sheet4!$FW$2:$FW$8408,Sheet4!$C$2:$C$8408,Sheet3!$B28,Sheet4!$D$2:$D$8408,Sheet3!DC$3,Sheet4!$A$2:$A$8408,Sheet3!$B$1,Sheet4!$B$2:$B$8408,Sheet3!$A$3)<3,0,SUMIFS(Sheet4!$FW$2:$FW$8408,Sheet4!$C$2:$C$8408,Sheet3!$B28,Sheet4!$D$2:$D$8408,Sheet3!DC$3,Sheet4!$A$2:$A$8408,Sheet3!$B$1,Sheet4!$B$2:$B$8408,Sheet3!$A$3))","v":1291},{"$f":"+IF(SUMIFS(Sheet4!$FW$2:$FW$8408,Sheet4!$C$2:$C$8408,Sheet3!$B28,Sheet4!$D$2:$D$8408,Sheet3!DD$3,Sheet4!$A$2:$A$8408,Sheet3!$B$1,Sheet4!$B$2:$B$8408,Sheet3!$A$3)<3,0,SUMIFS(Sheet4!$FW$2:$FW$8408,Sheet4!$C$2:$C$8408,Sheet3!$B28,Sheet4!$D$2:$D$8408,Sheet3!DD$3,Sheet4!$A$2:$A$8408,Sheet3!$B$1,Sheet4!$B$2:$B$8408,Sheet3!$A$3))","v":915},{"$f":"+IF(SUMIFS(Sheet4!$FW$2:$FW$8408,Sheet4!$C$2:$C$8408,Sheet3!$B28,Sheet4!$D$2:$D$8408,Sheet3!DE$3,Sheet4!$A$2:$A$8408,Sheet3!$B$1,Sheet4!$B$2:$B$8408,Sheet3!$A$3)<3,0,SUMIFS(Sheet4!$FW$2:$FW$8408,Sheet4!$C$2:$C$8408,Sheet3!$B28,Sheet4!$D$2:$D$8408,Sheet3!DE$3,Sheet4!$A$2:$A$8408,Sheet3!$B$1,Sheet4!$B$2:$B$8408,Sheet3!$A$3))","v":10},{"$f":"+IF(SUMIFS(Sheet4!$FW$2:$FW$8408,Sheet4!$C$2:$C$8408,Sheet3!$B28,Sheet4!$D$2:$D$8408,Sheet3!DF$3,Sheet4!$A$2:$A$8408,Sheet3!$B$1,Sheet4!$B$2:$B$8408,Sheet3!$A$3)<3,0,SUMIFS(Sheet4!$FW$2:$FW$8408,Sheet4!$C$2:$C$8408,Sheet3!$B28,Sheet4!$D$2:$D$8408,Sheet3!DF$3,Sheet4!$A$2:$A$8408,Sheet3!$B$1,Sheet4!$B$2:$B$8408,Sheet3!$A$3))","v":149},{"$f":"+IF(SUMIFS(Sheet4!$FW$2:$FW$8408,Sheet4!$C$2:$C$8408,Sheet3!$B28,Sheet4!$D$2:$D$8408,Sheet3!DG$3,Sheet4!$A$2:$A$8408,Sheet3!$B$1,Sheet4!$B$2:$B$8408,Sheet3!$A$3)<3,0,SUMIFS(Sheet4!$FW$2:$FW$8408,Sheet4!$C$2:$C$8408,Sheet3!$B28,Sheet4!$D$2:$D$8408,Sheet3!DG$3,Sheet4!$A$2:$A$8408,Sheet3!$B$1,Sheet4!$B$2:$B$8408,Sheet3!$A$3))","v":36},{"$f":"+IF(SUMIFS(Sheet4!$FW$2:$FW$8408,Sheet4!$C$2:$C$8408,Sheet3!$B28,Sheet4!$D$2:$D$8408,Sheet3!DH$3,Sheet4!$A$2:$A$8408,Sheet3!$B$1,Sheet4!$B$2:$B$8408,Sheet3!$A$3)<3,0,SUMIFS(Sheet4!$FW$2:$FW$8408,Sheet4!$C$2:$C$8408,Sheet3!$B28,Sheet4!$D$2:$D$8408,Sheet3!DH$3,Sheet4!$A$2:$A$8408,Sheet3!$B$1,Sheet4!$B$2:$B$8408,Sheet3!$A$3))","v":649},{"$f":"+IF(SUMIFS(Sheet4!$FW$2:$FW$8408,Sheet4!$C$2:$C$8408,Sheet3!$B28,Sheet4!$D$2:$D$8408,Sheet3!DI$3,Sheet4!$A$2:$A$8408,Sheet3!$B$1,Sheet4!$B$2:$B$8408,Sheet3!$A$3)<3,0,SUMIFS(Sheet4!$FW$2:$FW$8408,Sheet4!$C$2:$C$8408,Sheet3!$B28,Sheet4!$D$2:$D$8408,Sheet3!DI$3,Sheet4!$A$2:$A$8408,Sheet3!$B$1,Sheet4!$B$2:$B$8408,Sheet3!$A$3))","v":1339},{"$f":"+IF(SUMIFS(Sheet4!$FW$2:$FW$8408,Sheet4!$C$2:$C$8408,Sheet3!$B28,Sheet4!$D$2:$D$8408,Sheet3!DJ$3,Sheet4!$A$2:$A$8408,Sheet3!$B$1,Sheet4!$B$2:$B$8408,Sheet3!$A$3)<3,0,SUMIFS(Sheet4!$FW$2:$FW$8408,Sheet4!$C$2:$C$8408,Sheet3!$B28,Sheet4!$D$2:$D$8408,Sheet3!DJ$3,Sheet4!$A$2:$A$8408,Sheet3!$B$1,Sheet4!$B$2:$B$8408,Sheet3!$A$3))","v":517},{"$f":"+IF(SUMIFS(Sheet4!$FW$2:$FW$8408,Sheet4!$C$2:$C$8408,Sheet3!$B28,Sheet4!$D$2:$D$8408,Sheet3!DK$3,Sheet4!$A$2:$A$8408,Sheet3!$B$1,Sheet4!$B$2:$B$8408,Sheet3!$A$3)<3,0,SUMIFS(Sheet4!$FW$2:$FW$8408,Sheet4!$C$2:$C$8408,Sheet3!$B28,Sheet4!$D$2:$D$8408,Sheet3!DK$3,Sheet4!$A$2:$A$8408,Sheet3!$B$1,Sheet4!$B$2:$B$8408,Sheet3!$A$3))","v":431},{"$f":"+IF(SUMIFS(Sheet4!$FW$2:$FW$8408,Sheet4!$C$2:$C$8408,Sheet3!$B28,Sheet4!$D$2:$D$8408,Sheet3!DL$3,Sheet4!$A$2:$A$8408,Sheet3!$B$1,Sheet4!$B$2:$B$8408,Sheet3!$A$3)<3,0,SUMIFS(Sheet4!$FW$2:$FW$8408,Sheet4!$C$2:$C$8408,Sheet3!$B28,Sheet4!$D$2:$D$8408,Sheet3!DL$3,Sheet4!$A$2:$A$8408,Sheet3!$B$1,Sheet4!$B$2:$B$8408,Sheet3!$A$3))","v":12},{"$f":"+IF(SUMIFS(Sheet4!$FW$2:$FW$8408,Sheet4!$C$2:$C$8408,Sheet3!$B28,Sheet4!$D$2:$D$8408,Sheet3!DM$3,Sheet4!$A$2:$A$8408,Sheet3!$B$1,Sheet4!$B$2:$B$8408,Sheet3!$A$3)<3,0,SUMIFS(Sheet4!$FW$2:$FW$8408,Sheet4!$C$2:$C$8408,Sheet3!$B28,Sheet4!$D$2:$D$8408,Sheet3!DM$3,Sheet4!$A$2:$A$8408,Sheet3!$B$1,Sheet4!$B$2:$B$8408,Sheet3!$A$3))","v":0},{"$f":"+IF(SUMIFS(Sheet4!$FW$2:$FW$8408,Sheet4!$C$2:$C$8408,Sheet3!$B28,Sheet4!$E$2:$E$8408,Sheet3!DN$4,Sheet4!$A$2:$A$8408,Sheet3!$B$1,Sheet4!$B$2:$B$8408,Sheet3!$A$3)<3,0,SUMIFS(Sheet4!$FW$2:$FW$8408,Sheet4!$C$2:$C$8408,Sheet3!$B28,Sheet4!$E$2:$E$8408,Sheet3!DN$4,Sheet4!$A$2:$A$8408,Sheet3!$B$1,Sheet4!$B$2:$B$8408,Sheet3!$A$3))","v":2152},{"$f":"+IF(SUMIFS(Sheet4!$FW$2:$FW$8408,Sheet4!$C$2:$C$8408,Sheet3!$B28,Sheet4!$E$2:$E$8408,Sheet3!DO$4,Sheet4!$A$2:$A$8408,Sheet3!$B$1,Sheet4!$B$2:$B$8408,Sheet3!$A$3)<3,0,SUMIFS(Sheet4!$FW$2:$FW$8408,Sheet4!$C$2:$C$8408,Sheet3!$B28,Sheet4!$E$2:$E$8408,Sheet3!DO$4,Sheet4!$A$2:$A$8408,Sheet3!$B$1,Sheet4!$B$2:$B$8408,Sheet3!$A$3))","v":1603},{"$f":"+IF(SUMIFS(Sheet4!$FW$2:$FW$8408,Sheet4!$C$2:$C$8408,Sheet3!$B28,Sheet4!$E$2:$E$8408,Sheet3!DP$4,Sheet4!$A$2:$A$8408,Sheet3!$B$1,Sheet4!$B$2:$B$8408,Sheet3!$A$3)<3,0,SUMIFS(Sheet4!$FW$2:$FW$8408,Sheet4!$C$2:$C$8408,Sheet3!$B28,Sheet4!$E$2:$E$8408,Sheet3!DP$4,Sheet4!$A$2:$A$8408,Sheet3!$B$1,Sheet4!$B$2:$B$8408,Sheet3!$A$3))","v":1488},{"$f":"+IF(SUMIFS(Sheet4!$FW$2:$FW$8408,Sheet4!$C$2:$C$8408,Sheet3!$B28,Sheet4!$E$2:$E$8408,Sheet3!DQ$4,Sheet4!$A$2:$A$8408,Sheet3!$B$1,Sheet4!$B$2:$B$8408,Sheet3!$A$3)<3,0,SUMIFS(Sheet4!$FW$2:$FW$8408,Sheet4!$C$2:$C$8408,Sheet3!$B28,Sheet4!$E$2:$E$8408,Sheet3!DQ$4,Sheet4!$A$2:$A$8408,Sheet3!$B$1,Sheet4!$B$2:$B$8408,Sheet3!$A$3))","v":577},{"$f":"+IF(SUMIFS(Sheet4!$FW$2:$FW$8408,Sheet4!$C$2:$C$8408,Sheet3!$B28,Sheet4!$E$2:$E$8408,Sheet3!DR$4,Sheet4!$A$2:$A$8408,Sheet3!$B$1,Sheet4!$B$2:$B$8408,Sheet3!$A$3)<3,0,SUMIFS(Sheet4!$FW$2:$FW$8408,Sheet4!$C$2:$C$8408,Sheet3!$B28,Sheet4!$E$2:$E$8408,Sheet3!DR$4,Sheet4!$A$2:$A$8408,Sheet3!$B$1,Sheet4!$B$2:$B$8408,Sheet3!$A$3))","v":36}]
[5,"187","Alentejo Central",{"$f":"+SUMIFS(Sheet4!$FV$2:$FV$8408,Sheet4!$C$2:$C$8408,Sheet3!$B29,Sheet4!$D$2:$D$8408,Sheet3!D$3,Sheet4!$E$2:$E$8408,Sheet3!D$4,Sheet4!$A$2:$A$8408,Sheet3!$B$1,Sheet4!$B$2:$B$8408,Sheet3!$A$3)","v":11},{"$f":"+SUMIFS(Sheet4!$FV$2:$FV$8408,Sheet4!$C$2:$C$8408,Sheet3!$B29,Sheet4!$D$2:$D$8408,Sheet3!E$3,Sheet4!$E$2:$E$8408,Sheet3!E$4,Sheet4!$A$2:$A$8408,Sheet3!$B$1,Sheet4!$B$2:$B$8408,Sheet3!$A$3)","v":7},{"$f":"+SUMIFS(Sheet4!$FV$2:$FV$8408,Sheet4!$C$2:$C$8408,Sheet3!$B29,Sheet4!$D$2:$D$8408,Sheet3!F$3,Sheet4!$E$2:$E$8408,Sheet3!F$4,Sheet4!$A$2:$A$8408,Sheet3!$B$1,Sheet4!$B$2:$B$8408,Sheet3!$A$3)","v":5},{"$f":"+SUMIFS(Sheet4!$FV$2:$FV$8408,Sheet4!$C$2:$C$8408,Sheet3!$B29,Sheet4!$D$2:$D$8408,Sheet3!G$3,Sheet4!$E$2:$E$8408,Sheet3!G$4,Sheet4!$A$2:$A$8408,Sheet3!$B$1,Sheet4!$B$2:$B$8408,Sheet3!$A$3)","v":4},{"$f":"+SUMIFS(Sheet4!$FV$2:$FV$8408,Sheet4!$C$2:$C$8408,Sheet3!$B29,Sheet4!$D$2:$D$8408,Sheet3!H$3,Sheet4!$E$2:$E$8408,Sheet3!H$4,Sheet4!$A$2:$A$8408,Sheet3!$B$1,Sheet4!$B$2:$B$8408,Sheet3!$A$3)","v":0},{"$f":"+SUMIFS(Sheet4!$FV$2:$FV$8408,Sheet4!$C$2:$C$8408,Sheet3!$B29,Sheet4!$D$2:$D$8408,Sheet3!I$3,Sheet4!$E$2:$E$8408,Sheet3!I$4,Sheet4!$A$2:$A$8408,Sheet3!$B$1,Sheet4!$B$2:$B$8408,Sheet3!$A$3)","v":6},{"$f":"+SUMIFS(Sheet4!$FV$2:$FV$8408,Sheet4!$C$2:$C$8408,Sheet3!$B29,Sheet4!$D$2:$D$8408,Sheet3!J$3,Sheet4!$E$2:$E$8408,Sheet3!J$4,Sheet4!$A$2:$A$8408,Sheet3!$B$1,Sheet4!$B$2:$B$8408,Sheet3!$A$3)","v":6},{"$f":"+SUMIFS(Sheet4!$FV$2:$FV$8408,Sheet4!$C$2:$C$8408,Sheet3!$B29,Sheet4!$D$2:$D$8408,Sheet3!K$3,Sheet4!$E$2:$E$8408,Sheet3!K$4,Sheet4!$A$2:$A$8408,Sheet3!$B$1,Sheet4!$B$2:$B$8408,Sheet3!$A$3)","v":4},{"$f":"+SUMIFS(Sheet4!$FV$2:$FV$8408,Sheet4!$C$2:$C$8408,Sheet3!$B29,Sheet4!$D$2:$D$8408,Sheet3!L$3,Sheet4!$E$2:$E$8408,Sheet3!L$4,Sheet4!$A$2:$A$8408,Sheet3!$B$1,Sheet4!$B$2:$B$8408,Sheet3!$A$3)","v":3},{"$f":"+SUMIFS(Sheet4!$FV$2:$FV$8408,Sheet4!$C$2:$C$8408,Sheet3!$B29,Sheet4!$D$2:$D$8408,Sheet3!M$3,Sheet4!$E$2:$E$8408,Sheet3!M$4,Sheet4!$A$2:$A$8408,Sheet3!$B$1,Sheet4!$B$2:$B$8408,Sheet3!$A$3)","v":0},{"$f":"+SUMIFS(Sheet4!$FV$2:$FV$8408,Sheet4!$C$2:$C$8408,Sheet3!$B29,Sheet4!$D$2:$D$8408,Sheet3!N$3,Sheet4!$E$2:$E$8408,Sheet3!N$4,Sheet4!$A$2:$A$8408,Sheet3!$B$1,Sheet4!$B$2:$B$8408,Sheet3!$A$3)","v":75},{"$f":"+SUMIFS(Sheet4!$FV$2:$FV$8408,Sheet4!$C$2:$C$8408,Sheet3!$B29,Sheet4!$D$2:$D$8408,Sheet3!O$3,Sheet4!$E$2:$E$8408,Sheet3!O$4,Sheet4!$A$2:$A$8408,Sheet3!$B$1,Sheet4!$B$2:$B$8408,Sheet3!$A$3)","v":87},{"$f":"+SUMIFS(Sheet4!$FV$2:$FV$8408,Sheet4!$C$2:$C$8408,Sheet3!$B29,Sheet4!$D$2:$D$8408,Sheet3!P$3,Sheet4!$E$2:$E$8408,Sheet3!P$4,Sheet4!$A$2:$A$8408,Sheet3!$B$1,Sheet4!$B$2:$B$8408,Sheet3!$A$3)","v":38},{"$f":"+SUMIFS(Sheet4!$FV$2:$FV$8408,Sheet4!$C$2:$C$8408,Sheet3!$B29,Sheet4!$D$2:$D$8408,Sheet3!Q$3,Sheet4!$E$2:$E$8408,Sheet3!Q$4,Sheet4!$A$2:$A$8408,Sheet3!$B$1,Sheet4!$B$2:$B$8408,Sheet3!$A$3)","v":7},{"$f":"+SUMIFS(Sheet4!$FV$2:$FV$8408,Sheet4!$C$2:$C$8408,Sheet3!$B29,Sheet4!$D$2:$D$8408,Sheet3!R$3,Sheet4!$E$2:$E$8408,Sheet3!R$4,Sheet4!$A$2:$A$8408,Sheet3!$B$1,Sheet4!$B$2:$B$8408,Sheet3!$A$3)","v":0},{"$f":"+SUMIFS(Sheet4!$FV$2:$FV$8408,Sheet4!$C$2:$C$8408,Sheet3!$B29,Sheet4!$D$2:$D$8408,Sheet3!S$3,Sheet4!$E$2:$E$8408,Sheet3!S$4,Sheet4!$A$2:$A$8408,Sheet3!$B$1,Sheet4!$B$2:$B$8408,Sheet3!$A$3)","v":0},{"$f":"+SUMIFS(Sheet4!$FV$2:$FV$8408,Sheet4!$C$2:$C$8408,Sheet3!$B29,Sheet4!$D$2:$D$8408,Sheet3!T$3,Sheet4!$E$2:$E$8408,Sheet3!T$4,Sheet4!$A$2:$A$8408,Sheet3!$B$1,Sheet4!$B$2:$B$8408,Sheet3!$A$3)","v":0},{"$f":"+SUMIFS(Sheet4!$FV$2:$FV$8408,Sheet4!$C$2:$C$8408,Sheet3!$B29,Sheet4!$D$2:$D$8408,Sheet3!U$3,Sheet4!$E$2:$E$8408,Sheet3!U$4,Sheet4!$A$2:$A$8408,Sheet3!$B$1,Sheet4!$B$2:$B$8408,Sheet3!$A$3)","v":7},{"$f":"+SUMIFS(Sheet4!$FV$2:$FV$8408,Sheet4!$C$2:$C$8408,Sheet3!$B29,Sheet4!$D$2:$D$8408,Sheet3!V$3,Sheet4!$E$2:$E$8408,Sheet3!V$4,Sheet4!$A$2:$A$8408,Sheet3!$B$1,Sheet4!$B$2:$B$8408,Sheet3!$A$3)","v":0},{"$f":"+SUMIFS(Sheet4!$FV$2:$FV$8408,Sheet4!$C$2:$C$8408,Sheet3!$B29,Sheet4!$D$2:$D$8408,Sheet3!W$3,Sheet4!$E$2:$E$8408,Sheet3!W$4,Sheet4!$A$2:$A$8408,Sheet3!$B$1,Sheet4!$B$2:$B$8408,Sheet3!$A$3)","v":0},{"$f":"+SUMIFS(Sheet4!$FV$2:$FV$8408,Sheet4!$C$2:$C$8408,Sheet3!$B29,Sheet4!$D$2:$D$8408,Sheet3!X$3,Sheet4!$E$2:$E$8408,Sheet3!X$4,Sheet4!$A$2:$A$8408,Sheet3!$B$1,Sheet4!$B$2:$B$8408,Sheet3!$A$3)","v":0},{"$f":"+SUMIFS(Sheet4!$FV$2:$FV$8408,Sheet4!$C$2:$C$8408,Sheet3!$B29,Sheet4!$D$2:$D$8408,Sheet3!Y$3,Sheet4!$E$2:$E$8408,Sheet3!Y$4,Sheet4!$A$2:$A$8408,Sheet3!$B$1,Sheet4!$B$2:$B$8408,Sheet3!$A$3)","v":7},{"$f":"+SUMIFS(Sheet4!$FV$2:$FV$8408,Sheet4!$C$2:$C$8408,Sheet3!$B29,Sheet4!$D$2:$D$8408,Sheet3!Z$3,Sheet4!$E$2:$E$8408,Sheet3!Z$4,Sheet4!$A$2:$A$8408,Sheet3!$B$1,Sheet4!$B$2:$B$8408,Sheet3!$A$3)","v":37},{"$f":"+SUMIFS(Sheet4!$FV$2:$FV$8408,Sheet4!$C$2:$C$8408,Sheet3!$B29,Sheet4!$D$2:$D$8408,Sheet3!AA$3,Sheet4!$E$2:$E$8408,Sheet3!AA$4,Sheet4!$A$2:$A$8408,Sheet3!$B$1,Sheet4!$B$2:$B$8408,Sheet3!$A$3)","v":5},{"$f":"+SUMIFS(Sheet4!$FV$2:$FV$8408,Sheet4!$C$2:$C$8408,Sheet3!$B29,Sheet4!$D$2:$D$8408,Sheet3!AB$3,Sheet4!$E$2:$E$8408,Sheet3!AB$4,Sheet4!$A$2:$A$8408,Sheet3!$B$1,Sheet4!$B$2:$B$8408,Sheet3!$A$3)","v":0},{"$f":"+SUMIFS(Sheet4!$FV$2:$FV$8408,Sheet4!$C$2:$C$8408,Sheet3!$B29,Sheet4!$D$2:$D$8408,Sheet3!AC$3,Sheet4!$E$2:$E$8408,Sheet3!AC$4,Sheet4!$A$2:$A$8408,Sheet3!$B$1,Sheet4!$B$2:$B$8408,Sheet3!$A$3)","v":70},{"$f":"+SUMIFS(Sheet4!$FV$2:$FV$8408,Sheet4!$C$2:$C$8408,Sheet3!$B29,Sheet4!$D$2:$D$8408,Sheet3!AD$3,Sheet4!$E$2:$E$8408,Sheet3!AD$4,Sheet4!$A$2:$A$8408,Sheet3!$B$1,Sheet4!$B$2:$B$8408,Sheet3!$A$3)","v":28},{"$f":"+SUMIFS(Sheet4!$FV$2:$FV$8408,Sheet4!$C$2:$C$8408,Sheet3!$B29,Sheet4!$D$2:$D$8408,Sheet3!AE$3,Sheet4!$E$2:$E$8408,Sheet3!AE$4,Sheet4!$A$2:$A$8408,Sheet3!$B$1,Sheet4!$B$2:$B$8408,Sheet3!$A$3)","v":50},{"$f":"+SUMIFS(Sheet4!$FV$2:$FV$8408,Sheet4!$C$2:$C$8408,Sheet3!$B29,Sheet4!$D$2:$D$8408,Sheet3!AF$3,Sheet4!$E$2:$E$8408,Sheet3!AF$4,Sheet4!$A$2:$A$8408,Sheet3!$B$1,Sheet4!$B$2:$B$8408,Sheet3!$A$3)","v":18},{"$f":"+SUMIFS(Sheet4!$FV$2:$FV$8408,Sheet4!$C$2:$C$8408,Sheet3!$B29,Sheet4!$D$2:$D$8408,Sheet3!AG$3,Sheet4!$E$2:$E$8408,Sheet3!AG$4,Sheet4!$A$2:$A$8408,Sheet3!$B$1,Sheet4!$B$2:$B$8408,Sheet3!$A$3)","v":0},{"$f":"+SUMIFS(Sheet4!$FV$2:$FV$8408,Sheet4!$C$2:$C$8408,Sheet3!$B29,Sheet4!$D$2:$D$8408,Sheet3!AH$3,Sheet4!$E$2:$E$8408,Sheet3!AH$4,Sheet4!$A$2:$A$8408,Sheet3!$B$1,Sheet4!$B$2:$B$8408,Sheet3!$A$3)","v":175},{"$f":"+SUMIFS(Sheet4!$FV$2:$FV$8408,Sheet4!$C$2:$C$8408,Sheet3!$B29,Sheet4!$D$2:$D$8408,Sheet3!AI$3,Sheet4!$E$2:$E$8408,Sheet3!AI$4,Sheet4!$A$2:$A$8408,Sheet3!$B$1,Sheet4!$B$2:$B$8408,Sheet3!$A$3)","v":310},{"$f":"+SUMIFS(Sheet4!$FV$2:$FV$8408,Sheet4!$C$2:$C$8408,Sheet3!$B29,Sheet4!$D$2:$D$8408,Sheet3!AJ$3,Sheet4!$E$2:$E$8408,Sheet3!AJ$4,Sheet4!$A$2:$A$8408,Sheet3!$B$1,Sheet4!$B$2:$B$8408,Sheet3!$A$3)","v":149},{"$f":"+SUMIFS(Sheet4!$FV$2:$FV$8408,Sheet4!$C$2:$C$8408,Sheet3!$B29,Sheet4!$D$2:$D$8408,Sheet3!AK$3,Sheet4!$E$2:$E$8408,Sheet3!AK$4,Sheet4!$A$2:$A$8408,Sheet3!$B$1,Sheet4!$B$2:$B$8408,Sheet3!$A$3)","v":12},{"$f":"+SUMIFS(Sheet4!$FV$2:$FV$8408,Sheet4!$C$2:$C$8408,Sheet3!$B29,Sheet4!$D$2:$D$8408,Sheet3!AL$3,Sheet4!$E$2:$E$8408,Sheet3!AL$4,Sheet4!$A$2:$A$8408,Sheet3!$B$1,Sheet4!$B$2:$B$8408,Sheet3!$A$3)","v":0},{"$f":"+SUMIFS(Sheet4!$FV$2:$FV$8408,Sheet4!$C$2:$C$8408,Sheet3!$B29,Sheet4!$D$2:$D$8408,Sheet3!AM$3,Sheet4!$E$2:$E$8408,Sheet3!AM$4,Sheet4!$A$2:$A$8408,Sheet3!$B$1,Sheet4!$B$2:$B$8408,Sheet3!$A$3)","v":53},{"$f":"+SUMIFS(Sheet4!$FV$2:$FV$8408,Sheet4!$C$2:$C$8408,Sheet3!$B29,Sheet4!$D$2:$D$8408,Sheet3!AN$3,Sheet4!$E$2:$E$8408,Sheet3!AN$4,Sheet4!$A$2:$A$8408,Sheet3!$B$1,Sheet4!$B$2:$B$8408,Sheet3!$A$3)","v":50},{"$f":"+SUMIFS(Sheet4!$FV$2:$FV$8408,Sheet4!$C$2:$C$8408,Sheet3!$B29,Sheet4!$D$2:$D$8408,Sheet3!AO$3,Sheet4!$E$2:$E$8408,Sheet3!AO$4,Sheet4!$A$2:$A$8408,Sheet3!$B$1,Sheet4!$B$2:$B$8408,Sheet3!$A$3)","v":64},{"$f":"+SUMIFS(Sheet4!$FV$2:$FV$8408,Sheet4!$C$2:$C$8408,Sheet3!$B29,Sheet4!$D$2:$D$8408,Sheet3!AP$3,Sheet4!$E$2:$E$8408,Sheet3!AP$4,Sheet4!$A$2:$A$8408,Sheet3!$B$1,Sheet4!$B$2:$B$8408,Sheet3!$A$3)","v":35},{"$f":"+SUMIFS(Sheet4!$FV$2:$FV$8408,Sheet4!$C$2:$C$8408,Sheet3!$B29,Sheet4!$D$2:$D$8408,Sheet3!AQ$3,Sheet4!$E$2:$E$8408,Sheet3!AQ$4,Sheet4!$A$2:$A$8408,Sheet3!$B$1,Sheet4!$B$2:$B$8408,Sheet3!$A$3)","v":0},{"$f":"+SUMIFS(Sheet4!$FV$2:$FV$8408,Sheet4!$C$2:$C$8408,Sheet3!$B29,Sheet4!$D$2:$D$8408,Sheet3!AR$3,Sheet4!$E$2:$E$8408,Sheet3!AR$4,Sheet4!$A$2:$A$8408,Sheet3!$B$1,Sheet4!$B$2:$B$8408,Sheet3!$A$3)","v":652},{"$f":"+SUMIFS(Sheet4!$FV$2:$FV$8408,Sheet4!$C$2:$C$8408,Sheet3!$B29,Sheet4!$D$2:$D$8408,Sheet3!AS$3,Sheet4!$E$2:$E$8408,Sheet3!AS$4,Sheet4!$A$2:$A$8408,Sheet3!$B$1,Sheet4!$B$2:$B$8408,Sheet3!$A$3)","v":229},{"$f":"+SUMIFS(Sheet4!$FV$2:$FV$8408,Sheet4!$C$2:$C$8408,Sheet3!$B29,Sheet4!$D$2:$D$8408,Sheet3!AT$3,Sheet4!$E$2:$E$8408,Sheet3!AT$4,Sheet4!$A$2:$A$8408,Sheet3!$B$1,Sheet4!$B$2:$B$8408,Sheet3!$A$3)","v":72},{"$f":"+SUMIFS(Sheet4!$FV$2:$FV$8408,Sheet4!$C$2:$C$8408,Sheet3!$B29,Sheet4!$D$2:$D$8408,Sheet3!AU$3,Sheet4!$E$2:$E$8408,Sheet3!AU$4,Sheet4!$A$2:$A$8408,Sheet3!$B$1,Sheet4!$B$2:$B$8408,Sheet3!$A$3)","v":12},{"$f":"+SUMIFS(Sheet4!$FV$2:$FV$8408,Sheet4!$C$2:$C$8408,Sheet3!$B29,Sheet4!$D$2:$D$8408,Sheet3!AV$3,Sheet4!$E$2:$E$8408,Sheet3!AV$4,Sheet4!$A$2:$A$8408,Sheet3!$B$1,Sheet4!$B$2:$B$8408,Sheet3!$A$3)","v":0},{"$f":"+SUMIFS(Sheet4!$FV$2:$FV$8408,Sheet4!$C$2:$C$8408,Sheet3!$B29,Sheet4!$D$2:$D$8408,Sheet3!AW$3,Sheet4!$E$2:$E$8408,Sheet3!AW$4,Sheet4!$A$2:$A$8408,Sheet3!$B$1,Sheet4!$B$2:$B$8408,Sheet3!$A$3)","v":323},{"$f":"+SUMIFS(Sheet4!$FV$2:$FV$8408,Sheet4!$C$2:$C$8408,Sheet3!$B29,Sheet4!$D$2:$D$8408,Sheet3!AX$3,Sheet4!$E$2:$E$8408,Sheet3!AX$4,Sheet4!$A$2:$A$8408,Sheet3!$B$1,Sheet4!$B$2:$B$8408,Sheet3!$A$3)","v":288},{"$f":"+SUMIFS(Sheet4!$FV$2:$FV$8408,Sheet4!$C$2:$C$8408,Sheet3!$B29,Sheet4!$D$2:$D$8408,Sheet3!AY$3,Sheet4!$E$2:$E$8408,Sheet3!AY$4,Sheet4!$A$2:$A$8408,Sheet3!$B$1,Sheet4!$B$2:$B$8408,Sheet3!$A$3)","v":132},{"$f":"+SUMIFS(Sheet4!$FV$2:$FV$8408,Sheet4!$C$2:$C$8408,Sheet3!$B29,Sheet4!$D$2:$D$8408,Sheet3!AZ$3,Sheet4!$E$2:$E$8408,Sheet3!AZ$4,Sheet4!$A$2:$A$8408,Sheet3!$B$1,Sheet4!$B$2:$B$8408,Sheet3!$A$3)","v":45},{"$f":"+SUMIFS(Sheet4!$FV$2:$FV$8408,Sheet4!$C$2:$C$8408,Sheet3!$B29,Sheet4!$D$2:$D$8408,Sheet3!BA$3,Sheet4!$E$2:$E$8408,Sheet3!BA$4,Sheet4!$A$2:$A$8408,Sheet3!$B$1,Sheet4!$B$2:$B$8408,Sheet3!$A$3)","v":0},{"$f":"+SUMIFS(Sheet4!$FV$2:$FV$8408,Sheet4!$C$2:$C$8408,Sheet3!$B29,Sheet4!$D$2:$D$8408,Sheet3!BB$3,Sheet4!$E$2:$E$8408,Sheet3!BB$4,Sheet4!$A$2:$A$8408,Sheet3!$B$1,Sheet4!$B$2:$B$8408,Sheet3!$A$3)","v":0},{"$f":"+SUMIFS(Sheet4!$FV$2:$FV$8408,Sheet4!$C$2:$C$8408,Sheet3!$B29,Sheet4!$D$2:$D$8408,Sheet3!BC$3,Sheet4!$E$2:$E$8408,Sheet3!BC$4,Sheet4!$A$2:$A$8408,Sheet3!$B$1,Sheet4!$B$2:$B$8408,Sheet3!$A$3)","v":3},{"$f":"+SUMIFS(Sheet4!$FV$2:$FV$8408,Sheet4!$C$2:$C$8408,Sheet3!$B29,Sheet4!$D$2:$D$8408,Sheet3!BD$3,Sheet4!$E$2:$E$8408,Sheet3!BD$4,Sheet4!$A$2:$A$8408,Sheet3!$B$1,Sheet4!$B$2:$B$8408,Sheet3!$A$3)","v":14},{"$f":"+SUMIFS(Sheet4!$FV$2:$FV$8408,Sheet4!$C$2:$C$8408,Sheet3!$B29,Sheet4!$D$2:$D$8408,Sheet3!BE$3,Sheet4!$E$2:$E$8408,Sheet3!BE$4,Sheet4!$A$2:$A$8408,Sheet3!$B$1,Sheet4!$B$2:$B$8408,Sheet3!$A$3)","v":0},{"$f":"+SUMIFS(Sheet4!$FV$2:$FV$8408,Sheet4!$C$2:$C$8408,Sheet3!$B29,Sheet4!$D$2:$D$8408,Sheet3!BF$3,Sheet4!$E$2:$E$8408,Sheet3!BF$4,Sheet4!$A$2:$A$8408,Sheet3!$B$1,Sheet4!$B$2:$B$8408,Sheet3!$A$3)","v":0},{"$f":"+SUMIFS(Sheet4!$FV$2:$FV$8408,Sheet4!$C$2:$C$8408,Sheet3!$B29,Sheet4!$D$2:$D$8408,Sheet3!BG$3,Sheet4!$E$2:$E$8408,Sheet3!BG$4,Sheet4!$A$2:$A$8408,Sheet3!$B$1,Sheet4!$B$2:$B$8408,Sheet3!$A$3)","v":3},{"$f":"+SUMIFS(Sheet4!$FV$2:$FV$8408,Sheet4!$C$2:$C$8408,Sheet3!$B29,Sheet4!$D$2:$D$8408,Sheet3!BH$3,Sheet4!$E$2:$E$8408,Sheet3!BH$4,Sheet4!$A$2:$A$8408,Sheet3!$B$1,Sheet4!$B$2:$B$8408,Sheet3!$A$3)","v":25},{"$f":"+SUMIFS(Sheet4!$FV$2:$FV$8408,Sheet4!$C$2:$C$8408,Sheet3!$B29,Sheet4!$D$2:$D$8408,Sheet3!BI$3,Sheet4!$E$2:$E$8408,Sheet3!BI$4,Sheet4!$A$2:$A$8408,Sheet3!$B$1,Sheet4!$B$2:$B$8408,Sheet3!$A$3)","v":96},{"$f":"+SUMIFS(Sheet4!$FV$2:$FV$8408,Sheet4!$C$2:$C$8408,Sheet3!$B29,Sheet4!$D$2:$D$8408,Sheet3!BJ$3,Sheet4!$E$2:$E$8408,Sheet3!BJ$4,Sheet4!$A$2:$A$8408,Sheet3!$B$1,Sheet4!$B$2:$B$8408,Sheet3!$A$3)","v":31},{"$f":"+SUMIFS(Sheet4!$FV$2:$FV$8408,Sheet4!$C$2:$C$8408,Sheet3!$B29,Sheet4!$D$2:$D$8408,Sheet3!BK$3,Sheet4!$E$2:$E$8408,Sheet3!BK$4,Sheet4!$A$2:$A$8408,Sheet3!$B$1,Sheet4!$B$2:$B$8408,Sheet3!$A$3)","v":0},{"$f":"+SUMIFS(Sheet4!$FV$2:$FV$8408,Sheet4!$C$2:$C$8408,Sheet3!$B29,Sheet4!$D$2:$D$8408,Sheet3!BL$3,Sheet4!$E$2:$E$8408,Sheet3!BL$4,Sheet4!$A$2:$A$8408,Sheet3!$B$1,Sheet4!$B$2:$B$8408,Sheet3!$A$3)","v":67},{"$f":"+SUMIFS(Sheet4!$FV$2:$FV$8408,Sheet4!$C$2:$C$8408,Sheet3!$B29,Sheet4!$D$2:$D$8408,Sheet3!BM$3,Sheet4!$E$2:$E$8408,Sheet3!BM$4,Sheet4!$A$2:$A$8408,Sheet3!$B$1,Sheet4!$B$2:$B$8408,Sheet3!$A$3)","v":9},{"$f":"+SUMIFS(Sheet4!$FV$2:$FV$8408,Sheet4!$C$2:$C$8408,Sheet3!$B29,Sheet4!$D$2:$D$8408,Sheet3!BN$3,Sheet4!$E$2:$E$8408,Sheet3!BN$4,Sheet4!$A$2:$A$8408,Sheet3!$B$1,Sheet4!$B$2:$B$8408,Sheet3!$A$3)","v":11},{"$f":"+SUMIFS(Sheet4!$FV$2:$FV$8408,Sheet4!$C$2:$C$8408,Sheet3!$B29,Sheet4!$D$2:$D$8408,Sheet3!BO$3,Sheet4!$E$2:$E$8408,Sheet3!BO$4,Sheet4!$A$2:$A$8408,Sheet3!$B$1,Sheet4!$B$2:$B$8408,Sheet3!$A$3)","v":5},{"$f":"+SUMIFS(Sheet4!$FV$2:$FV$8408,Sheet4!$C$2:$C$8408,Sheet3!$B29,Sheet4!$D$2:$D$8408,Sheet3!BP$3,Sheet4!$E$2:$E$8408,Sheet3!BP$4,Sheet4!$A$2:$A$8408,Sheet3!$B$1,Sheet4!$B$2:$B$8408,Sheet3!$A$3)","v":0},{"$f":"+SUMIFS(Sheet4!$FV$2:$FV$8408,Sheet4!$C$2:$C$8408,Sheet3!$B29,Sheet4!$D$2:$D$8408,Sheet3!BQ$3,Sheet4!$E$2:$E$8408,Sheet3!BQ$4,Sheet4!$A$2:$A$8408,Sheet3!$B$1,Sheet4!$B$2:$B$8408,Sheet3!$A$3)","v":0},{"$f":"+SUMIFS(Sheet4!$FV$2:$FV$8408,Sheet4!$C$2:$C$8408,Sheet3!$B29,Sheet4!$D$2:$D$8408,Sheet3!BR$3,Sheet4!$E$2:$E$8408,Sheet3!BR$4,Sheet4!$A$2:$A$8408,Sheet3!$B$1,Sheet4!$B$2:$B$8408,Sheet3!$A$3)","v":16},{"$f":"+SUMIFS(Sheet4!$FV$2:$FV$8408,Sheet4!$C$2:$C$8408,Sheet3!$B29,Sheet4!$D$2:$D$8408,Sheet3!BS$3,Sheet4!$E$2:$E$8408,Sheet3!BS$4,Sheet4!$A$2:$A$8408,Sheet3!$B$1,Sheet4!$B$2:$B$8408,Sheet3!$A$3)","v":323},{"$f":"+SUMIFS(Sheet4!$FV$2:$FV$8408,Sheet4!$C$2:$C$8408,Sheet3!$B29,Sheet4!$D$2:$D$8408,Sheet3!BT$3,Sheet4!$E$2:$E$8408,Sheet3!BT$4,Sheet4!$A$2:$A$8408,Sheet3!$B$1,Sheet4!$B$2:$B$8408,Sheet3!$A$3)","v":356},{"$f":"+SUMIFS(Sheet4!$FV$2:$FV$8408,Sheet4!$C$2:$C$8408,Sheet3!$B29,Sheet4!$D$2:$D$8408,Sheet3!BU$3,Sheet4!$E$2:$E$8408,Sheet3!BU$4,Sheet4!$A$2:$A$8408,Sheet3!$B$1,Sheet4!$B$2:$B$8408,Sheet3!$A$3)","v":22},{"$f":"+SUMIFS(Sheet4!$FV$2:$FV$8408,Sheet4!$C$2:$C$8408,Sheet3!$B29,Sheet4!$D$2:$D$8408,Sheet3!BV$3,Sheet4!$E$2:$E$8408,Sheet3!BV$4,Sheet4!$A$2:$A$8408,Sheet3!$B$1,Sheet4!$B$2:$B$8408,Sheet3!$A$3)","v":653},{"$f":"+SUMIFS(Sheet4!$FV$2:$FV$8408,Sheet4!$C$2:$C$8408,Sheet3!$B29,Sheet4!$D$2:$D$8408,Sheet3!BW$3,Sheet4!$E$2:$E$8408,Sheet3!BW$4,Sheet4!$A$2:$A$8408,Sheet3!$B$1,Sheet4!$B$2:$B$8408,Sheet3!$A$3)","v":398},{"$f":"+SUMIFS(Sheet4!$FV$2:$FV$8408,Sheet4!$C$2:$C$8408,Sheet3!$B29,Sheet4!$D$2:$D$8408,Sheet3!BX$3,Sheet4!$E$2:$E$8408,Sheet3!BX$4,Sheet4!$A$2:$A$8408,Sheet3!$B$1,Sheet4!$B$2:$B$8408,Sheet3!$A$3)","v":297},{"$f":"+SUMIFS(Sheet4!$FV$2:$FV$8408,Sheet4!$C$2:$C$8408,Sheet3!$B29,Sheet4!$D$2:$D$8408,Sheet3!BY$3,Sheet4!$E$2:$E$8408,Sheet3!BY$4,Sheet4!$A$2:$A$8408,Sheet3!$B$1,Sheet4!$B$2:$B$8408,Sheet3!$A$3)","v":92},{"$f":"+SUMIFS(Sheet4!$FV$2:$FV$8408,Sheet4!$C$2:$C$8408,Sheet3!$B29,Sheet4!$D$2:$D$8408,Sheet3!BZ$3,Sheet4!$E$2:$E$8408,Sheet3!BZ$4,Sheet4!$A$2:$A$8408,Sheet3!$B$1,Sheet4!$B$2:$B$8408,Sheet3!$A$3)","v":8},{"$f":"+SUMIFS(Sheet4!$FV$2:$FV$8408,Sheet4!$C$2:$C$8408,Sheet3!$B29,Sheet4!$D$2:$D$8408,Sheet3!CA$3,Sheet4!$E$2:$E$8408,Sheet3!CA$4,Sheet4!$A$2:$A$8408,Sheet3!$B$1,Sheet4!$B$2:$B$8408,Sheet3!$A$3)","v":118},{"$f":"+SUMIFS(Sheet4!$FV$2:$FV$8408,Sheet4!$C$2:$C$8408,Sheet3!$B29,Sheet4!$D$2:$D$8408,Sheet3!CB$3,Sheet4!$E$2:$E$8408,Sheet3!CB$4,Sheet4!$A$2:$A$8408,Sheet3!$B$1,Sheet4!$B$2:$B$8408,Sheet3!$A$3)","v":133},{"$f":"+SUMIFS(Sheet4!$FV$2:$FV$8408,Sheet4!$C$2:$C$8408,Sheet3!$B29,Sheet4!$D$2:$D$8408,Sheet3!CC$3,Sheet4!$E$2:$E$8408,Sheet3!CC$4,Sheet4!$A$2:$A$8408,Sheet3!$B$1,Sheet4!$B$2:$B$8408,Sheet3!$A$3)","v":122},{"$f":"+SUMIFS(Sheet4!$FV$2:$FV$8408,Sheet4!$C$2:$C$8408,Sheet3!$B29,Sheet4!$D$2:$D$8408,Sheet3!CD$3,Sheet4!$E$2:$E$8408,Sheet3!CD$4,Sheet4!$A$2:$A$8408,Sheet3!$B$1,Sheet4!$B$2:$B$8408,Sheet3!$A$3)","v":116},{"$f":"+SUMIFS(Sheet4!$FV$2:$FV$8408,Sheet4!$C$2:$C$8408,Sheet3!$B29,Sheet4!$D$2:$D$8408,Sheet3!CE$3,Sheet4!$E$2:$E$8408,Sheet3!CE$4,Sheet4!$A$2:$A$8408,Sheet3!$B$1,Sheet4!$B$2:$B$8408,Sheet3!$A$3)","v":20},{"$f":"+SUMIFS(Sheet4!$FV$2:$FV$8408,Sheet4!$C$2:$C$8408,Sheet3!$B29,Sheet4!$D$2:$D$8408,Sheet3!CF$3,Sheet4!$E$2:$E$8408,Sheet3!CF$4,Sheet4!$A$2:$A$8408,Sheet3!$B$1,Sheet4!$B$2:$B$8408,Sheet3!$A$3)","v":199},{"$f":"+SUMIFS(Sheet4!$FV$2:$FV$8408,Sheet4!$C$2:$C$8408,Sheet3!$B29,Sheet4!$D$2:$D$8408,Sheet3!CG$3,Sheet4!$E$2:$E$8408,Sheet3!CG$4,Sheet4!$A$2:$A$8408,Sheet3!$B$1,Sheet4!$B$2:$B$8408,Sheet3!$A$3)","v":232},{"$f":"+SUMIFS(Sheet4!$FV$2:$FV$8408,Sheet4!$C$2:$C$8408,Sheet3!$B29,Sheet4!$D$2:$D$8408,Sheet3!CH$3,Sheet4!$E$2:$E$8408,Sheet3!CH$4,Sheet4!$A$2:$A$8408,Sheet3!$B$1,Sheet4!$B$2:$B$8408,Sheet3!$A$3)","v":242},{"$f":"+SUMIFS(Sheet4!$FV$2:$FV$8408,Sheet4!$C$2:$C$8408,Sheet3!$B29,Sheet4!$D$2:$D$8408,Sheet3!CI$3,Sheet4!$E$2:$E$8408,Sheet3!CI$4,Sheet4!$A$2:$A$8408,Sheet3!$B$1,Sheet4!$B$2:$B$8408,Sheet3!$A$3)","v":46},{"$f":"+SUMIFS(Sheet4!$FV$2:$FV$8408,Sheet4!$C$2:$C$8408,Sheet3!$B29,Sheet4!$D$2:$D$8408,Sheet3!CJ$3,Sheet4!$E$2:$E$8408,Sheet3!CJ$4,Sheet4!$A$2:$A$8408,Sheet3!$B$1,Sheet4!$B$2:$B$8408,Sheet3!$A$3)","v":0},{"$f":"+SUMIFS(Sheet4!$FV$2:$FV$8408,Sheet4!$C$2:$C$8408,Sheet3!$B29,Sheet4!$D$2:$D$8408,Sheet3!CK$3,Sheet4!$E$2:$E$8408,Sheet3!CK$4,Sheet4!$A$2:$A$8408,Sheet3!$B$1,Sheet4!$B$2:$B$8408,Sheet3!$A$3)","v":0},{"$f":"+SUMIFS(Sheet4!$FV$2:$FV$8408,Sheet4!$C$2:$C$8408,Sheet3!$B29,Sheet4!$D$2:$D$8408,Sheet3!CL$3,Sheet4!$E$2:$E$8408,Sheet3!CL$4,Sheet4!$A$2:$A$8408,Sheet3!$B$1,Sheet4!$B$2:$B$8408,Sheet3!$A$3)","v":0},{"$f":"+SUMIFS(Sheet4!$FV$2:$FV$8408,Sheet4!$C$2:$C$8408,Sheet3!$B29,Sheet4!$D$2:$D$8408,Sheet3!CM$3,Sheet4!$E$2:$E$8408,Sheet3!CM$4,Sheet4!$A$2:$A$8408,Sheet3!$B$1,Sheet4!$B$2:$B$8408,Sheet3!$A$3)","v":9},{"$f":"+SUMIFS(Sheet4!$FV$2:$FV$8408,Sheet4!$C$2:$C$8408,Sheet3!$B29,Sheet4!$D$2:$D$8408,Sheet3!CN$3,Sheet4!$E$2:$E$8408,Sheet3!CN$4,Sheet4!$A$2:$A$8408,Sheet3!$B$1,Sheet4!$B$2:$B$8408,Sheet3!$A$3)","v":0},{"$f":"+SUMIFS(Sheet4!$FV$2:$FV$8408,Sheet4!$C$2:$C$8408,Sheet3!$B29,Sheet4!$D$2:$D$8408,Sheet3!CO$3,Sheet4!$E$2:$E$8408,Sheet3!CO$4,Sheet4!$A$2:$A$8408,Sheet3!$B$1,Sheet4!$B$2:$B$8408,Sheet3!$A$3)","v":0},{"$f":"+SUMIFS(Sheet4!$FV$2:$FV$8408,Sheet4!$C$2:$C$8408,Sheet3!$B29,Sheet4!$D$2:$D$8408,Sheet3!CP$3,Sheet4!$E$2:$E$8408,Sheet3!CP$4,Sheet4!$A$2:$A$8408,Sheet3!$B$1,Sheet4!$B$2:$B$8408,Sheet3!$A$3)","v":0},{"$f":"+SUMIFS(Sheet4!$FV$2:$FV$8408,Sheet4!$C$2:$C$8408,Sheet3!$B29,Sheet4!$D$2:$D$8408,Sheet3!CQ$3,Sheet4!$E$2:$E$8408,Sheet3!CQ$4,Sheet4!$A$2:$A$8408,Sheet3!$B$1,Sheet4!$B$2:$B$8408,Sheet3!$A$3)","v":0},{"$f":"+SUMIFS(Sheet4!$FV$2:$FV$8408,Sheet4!$C$2:$C$8408,Sheet3!$B29,Sheet4!$D$2:$D$8408,Sheet3!CR$3,Sheet4!$E$2:$E$8408,Sheet3!CR$4,Sheet4!$A$2:$A$8408,Sheet3!$B$1,Sheet4!$B$2:$B$8408,Sheet3!$A$3)","v":0},{"$f":"+SUMIFS(Sheet4!$FV$2:$FV$8408,Sheet4!$C$2:$C$8408,Sheet3!$B29,Sheet4!$D$2:$D$8408,Sheet3!CS$3,Sheet4!$E$2:$E$8408,Sheet3!CS$4,Sheet4!$A$2:$A$8408,Sheet3!$B$1,Sheet4!$B$2:$B$8408,Sheet3!$A$3)","v":0},{"$f":"+SUMIFS(Sheet4!$FV$2:$FV$8408,Sheet4!$C$2:$C$8408,Sheet3!$B29,Sheet4!$D$2:$D$8408,Sheet3!CT$3,Sheet4!$E$2:$E$8408,Sheet3!CT$4,Sheet4!$A$2:$A$8408,Sheet3!$B$1,Sheet4!$B$2:$B$8408,Sheet3!$A$3)","v":0},{"$f":"+IF(SUMIFS(Sheet4!$FW$2:$FW$8408,Sheet4!$C$2:$C$8408,Sheet3!$B29,Sheet4!$D$2:$D$8408,Sheet3!CU$3,Sheet4!$A$2:$A$8408,Sheet3!$B$1,Sheet4!$B$2:$B$8408,Sheet3!$A$3)<3,0,SUMIFS(Sheet4!$FW$2:$FW$8408,Sheet4!$C$2:$C$8408,Sheet3!$B29,Sheet4!$D$2:$D$8408,Sheet3!CU$3,Sheet4!$A$2:$A$8408,Sheet3!$B$1,Sheet4!$B$2:$B$8408,Sheet3!$A$3))","v":32},{"$f":"+IF(SUMIFS(Sheet4!$FW$2:$FW$8408,Sheet4!$C$2:$C$8408,Sheet3!$B29,Sheet4!$D$2:$D$8408,Sheet3!CV$3,Sheet4!$A$2:$A$8408,Sheet3!$B$1,Sheet4!$B$2:$B$8408,Sheet3!$A$3)<3,0,SUMIFS(Sheet4!$FW$2:$FW$8408,Sheet4!$C$2:$C$8408,Sheet3!$B29,Sheet4!$D$2:$D$8408,Sheet3!CV$3,Sheet4!$A$2:$A$8408,Sheet3!$B$1,Sheet4!$B$2:$B$8408,Sheet3!$A$3))","v":20},{"$f":"+IF(SUMIFS(Sheet4!$FW$2:$FW$8408,Sheet4!$C$2:$C$8408,Sheet3!$B29,Sheet4!$D$2:$D$8408,Sheet3!CW$3,Sheet4!$A$2:$A$8408,Sheet3!$B$1,Sheet4!$B$2:$B$8408,Sheet3!$A$3)<3,0,SUMIFS(Sheet4!$FW$2:$FW$8408,Sheet4!$C$2:$C$8408,Sheet3!$B29,Sheet4!$D$2:$D$8408,Sheet3!CW$3,Sheet4!$A$2:$A$8408,Sheet3!$B$1,Sheet4!$B$2:$B$8408,Sheet3!$A$3))","v":209},{"$f":"+IF(SUMIFS(Sheet4!$FW$2:$FW$8408,Sheet4!$C$2:$C$8408,Sheet3!$B29,Sheet4!$D$2:$D$8408,Sheet3!CX$3,Sheet4!$A$2:$A$8408,Sheet3!$B$1,Sheet4!$B$2:$B$8408,Sheet3!$A$3)<3,0,SUMIFS(Sheet4!$FW$2:$FW$8408,Sheet4!$C$2:$C$8408,Sheet3!$B29,Sheet4!$D$2:$D$8408,Sheet3!CX$3,Sheet4!$A$2:$A$8408,Sheet3!$B$1,Sheet4!$B$2:$B$8408,Sheet3!$A$3))","v":8},{"$f":"+IF(SUMIFS(Sheet4!$FW$2:$FW$8408,Sheet4!$C$2:$C$8408,Sheet3!$B29,Sheet4!$D$2:$D$8408,Sheet3!CY$3,Sheet4!$A$2:$A$8408,Sheet3!$B$1,Sheet4!$B$2:$B$8408,Sheet3!$A$3)<3,0,SUMIFS(Sheet4!$FW$2:$FW$8408,Sheet4!$C$2:$C$8408,Sheet3!$B29,Sheet4!$D$2:$D$8408,Sheet3!CY$3,Sheet4!$A$2:$A$8408,Sheet3!$B$1,Sheet4!$B$2:$B$8408,Sheet3!$A$3))","v":51},{"$f":"+IF(SUMIFS(Sheet4!$FW$2:$FW$8408,Sheet4!$C$2:$C$8408,Sheet3!$B29,Sheet4!$D$2:$D$8408,Sheet3!CZ$3,Sheet4!$A$2:$A$8408,Sheet3!$B$1,Sheet4!$B$2:$B$8408,Sheet3!$A$3)<3,0,SUMIFS(Sheet4!$FW$2:$FW$8408,Sheet4!$C$2:$C$8408,Sheet3!$B29,Sheet4!$D$2:$D$8408,Sheet3!CZ$3,Sheet4!$A$2:$A$8408,Sheet3!$B$1,Sheet4!$B$2:$B$8408,Sheet3!$A$3))","v":171},{"$f":"+IF(SUMIFS(Sheet4!$FW$2:$FW$8408,Sheet4!$C$2:$C$8408,Sheet3!$B29,Sheet4!$D$2:$D$8408,Sheet3!DA$3,Sheet4!$A$2:$A$8408,Sheet3!$B$1,Sheet4!$B$2:$B$8408,Sheet3!$A$3)<3,0,SUMIFS(Sheet4!$FW$2:$FW$8408,Sheet4!$C$2:$C$8408,Sheet3!$B29,Sheet4!$D$2:$D$8408,Sheet3!DA$3,Sheet4!$A$2:$A$8408,Sheet3!$B$1,Sheet4!$B$2:$B$8408,Sheet3!$A$3))","v":647},{"$f":"+IF(SUMIFS(Sheet4!$FW$2:$FW$8408,Sheet4!$C$2:$C$8408,Sheet3!$B29,Sheet4!$D$2:$D$8408,Sheet3!DB$3,Sheet4!$A$2:$A$8408,Sheet3!$B$1,Sheet4!$B$2:$B$8408,Sheet3!$A$3)<3,0,SUMIFS(Sheet4!$FW$2:$FW$8408,Sheet4!$C$2:$C$8408,Sheet3!$B29,Sheet4!$D$2:$D$8408,Sheet3!DB$3,Sheet4!$A$2:$A$8408,Sheet3!$B$1,Sheet4!$B$2:$B$8408,Sheet3!$A$3))","v":208},{"$f":"+IF(SUMIFS(Sheet4!$FW$2:$FW$8408,Sheet4!$C$2:$C$8408,Sheet3!$B29,Sheet4!$D$2:$D$8408,Sheet3!DC$3,Sheet4!$A$2:$A$8408,Sheet3!$B$1,Sheet4!$B$2:$B$8408,Sheet3!$A$3)<3,0,SUMIFS(Sheet4!$FW$2:$FW$8408,Sheet4!$C$2:$C$8408,Sheet3!$B29,Sheet4!$D$2:$D$8408,Sheet3!DC$3,Sheet4!$A$2:$A$8408,Sheet3!$B$1,Sheet4!$B$2:$B$8408,Sheet3!$A$3))","v":970},{"$f":"+IF(SUMIFS(Sheet4!$FW$2:$FW$8408,Sheet4!$C$2:$C$8408,Sheet3!$B29,Sheet4!$D$2:$D$8408,Sheet3!DD$3,Sheet4!$A$2:$A$8408,Sheet3!$B$1,Sheet4!$B$2:$B$8408,Sheet3!$A$3)<3,0,SUMIFS(Sheet4!$FW$2:$FW$8408,Sheet4!$C$2:$C$8408,Sheet3!$B29,Sheet4!$D$2:$D$8408,Sheet3!DD$3,Sheet4!$A$2:$A$8408,Sheet3!$B$1,Sheet4!$B$2:$B$8408,Sheet3!$A$3))","v":791},{"$f":"+IF(SUMIFS(Sheet4!$FW$2:$FW$8408,Sheet4!$C$2:$C$8408,Sheet3!$B29,Sheet4!$D$2:$D$8408,Sheet3!DE$3,Sheet4!$A$2:$A$8408,Sheet3!$B$1,Sheet4!$B$2:$B$8408,Sheet3!$A$3)<3,0,SUMIFS(Sheet4!$FW$2:$FW$8408,Sheet4!$C$2:$C$8408,Sheet3!$B29,Sheet4!$D$2:$D$8408,Sheet3!DE$3,Sheet4!$A$2:$A$8408,Sheet3!$B$1,Sheet4!$B$2:$B$8408,Sheet3!$A$3))","v":19},{"$f":"+IF(SUMIFS(Sheet4!$FW$2:$FW$8408,Sheet4!$C$2:$C$8408,Sheet3!$B29,Sheet4!$D$2:$D$8408,Sheet3!DF$3,Sheet4!$A$2:$A$8408,Sheet3!$B$1,Sheet4!$B$2:$B$8408,Sheet3!$A$3)<3,0,SUMIFS(Sheet4!$FW$2:$FW$8408,Sheet4!$C$2:$C$8408,Sheet3!$B29,Sheet4!$D$2:$D$8408,Sheet3!DF$3,Sheet4!$A$2:$A$8408,Sheet3!$B$1,Sheet4!$B$2:$B$8408,Sheet3!$A$3))","v":160},{"$f":"+IF(SUMIFS(Sheet4!$FW$2:$FW$8408,Sheet4!$C$2:$C$8408,Sheet3!$B29,Sheet4!$D$2:$D$8408,Sheet3!DG$3,Sheet4!$A$2:$A$8408,Sheet3!$B$1,Sheet4!$B$2:$B$8408,Sheet3!$A$3)<3,0,SUMIFS(Sheet4!$FW$2:$FW$8408,Sheet4!$C$2:$C$8408,Sheet3!$B29,Sheet4!$D$2:$D$8408,Sheet3!DG$3,Sheet4!$A$2:$A$8408,Sheet3!$B$1,Sheet4!$B$2:$B$8408,Sheet3!$A$3))","v":95},{"$f":"+IF(SUMIFS(Sheet4!$FW$2:$FW$8408,Sheet4!$C$2:$C$8408,Sheet3!$B29,Sheet4!$D$2:$D$8408,Sheet3!DH$3,Sheet4!$A$2:$A$8408,Sheet3!$B$1,Sheet4!$B$2:$B$8408,Sheet3!$A$3)<3,0,SUMIFS(Sheet4!$FW$2:$FW$8408,Sheet4!$C$2:$C$8408,Sheet3!$B29,Sheet4!$D$2:$D$8408,Sheet3!DH$3,Sheet4!$A$2:$A$8408,Sheet3!$B$1,Sheet4!$B$2:$B$8408,Sheet3!$A$3))","v":722},{"$f":"+IF(SUMIFS(Sheet4!$FW$2:$FW$8408,Sheet4!$C$2:$C$8408,Sheet3!$B29,Sheet4!$D$2:$D$8408,Sheet3!DI$3,Sheet4!$A$2:$A$8408,Sheet3!$B$1,Sheet4!$B$2:$B$8408,Sheet3!$A$3)<3,0,SUMIFS(Sheet4!$FW$2:$FW$8408,Sheet4!$C$2:$C$8408,Sheet3!$B29,Sheet4!$D$2:$D$8408,Sheet3!DI$3,Sheet4!$A$2:$A$8408,Sheet3!$B$1,Sheet4!$B$2:$B$8408,Sheet3!$A$3))","v":1450},{"$f":"+IF(SUMIFS(Sheet4!$FW$2:$FW$8408,Sheet4!$C$2:$C$8408,Sheet3!$B29,Sheet4!$D$2:$D$8408,Sheet3!DJ$3,Sheet4!$A$2:$A$8408,Sheet3!$B$1,Sheet4!$B$2:$B$8408,Sheet3!$A$3)<3,0,SUMIFS(Sheet4!$FW$2:$FW$8408,Sheet4!$C$2:$C$8408,Sheet3!$B29,Sheet4!$D$2:$D$8408,Sheet3!DJ$3,Sheet4!$A$2:$A$8408,Sheet3!$B$1,Sheet4!$B$2:$B$8408,Sheet3!$A$3))","v":513},{"$f":"+IF(SUMIFS(Sheet4!$FW$2:$FW$8408,Sheet4!$C$2:$C$8408,Sheet3!$B29,Sheet4!$D$2:$D$8408,Sheet3!DK$3,Sheet4!$A$2:$A$8408,Sheet3!$B$1,Sheet4!$B$2:$B$8408,Sheet3!$A$3)<3,0,SUMIFS(Sheet4!$FW$2:$FW$8408,Sheet4!$C$2:$C$8408,Sheet3!$B29,Sheet4!$D$2:$D$8408,Sheet3!DK$3,Sheet4!$A$2:$A$8408,Sheet3!$B$1,Sheet4!$B$2:$B$8408,Sheet3!$A$3))","v":719},{"$f":"+IF(SUMIFS(Sheet4!$FW$2:$FW$8408,Sheet4!$C$2:$C$8408,Sheet3!$B29,Sheet4!$D$2:$D$8408,Sheet3!DL$3,Sheet4!$A$2:$A$8408,Sheet3!$B$1,Sheet4!$B$2:$B$8408,Sheet3!$A$3)<3,0,SUMIFS(Sheet4!$FW$2:$FW$8408,Sheet4!$C$2:$C$8408,Sheet3!$B29,Sheet4!$D$2:$D$8408,Sheet3!DL$3,Sheet4!$A$2:$A$8408,Sheet3!$B$1,Sheet4!$B$2:$B$8408,Sheet3!$A$3))","v":11},{"$f":"+IF(SUMIFS(Sheet4!$FW$2:$FW$8408,Sheet4!$C$2:$C$8408,Sheet3!$B29,Sheet4!$D$2:$D$8408,Sheet3!DM$3,Sheet4!$A$2:$A$8408,Sheet3!$B$1,Sheet4!$B$2:$B$8408,Sheet3!$A$3)<3,0,SUMIFS(Sheet4!$FW$2:$FW$8408,Sheet4!$C$2:$C$8408,Sheet3!$B29,Sheet4!$D$2:$D$8408,Sheet3!DM$3,Sheet4!$A$2:$A$8408,Sheet3!$B$1,Sheet4!$B$2:$B$8408,Sheet3!$A$3))","v":0},{"$f":"+IF(SUMIFS(Sheet4!$FW$2:$FW$8408,Sheet4!$C$2:$C$8408,Sheet3!$B29,Sheet4!$E$2:$E$8408,Sheet3!DN$4,Sheet4!$A$2:$A$8408,Sheet3!$B$1,Sheet4!$B$2:$B$8408,Sheet3!$A$3)<3,0,SUMIFS(Sheet4!$FW$2:$FW$8408,Sheet4!$C$2:$C$8408,Sheet3!$B29,Sheet4!$E$2:$E$8408,Sheet3!DN$4,Sheet4!$A$2:$A$8408,Sheet3!$B$1,Sheet4!$B$2:$B$8408,Sheet3!$A$3))","v":2417},{"$f":"+IF(SUMIFS(Sheet4!$FW$2:$FW$8408,Sheet4!$C$2:$C$8408,Sheet3!$B29,Sheet4!$E$2:$E$8408,Sheet3!DO$4,Sheet4!$A$2:$A$8408,Sheet3!$B$1,Sheet4!$B$2:$B$8408,Sheet3!$A$3)<3,0,SUMIFS(Sheet4!$FW$2:$FW$8408,Sheet4!$C$2:$C$8408,Sheet3!$B29,Sheet4!$E$2:$E$8408,Sheet3!DO$4,Sheet4!$A$2:$A$8408,Sheet3!$B$1,Sheet4!$B$2:$B$8408,Sheet3!$A$3))","v":1838},{"$f":"+IF(SUMIFS(Sheet4!$FW$2:$FW$8408,Sheet4!$C$2:$C$8408,Sheet3!$B29,Sheet4!$E$2:$E$8408,Sheet3!DP$4,Sheet4!$A$2:$A$8408,Sheet3!$B$1,Sheet4!$B$2:$B$8408,Sheet3!$A$3)<3,0,SUMIFS(Sheet4!$FW$2:$FW$8408,Sheet4!$C$2:$C$8408,Sheet3!$B29,Sheet4!$E$2:$E$8408,Sheet3!DP$4,Sheet4!$A$2:$A$8408,Sheet3!$B$1,Sheet4!$B$2:$B$8408,Sheet3!$A$3))","v":1688},{"$f":"+IF(SUMIFS(Sheet4!$FW$2:$FW$8408,Sheet4!$C$2:$C$8408,Sheet3!$B29,Sheet4!$E$2:$E$8408,Sheet3!DQ$4,Sheet4!$A$2:$A$8408,Sheet3!$B$1,Sheet4!$B$2:$B$8408,Sheet3!$A$3)<3,0,SUMIFS(Sheet4!$FW$2:$FW$8408,Sheet4!$C$2:$C$8408,Sheet3!$B29,Sheet4!$E$2:$E$8408,Sheet3!DQ$4,Sheet4!$A$2:$A$8408,Sheet3!$B$1,Sheet4!$B$2:$B$8408,Sheet3!$A$3))","v":794},{"$f":"+IF(SUMIFS(Sheet4!$FW$2:$FW$8408,Sheet4!$C$2:$C$8408,Sheet3!$B29,Sheet4!$E$2:$E$8408,Sheet3!DR$4,Sheet4!$A$2:$A$8408,Sheet3!$B$1,Sheet4!$B$2:$B$8408,Sheet3!$A$3)<3,0,SUMIFS(Sheet4!$FW$2:$FW$8408,Sheet4!$C$2:$C$8408,Sheet3!$B29,Sheet4!$E$2:$E$8408,Sheet3!DR$4,Sheet4!$A$2:$A$8408,Sheet3!$B$1,Sheet4!$B$2:$B$8408,Sheet3!$A$3))","v":59}]
[5,"150","Algarve",{"$f":"+SUMIFS(Sheet4!$FV$2:$FV$8408,Sheet4!$C$2:$C$8408,Sheet3!$B30,Sheet4!$D$2:$D$8408,Sheet3!D$3,Sheet4!$E$2:$E$8408,Sheet3!D$4,Sheet4!$A$2:$A$8408,Sheet3!$B$1,Sheet4!$B$2:$B$8408,Sheet3!$A$3)","v":14},{"$f":"+SUMIFS(Sheet4!$FV$2:$FV$8408,Sheet4!$C$2:$C$8408,Sheet3!$B30,Sheet4!$D$2:$D$8408,Sheet3!E$3,Sheet4!$E$2:$E$8408,Sheet3!E$4,Sheet4!$A$2:$A$8408,Sheet3!$B$1,Sheet4!$B$2:$B$8408,Sheet3!$A$3)","v":4},{"$f":"+SUMIFS(Sheet4!$FV$2:$FV$8408,Sheet4!$C$2:$C$8408,Sheet3!$B30,Sheet4!$D$2:$D$8408,Sheet3!F$3,Sheet4!$E$2:$E$8408,Sheet3!F$4,Sheet4!$A$2:$A$8408,Sheet3!$B$1,Sheet4!$B$2:$B$8408,Sheet3!$A$3)","v":0},{"$f":"+SUMIFS(Sheet4!$FV$2:$FV$8408,Sheet4!$C$2:$C$8408,Sheet3!$B30,Sheet4!$D$2:$D$8408,Sheet3!G$3,Sheet4!$E$2:$E$8408,Sheet3!G$4,Sheet4!$A$2:$A$8408,Sheet3!$B$1,Sheet4!$B$2:$B$8408,Sheet3!$A$3)","v":0},{"$f":"+SUMIFS(Sheet4!$FV$2:$FV$8408,Sheet4!$C$2:$C$8408,Sheet3!$B30,Sheet4!$D$2:$D$8408,Sheet3!H$3,Sheet4!$E$2:$E$8408,Sheet3!H$4,Sheet4!$A$2:$A$8408,Sheet3!$B$1,Sheet4!$B$2:$B$8408,Sheet3!$A$3)","v":0},{"$f":"+SUMIFS(Sheet4!$FV$2:$FV$8408,Sheet4!$C$2:$C$8408,Sheet3!$B30,Sheet4!$D$2:$D$8408,Sheet3!I$3,Sheet4!$E$2:$E$8408,Sheet3!I$4,Sheet4!$A$2:$A$8408,Sheet3!$B$1,Sheet4!$B$2:$B$8408,Sheet3!$A$3)","v":0},{"$f":"+SUMIFS(Sheet4!$FV$2:$FV$8408,Sheet4!$C$2:$C$8408,Sheet3!$B30,Sheet4!$D$2:$D$8408,Sheet3!J$3,Sheet4!$E$2:$E$8408,Sheet3!J$4,Sheet4!$A$2:$A$8408,Sheet3!$B$1,Sheet4!$B$2:$B$8408,Sheet3!$A$3)","v":0},{"$f":"+SUMIFS(Sheet4!$FV$2:$FV$8408,Sheet4!$C$2:$C$8408,Sheet3!$B30,Sheet4!$D$2:$D$8408,Sheet3!K$3,Sheet4!$E$2:$E$8408,Sheet3!K$4,Sheet4!$A$2:$A$8408,Sheet3!$B$1,Sheet4!$B$2:$B$8408,Sheet3!$A$3)","v":0},{"$f":"+SUMIFS(Sheet4!$FV$2:$FV$8408,Sheet4!$C$2:$C$8408,Sheet3!$B30,Sheet4!$D$2:$D$8408,Sheet3!L$3,Sheet4!$E$2:$E$8408,Sheet3!L$4,Sheet4!$A$2:$A$8408,Sheet3!$B$1,Sheet4!$B$2:$B$8408,Sheet3!$A$3)","v":0},{"$f":"+SUMIFS(Sheet4!$FV$2:$FV$8408,Sheet4!$C$2:$C$8408,Sheet3!$B30,Sheet4!$D$2:$D$8408,Sheet3!M$3,Sheet4!$E$2:$E$8408,Sheet3!M$4,Sheet4!$A$2:$A$8408,Sheet3!$B$1,Sheet4!$B$2:$B$8408,Sheet3!$A$3)","v":0},{"$f":"+SUMIFS(Sheet4!$FV$2:$FV$8408,Sheet4!$C$2:$C$8408,Sheet3!$B30,Sheet4!$D$2:$D$8408,Sheet3!N$3,Sheet4!$E$2:$E$8408,Sheet3!N$4,Sheet4!$A$2:$A$8408,Sheet3!$B$1,Sheet4!$B$2:$B$8408,Sheet3!$A$3)","v":53},{"$f":"+SUMIFS(Sheet4!$FV$2:$FV$8408,Sheet4!$C$2:$C$8408,Sheet3!$B30,Sheet4!$D$2:$D$8408,Sheet3!O$3,Sheet4!$E$2:$E$8408,Sheet3!O$4,Sheet4!$A$2:$A$8408,Sheet3!$B$1,Sheet4!$B$2:$B$8408,Sheet3!$A$3)","v":44},{"$f":"+SUMIFS(Sheet4!$FV$2:$FV$8408,Sheet4!$C$2:$C$8408,Sheet3!$B30,Sheet4!$D$2:$D$8408,Sheet3!P$3,Sheet4!$E$2:$E$8408,Sheet3!P$4,Sheet4!$A$2:$A$8408,Sheet3!$B$1,Sheet4!$B$2:$B$8408,Sheet3!$A$3)","v":9},{"$f":"+SUMIFS(Sheet4!$FV$2:$FV$8408,Sheet4!$C$2:$C$8408,Sheet3!$B30,Sheet4!$D$2:$D$8408,Sheet3!Q$3,Sheet4!$E$2:$E$8408,Sheet3!Q$4,Sheet4!$A$2:$A$8408,Sheet3!$B$1,Sheet4!$B$2:$B$8408,Sheet3!$A$3)","v":0},{"$f":"+SUMIFS(Sheet4!$FV$2:$FV$8408,Sheet4!$C$2:$C$8408,Sheet3!$B30,Sheet4!$D$2:$D$8408,Sheet3!R$3,Sheet4!$E$2:$E$8408,Sheet3!R$4,Sheet4!$A$2:$A$8408,Sheet3!$B$1,Sheet4!$B$2:$B$8408,Sheet3!$A$3)","v":0},{"$f":"+SUMIFS(Sheet4!$FV$2:$FV$8408,Sheet4!$C$2:$C$8408,Sheet3!$B30,Sheet4!$D$2:$D$8408,Sheet3!S$3,Sheet4!$E$2:$E$8408,Sheet3!S$4,Sheet4!$A$2:$A$8408,Sheet3!$B$1,Sheet4!$B$2:$B$8408,Sheet3!$A$3)","v":0},{"$f":"+SUMIFS(Sheet4!$FV$2:$FV$8408,Sheet4!$C$2:$C$8408,Sheet3!$B30,Sheet4!$D$2:$D$8408,Sheet3!T$3,Sheet4!$E$2:$E$8408,Sheet3!T$4,Sheet4!$A$2:$A$8408,Sheet3!$B$1,Sheet4!$B$2:$B$8408,Sheet3!$A$3)","v":0},{"$f":"+SUMIFS(Sheet4!$FV$2:$FV$8408,Sheet4!$C$2:$C$8408,Sheet3!$B30,Sheet4!$D$2:$D$8408,Sheet3!U$3,Sheet4!$E$2:$E$8408,Sheet3!U$4,Sheet4!$A$2:$A$8408,Sheet3!$B$1,Sheet4!$B$2:$B$8408,Sheet3!$A$3)","v":0},{"$f":"+SUMIFS(Sheet4!$FV$2:$FV$8408,Sheet4!$C$2:$C$8408,Sheet3!$B30,Sheet4!$D$2:$D$8408,Sheet3!V$3,Sheet4!$E$2:$E$8408,Sheet3!V$4,Sheet4!$A$2:$A$8408,Sheet3!$B$1,Sheet4!$B$2:$B$8408,Sheet3!$A$3)","v":0},{"$f":"+SUMIFS(Sheet4!$FV$2:$FV$8408,Sheet4!$C$2:$C$8408,Sheet3!$B30,Sheet4!$D$2:$D$8408,Sheet3!W$3,Sheet4!$E$2:$E$8408,Sheet3!W$4,Sheet4!$A$2:$A$8408,Sheet3!$B$1,Sheet4!$B$2:$B$8408,Sheet3!$A$3)","v":0},{"$f":"+SUMIFS(Sheet4!$FV$2:$FV$8408,Sheet4!$C$2:$C$8408,Sheet3!$B30,Sheet4!$D$2:$D$8408,Sheet3!X$3,Sheet4!$E$2:$E$8408,Sheet3!X$4,Sheet4!$A$2:$A$8408,Sheet3!$B$1,Sheet4!$B$2:$B$8408,Sheet3!$A$3)","v":0},{"$f":"+SUMIFS(Sheet4!$FV$2:$FV$8408,Sheet4!$C$2:$C$8408,Sheet3!$B30,Sheet4!$D$2:$D$8408,Sheet3!Y$3,Sheet4!$E$2:$E$8408,Sheet3!Y$4,Sheet4!$A$2:$A$8408,Sheet3!$B$1,Sheet4!$B$2:$B$8408,Sheet3!$A$3)","v":0},{"$f":"+SUMIFS(Sheet4!$FV$2:$FV$8408,Sheet4!$C$2:$C$8408,Sheet3!$B30,Sheet4!$D$2:$D$8408,Sheet3!Z$3,Sheet4!$E$2:$E$8408,Sheet3!Z$4,Sheet4!$A$2:$A$8408,Sheet3!$B$1,Sheet4!$B$2:$B$8408,Sheet3!$A$3)","v":0},{"$f":"+SUMIFS(Sheet4!$FV$2:$FV$8408,Sheet4!$C$2:$C$8408,Sheet3!$B30,Sheet4!$D$2:$D$8408,Sheet3!AA$3,Sheet4!$E$2:$E$8408,Sheet3!AA$4,Sheet4!$A$2:$A$8408,Sheet3!$B$1,Sheet4!$B$2:$B$8408,Sheet3!$A$3)","v":0},{"$f":"+SUMIFS(Sheet4!$FV$2:$FV$8408,Sheet4!$C$2:$C$8408,Sheet3!$B30,Sheet4!$D$2:$D$8408,Sheet3!AB$3,Sheet4!$E$2:$E$8408,Sheet3!AB$4,Sheet4!$A$2:$A$8408,Sheet3!$B$1,Sheet4!$B$2:$B$8408,Sheet3!$A$3)","v":0},{"$f":"+SUMIFS(Sheet4!$FV$2:$FV$8408,Sheet4!$C$2:$C$8408,Sheet3!$B30,Sheet4!$D$2:$D$8408,Sheet3!AC$3,Sheet4!$E$2:$E$8408,Sheet3!AC$4,Sheet4!$A$2:$A$8408,Sheet3!$B$1,Sheet4!$B$2:$B$8408,Sheet3!$A$3)","v":145},{"$f":"+SUMIFS(Sheet4!$FV$2:$FV$8408,Sheet4!$C$2:$C$8408,Sheet3!$B30,Sheet4!$D$2:$D$8408,Sheet3!AD$3,Sheet4!$E$2:$E$8408,Sheet3!AD$4,Sheet4!$A$2:$A$8408,Sheet3!$B$1,Sheet4!$B$2:$B$8408,Sheet3!$A$3)","v":74},{"$f":"+SUMIFS(Sheet4!$FV$2:$FV$8408,Sheet4!$C$2:$C$8408,Sheet3!$B30,Sheet4!$D$2:$D$8408,Sheet3!AE$3,Sheet4!$E$2:$E$8408,Sheet3!AE$4,Sheet4!$A$2:$A$8408,Sheet3!$B$1,Sheet4!$B$2:$B$8408,Sheet3!$A$3)","v":0},{"$f":"+SUMIFS(Sheet4!$FV$2:$FV$8408,Sheet4!$C$2:$C$8408,Sheet3!$B30,Sheet4!$D$2:$D$8408,Sheet3!AF$3,Sheet4!$E$2:$E$8408,Sheet3!AF$4,Sheet4!$A$2:$A$8408,Sheet3!$B$1,Sheet4!$B$2:$B$8408,Sheet3!$A$3)","v":0},{"$f":"+SUMIFS(Sheet4!$FV$2:$FV$8408,Sheet4!$C$2:$C$8408,Sheet3!$B30,Sheet4!$D$2:$D$8408,Sheet3!AG$3,Sheet4!$E$2:$E$8408,Sheet3!AG$4,Sheet4!$A$2:$A$8408,Sheet3!$B$1,Sheet4!$B$2:$B$8408,Sheet3!$A$3)","v":0},{"$f":"+SUMIFS(Sheet4!$FV$2:$FV$8408,Sheet4!$C$2:$C$8408,Sheet3!$B30,Sheet4!$D$2:$D$8408,Sheet3!AH$3,Sheet4!$E$2:$E$8408,Sheet3!AH$4,Sheet4!$A$2:$A$8408,Sheet3!$B$1,Sheet4!$B$2:$B$8408,Sheet3!$A$3)","v":6},{"$f":"+SUMIFS(Sheet4!$FV$2:$FV$8408,Sheet4!$C$2:$C$8408,Sheet3!$B30,Sheet4!$D$2:$D$8408,Sheet3!AI$3,Sheet4!$E$2:$E$8408,Sheet3!AI$4,Sheet4!$A$2:$A$8408,Sheet3!$B$1,Sheet4!$B$2:$B$8408,Sheet3!$A$3)","v":3},{"$f":"+SUMIFS(Sheet4!$FV$2:$FV$8408,Sheet4!$C$2:$C$8408,Sheet3!$B30,Sheet4!$D$2:$D$8408,Sheet3!AJ$3,Sheet4!$E$2:$E$8408,Sheet3!AJ$4,Sheet4!$A$2:$A$8408,Sheet3!$B$1,Sheet4!$B$2:$B$8408,Sheet3!$A$3)","v":4},{"$f":"+SUMIFS(Sheet4!$FV$2:$FV$8408,Sheet4!$C$2:$C$8408,Sheet3!$B30,Sheet4!$D$2:$D$8408,Sheet3!AK$3,Sheet4!$E$2:$E$8408,Sheet3!AK$4,Sheet4!$A$2:$A$8408,Sheet3!$B$1,Sheet4!$B$2:$B$8408,Sheet3!$A$3)","v":0},{"$f":"+SUMIFS(Sheet4!$FV$2:$FV$8408,Sheet4!$C$2:$C$8408,Sheet3!$B30,Sheet4!$D$2:$D$8408,Sheet3!AL$3,Sheet4!$E$2:$E$8408,Sheet3!AL$4,Sheet4!$A$2:$A$8408,Sheet3!$B$1,Sheet4!$B$2:$B$8408,Sheet3!$A$3)","v":0},{"$f":"+SUMIFS(Sheet4!$FV$2:$FV$8408,Sheet4!$C$2:$C$8408,Sheet3!$B30,Sheet4!$D$2:$D$8408,Sheet3!AM$3,Sheet4!$E$2:$E$8408,Sheet3!AM$4,Sheet4!$A$2:$A$8408,Sheet3!$B$1,Sheet4!$B$2:$B$8408,Sheet3!$A$3)","v":499},{"$f":"+SUMIFS(Sheet4!$FV$2:$FV$8408,Sheet4!$C$2:$C$8408,Sheet3!$B30,Sheet4!$D$2:$D$8408,Sheet3!AN$3,Sheet4!$E$2:$E$8408,Sheet3!AN$4,Sheet4!$A$2:$A$8408,Sheet3!$B$1,Sheet4!$B$2:$B$8408,Sheet3!$A$3)","v":864},{"$f":"+SUMIFS(Sheet4!$FV$2:$FV$8408,Sheet4!$C$2:$C$8408,Sheet3!$B30,Sheet4!$D$2:$D$8408,Sheet3!AO$3,Sheet4!$E$2:$E$8408,Sheet3!AO$4,Sheet4!$A$2:$A$8408,Sheet3!$B$1,Sheet4!$B$2:$B$8408,Sheet3!$A$3)","v":300},{"$f":"+SUMIFS(Sheet4!$FV$2:$FV$8408,Sheet4!$C$2:$C$8408,Sheet3!$B30,Sheet4!$D$2:$D$8408,Sheet3!AP$3,Sheet4!$E$2:$E$8408,Sheet3!AP$4,Sheet4!$A$2:$A$8408,Sheet3!$B$1,Sheet4!$B$2:$B$8408,Sheet3!$A$3)","v":6},{"$f":"+SUMIFS(Sheet4!$FV$2:$FV$8408,Sheet4!$C$2:$C$8408,Sheet3!$B30,Sheet4!$D$2:$D$8408,Sheet3!AQ$3,Sheet4!$E$2:$E$8408,Sheet3!AQ$4,Sheet4!$A$2:$A$8408,Sheet3!$B$1,Sheet4!$B$2:$B$8408,Sheet3!$A$3)","v":0},{"$f":"+SUMIFS(Sheet4!$FV$2:$FV$8408,Sheet4!$C$2:$C$8408,Sheet3!$B30,Sheet4!$D$2:$D$8408,Sheet3!AR$3,Sheet4!$E$2:$E$8408,Sheet3!AR$4,Sheet4!$A$2:$A$8408,Sheet3!$B$1,Sheet4!$B$2:$B$8408,Sheet3!$A$3)","v":14},{"$f":"+SUMIFS(Sheet4!$FV$2:$FV$8408,Sheet4!$C$2:$C$8408,Sheet3!$B30,Sheet4!$D$2:$D$8408,Sheet3!AS$3,Sheet4!$E$2:$E$8408,Sheet3!AS$4,Sheet4!$A$2:$A$8408,Sheet3!$B$1,Sheet4!$B$2:$B$8408,Sheet3!$A$3)","v":5},{"$f":"+SUMIFS(Sheet4!$FV$2:$FV$8408,Sheet4!$C$2:$C$8408,Sheet3!$B30,Sheet4!$D$2:$D$8408,Sheet3!AT$3,Sheet4!$E$2:$E$8408,Sheet3!AT$4,Sheet4!$A$2:$A$8408,Sheet3!$B$1,Sheet4!$B$2:$B$8408,Sheet3!$A$3)","v":0},{"$f":"+SUMIFS(Sheet4!$FV$2:$FV$8408,Sheet4!$C$2:$C$8408,Sheet3!$B30,Sheet4!$D$2:$D$8408,Sheet3!AU$3,Sheet4!$E$2:$E$8408,Sheet3!AU$4,Sheet4!$A$2:$A$8408,Sheet3!$B$1,Sheet4!$B$2:$B$8408,Sheet3!$A$3)","v":0},{"$f":"+SUMIFS(Sheet4!$FV$2:$FV$8408,Sheet4!$C$2:$C$8408,Sheet3!$B30,Sheet4!$D$2:$D$8408,Sheet3!AV$3,Sheet4!$E$2:$E$8408,Sheet3!AV$4,Sheet4!$A$2:$A$8408,Sheet3!$B$1,Sheet4!$B$2:$B$8408,Sheet3!$A$3)","v":0},{"$f":"+SUMIFS(Sheet4!$FV$2:$FV$8408,Sheet4!$C$2:$C$8408,Sheet3!$B30,Sheet4!$D$2:$D$8408,Sheet3!AW$3,Sheet4!$E$2:$E$8408,Sheet3!AW$4,Sheet4!$A$2:$A$8408,Sheet3!$B$1,Sheet4!$B$2:$B$8408,Sheet3!$A$3)","v":1094},{"$f":"+SUMIFS(Sheet4!$FV$2:$FV$8408,Sheet4!$C$2:$C$8408,Sheet3!$B30,Sheet4!$D$2:$D$8408,Sheet3!AX$3,Sheet4!$E$2:$E$8408,Sheet3!AX$4,Sheet4!$A$2:$A$8408,Sheet3!$B$1,Sheet4!$B$2:$B$8408,Sheet3!$A$3)","v":1081},{"$f":"+SUMIFS(Sheet4!$FV$2:$FV$8408,Sheet4!$C$2:$C$8408,Sheet3!$B30,Sheet4!$D$2:$D$8408,Sheet3!AY$3,Sheet4!$E$2:$E$8408,Sheet3!AY$4,Sheet4!$A$2:$A$8408,Sheet3!$B$1,Sheet4!$B$2:$B$8408,Sheet3!$A$3)","v":123},{"$f":"+SUMIFS(Sheet4!$FV$2:$FV$8408,Sheet4!$C$2:$C$8408,Sheet3!$B30,Sheet4!$D$2:$D$8408,Sheet3!AZ$3,Sheet4!$E$2:$E$8408,Sheet3!AZ$4,Sheet4!$A$2:$A$8408,Sheet3!$B$1,Sheet4!$B$2:$B$8408,Sheet3!$A$3)","v":0},{"$f":"+SUMIFS(Sheet4!$FV$2:$FV$8408,Sheet4!$C$2:$C$8408,Sheet3!$B30,Sheet4!$D$2:$D$8408,Sheet3!BA$3,Sheet4!$E$2:$E$8408,Sheet3!BA$4,Sheet4!$A$2:$A$8408,Sheet3!$B$1,Sheet4!$B$2:$B$8408,Sheet3!$A$3)","v":0},{"$f":"+SUMIFS(Sheet4!$FV$2:$FV$8408,Sheet4!$C$2:$C$8408,Sheet3!$B30,Sheet4!$D$2:$D$8408,Sheet3!BB$3,Sheet4!$E$2:$E$8408,Sheet3!BB$4,Sheet4!$A$2:$A$8408,Sheet3!$B$1,Sheet4!$B$2:$B$8408,Sheet3!$A$3)","v":0},{"$f":"+SUMIFS(Sheet4!$FV$2:$FV$8408,Sheet4!$C$2:$C$8408,Sheet3!$B30,Sheet4!$D$2:$D$8408,Sheet3!BC$3,Sheet4!$E$2:$E$8408,Sheet3!BC$4,Sheet4!$A$2:$A$8408,Sheet3!$B$1,Sheet4!$B$2:$B$8408,Sheet3!$A$3)","v":0},{"$f":"+SUMIFS(Sheet4!$FV$2:$FV$8408,Sheet4!$C$2:$C$8408,Sheet3!$B30,Sheet4!$D$2:$D$8408,Sheet3!BD$3,Sheet4!$E$2:$E$8408,Sheet3!BD$4,Sheet4!$A$2:$A$8408,Sheet3!$B$1,Sheet4!$B$2:$B$8408,Sheet3!$A$3)","v":0},{"$f":"+SUMIFS(Sheet4!$FV$2:$FV$8408,Sheet4!$C$2:$C$8408,Sheet3!$B30,Sheet4!$D$2:$D$8408,Sheet3!BE$3,Sheet4!$E$2:$E$8408,Sheet3!BE$4,Sheet4!$A$2:$A$8408,Sheet3!$B$1,Sheet4!$B$2:$B$8408,Sheet3!$A$3)","v":0},{"$f":"+SUMIFS(Sheet4!$FV$2:$FV$8408,Sheet4!$C$2:$C$8408,Sheet3!$B30,Sheet4!$D$2:$D$8408,Sheet3!BF$3,Sheet4!$E$2:$E$8408,Sheet3!BF$4,Sheet4!$A$2:$A$8408,Sheet3!$B$1,Sheet4!$B$2:$B$8408,Sheet3!$A$3)","v":0},{"$f":"+SUMIFS(Sheet4!$FV$2:$FV$8408,Sheet4!$C$2:$C$8408,Sheet3!$B30,Sheet4!$D$2:$D$8408,Sheet3!BG$3,Sheet4!$E$2:$E$8408,Sheet3!BG$4,Sheet4!$A$2:$A$8408,Sheet3!$B$1,Sheet4!$B$2:$B$8408,Sheet3!$A$3)","v":5},{"$f":"+SUMIFS(Sheet4!$FV$2:$FV$8408,Sheet4!$C$2:$C$8408,Sheet3!$B30,Sheet4!$D$2:$D$8408,Sheet3!BH$3,Sheet4!$E$2:$E$8408,Sheet3!BH$4,Sheet4!$A$2:$A$8408,Sheet3!$B$1,Sheet4!$B$2:$B$8408,Sheet3!$A$3)","v":20},{"$f":"+SUMIFS(Sheet4!$FV$2:$FV$8408,Sheet4!$C$2:$C$8408,Sheet3!$B30,Sheet4!$D$2:$D$8408,Sheet3!BI$3,Sheet4!$E$2:$E$8408,Sheet3!BI$4,Sheet4!$A$2:$A$8408,Sheet3!$B$1,Sheet4!$B$2:$B$8408,Sheet3!$A$3)","v":15},{"$f":"+SUMIFS(Sheet4!$FV$2:$FV$8408,Sheet4!$C$2:$C$8408,Sheet3!$B30,Sheet4!$D$2:$D$8408,Sheet3!BJ$3,Sheet4!$E$2:$E$8408,Sheet3!BJ$4,Sheet4!$A$2:$A$8408,Sheet3!$B$1,Sheet4!$B$2:$B$8408,Sheet3!$A$3)","v":0},{"$f":"+SUMIFS(Sheet4!$FV$2:$FV$8408,Sheet4!$C$2:$C$8408,Sheet3!$B30,Sheet4!$D$2:$D$8408,Sheet3!BK$3,Sheet4!$E$2:$E$8408,Sheet3!BK$4,Sheet4!$A$2:$A$8408,Sheet3!$B$1,Sheet4!$B$2:$B$8408,Sheet3!$A$3)","v":0},{"$f":"+SUMIFS(Sheet4!$FV$2:$FV$8408,Sheet4!$C$2:$C$8408,Sheet3!$B30,Sheet4!$D$2:$D$8408,Sheet3!BL$3,Sheet4!$E$2:$E$8408,Sheet3!BL$4,Sheet4!$A$2:$A$8408,Sheet3!$B$1,Sheet4!$B$2:$B$8408,Sheet3!$A$3)","v":27},{"$f":"+SUMIFS(Sheet4!$FV$2:$FV$8408,Sheet4!$C$2:$C$8408,Sheet3!$B30,Sheet4!$D$2:$D$8408,Sheet3!BM$3,Sheet4!$E$2:$E$8408,Sheet3!BM$4,Sheet4!$A$2:$A$8408,Sheet3!$B$1,Sheet4!$B$2:$B$8408,Sheet3!$A$3)","v":8},{"$f":"+SUMIFS(Sheet4!$FV$2:$FV$8408,Sheet4!$C$2:$C$8408,Sheet3!$B30,Sheet4!$D$2:$D$8408,Sheet3!BN$3,Sheet4!$E$2:$E$8408,Sheet3!BN$4,Sheet4!$A$2:$A$8408,Sheet3!$B$1,Sheet4!$B$2:$B$8408,Sheet3!$A$3)","v":0},{"$f":"+SUMIFS(Sheet4!$FV$2:$FV$8408,Sheet4!$C$2:$C$8408,Sheet3!$B30,Sheet4!$D$2:$D$8408,Sheet3!BO$3,Sheet4!$E$2:$E$8408,Sheet3!BO$4,Sheet4!$A$2:$A$8408,Sheet3!$B$1,Sheet4!$B$2:$B$8408,Sheet3!$A$3)","v":0},{"$f":"+SUMIFS(Sheet4!$FV$2:$FV$8408,Sheet4!$C$2:$C$8408,Sheet3!$B30,Sheet4!$D$2:$D$8408,Sheet3!BP$3,Sheet4!$E$2:$E$8408,Sheet3!BP$4,Sheet4!$A$2:$A$8408,Sheet3!$B$1,Sheet4!$B$2:$B$8408,Sheet3!$A$3)","v":0},{"$f":"+SUMIFS(Sheet4!$FV$2:$FV$8408,Sheet4!$C$2:$C$8408,Sheet3!$B30,Sheet4!$D$2:$D$8408,Sheet3!BQ$3,Sheet4!$E$2:$E$8408,Sheet3!BQ$4,Sheet4!$A$2:$A$8408,Sheet3!$B$1,Sheet4!$B$2:$B$8408,Sheet3!$A$3)","v":0},{"$f":"+SUMIFS(Sheet4!$FV$2:$FV$8408,Sheet4!$C$2:$C$8408,Sheet3!$B30,Sheet4!$D$2:$D$8408,Sheet3!BR$3,Sheet4!$E$2:$E$8408,Sheet3!BR$4,Sheet4!$A$2:$A$8408,Sheet3!$B$1,Sheet4!$B$2:$B$8408,Sheet3!$A$3)","v":15},{"$f":"+SUMIFS(Sheet4!$FV$2:$FV$8408,Sheet4!$C$2:$C$8408,Sheet3!$B30,Sheet4!$D$2:$D$8408,Sheet3!BS$3,Sheet4!$E$2:$E$8408,Sheet3!BS$4,Sheet4!$A$2:$A$8408,Sheet3!$B$1,Sheet4!$B$2:$B$8408,Sheet3!$A$3)","v":21},{"$f":"+SUMIFS(Sheet4!$FV$2:$FV$8408,Sheet4!$C$2:$C$8408,Sheet3!$B30,Sheet4!$D$2:$D$8408,Sheet3!BT$3,Sheet4!$E$2:$E$8408,Sheet3!BT$4,Sheet4!$A$2:$A$8408,Sheet3!$B$1,Sheet4!$B$2:$B$8408,Sheet3!$A$3)","v":0},{"$f":"+SUMIFS(Sheet4!$FV$2:$FV$8408,Sheet4!$C$2:$C$8408,Sheet3!$B30,Sheet4!$D$2:$D$8408,Sheet3!BU$3,Sheet4!$E$2:$E$8408,Sheet3!BU$4,Sheet4!$A$2:$A$8408,Sheet3!$B$1,Sheet4!$B$2:$B$8408,Sheet3!$A$3)","v":0},{"$f":"+SUMIFS(Sheet4!$FV$2:$FV$8408,Sheet4!$C$2:$C$8408,Sheet3!$B30,Sheet4!$D$2:$D$8408,Sheet3!BV$3,Sheet4!$E$2:$E$8408,Sheet3!BV$4,Sheet4!$A$2:$A$8408,Sheet3!$B$1,Sheet4!$B$2:$B$8408,Sheet3!$A$3)","v":125},{"$f":"+SUMIFS(Sheet4!$FV$2:$FV$8408,Sheet4!$C$2:$C$8408,Sheet3!$B30,Sheet4!$D$2:$D$8408,Sheet3!BW$3,Sheet4!$E$2:$E$8408,Sheet3!BW$4,Sheet4!$A$2:$A$8408,Sheet3!$B$1,Sheet4!$B$2:$B$8408,Sheet3!$A$3)","v":80},{"$f":"+SUMIFS(Sheet4!$FV$2:$FV$8408,Sheet4!$C$2:$C$8408,Sheet3!$B30,Sheet4!$D$2:$D$8408,Sheet3!BX$3,Sheet4!$E$2:$E$8408,Sheet3!BX$4,Sheet4!$A$2:$A$8408,Sheet3!$B$1,Sheet4!$B$2:$B$8408,Sheet3!$A$3)","v":42},{"$f":"+SUMIFS(Sheet4!$FV$2:$FV$8408,Sheet4!$C$2:$C$8408,Sheet3!$B30,Sheet4!$D$2:$D$8408,Sheet3!BY$3,Sheet4!$E$2:$E$8408,Sheet3!BY$4,Sheet4!$A$2:$A$8408,Sheet3!$B$1,Sheet4!$B$2:$B$8408,Sheet3!$A$3)","v":0},{"$f":"+SUMIFS(Sheet4!$FV$2:$FV$8408,Sheet4!$C$2:$C$8408,Sheet3!$B30,Sheet4!$D$2:$D$8408,Sheet3!BZ$3,Sheet4!$E$2:$E$8408,Sheet3!BZ$4,Sheet4!$A$2:$A$8408,Sheet3!$B$1,Sheet4!$B$2:$B$8408,Sheet3!$A$3)","v":0},{"$f":"+SUMIFS(Sheet4!$FV$2:$FV$8408,Sheet4!$C$2:$C$8408,Sheet3!$B30,Sheet4!$D$2:$D$8408,Sheet3!CA$3,Sheet4!$E$2:$E$8408,Sheet3!CA$4,Sheet4!$A$2:$A$8408,Sheet3!$B$1,Sheet4!$B$2:$B$8408,Sheet3!$A$3)","v":51},{"$f":"+SUMIFS(Sheet4!$FV$2:$FV$8408,Sheet4!$C$2:$C$8408,Sheet3!$B30,Sheet4!$D$2:$D$8408,Sheet3!CB$3,Sheet4!$E$2:$E$8408,Sheet3!CB$4,Sheet4!$A$2:$A$8408,Sheet3!$B$1,Sheet4!$B$2:$B$8408,Sheet3!$A$3)","v":66},{"$f":"+SUMIFS(Sheet4!$FV$2:$FV$8408,Sheet4!$C$2:$C$8408,Sheet3!$B30,Sheet4!$D$2:$D$8408,Sheet3!CC$3,Sheet4!$E$2:$E$8408,Sheet3!CC$4,Sheet4!$A$2:$A$8408,Sheet3!$B$1,Sheet4!$B$2:$B$8408,Sheet3!$A$3)","v":38},{"$f":"+SUMIFS(Sheet4!$FV$2:$FV$8408,Sheet4!$C$2:$C$8408,Sheet3!$B30,Sheet4!$D$2:$D$8408,Sheet3!CD$3,Sheet4!$E$2:$E$8408,Sheet3!CD$4,Sheet4!$A$2:$A$8408,Sheet3!$B$1,Sheet4!$B$2:$B$8408,Sheet3!$A$3)","v":3},{"$f":"+SUMIFS(Sheet4!$FV$2:$FV$8408,Sheet4!$C$2:$C$8408,Sheet3!$B30,Sheet4!$D$2:$D$8408,Sheet3!CE$3,Sheet4!$E$2:$E$8408,Sheet3!CE$4,Sheet4!$A$2:$A$8408,Sheet3!$B$1,Sheet4!$B$2:$B$8408,Sheet3!$A$3)","v":0},{"$f":"+SUMIFS(Sheet4!$FV$2:$FV$8408,Sheet4!$C$2:$C$8408,Sheet3!$B30,Sheet4!$D$2:$D$8408,Sheet3!CF$3,Sheet4!$E$2:$E$8408,Sheet3!CF$4,Sheet4!$A$2:$A$8408,Sheet3!$B$1,Sheet4!$B$2:$B$8408,Sheet3!$A$3)","v":90},{"$f":"+SUMIFS(Sheet4!$FV$2:$FV$8408,Sheet4!$C$2:$C$8408,Sheet3!$B30,Sheet4!$D$2:$D$8408,Sheet3!CG$3,Sheet4!$E$2:$E$8408,Sheet3!CG$4,Sheet4!$A$2:$A$8408,Sheet3!$B$1,Sheet4!$B$2:$B$8408,Sheet3!$A$3)","v":86},{"$f":"+SUMIFS(Sheet4!$FV$2:$FV$8408,Sheet4!$C$2:$C$8408,Sheet3!$B30,Sheet4!$D$2:$D$8408,Sheet3!CH$3,Sheet4!$E$2:$E$8408,Sheet3!CH$4,Sheet4!$A$2:$A$8408,Sheet3!$B$1,Sheet4!$B$2:$B$8408,Sheet3!$A$3)","v":30},{"$f":"+SUMIFS(Sheet4!$FV$2:$FV$8408,Sheet4!$C$2:$C$8408,Sheet3!$B30,Sheet4!$D$2:$D$8408,Sheet3!CI$3,Sheet4!$E$2:$E$8408,Sheet3!CI$4,Sheet4!$A$2:$A$8408,Sheet3!$B$1,Sheet4!$B$2:$B$8408,Sheet3!$A$3)","v":0},{"$f":"+SUMIFS(Sheet4!$FV$2:$FV$8408,Sheet4!$C$2:$C$8408,Sheet3!$B30,Sheet4!$D$2:$D$8408,Sheet3!CJ$3,Sheet4!$E$2:$E$8408,Sheet3!CJ$4,Sheet4!$A$2:$A$8408,Sheet3!$B$1,Sheet4!$B$2:$B$8408,Sheet3!$A$3)","v":0},{"$f":"+SUMIFS(Sheet4!$FV$2:$FV$8408,Sheet4!$C$2:$C$8408,Sheet3!$B30,Sheet4!$D$2:$D$8408,Sheet3!CK$3,Sheet4!$E$2:$E$8408,Sheet3!CK$4,Sheet4!$A$2:$A$8408,Sheet3!$B$1,Sheet4!$B$2:$B$8408,Sheet3!$A$3)","v":0},{"$f":"+SUMIFS(Sheet4!$FV$2:$FV$8408,Sheet4!$C$2:$C$8408,Sheet3!$B30,Sheet4!$D$2:$D$8408,Sheet3!CL$3,Sheet4!$E$2:$E$8408,Sheet3!CL$4,Sheet4!$A$2:$A$8408,Sheet3!$B$1,Sheet4!$B$2:$B$8408,Sheet3!$A$3)","v":0},{"$f":"+SUMIFS(Sheet4!$FV$2:$FV$8408,Sheet4!$C$2:$C$8408,Sheet3!$B30,Sheet4!$D$2:$D$8408,Sheet3!CM$3,Sheet4!$E$2:$E$8408,Sheet3!CM$4,Sheet4!$A$2:$A$8408,Sheet3!$B$1,Sheet4!$B$2:$B$8408,Sheet3!$A$3)","v":0},{"$f":"+SUMIFS(Sheet4!$FV$2:$FV$8408,Sheet4!$C$2:$C$8408,Sheet3!$B30,Sheet4!$D$2:$D$8408,Sheet3!CN$3,Sheet4!$E$2:$E$8408,Sheet3!CN$4,Sheet4!$A$2:$A$8408,Sheet3!$B$1,Sheet4!$B$2:$B$8408,Sheet3!$A$3)","v":0},{"$f":"+SUMIFS(Sheet4!$FV$2:$FV$8408,Sheet4!$C$2:$C$8408,Sheet3!$B30,Sheet4!$D$2:$D$8408,Sheet3!CO$3,Sheet4!$E$2:$E$8408,Sheet3!CO$4,Sheet4!$A$2:$A$8408,Sheet3!$B$1,Sheet4!$B$2:$B$8408,Sheet3!$A$3)","v":0},{"$f":"+SUMIFS(Sheet4!$FV$2:$FV$8408,Sheet4!$C$2:$C$8408,Sheet3!$B30,Sheet4!$D$2:$D$8408,Sheet3!CP$3,Sheet4!$E$2:$E$8408,Sheet3!CP$4,Sheet4!$A$2:$A$8408,Sheet3!$B$1,Sheet4!$B$2:$B$8408,Sheet3!$A$3)","v":0},{"$f":"+SUMIFS(Sheet4!$FV$2:$FV$8408,Sheet4!$C$2:$C$8408,Sheet3!$B30,Sheet4!$D$2:$D$8408,Sheet3!CQ$3,Sheet4!$E$2:$E$8408,Sheet3!CQ$4,Sheet4!$A$2:$A$8408,Sheet3!$B$1,Sheet4!$B$2:$B$8408,Sheet3!$A$3)","v":0},{"$f":"+SUMIFS(Sheet4!$FV$2:$FV$8408,Sheet4!$C$2:$C$8408,Sheet3!$B30,Sheet4!$D$2:$D$8408,Sheet3!CR$3,Sheet4!$E$2:$E$8408,Sheet3!CR$4,Sheet4!$A$2:$A$8408,Sheet3!$B$1,Sheet4!$B$2:$B$8408,Sheet3!$A$3)","v":0},{"$f":"+SUMIFS(Sheet4!$FV$2:$FV$8408,Sheet4!$C$2:$C$8408,Sheet3!$B30,Sheet4!$D$2:$D$8408,Sheet3!CS$3,Sheet4!$E$2:$E$8408,Sheet3!CS$4,Sheet4!$A$2:$A$8408,Sheet3!$B$1,Sheet4!$B$2:$B$8408,Sheet3!$A$3)","v":0},{"$f":"+SUMIFS(Sheet4!$FV$2:$FV$8408,Sheet4!$C$2:$C$8408,Sheet3!$B30,Sheet4!$D$2:$D$8408,Sheet3!CT$3,Sheet4!$E$2:$E$8408,Sheet3!CT$4,Sheet4!$A$2:$A$8408,Sheet3!$B$1,Sheet4!$B$2:$B$8408,Sheet3!$A$3)","v":0},{"$f":"+IF(SUMIFS(Sheet4!$FW$2:$FW$8408,Sheet4!$C$2:$C$8408,Sheet3!$B30,Sheet4!$D$2:$D$8408,Sheet3!CU$3,Sheet4!$A$2:$A$8408,Sheet3!$B$1,Sheet4!$B$2:$B$8408,Sheet3!$A$3)<3,0,SUMIFS(Sheet4!$FW$2:$FW$8408,Sheet4!$C$2:$C$8408,Sheet3!$B30,Sheet4!$D$2:$D$8408,Sheet3!CU$3,Sheet4!$A$2:$A$8408,Sheet3!$B$1,Sheet4!$B$2:$B$8408,Sheet3!$A$3))","v":23},{"$f":"+IF(SUMIFS(Sheet4!$FW$2:$FW$8408,Sheet4!$C$2:$C$8408,Sheet3!$B30,Sheet4!$D$2:$D$8408,Sheet3!CV$3,Sheet4!$A$2:$A$8408,Sheet3!$B$1,Sheet4!$B$2:$B$8408,Sheet3!$A$3)<3,0,SUMIFS(Sheet4!$FW$2:$FW$8408,Sheet4!$C$2:$C$8408,Sheet3!$B30,Sheet4!$D$2:$D$8408,Sheet3!CV$3,Sheet4!$A$2:$A$8408,Sheet3!$B$1,Sheet4!$B$2:$B$8408,Sheet3!$A$3))","v":5},{"$f":"+IF(SUMIFS(Sheet4!$FW$2:$FW$8408,Sheet4!$C$2:$C$8408,Sheet3!$B30,Sheet4!$D$2:$D$8408,Sheet3!CW$3,Sheet4!$A$2:$A$8408,Sheet3!$B$1,Sheet4!$B$2:$B$8408,Sheet3!$A$3)<3,0,SUMIFS(Sheet4!$FW$2:$FW$8408,Sheet4!$C$2:$C$8408,Sheet3!$B30,Sheet4!$D$2:$D$8408,Sheet3!CW$3,Sheet4!$A$2:$A$8408,Sheet3!$B$1,Sheet4!$B$2:$B$8408,Sheet3!$A$3))","v":109},{"$f":"+IF(SUMIFS(Sheet4!$FW$2:$FW$8408,Sheet4!$C$2:$C$8408,Sheet3!$B30,Sheet4!$D$2:$D$8408,Sheet3!CX$3,Sheet4!$A$2:$A$8408,Sheet3!$B$1,Sheet4!$B$2:$B$8408,Sheet3!$A$3)<3,0,SUMIFS(Sheet4!$FW$2:$FW$8408,Sheet4!$C$2:$C$8408,Sheet3!$B30,Sheet4!$D$2:$D$8408,Sheet3!CX$3,Sheet4!$A$2:$A$8408,Sheet3!$B$1,Sheet4!$B$2:$B$8408,Sheet3!$A$3))","v":0},{"$f":"+IF(SUMIFS(Sheet4!$FW$2:$FW$8408,Sheet4!$C$2:$C$8408,Sheet3!$B30,Sheet4!$D$2:$D$8408,Sheet3!CY$3,Sheet4!$A$2:$A$8408,Sheet3!$B$1,Sheet4!$B$2:$B$8408,Sheet3!$A$3)<3,0,SUMIFS(Sheet4!$FW$2:$FW$8408,Sheet4!$C$2:$C$8408,Sheet3!$B30,Sheet4!$D$2:$D$8408,Sheet3!CY$3,Sheet4!$A$2:$A$8408,Sheet3!$B$1,Sheet4!$B$2:$B$8408,Sheet3!$A$3))","v":0},{"$f":"+IF(SUMIFS(Sheet4!$FW$2:$FW$8408,Sheet4!$C$2:$C$8408,Sheet3!$B30,Sheet4!$D$2:$D$8408,Sheet3!CZ$3,Sheet4!$A$2:$A$8408,Sheet3!$B$1,Sheet4!$B$2:$B$8408,Sheet3!$A$3)<3,0,SUMIFS(Sheet4!$FW$2:$FW$8408,Sheet4!$C$2:$C$8408,Sheet3!$B30,Sheet4!$D$2:$D$8408,Sheet3!CZ$3,Sheet4!$A$2:$A$8408,Sheet3!$B$1,Sheet4!$B$2:$B$8408,Sheet3!$A$3))","v":224},{"$f":"+IF(SUMIFS(Sheet4!$FW$2:$FW$8408,Sheet4!$C$2:$C$8408,Sheet3!$B30,Sheet4!$D$2:$D$8408,Sheet3!DA$3,Sheet4!$A$2:$A$8408,Sheet3!$B$1,Sheet4!$B$2:$B$8408,Sheet3!$A$3)<3,0,SUMIFS(Sheet4!$FW$2:$FW$8408,Sheet4!$C$2:$C$8408,Sheet3!$B30,Sheet4!$D$2:$D$8408,Sheet3!DA$3,Sheet4!$A$2:$A$8408,Sheet3!$B$1,Sheet4!$B$2:$B$8408,Sheet3!$A$3))","v":13},{"$f":"+IF(SUMIFS(Sheet4!$FW$2:$FW$8408,Sheet4!$C$2:$C$8408,Sheet3!$B30,Sheet4!$D$2:$D$8408,Sheet3!DB$3,Sheet4!$A$2:$A$8408,Sheet3!$B$1,Sheet4!$B$2:$B$8408,Sheet3!$A$3)<3,0,SUMIFS(Sheet4!$FW$2:$FW$8408,Sheet4!$C$2:$C$8408,Sheet3!$B30,Sheet4!$D$2:$D$8408,Sheet3!DB$3,Sheet4!$A$2:$A$8408,Sheet3!$B$1,Sheet4!$B$2:$B$8408,Sheet3!$A$3))","v":1670},{"$f":"+IF(SUMIFS(Sheet4!$FW$2:$FW$8408,Sheet4!$C$2:$C$8408,Sheet3!$B30,Sheet4!$D$2:$D$8408,Sheet3!DC$3,Sheet4!$A$2:$A$8408,Sheet3!$B$1,Sheet4!$B$2:$B$8408,Sheet3!$A$3)<3,0,SUMIFS(Sheet4!$FW$2:$FW$8408,Sheet4!$C$2:$C$8408,Sheet3!$B30,Sheet4!$D$2:$D$8408,Sheet3!DC$3,Sheet4!$A$2:$A$8408,Sheet3!$B$1,Sheet4!$B$2:$B$8408,Sheet3!$A$3))","v":21},{"$f":"+IF(SUMIFS(Sheet4!$FW$2:$FW$8408,Sheet4!$C$2:$C$8408,Sheet3!$B30,Sheet4!$D$2:$D$8408,Sheet3!DD$3,Sheet4!$A$2:$A$8408,Sheet3!$B$1,Sheet4!$B$2:$B$8408,Sheet3!$A$3)<3,0,SUMIFS(Sheet4!$FW$2:$FW$8408,Sheet4!$C$2:$C$8408,Sheet3!$B30,Sheet4!$D$2:$D$8408,Sheet3!DD$3,Sheet4!$A$2:$A$8408,Sheet3!$B$1,Sheet4!$B$2:$B$8408,Sheet3!$A$3))","v":2302},{"$f":"+IF(SUMIFS(Sheet4!$FW$2:$FW$8408,Sheet4!$C$2:$C$8408,Sheet3!$B30,Sheet4!$D$2:$D$8408,Sheet3!DE$3,Sheet4!$A$2:$A$8408,Sheet3!$B$1,Sheet4!$B$2:$B$8408,Sheet3!$A$3)<3,0,SUMIFS(Sheet4!$FW$2:$FW$8408,Sheet4!$C$2:$C$8408,Sheet3!$B30,Sheet4!$D$2:$D$8408,Sheet3!DE$3,Sheet4!$A$2:$A$8408,Sheet3!$B$1,Sheet4!$B$2:$B$8408,Sheet3!$A$3))","v":0},{"$f":"+IF(SUMIFS(Sheet4!$FW$2:$FW$8408,Sheet4!$C$2:$C$8408,Sheet3!$B30,Sheet4!$D$2:$D$8408,Sheet3!DF$3,Sheet4!$A$2:$A$8408,Sheet3!$B$1,Sheet4!$B$2:$B$8408,Sheet3!$A$3)<3,0,SUMIFS(Sheet4!$FW$2:$FW$8408,Sheet4!$C$2:$C$8408,Sheet3!$B30,Sheet4!$D$2:$D$8408,Sheet3!DF$3,Sheet4!$A$2:$A$8408,Sheet3!$B$1,Sheet4!$B$2:$B$8408,Sheet3!$A$3))","v":42},{"$f":"+IF(SUMIFS(Sheet4!$FW$2:$FW$8408,Sheet4!$C$2:$C$8408,Sheet3!$B30,Sheet4!$D$2:$D$8408,Sheet3!DG$3,Sheet4!$A$2:$A$8408,Sheet3!$B$1,Sheet4!$B$2:$B$8408,Sheet3!$A$3)<3,0,SUMIFS(Sheet4!$FW$2:$FW$8408,Sheet4!$C$2:$C$8408,Sheet3!$B30,Sheet4!$D$2:$D$8408,Sheet3!DG$3,Sheet4!$A$2:$A$8408,Sheet3!$B$1,Sheet4!$B$2:$B$8408,Sheet3!$A$3))","v":41},{"$f":"+IF(SUMIFS(Sheet4!$FW$2:$FW$8408,Sheet4!$C$2:$C$8408,Sheet3!$B30,Sheet4!$D$2:$D$8408,Sheet3!DH$3,Sheet4!$A$2:$A$8408,Sheet3!$B$1,Sheet4!$B$2:$B$8408,Sheet3!$A$3)<3,0,SUMIFS(Sheet4!$FW$2:$FW$8408,Sheet4!$C$2:$C$8408,Sheet3!$B30,Sheet4!$D$2:$D$8408,Sheet3!DH$3,Sheet4!$A$2:$A$8408,Sheet3!$B$1,Sheet4!$B$2:$B$8408,Sheet3!$A$3))","v":42},{"$f":"+IF(SUMIFS(Sheet4!$FW$2:$FW$8408,Sheet4!$C$2:$C$8408,Sheet3!$B30,Sheet4!$D$2:$D$8408,Sheet3!DI$3,Sheet4!$A$2:$A$8408,Sheet3!$B$1,Sheet4!$B$2:$B$8408,Sheet3!$A$3)<3,0,SUMIFS(Sheet4!$FW$2:$FW$8408,Sheet4!$C$2:$C$8408,Sheet3!$B30,Sheet4!$D$2:$D$8408,Sheet3!DI$3,Sheet4!$A$2:$A$8408,Sheet3!$B$1,Sheet4!$B$2:$B$8408,Sheet3!$A$3))","v":253},{"$f":"+IF(SUMIFS(Sheet4!$FW$2:$FW$8408,Sheet4!$C$2:$C$8408,Sheet3!$B30,Sheet4!$D$2:$D$8408,Sheet3!DJ$3,Sheet4!$A$2:$A$8408,Sheet3!$B$1,Sheet4!$B$2:$B$8408,Sheet3!$A$3)<3,0,SUMIFS(Sheet4!$FW$2:$FW$8408,Sheet4!$C$2:$C$8408,Sheet3!$B30,Sheet4!$D$2:$D$8408,Sheet3!DJ$3,Sheet4!$A$2:$A$8408,Sheet3!$B$1,Sheet4!$B$2:$B$8408,Sheet3!$A$3))","v":161},{"$f":"+IF(SUMIFS(Sheet4!$FW$2:$FW$8408,Sheet4!$C$2:$C$8408,Sheet3!$B30,Sheet4!$D$2:$D$8408,Sheet3!DK$3,Sheet4!$A$2:$A$8408,Sheet3!$B$1,Sheet4!$B$2:$B$8408,Sheet3!$A$3)<3,0,SUMIFS(Sheet4!$FW$2:$FW$8408,Sheet4!$C$2:$C$8408,Sheet3!$B30,Sheet4!$D$2:$D$8408,Sheet3!DK$3,Sheet4!$A$2:$A$8408,Sheet3!$B$1,Sheet4!$B$2:$B$8408,Sheet3!$A$3))","v":210},{"$f":"+IF(SUMIFS(Sheet4!$FW$2:$FW$8408,Sheet4!$C$2:$C$8408,Sheet3!$B30,Sheet4!$D$2:$D$8408,Sheet3!DL$3,Sheet4!$A$2:$A$8408,Sheet3!$B$1,Sheet4!$B$2:$B$8408,Sheet3!$A$3)<3,0,SUMIFS(Sheet4!$FW$2:$FW$8408,Sheet4!$C$2:$C$8408,Sheet3!$B30,Sheet4!$D$2:$D$8408,Sheet3!DL$3,Sheet4!$A$2:$A$8408,Sheet3!$B$1,Sheet4!$B$2:$B$8408,Sheet3!$A$3))","v":0},{"$f":"+IF(SUMIFS(Sheet4!$FW$2:$FW$8408,Sheet4!$C$2:$C$8408,Sheet3!$B30,Sheet4!$D$2:$D$8408,Sheet3!DM$3,Sheet4!$A$2:$A$8408,Sheet3!$B$1,Sheet4!$B$2:$B$8408,Sheet3!$A$3)<3,0,SUMIFS(Sheet4!$FW$2:$FW$8408,Sheet4!$C$2:$C$8408,Sheet3!$B30,Sheet4!$D$2:$D$8408,Sheet3!DM$3,Sheet4!$A$2:$A$8408,Sheet3!$B$1,Sheet4!$B$2:$B$8408,Sheet3!$A$3))","v":0},{"$f":"+IF(SUMIFS(Sheet4!$FW$2:$FW$8408,Sheet4!$C$2:$C$8408,Sheet3!$B30,Sheet4!$E$2:$E$8408,Sheet3!DN$4,Sheet4!$A$2:$A$8408,Sheet3!$B$1,Sheet4!$B$2:$B$8408,Sheet3!$A$3)<3,0,SUMIFS(Sheet4!$FW$2:$FW$8408,Sheet4!$C$2:$C$8408,Sheet3!$B30,Sheet4!$E$2:$E$8408,Sheet3!DN$4,Sheet4!$A$2:$A$8408,Sheet3!$B$1,Sheet4!$B$2:$B$8408,Sheet3!$A$3))","v":2138},{"$f":"+IF(SUMIFS(Sheet4!$FW$2:$FW$8408,Sheet4!$C$2:$C$8408,Sheet3!$B30,Sheet4!$E$2:$E$8408,Sheet3!DO$4,Sheet4!$A$2:$A$8408,Sheet3!$B$1,Sheet4!$B$2:$B$8408,Sheet3!$A$3)<3,0,SUMIFS(Sheet4!$FW$2:$FW$8408,Sheet4!$C$2:$C$8408,Sheet3!$B30,Sheet4!$E$2:$E$8408,Sheet3!DO$4,Sheet4!$A$2:$A$8408,Sheet3!$B$1,Sheet4!$B$2:$B$8408,Sheet3!$A$3))","v":2365},{"$f":"+IF(SUMIFS(Sheet4!$FW$2:$FW$8408,Sheet4!$C$2:$C$8408,Sheet3!$B30,Sheet4!$E$2:$E$8408,Sheet3!DP$4,Sheet4!$A$2:$A$8408,Sheet3!$B$1,Sheet4!$B$2:$B$8408,Sheet3!$A$3)<3,0,SUMIFS(Sheet4!$FW$2:$FW$8408,Sheet4!$C$2:$C$8408,Sheet3!$B30,Sheet4!$E$2:$E$8408,Sheet3!DP$4,Sheet4!$A$2:$A$8408,Sheet3!$B$1,Sheet4!$B$2:$B$8408,Sheet3!$A$3))","v":600},{"$f":"+IF(SUMIFS(Sheet4!$FW$2:$FW$8408,Sheet4!$C$2:$C$8408,Sheet3!$B30,Sheet4!$E$2:$E$8408,Sheet3!DQ$4,Sheet4!$A$2:$A$8408,Sheet3!$B$1,Sheet4!$B$2:$B$8408,Sheet3!$A$3)<3,0,SUMIFS(Sheet4!$FW$2:$FW$8408,Sheet4!$C$2:$C$8408,Sheet3!$B30,Sheet4!$E$2:$E$8408,Sheet3!DQ$4,Sheet4!$A$2:$A$8408,Sheet3!$B$1,Sheet4!$B$2:$B$8408,Sheet3!$A$3))","v":18},{"$f":"+IF(SUMIFS(Sheet4!$FW$2:$FW$8408,Sheet4!$C$2:$C$8408,Sheet3!$B30,Sheet4!$E$2:$E$8408,Sheet3!DR$4,Sheet4!$A$2:$A$8408,Sheet3!$B$1,Sheet4!$B$2:$B$8408,Sheet3!$A$3)<3,0,SUMIFS(Sheet4!$FW$2:$FW$8408,Sheet4!$C$2:$C$8408,Sheet3!$B30,Sheet4!$E$2:$E$8408,Sheet3!DR$4,Sheet4!$A$2:$A$8408,Sheet3!$B$1,Sheet4!$B$2:$B$8408,Sheet3!$A$3))","v":0}]
["Continente",">999",null,{"$f":"+SUMIFS(Sheet4!$FW$2:$FW$8408,Sheet4!$D$2:$D$8408,Sheet3!D$3,Sheet4!$E$2:$E$8408,Sheet3!D$4,Sheet4!$A$2:$A$8408,Sheet3!$B$1,Sheet4!$B$2:$B$8408,Sheet3!$A$3)","v":565},{"$f":"+SUMIFS(Sheet4!$FW$2:$FW$8408,Sheet4!$D$2:$D$8408,Sheet3!E$3,Sheet4!$E$2:$E$8408,Sheet3!E$4,Sheet4!$A$2:$A$8408,Sheet3!$B$1,Sheet4!$B$2:$B$8408,Sheet3!$A$3)","v":125},{"$f":"+SUMIFS(Sheet4!$FW$2:$FW$8408,Sheet4!$D$2:$D$8408,Sheet3!F$3,Sheet4!$E$2:$E$8408,Sheet3!F$4,Sheet4!$A$2:$A$8408,Sheet3!$B$1,Sheet4!$B$2:$B$8408,Sheet3!$A$3)","v":54},{"$f":"+SUMIFS(Sheet4!$FW$2:$FW$8408,Sheet4!$D$2:$D$8408,Sheet3!G$3,Sheet4!$E$2:$E$8408,Sheet3!G$4,Sheet4!$A$2:$A$8408,Sheet3!$B$1,Sheet4!$B$2:$B$8408,Sheet3!$A$3)","v":13},{"$f":"+SUMIFS(Sheet4!$FW$2:$FW$8408,Sheet4!$D$2:$D$8408,Sheet3!H$3,Sheet4!$E$2:$E$8408,Sheet3!H$4,Sheet4!$A$2:$A$8408,Sheet3!$B$1,Sheet4!$B$2:$B$8408,Sheet3!$A$3)","v":3},{"$f":"+SUMIFS(Sheet4!$FW$2:$FW$8408,Sheet4!$D$2:$D$8408,Sheet3!I$3,Sheet4!$E$2:$E$8408,Sheet3!I$4,Sheet4!$A$2:$A$8408,Sheet3!$B$1,Sheet4!$B$2:$B$8408,Sheet3!$A$3)","v":4699},{"$f":"+SUMIFS(Sheet4!$FW$2:$FW$8408,Sheet4!$D$2:$D$8408,Sheet3!J$3,Sheet4!$E$2:$E$8408,Sheet3!J$4,Sheet4!$A$2:$A$8408,Sheet3!$B$1,Sheet4!$B$2:$B$8408,Sheet3!$A$3)","v":633},{"$f":"+SUMIFS(Sheet4!$FW$2:$FW$8408,Sheet4!$D$2:$D$8408,Sheet3!K$3,Sheet4!$E$2:$E$8408,Sheet3!K$4,Sheet4!$A$2:$A$8408,Sheet3!$B$1,Sheet4!$B$2:$B$8408,Sheet3!$A$3)","v":338},{"$f":"+SUMIFS(Sheet4!$FW$2:$FW$8408,Sheet4!$D$2:$D$8408,Sheet3!L$3,Sheet4!$E$2:$E$8408,Sheet3!L$4,Sheet4!$A$2:$A$8408,Sheet3!$B$1,Sheet4!$B$2:$B$8408,Sheet3!$A$3)","v":41},{"$f":"+SUMIFS(Sheet4!$FW$2:$FW$8408,Sheet4!$D$2:$D$8408,Sheet3!M$3,Sheet4!$E$2:$E$8408,Sheet3!M$4,Sheet4!$A$2:$A$8408,Sheet3!$B$1,Sheet4!$B$2:$B$8408,Sheet3!$A$3)","v":0},{"$f":"+SUMIFS(Sheet4!$FW$2:$FW$8408,Sheet4!$D$2:$D$8408,Sheet3!N$3,Sheet4!$E$2:$E$8408,Sheet3!N$4,Sheet4!$A$2:$A$8408,Sheet3!$B$1,Sheet4!$B$2:$B$8408,Sheet3!$A$3)","v":3887},{"$f":"+SUMIFS(Sheet4!$FW$2:$FW$8408,Sheet4!$D$2:$D$8408,Sheet3!O$3,Sheet4!$E$2:$E$8408,Sheet3!O$4,Sheet4!$A$2:$A$8408,Sheet3!$B$1,Sheet4!$B$2:$B$8408,Sheet3!$A$3)","v":1462},{"$f":"+SUMIFS(Sheet4!$FW$2:$FW$8408,Sheet4!$D$2:$D$8408,Sheet3!P$3,Sheet4!$E$2:$E$8408,Sheet3!P$4,Sheet4!$A$2:$A$8408,Sheet3!$B$1,Sheet4!$B$2:$B$8408,Sheet3!$A$3)","v":490},{"$f":"+SUMIFS(Sheet4!$FW$2:$FW$8408,Sheet4!$D$2:$D$8408,Sheet3!Q$3,Sheet4!$E$2:$E$8408,Sheet3!Q$4,Sheet4!$A$2:$A$8408,Sheet3!$B$1,Sheet4!$B$2:$B$8408,Sheet3!$A$3)","v":61},{"$f":"+SUMIFS(Sheet4!$FW$2:$FW$8408,Sheet4!$D$2:$D$8408,Sheet3!R$3,Sheet4!$E$2:$E$8408,Sheet3!R$4,Sheet4!$A$2:$A$8408,Sheet3!$B$1,Sheet4!$B$2:$B$8408,Sheet3!$A$3)","v":2},{"$f":"+SUMIFS(Sheet4!$FW$2:$FW$8408,Sheet4!$D$2:$D$8408,Sheet3!S$3,Sheet4!$E$2:$E$8408,Sheet3!S$4,Sheet4!$A$2:$A$8408,Sheet3!$B$1,Sheet4!$B$2:$B$8408,Sheet3!$A$3)","v":138},{"$f":"+SUMIFS(Sheet4!$FW$2:$FW$8408,Sheet4!$D$2:$D$8408,Sheet3!T$3,Sheet4!$E$2:$E$8408,Sheet3!T$4,Sheet4!$A$2:$A$8408,Sheet3!$B$1,Sheet4!$B$2:$B$8408,Sheet3!$A$3)","v":204},{"$f":"+SUMIFS(Sheet4!$FW$2:$FW$8408,Sheet4!$D$2:$D$8408,Sheet3!U$3,Sheet4!$E$2:$E$8408,Sheet3!U$4,Sheet4!$A$2:$A$8408,Sheet3!$B$1,Sheet4!$B$2:$B$8408,Sheet3!$A$3)","v":247},{"$f":"+SUMIFS(Sheet4!$FW$2:$FW$8408,Sheet4!$D$2:$D$8408,Sheet3!V$3,Sheet4!$E$2:$E$8408,Sheet3!V$4,Sheet4!$A$2:$A$8408,Sheet3!$B$1,Sheet4!$B$2:$B$8408,Sheet3!$A$3)","v":13},{"$f":"+SUMIFS(Sheet4!$FW$2:$FW$8408,Sheet4!$D$2:$D$8408,Sheet3!W$3,Sheet4!$E$2:$E$8408,Sheet3!W$4,Sheet4!$A$2:$A$8408,Sheet3!$B$1,Sheet4!$B$2:$B$8408,Sheet3!$A$3)","v":1},{"$f":"+SUMIFS(Sheet4!$FW$2:$FW$8408,Sheet4!$D$2:$D$8408,Sheet3!X$3,Sheet4!$E$2:$E$8408,Sheet3!X$4,Sheet4!$A$2:$A$8408,Sheet3!$B$1,Sheet4!$B$2:$B$8408,Sheet3!$A$3)","v":50},{"$f":"+SUMIFS(Sheet4!$FW$2:$FW$8408,Sheet4!$D$2:$D$8408,Sheet3!Y$3,Sheet4!$E$2:$E$8408,Sheet3!Y$4,Sheet4!$A$2:$A$8408,Sheet3!$B$1,Sheet4!$B$2:$B$8408,Sheet3!$A$3)","v":75},{"$f":"+SUMIFS(Sheet4!$FW$2:$FW$8408,Sheet4!$D$2:$D$8408,Sheet3!Z$3,Sheet4!$E$2:$E$8408,Sheet3!Z$4,Sheet4!$A$2:$A$8408,Sheet3!$B$1,Sheet4!$B$2:$B$8408,Sheet3!$A$3)","v":125},{"$f":"+SUMIFS(Sheet4!$FW$2:$FW$8408,Sheet4!$D$2:$D$8408,Sheet3!AA$3,Sheet4!$E$2:$E$8408,Sheet3!AA$4,Sheet4!$A$2:$A$8408,Sheet3!$B$1,Sheet4!$B$2:$B$8408,Sheet3!$A$3)","v":18},{"$f":"+SUMIFS(Sheet4!$FW$2:$FW$8408,Sheet4!$D$2:$D$8408,Sheet3!AB$3,Sheet4!$E$2:$E$8408,Sheet3!AB$4,Sheet4!$A$2:$A$8408,Sheet3!$B$1,Sheet4!$B$2:$B$8408,Sheet3!$A$3)","v":0},{"$f":"+SUMIFS(Sheet4!$FW$2:$FW$8408,Sheet4!$D$2:$D$8408,Sheet3!AC$3,Sheet4!$E$2:$E$8408,Sheet3!AC$4,Sheet4!$A$2:$A$8408,Sheet3!$B$1,Sheet4!$B$2:$B$8408,Sheet3!$A$3)","v":12514},{"$f":"+SUMIFS(Sheet4!$FW$2:$FW$8408,Sheet4!$D$2:$D$8408,Sheet3!AD$3,Sheet4!$E$2:$E$8408,Sheet3!AD$4,Sheet4!$A$2:$A$8408,Sheet3!$B$1,Sheet4!$B$2:$B$8408,Sheet3!$A$3)","v":2583},{"$f":"+SUMIFS(Sheet4!$FW$2:$FW$8408,Sheet4!$D$2:$D$8408,Sheet3!AE$3,Sheet4!$E$2:$E$8408,Sheet3!AE$4,Sheet4!$A$2:$A$8408,Sheet3!$B$1,Sheet4!$B$2:$B$8408,Sheet3!$A$3)","v":407},{"$f":"+SUMIFS(Sheet4!$FW$2:$FW$8408,Sheet4!$D$2:$D$8408,Sheet3!AF$3,Sheet4!$E$2:$E$8408,Sheet3!AF$4,Sheet4!$A$2:$A$8408,Sheet3!$B$1,Sheet4!$B$2:$B$8408,Sheet3!$A$3)","v":37},{"$f":"+SUMIFS(Sheet4!$FW$2:$FW$8408,Sheet4!$D$2:$D$8408,Sheet3!AG$3,Sheet4!$E$2:$E$8408,Sheet3!AG$4,Sheet4!$A$2:$A$8408,Sheet3!$B$1,Sheet4!$B$2:$B$8408,Sheet3!$A$3)","v":0},{"$f":"+SUMIFS(Sheet4!$FW$2:$FW$8408,Sheet4!$D$2:$D$8408,Sheet3!AH$3,Sheet4!$E$2:$E$8408,Sheet3!AH$4,Sheet4!$A$2:$A$8408,Sheet3!$B$1,Sheet4!$B$2:$B$8408,Sheet3!$A$3)","v":7047},{"$f":"+SUMIFS(Sheet4!$FW$2:$FW$8408,Sheet4!$D$2:$D$8408,Sheet3!AI$3,Sheet4!$E$2:$E$8408,Sheet3!AI$4,Sheet4!$A$2:$A$8408,Sheet3!$B$1,Sheet4!$B$2:$B$8408,Sheet3!$A$3)","v":3450},{"$f":"+SUMIFS(Sheet4!$FW$2:$FW$8408,Sheet4!$D$2:$D$8408,Sheet3!AJ$3,Sheet4!$E$2:$E$8408,Sheet3!AJ$4,Sheet4!$A$2:$A$8408,Sheet3!$B$1,Sheet4!$B$2:$B$8408,Sheet3!$A$3)","v":773},{"$f":"+SUMIFS(Sheet4!$FW$2:$FW$8408,Sheet4!$D$2:$D$8408,Sheet3!AK$3,Sheet4!$E$2:$E$8408,Sheet3!AK$4,Sheet4!$A$2:$A$8408,Sheet3!$B$1,Sheet4!$B$2:$B$8408,Sheet3!$A$3)","v":34},{"$f":"+SUMIFS(Sheet4!$FW$2:$FW$8408,Sheet4!$D$2:$D$8408,Sheet3!AL$3,Sheet4!$E$2:$E$8408,Sheet3!AL$4,Sheet4!$A$2:$A$8408,Sheet3!$B$1,Sheet4!$B$2:$B$8408,Sheet3!$A$3)","v":2},{"$f":"+SUMIFS(Sheet4!$FW$2:$FW$8408,Sheet4!$D$2:$D$8408,Sheet3!AM$3,Sheet4!$E$2:$E$8408,Sheet3!AM$4,Sheet4!$A$2:$A$8408,Sheet3!$B$1,Sheet4!$B$2:$B$8408,Sheet3!$A$3)","v":7922},{"$f":"+SUMIFS(Sheet4!$FW$2:$FW$8408,Sheet4!$D$2:$D$8408,Sheet3!AN$3,Sheet4!$E$2:$E$8408,Sheet3!AN$4,Sheet4!$A$2:$A$8408,Sheet3!$B$1,Sheet4!$B$2:$B$8408,Sheet3!$A$3)","v":5197},{"$f":"+SUMIFS(Sheet4!$FW$2:$FW$8408,Sheet4!$D$2:$D$8408,Sheet3!AO$3,Sheet4!$E$2:$E$8408,Sheet3!AO$4,Sheet4!$A$2:$A$8408,Sheet3!$B$1,Sheet4!$B$2:$B$8408,Sheet3!$A$3)","v":1487},{"$f":"+SUMIFS(Sheet4!$FW$2:$FW$8408,Sheet4!$D$2:$D$8408,Sheet3!AP$3,Sheet4!$E$2:$E$8408,Sheet3!AP$4,Sheet4!$A$2:$A$8408,Sheet3!$B$1,Sheet4!$B$2:$B$8408,Sheet3!$A$3)","v":192},{"$f":"+SUMIFS(Sheet4!$FW$2:$FW$8408,Sheet4!$D$2:$D$8408,Sheet3!AQ$3,Sheet4!$E$2:$E$8408,Sheet3!AQ$4,Sheet4!$A$2:$A$8408,Sheet3!$B$1,Sheet4!$B$2:$B$8408,Sheet3!$A$3)","v":13},{"$f":"+SUMIFS(Sheet4!$FW$2:$FW$8408,Sheet4!$D$2:$D$8408,Sheet3!AR$3,Sheet4!$E$2:$E$8408,Sheet3!AR$4,Sheet4!$A$2:$A$8408,Sheet3!$B$1,Sheet4!$B$2:$B$8408,Sheet3!$A$3)","v":7430},{"$f":"+SUMIFS(Sheet4!$FW$2:$FW$8408,Sheet4!$D$2:$D$8408,Sheet3!AS$3,Sheet4!$E$2:$E$8408,Sheet3!AS$4,Sheet4!$A$2:$A$8408,Sheet3!$B$1,Sheet4!$B$2:$B$8408,Sheet3!$A$3)","v":2077},{"$f":"+SUMIFS(Sheet4!$FW$2:$FW$8408,Sheet4!$D$2:$D$8408,Sheet3!AT$3,Sheet4!$E$2:$E$8408,Sheet3!AT$4,Sheet4!$A$2:$A$8408,Sheet3!$B$1,Sheet4!$B$2:$B$8408,Sheet3!$A$3)","v":868},{"$f":"+SUMIFS(Sheet4!$FW$2:$FW$8408,Sheet4!$D$2:$D$8408,Sheet3!AU$3,Sheet4!$E$2:$E$8408,Sheet3!AU$4,Sheet4!$A$2:$A$8408,Sheet3!$B$1,Sheet4!$B$2:$B$8408,Sheet3!$A$3)","v":140},{"$f":"+SUMIFS(Sheet4!$FW$2:$FW$8408,Sheet4!$D$2:$D$8408,Sheet3!AV$3,Sheet4!$E$2:$E$8408,Sheet3!AV$4,Sheet4!$A$2:$A$8408,Sheet3!$B$1,Sheet4!$B$2:$B$8408,Sheet3!$A$3)","v":6},{"$f":"+SUMIFS(Sheet4!$FW$2:$FW$8408,Sheet4!$D$2:$D$8408,Sheet3!AW$3,Sheet4!$E$2:$E$8408,Sheet3!AW$4,Sheet4!$A$2:$A$8408,Sheet3!$B$1,Sheet4!$B$2:$B$8408,Sheet3!$A$3)","v":38745},{"$f":"+SUMIFS(Sheet4!$FW$2:$FW$8408,Sheet4!$D$2:$D$8408,Sheet3!AX$3,Sheet4!$E$2:$E$8408,Sheet3!AX$4,Sheet4!$A$2:$A$8408,Sheet3!$B$1,Sheet4!$B$2:$B$8408,Sheet3!$A$3)","v":12573},{"$f":"+SUMIFS(Sheet4!$FW$2:$FW$8408,Sheet4!$D$2:$D$8408,Sheet3!AY$3,Sheet4!$E$2:$E$8408,Sheet3!AY$4,Sheet4!$A$2:$A$8408,Sheet3!$B$1,Sheet4!$B$2:$B$8408,Sheet3!$A$3)","v":1868},{"$f":"+SUMIFS(Sheet4!$FW$2:$FW$8408,Sheet4!$D$2:$D$8408,Sheet3!AZ$3,Sheet4!$E$2:$E$8408,Sheet3!AZ$4,Sheet4!$A$2:$A$8408,Sheet3!$B$1,Sheet4!$B$2:$B$8408,Sheet3!$A$3)","v":239},{"$f":"+SUMIFS(Sheet4!$FW$2:$FW$8408,Sheet4!$D$2:$D$8408,Sheet3!BA$3,Sheet4!$E$2:$E$8408,Sheet3!BA$4,Sheet4!$A$2:$A$8408,Sheet3!$B$1,Sheet4!$B$2:$B$8408,Sheet3!$A$3)","v":18},{"$f":"+SUMIFS(Sheet4!$FW$2:$FW$8408,Sheet4!$D$2:$D$8408,Sheet3!BB$3,Sheet4!$E$2:$E$8408,Sheet3!BB$4,Sheet4!$A$2:$A$8408,Sheet3!$B$1,Sheet4!$B$2:$B$8408,Sheet3!$A$3)","v":384},{"$f":"+SUMIFS(Sheet4!$FW$2:$FW$8408,Sheet4!$D$2:$D$8408,Sheet3!BC$3,Sheet4!$E$2:$E$8408,Sheet3!BC$4,Sheet4!$A$2:$A$8408,Sheet3!$B$1,Sheet4!$B$2:$B$8408,Sheet3!$A$3)","v":1131},{"$f":"+SUMIFS(Sheet4!$FW$2:$FW$8408,Sheet4!$D$2:$D$8408,Sheet3!BD$3,Sheet4!$E$2:$E$8408,Sheet3!BD$4,Sheet4!$A$2:$A$8408,Sheet3!$B$1,Sheet4!$B$2:$B$8408,Sheet3!$A$3)","v":179},{"$f":"+SUMIFS(Sheet4!$FW$2:$FW$8408,Sheet4!$D$2:$D$8408,Sheet3!BE$3,Sheet4!$E$2:$E$8408,Sheet3!BE$4,Sheet4!$A$2:$A$8408,Sheet3!$B$1,Sheet4!$B$2:$B$8408,Sheet3!$A$3)","v":17},{"$f":"+SUMIFS(Sheet4!$FW$2:$FW$8408,Sheet4!$D$2:$D$8408,Sheet3!BF$3,Sheet4!$E$2:$E$8408,Sheet3!BF$4,Sheet4!$A$2:$A$8408,Sheet3!$B$1,Sheet4!$B$2:$B$8408,Sheet3!$A$3)","v":0},{"$f":"+SUMIFS(Sheet4!$FW$2:$FW$8408,Sheet4!$D$2:$D$8408,Sheet3!BG$3,Sheet4!$E$2:$E$8408,Sheet3!BG$4,Sheet4!$A$2:$A$8408,Sheet3!$B$1,Sheet4!$B$2:$B$8408,Sheet3!$A$3)","v":1396},{"$f":"+SUMIFS(Sheet4!$FW$2:$FW$8408,Sheet4!$D$2:$D$8408,Sheet3!BH$3,Sheet4!$E$2:$E$8408,Sheet3!BH$4,Sheet4!$A$2:$A$8408,Sheet3!$B$1,Sheet4!$B$2:$B$8408,Sheet3!$A$3)","v":1178},{"$f":"+SUMIFS(Sheet4!$FW$2:$FW$8408,Sheet4!$D$2:$D$8408,Sheet3!BI$3,Sheet4!$E$2:$E$8408,Sheet3!BI$4,Sheet4!$A$2:$A$8408,Sheet3!$B$1,Sheet4!$B$2:$B$8408,Sheet3!$A$3)","v":654},{"$f":"+SUMIFS(Sheet4!$FW$2:$FW$8408,Sheet4!$D$2:$D$8408,Sheet3!BJ$3,Sheet4!$E$2:$E$8408,Sheet3!BJ$4,Sheet4!$A$2:$A$8408,Sheet3!$B$1,Sheet4!$B$2:$B$8408,Sheet3!$A$3)","v":98},{"$f":"+SUMIFS(Sheet4!$FW$2:$FW$8408,Sheet4!$D$2:$D$8408,Sheet3!BK$3,Sheet4!$E$2:$E$8408,Sheet3!BK$4,Sheet4!$A$2:$A$8408,Sheet3!$B$1,Sheet4!$B$2:$B$8408,Sheet3!$A$3)","v":2},{"$f":"+SUMIFS(Sheet4!$FW$2:$FW$8408,Sheet4!$D$2:$D$8408,Sheet3!BL$3,Sheet4!$E$2:$E$8408,Sheet3!BL$4,Sheet4!$A$2:$A$8408,Sheet3!$B$1,Sheet4!$B$2:$B$8408,Sheet3!$A$3)","v":1983},{"$f":"+SUMIFS(Sheet4!$FW$2:$FW$8408,Sheet4!$D$2:$D$8408,Sheet3!BM$3,Sheet4!$E$2:$E$8408,Sheet3!BM$4,Sheet4!$A$2:$A$8408,Sheet3!$B$1,Sheet4!$B$2:$B$8408,Sheet3!$A$3)","v":496},{"$f":"+SUMIFS(Sheet4!$FW$2:$FW$8408,Sheet4!$D$2:$D$8408,Sheet3!BN$3,Sheet4!$E$2:$E$8408,Sheet3!BN$4,Sheet4!$A$2:$A$8408,Sheet3!$B$1,Sheet4!$B$2:$B$8408,Sheet3!$A$3)","v":71},{"$f":"+SUMIFS(Sheet4!$FW$2:$FW$8408,Sheet4!$D$2:$D$8408,Sheet3!BO$3,Sheet4!$E$2:$E$8408,Sheet3!BO$4,Sheet4!$A$2:$A$8408,Sheet3!$B$1,Sheet4!$B$2:$B$8408,Sheet3!$A$3)","v":10},{"$f":"+SUMIFS(Sheet4!$FW$2:$FW$8408,Sheet4!$D$2:$D$8408,Sheet3!BP$3,Sheet4!$E$2:$E$8408,Sheet3!BP$4,Sheet4!$A$2:$A$8408,Sheet3!$B$1,Sheet4!$B$2:$B$8408,Sheet3!$A$3)","v":0},{"$f":"+SUMIFS(Sheet4!$FW$2:$FW$8408,Sheet4!$D$2:$D$8408,Sheet3!BQ$3,Sheet4!$E$2:$E$8408,Sheet3!BQ$4,Sheet4!$A$2:$A$8408,Sheet3!$B$1,Sheet4!$B$2:$B$8408,Sheet3!$A$3)","v":1395},{"$f":"+SUMIFS(Sheet4!$FW$2:$FW$8408,Sheet4!$D$2:$D$8408,Sheet3!BR$3,Sheet4!$E$2:$E$8408,Sheet3!BR$4,Sheet4!$A$2:$A$8408,Sheet3!$B$1,Sheet4!$B$2:$B$8408,Sheet3!$A$3)","v":2232},{"$f":"+SUMIFS(Sheet4!$FW$2:$FW$8408,Sheet4!$D$2:$D$8408,Sheet3!BS$3,Sheet4!$E$2:$E$8408,Sheet3!BS$4,Sheet4!$A$2:$A$8408,Sheet3!$B$1,Sheet4!$B$2:$B$8408,Sheet3!$A$3)","v":1956},{"$f":"+SUMIFS(Sheet4!$FW$2:$FW$8408,Sheet4!$D$2:$D$8408,Sheet3!BT$3,Sheet4!$E$2:$E$8408,Sheet3!BT$4,Sheet4!$A$2:$A$8408,Sheet3!$B$1,Sheet4!$B$2:$B$8408,Sheet3!$A$3)","v":1103},{"$f":"+SUMIFS(Sheet4!$FW$2:$FW$8408,Sheet4!$D$2:$D$8408,Sheet3!BU$3,Sheet4!$E$2:$E$8408,Sheet3!BU$4,Sheet4!$A$2:$A$8408,Sheet3!$B$1,Sheet4!$B$2:$B$8408,Sheet3!$A$3)","v":57},{"$f":"+SUMIFS(Sheet4!$FW$2:$FW$8408,Sheet4!$D$2:$D$8408,Sheet3!BV$3,Sheet4!$E$2:$E$8408,Sheet3!BV$4,Sheet4!$A$2:$A$8408,Sheet3!$B$1,Sheet4!$B$2:$B$8408,Sheet3!$A$3)","v":9678},{"$f":"+SUMIFS(Sheet4!$FW$2:$FW$8408,Sheet4!$D$2:$D$8408,Sheet3!BW$3,Sheet4!$E$2:$E$8408,Sheet3!BW$4,Sheet4!$A$2:$A$8408,Sheet3!$B$1,Sheet4!$B$2:$B$8408,Sheet3!$A$3)","v":5075},{"$f":"+SUMIFS(Sheet4!$FW$2:$FW$8408,Sheet4!$D$2:$D$8408,Sheet3!BX$3,Sheet4!$E$2:$E$8408,Sheet3!BX$4,Sheet4!$A$2:$A$8408,Sheet3!$B$1,Sheet4!$B$2:$B$8408,Sheet3!$A$3)","v":2394},{"$f":"+SUMIFS(Sheet4!$FW$2:$FW$8408,Sheet4!$D$2:$D$8408,Sheet3!BY$3,Sheet4!$E$2:$E$8408,Sheet3!BY$4,Sheet4!$A$2:$A$8408,Sheet3!$B$1,Sheet4!$B$2:$B$8408,Sheet3!$A$3)","v":425},{"$f":"+SUMIFS(Sheet4!$FW$2:$FW$8408,Sheet4!$D$2:$D$8408,Sheet3!BZ$3,Sheet4!$E$2:$E$8408,Sheet3!BZ$4,Sheet4!$A$2:$A$8408,Sheet3!$B$1,Sheet4!$B$2:$B$8408,Sheet3!$A$3)","v":20},{"$f":"+SUMIFS(Sheet4!$FW$2:$FW$8408,Sheet4!$D$2:$D$8408,Sheet3!CA$3,Sheet4!$E$2:$E$8408,Sheet3!CA$4,Sheet4!$A$2:$A$8408,Sheet3!$B$1,Sheet4!$B$2:$B$8408,Sheet3!$A$3)","v":6852},{"$f":"+SUMIFS(Sheet4!$FW$2:$FW$8408,Sheet4!$D$2:$D$8408,Sheet3!CB$3,Sheet4!$E$2:$E$8408,Sheet3!CB$4,Sheet4!$A$2:$A$8408,Sheet3!$B$1,Sheet4!$B$2:$B$8408,Sheet3!$A$3)","v":2824},{"$f":"+SUMIFS(Sheet4!$FW$2:$FW$8408,Sheet4!$D$2:$D$8408,Sheet3!CC$3,Sheet4!$E$2:$E$8408,Sheet3!CC$4,Sheet4!$A$2:$A$8408,Sheet3!$B$1,Sheet4!$B$2:$B$8408,Sheet3!$A$3)","v":1190},{"$f":"+SUMIFS(Sheet4!$FW$2:$FW$8408,Sheet4!$D$2:$D$8408,Sheet3!CD$3,Sheet4!$E$2:$E$8408,Sheet3!CD$4,Sheet4!$A$2:$A$8408,Sheet3!$B$1,Sheet4!$B$2:$B$8408,Sheet3!$A$3)","v":439},{"$f":"+SUMIFS(Sheet4!$FW$2:$FW$8408,Sheet4!$D$2:$D$8408,Sheet3!CE$3,Sheet4!$E$2:$E$8408,Sheet3!CE$4,Sheet4!$A$2:$A$8408,Sheet3!$B$1,Sheet4!$B$2:$B$8408,Sheet3!$A$3)","v":54},{"$f":"+SUMIFS(Sheet4!$FW$2:$FW$8408,Sheet4!$D$2:$D$8408,Sheet3!CF$3,Sheet4!$E$2:$E$8408,Sheet3!CF$4,Sheet4!$A$2:$A$8408,Sheet3!$B$1,Sheet4!$B$2:$B$8408,Sheet3!$A$3)","v":5840},{"$f":"+SUMIFS(Sheet4!$FW$2:$FW$8408,Sheet4!$D$2:$D$8408,Sheet3!CG$3,Sheet4!$E$2:$E$8408,Sheet3!CG$4,Sheet4!$A$2:$A$8408,Sheet3!$B$1,Sheet4!$B$2:$B$8408,Sheet3!$A$3)","v":2249},{"$f":"+SUMIFS(Sheet4!$FW$2:$FW$8408,Sheet4!$D$2:$D$8408,Sheet3!CH$3,Sheet4!$E$2:$E$8408,Sheet3!CH$4,Sheet4!$A$2:$A$8408,Sheet3!$B$1,Sheet4!$B$2:$B$8408,Sheet3!$A$3)","v":1519},{"$f":"+SUMIFS(Sheet4!$FW$2:$FW$8408,Sheet4!$D$2:$D$8408,Sheet3!CI$3,Sheet4!$E$2:$E$8408,Sheet3!CI$4,Sheet4!$A$2:$A$8408,Sheet3!$B$1,Sheet4!$B$2:$B$8408,Sheet3!$A$3)","v":171},{"$f":"+SUMIFS(Sheet4!$FW$2:$FW$8408,Sheet4!$D$2:$D$8408,Sheet3!CJ$3,Sheet4!$E$2:$E$8408,Sheet3!CJ$4,Sheet4!$A$2:$A$8408,Sheet3!$B$1,Sheet4!$B$2:$B$8408,Sheet3!$A$3)","v":0},{"$f":"+SUMIFS(Sheet4!$FW$2:$FW$8408,Sheet4!$D$2:$D$8408,Sheet3!CK$3,Sheet4!$E$2:$E$8408,Sheet3!CK$4,Sheet4!$A$2:$A$8408,Sheet3!$B$1,Sheet4!$B$2:$B$8408,Sheet3!$A$3)","v":10},{"$f":"+SUMIFS(Sheet4!$FW$2:$FW$8408,Sheet4!$D$2:$D$8408,Sheet3!CL$3,Sheet4!$E$2:$E$8408,Sheet3!CL$4,Sheet4!$A$2:$A$8408,Sheet3!$B$1,Sheet4!$B$2:$B$8408,Sheet3!$A$3)","v":88},{"$f":"+SUMIFS(Sheet4!$FW$2:$FW$8408,Sheet4!$D$2:$D$8408,Sheet3!CM$3,Sheet4!$E$2:$E$8408,Sheet3!CM$4,Sheet4!$A$2:$A$8408,Sheet3!$B$1,Sheet4!$B$2:$B$8408,Sheet3!$A$3)","v":158},{"$f":"+SUMIFS(Sheet4!$FW$2:$FW$8408,Sheet4!$D$2:$D$8408,Sheet3!CN$3,Sheet4!$E$2:$E$8408,Sheet3!CN$4,Sheet4!$A$2:$A$8408,Sheet3!$B$1,Sheet4!$B$2:$B$8408,Sheet3!$A$3)","v":27},{"$f":"+SUMIFS(Sheet4!$FW$2:$FW$8408,Sheet4!$D$2:$D$8408,Sheet3!CO$3,Sheet4!$E$2:$E$8408,Sheet3!CO$4,Sheet4!$A$2:$A$8408,Sheet3!$B$1,Sheet4!$B$2:$B$8408,Sheet3!$A$3)","v":0},{"$f":"+SUMIFS(Sheet4!$FW$2:$FW$8408,Sheet4!$D$2:$D$8408,Sheet3!CP$3,Sheet4!$E$2:$E$8408,Sheet3!CP$4,Sheet4!$A$2:$A$8408,Sheet3!$B$1,Sheet4!$B$2:$B$8408,Sheet3!$A$3)","v":201},{"$f":"+SUMIFS(Sheet4!$FW$2:$FW$8408,Sheet4!$D$2:$D$8408,Sheet3!CQ$3,Sheet4!$E$2:$E$8408,Sheet3!CQ$4,Sheet4!$A$2:$A$8408,Sheet3!$B$1,Sheet4!$B$2:$B$8408,Sheet3!$A$3)","v":31},{"$f":"+SUMIFS(Sheet4!$FW$2:$FW$8408,Sheet4!$D$2:$D$8408,Sheet3!CR$3,Sheet4!$E$2:$E$8408,Sheet3!CR$4,Sheet4!$A$2:$A$8408,Sheet3!$B$1,Sheet4!$B$2:$B$8408,Sheet3!$A$3)","v":11},{"$f":"+SUMIFS(Sheet4!$FW$2:$FW$8408,Sheet4!$D$2:$D$8408,Sheet3!CS$3,Sheet4!$E$2:$E$8408,Sheet3!CS$4,Sheet4!$A$2:$A$8408,Sheet3!$B$1,Sheet4!$B$2:$B$8408,Sheet3!$A$3)","v":0},{"$f":"+SUMIFS(Sheet4!$FW$2:$FW$8408,Sheet4!$D$2:$D$8408,Sheet3!CT$3,Sheet4!$E$2:$E$8408,Sheet3!CT$4,Sheet4!$A$2:$A$8408,Sheet3!$B$1,Sheet4!$B$2:$B$8408,Sheet3!$A$3)","v":0},{"$f":"+SUMIFS(Sheet4!$FW$2:$FW$8408,Sheet4!$D$2:$D$8408,Sheet3!CU$3,Sheet4!$A$2:$A$8408,Sheet3!$B$1,Sheet4!$B$2:$B$8408,Sheet3!$A$3)","v":760},{"$f":"+SUMIFS(Sheet4!$FW$2:$FW$8408,Sheet4!$D$2:$D$8408,Sheet3!CV$3,Sheet4!$A$2:$A$8408,Sheet3!$B$1,Sheet4!$B$2:$B$8408,Sheet3!$A$3)","v":5711},{"$f":"+SUMIFS(Sheet4!$FW$2:$FW$8408,Sheet4!$D$2:$D$8408,Sheet3!CW$3,Sheet4!$A$2:$A$8408,Sheet3!$B$1,Sheet4!$B$2:$B$8408,Sheet3!$A$3)","v":5902},{"$f":"+SUMIFS(Sheet4!$FW$2:$FW$8408,Sheet4!$D$2:$D$8408,Sheet3!CX$3,Sheet4!$A$2:$A$8408,Sheet3!$B$1,Sheet4!$B$2:$B$8408,Sheet3!$A$3)","v":603},{"$f":"+SUMIFS(Sheet4!$FW$2:$FW$8408,Sheet4!$D$2:$D$8408,Sheet3!CY$3,Sheet4!$A$2:$A$8408,Sheet3!$B$1,Sheet4!$B$2:$B$8408,Sheet3!$A$3)","v":268},{"$f":"+SUMIFS(Sheet4!$FW$2:$FW$8408,Sheet4!$D$2:$D$8408,Sheet3!CZ$3,Sheet4!$A$2:$A$8408,Sheet3!$B$1,Sheet4!$B$2:$B$8408,Sheet3!$A$3)","v":15541},{"$f":"+SUMIFS(Sheet4!$FW$2:$FW$8408,Sheet4!$D$2:$D$8408,Sheet3!DA$3,Sheet4!$A$2:$A$8408,Sheet3!$B$1,Sheet4!$B$2:$B$8408,Sheet3!$A$3)","v":11306},{"$f":"+SUMIFS(Sheet4!$FW$2:$FW$8408,Sheet4!$D$2:$D$8408,Sheet3!DB$3,Sheet4!$A$2:$A$8408,Sheet3!$B$1,Sheet4!$B$2:$B$8408,Sheet3!$A$3)","v":14811},{"$f":"+SUMIFS(Sheet4!$FW$2:$FW$8408,Sheet4!$D$2:$D$8408,Sheet3!DC$3,Sheet4!$A$2:$A$8408,Sheet3!$B$1,Sheet4!$B$2:$B$8408,Sheet3!$A$3)","v":10521},{"$f":"+SUMIFS(Sheet4!$FW$2:$FW$8408,Sheet4!$D$2:$D$8408,Sheet3!DD$3,Sheet4!$A$2:$A$8408,Sheet3!$B$1,Sheet4!$B$2:$B$8408,Sheet3!$A$3)","v":53443},{"$f":"+SUMIFS(Sheet4!$FW$2:$FW$8408,Sheet4!$D$2:$D$8408,Sheet3!DE$3,Sheet4!$A$2:$A$8408,Sheet3!$B$1,Sheet4!$B$2:$B$8408,Sheet3!$A$3)","v":1711},{"$f":"+SUMIFS(Sheet4!$FW$2:$FW$8408,Sheet4!$D$2:$D$8408,Sheet3!DF$3,Sheet4!$A$2:$A$8408,Sheet3!$B$1,Sheet4!$B$2:$B$8408,Sheet3!$A$3)","v":3328},{"$f":"+SUMIFS(Sheet4!$FW$2:$FW$8408,Sheet4!$D$2:$D$8408,Sheet3!DG$3,Sheet4!$A$2:$A$8408,Sheet3!$B$1,Sheet4!$B$2:$B$8408,Sheet3!$A$3)","v":2560},{"$f":"+SUMIFS(Sheet4!$FW$2:$FW$8408,Sheet4!$D$2:$D$8408,Sheet3!DH$3,Sheet4!$A$2:$A$8408,Sheet3!$B$1,Sheet4!$B$2:$B$8408,Sheet3!$A$3)","v":6743},{"$f":"+SUMIFS(Sheet4!$FW$2:$FW$8408,Sheet4!$D$2:$D$8408,Sheet3!DI$3,Sheet4!$A$2:$A$8408,Sheet3!$B$1,Sheet4!$B$2:$B$8408,Sheet3!$A$3)","v":17592},{"$f":"+SUMIFS(Sheet4!$FW$2:$FW$8408,Sheet4!$D$2:$D$8408,Sheet3!DJ$3,Sheet4!$A$2:$A$8408,Sheet3!$B$1,Sheet4!$B$2:$B$8408,Sheet3!$A$3)","v":11359},{"$f":"+SUMIFS(Sheet4!$FW$2:$FW$8408,Sheet4!$D$2:$D$8408,Sheet3!DK$3,Sheet4!$A$2:$A$8408,Sheet3!$B$1,Sheet4!$B$2:$B$8408,Sheet3!$A$3)","v":9779},{"$f":"+SUMIFS(Sheet4!$FW$2:$FW$8408,Sheet4!$D$2:$D$8408,Sheet3!DL$3,Sheet4!$A$2:$A$8408,Sheet3!$B$1,Sheet4!$B$2:$B$8408,Sheet3!$A$3)","v":283},{"$f":"+SUMIFS(Sheet4!$FW$2:$FW$8408,Sheet4!$D$2:$D$8408,Sheet3!DM$3,Sheet4!$A$2:$A$8408,Sheet3!$B$1,Sheet4!$B$2:$B$8408,Sheet3!$A$3)","v":243},{"$f":"+SUMIFS(Sheet4!$FW$2:$FW$8408,Sheet4!$E$2:$E$8408,Sheet3!DN$4,Sheet4!$A$2:$A$8408,Sheet3!$B$1,Sheet4!$B$2:$B$8408,Sheet3!$A$3)","v":110736},{"$f":"+SUMIFS(Sheet4!$FW$2:$FW$8408,Sheet4!$E$2:$E$8408,Sheet3!DO$4,Sheet4!$A$2:$A$8408,Sheet3!$B$1,Sheet4!$B$2:$B$8408,Sheet3!$A$3)","v":43683},{"$f":"+SUMIFS(Sheet4!$FW$2:$FW$8408,Sheet4!$E$2:$E$8408,Sheet3!DP$4,Sheet4!$A$2:$A$8408,Sheet3!$B$1,Sheet4!$B$2:$B$8408,Sheet3!$A$3)","v":14789},{"$f":"+SUMIFS(Sheet4!$FW$2:$FW$8408,Sheet4!$E$2:$E$8408,Sheet3!DQ$4,Sheet4!$A$2:$A$8408,Sheet3!$B$1,Sheet4!$B$2:$B$8408,Sheet3!$A$3)","v":3078},{"$f":"+SUMIFS(Sheet4!$FW$2:$FW$8408,Sheet4!$E$2:$E$8408,Sheet3!DR$4,Sheet4!$A$2:$A$8408,Sheet3!$B$1,Sheet4!$B$2:$B$8408,Sheet3!$A$3)","v":178}]

{"sheet":"Sheet4","index":8,"n_rows":9362,"n_cols":180,"rows_kept":281,"cut":true,"hidden":true,"merged":[],"bounds":{"rows_first":125,"rows_last":31,"rows_between":125,"halvings":4}}
["tipo","Reg_sinal","NUT3_2013","OTE_sub","classe_excel","CountOfGPP_ID","SumOfVpp","SumOfSAU","SumOfD_RPB","SumOfMG_Direitos","SumOfSAU_est","SumOfSAU_IRRIG","SumOfCult_Temp","SumOfSF","SumOfPousio","SumOfCP","SumOfPP","SumOfpp_02cn","SumOfCNH","SumOfCNT","SumOfS_RPB","SumOfS_MAA","SumOfS_MZD","SumOfS_ECO","SumOfS_ASSO","SumOfCereais_seq","SumOfMilho_grao","SumOfArroz","SumOfOleag_proteag","SumOfHorticolas","SumOfForrag_prados_temp","SumOfPousios","SumOfPomares","SumOfVinha","SumOfOlival","SumOfPast_prados_perm","SumOfOutras culturas","SumOfVacas_leite","SumOfVacas_aleit","SumOfOutros_bov","SumOfOvelhas","SumOfOutros_ovinos","SumOfCabras","SumOfOutros_cap","PP","Pagamento ambiental","Primeiro Pilar","Rend_Resiliencia","SumOfA_1_1","Apoios_Associados","SumOfA_1_2_1","SumOfA_1_2_2","SumOfA_1_2_3","SumOfA_1_2_4","SumOfA_1_2_5","SumOfA_1_2_6","SumOfA_1_2_7","SumOfA_1_2_8","SumOfA_1_2_9","SumOfA_1_2_10","Equidade","SumOfA_2_1","SumOfA_2_2","Sustentabilidade_1p","SumOfA_3_1","SumOfA_3_2","SumOfA_3_3_1","SumOfA_3_3_2","SumOfA_3_4","SumOfA_3_5","SumOfA_3_6","seg_pilar","Comprom_Ambi_Clima","SumOfC_1_1_1_1_1","SumOfC_1_1_1_1_2","SumOfC_1_1_1_1_3","SumOfC_1_1_1_2","SumOfC_1_1_2_1","SumOfC_1_1_2_2","SumOfC_1_1_3","SumOfC_1_1_4","MZD","SumOfM9_M","SumOfM9_E","SumOfM9_O","SumOfM7_3_1","Abor_TErrit","SumOfD_2_1","SumOfD_2_2","SumOfD_2_3","SumOfD_2_4","SumOfD_2_5","QTRend_Resiliencia","QTSumOfA_1_1","QTApoios_Associados","QTSumOfA_1_2_1","QTSumOfA_1_2_2","QTSumOfA_1_2_3","QTSumOfA_1_2_4","QTSumOfA_1_2_5","QTSumOfA_1_2_6","QTSumOfA_1_2_7","QTSumOfA_1_2_8","QTSumOfA_1_2_9","QTSumOfA_1_2_10","QTEquidade","QTSumOfA_2_1","QTSumOfA_2_2","QTSustentabilidade_1p","QTSumOfA_3_1","QTSumOfA_3_2","QTSumOfA_3_3_1","QTSumOfA_3_3_2","QTSumOfA_3_4","QTSumOfA_3_5","QTSumOfA_3_6","QTComprom_Ambi_Clima","QTSumOfC_1_1_1_1_1","QTSumOfC_1_1_1_1_2","QTSumOfC_1_1_1_1_3","QTSumOfC_1_1_1_2","QTSumOfC_1_1_2_1","QTSumOfC_1_1_2_2","QTSumOfC_1_1_3","QTSumOfC_1_1_4","QTMZD","QTSumOfM9_M","QTSumOfM9_E","QTSumOfM9_O","QTSumOfM7_3_1","QTAbor_TErrit","QTSumOfD_2_1","QTSumOfD_2_2","QTSumOfD_2_3","QTSumOfD_2_4","QTSumOfD_2_5","N_A_1_1","N_A_1_2_1","N_A_1_2_2","N_A_1_2_3","N_A_1_2_4","N_A_1_2_5","N_A_1_2_6","N_A_1_2_7","N_A_1_2_8","N_A_1_2_9","N_A_1_2_10","N_A_2_1","N_A_2_2","N_A_3_1","N_A_3_2","N_A_3_3_1","N_A_3_3_2","N_A_3_4","N_A_3_5","N_A_3_6","N_C_1_1_1_1_1","N_C_1_1_1_1_2","N_C_1_1_1_1_3","N_C_1_1_1_2","N_C_1_1_2_1","N_C_1_1_2_2","N_C_1_1_3","N_C_1_1_4","N_D_2_1","N_D_2_2","N_D_2_3","N_D_2_4","N_D_2_5","N_M7_3_1","N_M9_M","N_M9_E","N_M9_O",null,null,"cod","Cod1"]
[1,1,"111","0",5,1,0,1.9100000000000001,0.75,83.97,4.0399999999999991,0.61,0,0.3,0,0,1.58,1.58,0.6,3.4,2.8999999999999995,1.7200000000000002,2.8999999999999995,0,0,0,0,0,0,0,0.3,0,0,0.03,0,1.58,0,0,0,0,0,0,3,1,1839,781,492,0,0,0,0,0,0,0,0,0,0,0,0,0,492.49,492.49,0,0,0,0,0,0,0,0,0,1347,781.34,0,0,0,0,132.24,0,74.099999999999994,575,565.36,565.36,0,0,0,0,0,0,0,0,0,0,0,0,0,0,0,0,0,0,0,0,0,0,0,0,0,0,0,0,0,0,0,0,0,4.5199999999999996,0,0,0,0,0.57999999999999996,0,1.1399999999999999,2.8,1.91,1.91,0,0,0,0,0,0,0,0,0,0,0,0,0,0,0,0,0,0,0,0,1,0,0,0,0,0,0,0,0,0,0,0,0,1,0,1,1,0,0,0,0,0,0,1,0,0,null,null,null,null,{"$f":"+FW2*FX2","v":0},{"$f":"+INDEX($F2:$FS2,1,Sheet3!$C$1)","v":1},{"$f":"+IF(Sheet3!$C$1=1,IF(FW2<3,0,1),1)","v":0}]
[1,1,"111","1_1",1,234,343681.40258620167,329.31999999999994,315.94999999999982,29195.67,331.21999999999997,282.19,181.32,52.84,8.7200000000000006,23.07,63.07,0.37,5.1499999999999995,5.1499999999999995,327.04999999999995,48.070000000000007,253.18999999999994,0,0,1.06,171.01999999999995,0,1.6500000000000006,7.5799999999999974,52.84,8.7199999999999989,1.9000000000000008,14.509999999999998,3.8400000000000003,63.070000000000014,3.0399999999999996,0,2,1,15,2,0,0,232727,4395,173657,0,0,0,0,0,0,0,0,0,0,0,0,0,173657.4,173657.4,0,0,0,0,0,0,0,0,0,59069,4394.8,0,0,0,0,0,0,4234.8,160,54674.31,54674.31,0,0,0,0,0,0,0,0,0,0,0,0,0,0,0,0,0,0,0,0,0,0,0,0,0,0,0,0,0,0,0,0,0,35.450000000000003,0,0,0,0,0,0,34.450000000000003,1,187.6,187.6,0,0,0,0,0,0,0,0,0,0,0,0,0,0,0,0,0,0,0,0,234,0,0,0,0,0,0,0,0,0,0,0,0,0,0,28,1,0,0,0,0,0,0,162,0,0,null,null,null,null,{"$f":"+FW3*FX3","v":234},{"$f":"+INDEX($F3:$FS3,1,Sheet3!$C$1)","v":234},{"$f":"+IF(Sheet3!$C$1=1,IF(FW3<3,0,1),1)","v":1}]
[1,1,"111","1_1",2,7,46149.403998597074,26.83,21.22,2059.77,26.83,24.42,19.18,4.5199999999999996,0,1.93,1.2,0,0,0,26.83,3.6500000000000004,26.83,0,0,0.1,15.109999999999998,0,0.19,7.0000000000000007E-2,4.5199999999999996,0,0.36,1.2599999999999998,0.04,1.2,3.98,0,0,0,0,0,0,0,13861,0,7043,0,0,0,0,0,0,0,0,0,0,0,0,0,7042.55,7042.55,0,0,0,0,0,0,0,0,0,6819,0,0,0,0,0,0,0,0,0,6818.64,6818.64,0,0,0,0,0,0,0,0,0,0,0,0,0,0,0,0,0,0,0,0,0,0,0,0,0,0,0,0,0,0,0,0,0,0,0,0,0,0,0,0,0,0,24.09,24.09,0,0,0,0,0,0,0,0,0,0,0,0,0,0,0,0,0,0,0,0,7,0,0,0,0,0,0,0,0,0,0,0,0,0,0,0,0,0,0,0,0,0,0,7,0,0,null,null,null,null,7,{"$f":"+INDEX($F4:$FS4,1,Sheet3!$C$1)","v":7},{"$f":"+IF(Sheet3!$C$1=1,IF(FW4<3,0,1),1)","v":1}]
[1,1,"111","1_2",1,101,125970.40360969483,145.48999999999992,142.02999999999994,14865.619999999997,145.48999999999992,19.010000000000002,56.11,27.85,11.7,10.249999999999995,39.58,0,0.6,0.6,145.55999999999992,14.280000000000001,117.85000000000001,0,0,3.2700000000000005,48.53,0,1.2400000000000002,2.6899999999999995,27.849999999999991,11.7,1.07,6.8699999999999974,1.4400000000000002,39.58,1.2100000000000002,0,0,1,0,0,0,0,95145,1116,75038,0,0,0,0,0,0,0,0,0,0,0,0,0,75037.679999999993,75037.679999999993,0,0,0,0,0,0,0,0,0,20107,768.24,0,0,0,0,0,0,768.24,0,18991.36,18991.36,0,0,0,347.76,347.76,0,0,0,0,0,0,0,0,0,0,0,0,0,0,0,0,0,0,0,0,0,0,0,0,0,0,0,0,6.22,0,0,0,0,0,0,6.22,0,64.16,64.16,0,0,0,1.26,1.26,0,0,0,0,0,0,0,0,0,0,0,0,0,0,0,101,0,0,0,0,0,0,0,0,0,0,0,0,0,0,12,0,1,0,0,0,0,0,63,0,0,null,null,null,null,101,{"$f":"+INDEX($F5:$FS5,1,Sheet3!$C$1)","v":101},{"$f":"+IF(Sheet3!$C$1=1,IF(FW5<3,0,1),1)","v":1}]
[1,1,"111","1_2",2,2,13886.463048168293,12.25,11.56,855.94,12.25,0.05,6.97,4.42,0,0.53,0.33,0,0,0,12.25,0,12.25,0,0,0,6.85,0,0,0.12,4.42,0,0.28999999999999998,0.24000000000000002,0,0.33,0,0,0,0,0,0,0,0,3912,0,2068,0,0,0,0,0,0,0,0,0,0,0,0,0,2068.44,2068.44,0,0,0,0,0,0,0,0,0,1844,0,0,0,0,0,0,0,0,0,1844.02,1844.02,0,0,0,0,0,0,0,0,0,0,0,0,0,0,0,0,0,0,0,0,0,0,0,0,0,0,0,0,0,0,0,0,0,0,0,0,0,0,0,0,0,0,7.5,7.5,0,0,0,0,0,0,0,0,0,0,0,0,0,0,0,0,0,0,0,0,2,0,0,0,0,0,0,0,0,0,0,0,0,0,0,0,0,0,0,0,0,0,0,2,0,0,null,null,null,null,0,{"$f":"+INDEX($F6:$FS6,1,Sheet3!$C$1)","v":2},{"$f":"+IF(Sheet3!$C$1=1,IF(FW6<3,0,1),1)","v":0}]
[1,1,"111","10_1",1,96,201935.86303642986,177.36,152.49,16038.660000000002,234.28000000000003,104.7,11.05,41.12,0,4.6999999999999993,117.4,117.39999999999999,241.85000000000002,241.85000000000002,231.15000000000006,26.240000000000006,222.23000000000002,0,0,0.16999999999999998,9.64,0,0.34,0.90000000000000036,41.12,0,0.74,5.7799999999999976,0.13,117.39999999999999,1.1200000000000001,0,162,127,37,4,19,3,141604,14079,78227,0,0,0,0,0,0,0,0,0,0,0,0,0,78226.55,78226.55,0,0,0,0,0,0,0,0,0,63377,12718.18,0,0,0,0,2735.76,0,926.42,9056,49298.31,49298.31,0,0,0,1360.68,1360.68,0,0,0,0,0,0,0,0,0,0,0,0,0,0,0,0,0,0,0,0,0,0,0,0,0,0,0,0,76.34,0,0,0,0,12.03,0,8.7100000000000009,55.6,168.01,168.01,0,0,0,4.93,4.93,0,0,0,0,0,0,0,0,0,0,0,0,0,0,0,96,0,0,0,0,0,0,0,0,0,0,0,0,15,0,7,29,6,0,0,0,0,0,89,0,0,null,null,null,null,96,{"$f":"+INDEX($F7:$FS7,1,Sheet3!$C$1)","v":96},{"$f":"+IF(Sheet3!$C$1=1,IF(FW7<3,0,1),1)","v":1}]
[1,1,"111","10_1",2,28,176502.84667178799,104.13,71.610000000000014,6815.7199999999993,130.54,62.05,8.5299999999999994,34.5,0,4.7350000000000003,54.44,54.440000000000005,162.54999999999998,165.54999999999998,130.27999999999997,9,130.27999999999997,0,0,0.38,7.2600000000000007,0,0,0.89000000000000012,34.5,0,0.62000000000000011,4.2099999999999991,0.85000000000000009,54.440000000000005,0.94,0,73,142,50,10,12,1,61489,6390,26200,0,0,0,0,0,0,0,0,0,0,0,0,0,26200.27,26200.27,0,0,0,0,0,0,0,0,0,35289,6390.46,0,0,0,0,228,0,882.46,5280,28898.48,28898.48,0,0,0,0,0,0,0,0,0,0,0,0,0,0,0,0,0,0,0,0,0,0,0,0,0,0,0,0,0,0,0,0,0,41,0,0,0,0,1,0,8,32,104.13,104.13,0,0,0,0,0,0,0,0,0,0,0,0,0,0,0,0,0,0,0,0,28,0,0,0,0,0,0,0,0,0,0,0,0,1,0,4,13,0,0,0,0,0,0,28,0,0,null,null,null,null,28,{"$f":"+INDEX($F8:$FS8,1,Sheet3!$C$1)","v":28},{"$f":"+IF(Sheet3!$C$1=1,IF(FW8<3,0,1),1)","v":1}]
[1,1,"111","10_15",1,17,41168.557091125534,15.1,20.340000000000003,2665.49,15.1,11.37,2.54,6.17,0,1.4,4.99,4.99,52.35,52.35,15.1,3.4500000000000006,8.18,0,0,0,2.34,0,0,0.2,6.17,0,0.04,1.21,0,4.99,0.15,0,25,43,16,3,2,0,13991,1474,10096,0,0,0,0,0,0,0,0,0,0,0,0,0,10096.030000000001,10096.030000000001,0,0,0,0,0,0,0,0,0,3895,1150.81,0,0,0,0,31.21,0,159.6,960,2421.2800000000002,2421.2800000000002,0,0,0,322.92,322.92,0,0,0,0,0,0,0,0,0,0,0,0,0,0,0,0,0,0,0,0,0,0,0,0,0,0,0,0,8.64,0,0,0,0,1.31,0,1.33,6,8.18,8.18,0,0,0,1.17,1.17,0,0,0,0,0,0,0,0,0,0,0,0,0,0,0,17,0,0,0,0,0,0,0,0,0,0,0,0,1,0,2,4,1,0,0,0,0,0,6,0,0,null,null,null,null,17,{"$f":"+INDEX($F9:$FS9,1,Sheet3!$C$1)","v":17},{"$f":"+IF(Sheet3!$C$1=1,IF(FW9<3,0,1),1)","v":1}]
[1,1,"111","10_15",2,17,141491.08100347896,34.099999999999994,34.53,3992.8,37.71,18.5,5.79,17.88,0,3.35,6.86,6.86,124.00000000000001,124.00000000000001,37.71,4.18,35.39,0,0,0.2,4.66,0,0.08,0.85000000000000009,17.88,0,0.02,2.94,0.19,6.86,0.36,3,28,152,21,3,4,0,25342,2007,14036,0,0,0,0,0,0,0,0,0,0,0,0,0,14035.89,14035.89,0,0,0,0,0,0,0,0,0,11307,1938.06,0,0,0,0,0,0,498.06,1440,9299.52,9299.52,0,0,0,69,69,0,0,0,0,0,0,0,0,0,0,0,0,0,0,0,0,0,0,0,0,0,0,0,0,0,0,0,0,12.93,0,0,0,0,0,0,3.93,9,31.62,31.62,0,0,0,0.25,0.25,0,0,0,0,0,0,0,0,0,0,0,0,0,0,0,17,0,0,0,0,0,0,0,0,0,0,0,0,0,0,2,3,1,0,0,0,0,0,15,0,0,null,null,null,null,17,{"$f":"+INDEX($F10:$FS10,1,Sheet3!$C$1)","v":17},{"$f":"+IF(Sheet3!$C$1=1,IF(FW10<3,0,1),1)","v":1}]
[1,1,"111","10_15",3,1,32758.144978380973,2.76,2.4300000000000002,197.7,2.76,0.76,0.19,2.04,0,0.37,0.16,0.16,38.200000000000003,38.200000000000003,2.7600000000000002,0,2.7600000000000002,0,0,0,0,0,0,0.19,2.04,0,0.15,0.22,0,0.16,0,0,0,55,0,0,0,0,1851,0,1034,0,0,0,0,0,0,0,0,0,0,0,0,0,1034.22,1034.22,0,0,0,0,0,0,0,0,0,817,0,0,0,0,0,0,0,0,0,816.96,816.96,0,0,0,0,0,0,0,0,0,0,0,0,0,0,0,0,0,0,0,0,0,0,0,0,0,0,0,0,0,0,0,0,0,0,0,0,0,0,0,0,0,0,2.76,2.76,0,0,0,0,0,0,0,0,0,0,0,0,0,0,0,0,0,0,0,0,1,0,0,0,0,0,0,0,0,0,0,0,0,0,0,0,0,0,0,0,0,0,0,1,0,0,null,null,null,null,0,{"$f":"+INDEX($F11:$FS11,1,Sheet3!$C$1)","v":1},{"$f":"+IF(Sheet3!$C$1=1,IF(FW11<3,0,1),1)","v":0}]
[1,1,"111","10_2",1,158,316320.79456933541,397.69,316.4199999999999,30730.629999999997,588.89000000000044,163.43,16.29,64.02,0.24,3.0799999999999996,308.48,302.35999999999984,201.74999999999983,202.74999999999986,582.84000000000049,65.59,580.36000000000058,0,0,0.81,13.999999999999998,0,0.24,1.2400000000000004,64.02,0.24,0.7300000000000002,6.3999999999999977,0.92,308.47999999999985,0.59,0,113,150,21,3,1,0,256572,15743,132787,0,0,0,0,0,0,0,0,0,0,0,0,0,132787.10999999999,132787.10999999999,0,0,0,0,0,0,0,0,0,123784,13745.05,0,0,0,0,5143.68,0,3769.37,4832,108041.21,108041.21,0,0,0,1998.24,1998.24,0,0,0,0,0,0,0,0,0,0,0,0,0,0,0,0,0,0,0,0,0,0,0,0,0,0,0,0,87.48,0,0,0,0,22.56,0,36.72,28.2,376.45,376.45,0,0,0,7.24,7.24,0,0,0,0,0,0,0,0,0,0,0,0,0,0,0,158,0,0,0,0,0,0,0,0,0,0,0,0,25,0,26,21,8,0,0,0,0,0,155,0,0,null,null,null,null,158,{"$f":"+INDEX($F12:$FS12,1,Sheet3!$C$1)","v":158},{"$f":"+IF(Sheet3!$C$1=1,IF(FW12<3,0,1),1)","v":1}]
[1,1,"111","10_2",2,33,203506.23598449462,221.67999999999995,72.829999999999984,6590.0500000000011,372.53000000000003,56.71,7.61,34.340000000000003,0,0.56999999999999995,177.11,159.21,120.45,139.45000000000005,365.52999999999992,19.98,336.40999999999997,0,0,0.1,7.17,0,0,0.34,34.340000000000003,0,0.23,1.8900000000000001,0.04,177.11000000000004,0.43000000000000005,2,59,100,27,3,1,0,86639,6848,29254,0,0,0,0,0,0,0,0,0,0,0,0,0,29253.72,29253.72,0,0,0,0,0,0,0,0,0,57385,6770.81,0,0,0,0,804.84,0,1459.97,4506,50537.24,50537.24,0,0,0,77.28,77.28,0,0,0,0,0,0,0,0,0,0,0,0,0,0,0,0,0,0,0,0,0,0,0,0,0,0,0,0,46.63,0,0,0,0,3.53,0,15.5,27.6,203.55,203.55,0,0,0,0.28000000000000003,0.28000000000000003,0,0,0,0,0,0,0,0,0,0,0,0,0,0,0,33,0,0,0,0,0,0,0,0,0,0,0,0,3,0,6,13,1,0,0,0,0,0,32,0,0,null,null,null,null,33,{"$f":"+INDEX($F13:$FS13,1,Sheet3!$C$1)","v":33},{"$f":"+IF(Sheet3!$C$1=1,IF(FW13<3,0,1),1)","v":1}]
[1,1,"111","10_2",3,1,37064.318644252067,54.13000000000001,4.03,346.09,99.489999999999981,4.13,0,0.23,0,0,53.88,53.88,30,30,99.049999999999983,3.8799999999999994,99.049999999999983,0,0,0,0,0,0,0,0.23,0,0,0.02,0,53.88,0,0,25,9,0,0,0,0,6560,1235,1034,0,0,0,0,0,0,0,0,0,0,0,0,0,1034.22,1034.22,0,0,0,0,0,0,0,0,0,5526,884.64,0,0,0,0,884.64,0,0,0,4290.8599999999997,4290.8599999999997,0,0,0,350,0,0,0,350,0,0,0,0,0,0,0,0,0,0,0,0,0,0,0,0,0,0,0,0,0,0,0,0,0,3.88,0,0,0,0,3.88,0,0,0,54.13,54.13,0,0,0,26.63,0,0,0,26.63,0,0,0,0,0,0,0,0,0,0,0,0,1,0,0,0,0,0,0,0,0,0,0,0,0,1,0,0,0,0,0,0,1,0,0,1,0,0,null,null,null,null,0,{"$f":"+INDEX($F14:$FS14,1,Sheet3!$C$1)","v":1},{"$f":"+IF(Sheet3!$C$1=1,IF(FW14<3,0,1),1)","v":0}]
[1,1,"111","11",1,517,983714.38109584223,1193.8299999999986,885.87999999999874,81870.33,1795.2299999999996,449.61,37.22,214.49,0.99,12.894999999999994,910.13,648.14999999999975,639.84999999999945,834.84999999999968,1772.589999999999,152.73999999999998,1745.5099999999991,0,0,1.54,27.750000000000004,0,1.3500000000000003,6.5799999999999947,214.49000000000021,0.99,3.74,20.749999999999979,2.0100000000000002,910.12999999999965,4.2099999999999991,0,39,27,2869,431,509,102,754125,34266,416814,0,0,0,0,0,0,0,0,0,0,0,0,0,416813.51,416813.51,0,0,0,0,0,0,0,0,0,337312,29786.07,0,0,0,0,6885.33,0,10206.74,12694,303046.08,303046.08,0,0,0,4479.62,3897.12,0,0,582.5,0,0,0,0,0,0,0,0,0,0,0,0,0,0,0,0,0,0,0,0,0,0,0,0,0,196.87,0,0,0,0,30.48,0,106.74,59.65,1054.1500000000001,1054.1500000000001,0,0,0,18.420000000000002,14.12,0,0,4.3,0,0,0,0,0,0,0,0,0,0,0,0,517,0,0,0,0,0,0,0,0,0,0,0,0,40,0,74,28,16,0,0,2,0,0,471,0,0,null,null,null,null,517,{"$f":"+INDEX($F15:$FS15,1,Sheet3!$C$1)","v":517},{"$f":"+IF(Sheet3!$C$1=1,IF(FW15<3,0,1),1)","v":1}]
[1,1,"111","11",2,55,320290.88748510595,380.13000000000011,106.72000000000003,9193.01,654.90000000000009,74.77,8.3699999999999992,46,0,2.96,317.98,108.6,104,367,625.57000000000016,16.39,634.8900000000001,0,0,0.15000000000000002,6.5999999999999988,0,0.34,1.2800000000000005,46,0,2.68,2.4300000000000006,0.76000000000000012,317.98,1.61,0,18,23,336,53,90,13,163339,39018,44521,0,0,0,0,0,0,0,0,0,0,0,0,0,44520.85,44520.85,0,0,0,0,0,0,0,0,0,118819,38295.160000000003,0,0,0,0,269.04000000000002,0,1438.12,36588,79800.240000000005,79800.240000000005,0,0,0,723.12,723.12,0,0,0,0,0,0,0,0,0,0,0,0,0,0,0,0,0,0,0,0,0,0,0,0,0,0,0,0,167.07,0,0,0,0,1.18,0,12.59,153.30000000000001,330.53,330.53,0,0,0,2.62,2.62,0,0,0,0,0,0,0,0,0,0,0,0,0,0,0,55,0,0,0,0,0,0,0,0,0,0,0,0,2,0,7,23,2,0,0,0,0,0,53,0,0,null,null,null,null,55,{"$f":"+INDEX($F16:$FS16,1,Sheet3!$C$1)","v":55},{"$f":"+IF(Sheet3!$C$1=1,IF(FW16<3,0,1),1)","v":1}]
[1,1,"111","12",1,621,1435029.0313657133,1124.9300000000003,974.10999999999945,92594.129999999888,1374.4900000000009,636.91,177.51,241.06,2.14,108.71000000000006,543.96,480.41999999999905,723.4,771.2,1365.1700000000014,156.17000000000007,1318.370000000001,0,0,4.17,141.56999999999991,0,2.9299999999999997,28.839999999999982,241.0599999999998,2.1399999999999997,19.05,107.51000000000005,9.1399999999999988,543.95999999999947,23.109999999999992,0,185,239,2068,348,245,51,828987,28067,496469,0,0,0,0,0,0,0,0,0,0,0,0,0,496469.28,496469.28,0,0,0,0,0,0,0,0,0,332518,28066.959999999999,0,0,0,0,7210.43,0,13286.53,7570,304450.75,304450.75,0,0,0,0,0,0,0,0,0,0,0,0,0,0,0,0,0,0,0,0,0,0,0,0,0,0,0,0,0,0,0,0,0,187.87,0,0,0,0,32.1,0,112.27,43.5,1036.53,1036.53,0,0,0,0,0,0,0,0,0,0,0,0,0,0,0,0,0,0,0,0,621,0,0,0,0,0,0,0,0,0,0,0,0,41,0,95,32,0,0,0,0,0,0,563,0,0,null,null,null,null,621,{"$f":"+INDEX($F17:$FS17,1,Sheet3!$C$1)","v":621},{"$f":"+IF(Sheet3!$C$1=1,IF(FW17<3,0,1),1)","v":1}]
[1,1,"111","12",2,123,707491.73071060842,397.17999999999995,297.38999999999993,28393.939999999995,509.14,177.73,69.94,85.93,0.13,48.81,164.31,136.24000000000004,323.40000000000003,352.43400000000003,501.43999999999994,62.980000000000004,503.27999999999992,0,0,1.65,55.300000000000004,0,1.1100000000000003,11.88,85.929999999999993,0.13,9.9999999999999929,56.350000000000023,2.7099999999999986,164.31000000000003,6.5499999999999989,3,75,242,470,53,108,17,232263,12299,115599,0,0,0,0,0,0,0,0,0,0,0,0,0,115599.14,115599.14,0,0,0,0,0,0,0,0,0,116664,12299.06,0,0,0,0,1226.6400000000001,0,7951.92,3120.5,104365.25,104365.25,0,0,0,0,0,0,0,0,0,0,0,0,0,0,0,0,0,0,0,0,0,0,0,0,0,0,0,0,0,0,0,0,0,81.430000000000007,0,0,0,0,5.38,0,57.32,18.73,372.52,372.52,0,0,0,0,0,0,0,0,0,0,0,0,0,0,0,0,0,0,0,0,123,0,0,0,0,0,0,0,0,0,0,0,0,9,0,36,12,0,0,0,0,0,0,122,0,0,null,null,null,null,123,{"$f":"+INDEX($F18:$FS18,1,Sheet3!$C$1)","v":123},{"$f":"+IF(Sheet3!$C$1=1,IF(FW18<3,0,1),1)","v":1}]
[1,1,"111","13",1,282,242743.56100240527,411.30999999999989,391.80999999999989,41201.510000000009,421.45999999999981,275.88,8.58,164.72,6.56,8.949999999999994,222.1,0,0,0,400.16999999999985,98.820000000000064,186.64999999999998,0,0,1.24,5.89,0,0.16,1.2900000000000007,164.72000000000011,6.5600000000000005,1.08,5.0099999999999971,1.07,222.09999999999988,1.1300000000000001,0,0,0,0,0,0,0,218525,7177,201090,0,0,0,0,0,0,0,0,0,0,0,0,0,201089.58,201089.58,0,0,0,0,0,0,0,0,0,17435,3495.42,0,0,0,0,0,0,3495.42,0,10258.120000000001,10258.120000000001,0,0,0,3681.84,3681.84,0,0,0,0,0,0,0,0,0,0,0,0,0,0,0,0,0,0,0,0,0,0,0,0,0,0,0,0,29.24,0,0,0,0,0,0,29.24,0,34.82,34.82,0,0,0,13.34,13.34,0,0,0,0,0,0,0,0,0,0,0,0,0,0,0,282,0,0,0,0,0,0,0,0,0,0,0,0,0,0,28,0,15,0,0,0,0,0,79,0,0,null,null,null,null,282,{"$f":"+INDEX($F19:$FS19,1,Sheet3!$C$1)","v":282},{"$f":"+IF(Sheet3!$C$1=1,IF(FW19<3,0,1),1)","v":1}]
[1,1,"111","13",2,4,23515.353276718983,17.07,8.8699999999999992,1085.8399999999999,17.07,9.1199999999999992,1.4,15.07,0,0.35000000000000003,0.25,0,0,0,17.07,3.2100000000000004,16.840000000000003,0,0,0,1.38,0,0,0.02,15.07,0,0,0.16,0,0.25,0.19,0,0,0,0,0,0,0,6616,373,3595,0,0,0,0,0,0,0,0,0,0,0,0,0,3595.15,3595.15,0,0,0,0,0,0,0,0,0,3021,372.6,0,0,0,0,0,0,372.6,0,2648.64,2648.64,0,0,0,0,0,0,0,0,0,0,0,0,0,0,0,0,0,0,0,0,0,0,0,0,0,0,0,0,0,0,0,0,0,3.21,0,0,0,0,0,0,3.21,0,9.34,9.34,0,0,0,0,0,0,0,0,0,0,0,0,0,0,0,0,0,0,0,0,4,0,0,0,0,0,0,0,0,0,0,0,0,0,0,1,0,0,0,0,0,0,0,3,0,0,null,null,null,null,4,{"$f":"+INDEX($F20:$FS20,1,Sheet3!$C$1)","v":4},{"$f":"+IF(Sheet3!$C$1=1,IF(FW20<3,0,1),1)","v":1}]
[1,1,"111","15",1,1,1001.035089100198,0.79,1,65.180000000000007,0.79,0,0.28000000000000003,0.23,0,0,0.28000000000000003,0,0,0,0.79,0,0,0,0,0,0,0,0,0.28000000000000003,0.23,0,0,0,0,0.28000000000000003,0,0,0,0,0,0,0,0,492,0,492,0,0,0,0,0,0,0,0,0,0,0,0,0,492.49,492.49,0,0,0,0,0,0,0,0,0,0,0,0,0,0,0,0,0,0,0,0,0,0,0,0,0,0,0,0,0,0,0,0,0,0,0,0,0,0,0,0,0,0,0,0,0,0,0,0,0,0,0,0,0,0,0,0,0,0,0,0,0,0,0,0,0,0,0,0,0,0,0,0,0,0,0,0,0,0,0,0,0,0,0,0,0,1,0,0,0,0,0,0,0,0,0,0,0,0,0,0,0,0,0,0,0,0,0,0,0,0,0,null,null,null,null,0,{"$f":"+INDEX($F21:$FS21,1,Sheet3!$C$1)","v":1},{"$f":"+IF(Sheet3!$C$1=1,IF(FW21<3,0,1),1)","v":0}]
[1,1,"111","4",1,105,227472.91626019412,100,98.810000000000016,10487.949999999999,100.49000000000001,57.18,27.23,11.92,7.8,10.83,42.22,3.31,3,3,100.42000000000002,8.26,53.980000000000011,0,0,1.17,10.039999999999999,0,0.32000000000000006,15.699999999999998,11.919999999999998,7.8,1.22,6.7099999999999964,1.2000000000000002,42.22,1.6900000000000002,0,0,0,13,3,3,1,71569,571,63667,0,0,0,0,0,0,0,0,0,0,0,0,0,63666.61,63666.61,0,0,0,0,0,0,0,0,0,7902,110.04,0,0,0,0,0,0,110.04,0,7330.97,7330.97,0,0,0,460.92,460.92,0,0,0,0,0,0,0,0,0,0,0,0,0,0,0,0,0,0,0,0,0,0,0,0,0,0,0,0,0.84,0,0,0,0,0,0,0.84,0,24.96,24.96,0,0,0,1.67,1.67,0,0,0,0,0,0,0,0,0,0,0,0,0,0,0,105,0,0,0,0,0,0,0,0,0,0,0,0,0,0,4,0,2,0,0,0,0,0,40,0,0,null,null,null,null,105,{"$f":"+INDEX($F22:$FS22,1,Sheet3!$C$1)","v":105},{"$f":"+IF(Sheet3!$C$1=1,IF(FW22<3,0,1),1)","v":1}]
[1,1,"111","4",2,82,814302.14844650868,135.88000000000002,124.55000000000005,11311.509999999997,136.19000000000003,64.099999999999994,54.9,18.260000000000002,8.94,28.269999999999996,25.51,7.3100000000000014,17.45,22.549999999999997,135.64000000000004,14.91,126.5,0,0,2.48,23.439999999999998,0,1.1300000000000001,27.849999999999991,18.259999999999998,8.94,4.16,16.53,1.7000000000000006,25.51,5.3099999999999987,0,6,6,28,19,0,0,96705,1515,66929,0,0,0,0,0,0,0,0,0,0,0,0,0,66929.38,66929.38,0,0,0,0,0,0,0,0,0,29775,1514.94,0,0,0,0,0,0,1514.94,0,28260.21,28260.21,0,0,0,0,0,0,0,0,0,0,0,0,0,0,0,0,0,0,0,0,0,0,0,0,0,0,0,0,0,0,0,0,0,11.95,0,0,0,0,0,0,11.95,0,96.25,96.25,0,0,0,0,0,0,0,0,0,0,0,0,0,0,0,0,0,0,0,0,82,0,0,0,0,0,0,0,0,0,0,0,0,0,0,12,0,0,0,0,0,0,0,74,0,0,null,null,null,null,82,{"$f":"+INDEX($F23:$FS23,1,Sheet3!$C$1)","v":82},{"$f":"+IF(Sheet3!$C$1=1,IF(FW23<3,0,1),1)","v":1}]
[1,1,"111","4",3,13,613861.47933919716,35.35,26.73,2061.3200000000002,40.28,15,15.83,0.8,3.9,8.35,6.44,5.2,4.5,4.5,40.28,0,38.04,0,0,0.26,7.3599999999999994,0,0,8.2100000000000009,0.8,3.9000000000000004,1.56,5.4,0.67,6.44,0.53,0,0,0,28,2,0,0,19568,0,10884,0,0,0,0,0,0,0,0,0,0,0,0,0,10883.96,10883.96,0,0,0,0,0,0,0,0,0,8684,0,0,0,0,0,0,0,0,0,8683.8799999999992,8683.8799999999992,0,0,0,0,0,0,0,0,0,0,0,0,0,0,0,0,0,0,0,0,0,0,0,0,0,0,0,0,0,0,0,0,0,0,0,0,0,0,0,0,0,0,31.37,31.37,0,0,0,0,0,0,0,0,0,0,0,0,0,0,0,0,0,0,0,0,13,0,0,0,0,0,0,0,0,0,0,0,0,0,0,0,0,0,0,0,0,0,0,10,0,0,null,null,null,null,13,{"$f":"+INDEX($F24:$FS24,1,Sheet3!$C$1)","v":13},{"$f":"+IF(Sheet3!$C$1=1,IF(FW24<3,0,1),1)","v":1}]
[1,1,"111","4",4,1,106225.98490341882,1.3,1.21,110.46,1.3,1.0900000000000001,1.0900000000000001,0,0,0.21,0,0,0,0,1.3000000000000003,0,1.3000000000000003,0,0,0,0,0,0,1.0900000000000001,0,0,0,0.16,0.05,0,0,0,0,0,0,0,0,0,1222,0,837,0,0,0,0,0,0,0,0,0,0,0,0,0,837.23,837.23,0,0,0,0,0,0,0,0,0,385,0,0,0,0,0,0,0,0,0,384.8,384.8,0,0,0,0,0,0,0,0,0,0,0,0,0,0,0,0,0,0,0,0,0,0,0,0,0,0,0,0,0,0,0,0,0,0,0,0,0,0,0,0,0,0,1.3,1.3,0,0,0,0,0,0,0,0,0,0,0,0,0,0,0,0,0,0,0,0,1,0,0,0,0,0,0,0,0,0,0,0,0,0,0,0,0,0,0,0,0,0,0,1,0,0,null,null,null,null,0,{"$f":"+INDEX($F25:$FS25,1,Sheet3!$C$1)","v":1},{"$f":"+IF(Sheet3!$C$1=1,IF(FW25<3,0,1),1)","v":0}]
[1,1,"111","5",1,313,759462.11986673647,417.73999999999961,381.41000000000031,33453.549999999996,421.69999999999953,251.17,14.56,36.1,3.57,300.74500000000029,60.4,14.449999999999998,28.400000000000006,29.400000000000006,418.5699999999996,133.08999999999997,377.68999999999988,0,0,1.2000000000000002,9.7699999999999978,0,0.57000000000000006,3.0200000000000005,36.099999999999987,3.5700000000000003,5.96,279.03000000000009,2.94,60.399999999999991,5.4199999999999982,0,1,3,138,34,0,0,345957,20930,232203,0,0,0,0,0,0,0,0,0,0,0,0,0,232203.34,232203.34,0,0,0,0,0,0,0,0,0,113754,20543.82,0,0,0,0,0,0,20543.82,0,92823.66,92823.66,0,0,0,386.4,386.4,0,0,0,0,0,0,0,0,0,0,0,0,0,0,0,0,0,0,0,0,0,0,0,0,0,0,0,0,127.83,0,0,0,0,0,0,127.83,0,313.85000000000002,313.85000000000002,0,0,0,1.4,1.4,0,0,0,0,0,0,0,0,0,0,0,0,0,0,0,313,0,0,0,0,0,0,0,0,0,0,0,0,0,0,115,0,2,0,0,0,0,0,258,0,0,null,null,null,null,313,{"$f":"+INDEX($F26:$FS26,1,Sheet3!$C$1)","v":313},{"$f":"+IF(Sheet3!$C$1=1,IF(FW26<3,0,1),1)","v":1}]
[1,1,"111","5",2,187,1187902.0620945822,576.41,429.85999999999973,35328.009999999973,587.41,333.07,11.42,32.86,2.58,479.77000000000021,43.99,23.75,61.400000000000006,61.400000000000006,586.61,252.65999999999994,583.77,0,0,0.8,5.79,0,0.1,4.6899999999999968,32.859999999999992,2.58,6.379999999999999,452.93,2.4800000000000004,43.989999999999988,6.2600000000000007,0,6,9,273,35,24,4,365187,39582,174159,0,0,0,0,0,0,0,0,0,0,0,0,0,174159.09,174159.09,0,0,0,0,0,0,0,0,0,191028,39581.51,0,343.35,0,0,221.16,0,39017,0,151446.04,151446.04,0,0,0,0,0,0,0,0,0,0,0,0,0,0,0,0,0,0,0,0,0,0,0,0,0,0,0,0,0,0,0,0,0,246.76,0,3.27,0,0,0.97,0,242.52,0,530.85,530.85,0,0,0,0,0,0,0,0,0,0,0,0,0,0,0,0,0,0,0,0,187,0,0,0,0,0,0,0,0,0,1,0,0,2,0,108,0,0,0,0,0,0,0,186,0,0,null,null,null,null,187,{"$f":"+INDEX($F27:$FS27,1,Sheet3!$C$1)","v":187},{"$f":"+IF(Sheet3!$C$1=1,IF(FW27<3,0,1),1)","v":1}]
[1,1,"111","6",1,22,48039.956749207653,36.299999999999997,28.490000000000002,2233.8000000000002,36.82,17.43,0.3,3.38,0.42,24.540000000000003,7.41,1.4100000000000001,1.3,1.3,35.239999999999995,11.370000000000003,32.289999999999992,0,0,0,0.08,0,0.02,0.2,3.38,0.42000000000000004,23.159999999999997,0.67,0.17,7.41,0.47,0,1,0,0,0,2,0,24715,1605,16313,0,0,0,0,0,0,0,0,0,0,0,0,0,16313.42,16313.42,0,0,0,0,0,0,0,0,0,8402,1604.7,0,0,0,0,139.08000000000001,221.94,1243.68,0,6797.05,6797.05,0,0,0,0,0,0,0,0,0,0,0,0,0,0,0,0,0,0,0,0,0,0,0,0,0,0,0,0,0,0,0,0,0,9.74,0,0,0,0,0.61,1.37,7.76,0,23.32,23.32,0,0,0,0,0,0,0,0,0,0,0,0,0,0,0,0,0,0,0,0,22,0,0,0,0,0,0,0,0,0,0,0,0,1,1,5,0,0,0,0,0,0,0,17,0,0,null,null,null,null,22,{"$f":"+INDEX($F28:$FS28,1,Sheet3!$C$1)","v":22},{"$f":"+IF(Sheet3!$C$1=1,IF(FW28<3,0,1),1)","v":1}]
[1,1,"111","6",2,19,160259.6254308722,35.9,28.240000000000002,2125.1799999999998,35.9,21.81,3.21,3.71,0.24,25.880000000000003,2.86,0,2.4,3.4,35.9,2.8200000000000003,32.809999999999995,0,0,0.38,1.93,0,0.3,0.60000000000000009,3.71,0.24,21.64,2.9800000000000004,0.31000000000000005,2.8600000000000003,0.70000000000000007,0,2,1,0,0,0,0,23763,588,14775,0,0,0,0,0,0,0,0,0,0,0,0,0,14774.64,14774.64,0,0,0,0,0,0,0,0,0,8988,588.28,0,0,0,0,0,0,428.28,160,8400,8400,0,0,0,0,0,0,0,0,0,0,0,0,0,0,0,0,0,0,0,0,0,0,0,0,0,0,0,0,0,0,0,0,0,3.82,0,0,0,0,0,0,2.82,1,28.8,28.8,0,0,0,0,0,0,0,0,0,0,0,0,0,0,0,0,0,0,0,0,19,0,0,0,0,0,0,0,0,0,0,0,0,0,0,3,1,0,0,0,0,0,0,16,0,0,null,null,null,null,19,{"$f":"+INDEX($F29:$FS29,1,Sheet3!$C$1)","v":19},{"$f":"+IF(Sheet3!$C$1=1,IF(FW29<3,0,1),1)","v":1}]
[1,1,"111","6",3,22,898967.55003986543,42.419999999999995,35.199999999999996,2842.03,44.12,35.83,0.68,3.78,0.56000000000000005,32.74,4.16,2.5299999999999998,4,9,43.41,13.769999999999998,43.41,0,0,0,0,0,0,0.68,3.78,0.56000000000000005,28.35,3.6799999999999993,0.34,4.16,0.34,0,3,1,0,0,0,0,32977,2156,19601,0,0,0,0,0,0,0,0,0,0,0,0,0,19601,19601,0,0,0,0,0,0,0,0,0,13376,2155.92,0,0,0,0,474.24,0,1681.68,0,11220.48,11220.48,0,0,0,0,0,0,0,0,0,0,0,0,0,0,0,0,0,0,0,0,0,0,0,0,0,0,0,0,0,0,0,0,0,12.58,0,0,0,0,2.08,0,10.5,0,38.28,38.28,0,0,0,0,0,0,0,0,0,0,0,0,0,0,0,0,0,0,0,0,22,0,0,0,0,0,0,0,0,0,0,0,0,2,0,8,0,0,0,0,0,0,0,22,0,0,null,null,null,null,22,{"$f":"+INDEX($F30:$FS30,1,Sheet3!$C$1)","v":22},{"$f":"+IF(Sheet3!$C$1=1,IF(FW30<3,0,1),1)","v":1}]
[1,1,"111","7",1,2,2012.373861064144,2.2400000000000002,2.21,165.77,2.2400000000000002,1.27,0.38,0,0.14000000000000001,1.72,0,0,0,0,2.2400000000000002,0,2.2400000000000002,0,0,0,0.30000000000000004,0,0.08,0,0,0.14000000000000001,0,0,1.7,0,0,0,0,0,0,0,0,0,2338,0,1674,0,0,0,0,0,0,0,0,0,0,0,0,0,1674.46,1674.46,0,0,0,0,0,0,0,0,0,663,0,0,0,0,0,0,0,0,0,663.04,663.04,0,0,0,0,0,0,0,0,0,0,0,0,0,0,0,0,0,0,0,0,0,0,0,0,0,0,0,0,0,0,0,0,0,0,0,0,0,0,0,0,0,0,2.2400000000000002,2.2400000000000002,0,0,0,0,0,0,0,0,0,0,0,0,0,0,0,0,0,0,0,0,2,0,0,0,0,0,0,0,0,0,0,0,0,0,0,0,0,0,0,0,0,0,0,2,0,0,null,null,null,null,0,{"$f":"+INDEX($F31:$FS31,1,Sheet3!$C$1)","v":2},{"$f":"+IF(Sheet3!$C$1=1,IF(FW31<3,0,1),1)","v":0}]
[1,1,"111","8",1,1694,3267113.291703131,2203.5799999999954,2147.2000000000025,199513.26999999976,2232.0999999999935,1239.79,596.62,360.23,88.36,608.08499999999856,541.37,83.38000000000001,229.14999999999995,237.14999999999998,2202.109999999996,244.42000000000007,1726.5699999999981,0,0,26.999999999999996,434.35999999999996,0,17.449999999999989,117.5499999999998,360.22999999999956,88.359999999999914,91.34,328.1699999999999,48.780000000000015,541.36999999999966,143.73000000000022,0,45,73,689,130,104,26,1607286,27788,1228444,0,0,0,0,0,0,0,0,0,0,0,0,0,1228443.73,1228443.73,0,0,0,0,0,0,0,0,0,378843,26087.71,0,0,0,0,1041.96,183.06,23358.69,1504,351054.89,351054.89,0,0,0,1700.16,1700.16,0,0,0,0,0,0,0,0,0,0,0,0,0,0,0,0,0,0,0,0,0,0,0,0,0,0,0,0,183.35,0,0,0,0,4.57,1.1299999999999999,168.25,9.4,1189.8,1189.8,0,0,0,6.16,6.16,0,0,0,0,0,0,0,0,0,0,0,0,0,0,0,1694,0,0,0,0,0,0,0,0,0,0,0,0,7,1,170,9,6,0,0,0,0,0,1122,0,0,null,null,null,null,1694,{"$f":"+INDEX($F32:$FS32,1,Sheet3!$C$1)","v":1694},{"$f":"+IF(Sheet3!$C$1=1,IF(FW32<3,0,1),1)","v":1}]
[1,1,"111","8",2,217,1211406.3757818893,594.53000000000043,522.04999999999995,45422.190000000017,619.55000000000007,335.7,157.19999999999999,89.79,7.54,235.35499999999993,95.41,47.889999999999993,124.89999999999998,126.89999999999998,604.8900000000001,115.57999999999997,596.75,0,0,7.0200000000000005,110.36,0,3.3299999999999996,36.149999999999991,90.05,7.5400000000000009,45.54000000000002,145.16000000000005,14.68,95.41,32.95000000000001,0,37,52,327,39,13,3,365993,14262,207313,0,0,0,0,0,0,0,0,0,0,0,0,0,207312.62,207312.62,0,0,0,0,0,0,0,0,0,158680,14261.84,0,0,0,0,864.12,76.14,12521.58,800,144418.17000000001,144418.17000000001,0,0,0,0,0,0,0,0,0,0,0,0,0,0,0,0,0,0,0,0,0,0,0,0,0,0,0,0,0,0,0,0,0,94.05,0,0,0,0,3.79,0.47,84.79,5,504.47,504.47,0,0,0,0,0,0,0,0,0,0,0,0,0,0,0,0,0,0,0,0,217,0,0,0,0,0,0,0,0,0,0,0,0,4,1,47,5,0,0,0,0,0,0,214,0,0,null,null,null,null,217,{"$f":"+INDEX($F33:$FS33,1,Sheet3!$C$1)","v":217},{"$f":"+IF(Sheet3!$C$1=1,IF(FW33<3,0,1),1)","v":1}]
[1,1,"111","9",1,2,7165.4306925912233,2.8200000000000003,2.8200000000000003,376.33000000000004,2.8200000000000003,1.53,0,0.98,0,0.2,1.64,1.64,3.9,3.9,2.8200000000000003,1.46,1.46,0,0,0,0,0,0,0,0.98,0,0,0.02,0,1.64,0.18,2,1,0,2,1,3,0,2440,333,1674,0,0,0,0,0,0,0,0,0,0,0,0,0,1674.46,1674.46,0,0,0,0,0,0,0,0,0,765,332.88,0,0,0,0,332.88,0,0,0,432.16,432.16,0,0,0,0,0,0,0,0,0,0,0,0,0,0,0,0,0,0,0,0,0,0,0,0,0,0,0,0,0,0,0,0,0,1.46,0,0,0,0,1.46,0,0,0,1.46,1.46,0,0,0,0,0,0,0,0,0,0,0,0,0,0,0,0,0,0,0,0,2,0,0,0,0,0,0,0,0,0,0,0,0,1,0,0,0,0,0,0,0,0,0,1,0,0,null,null,null,null,0,{"$f":"+INDEX($F34:$FS34,1,Sheet3!$C$1)","v":2},{"$f":"+IF(Sheet3!$C$1=1,IF(FW34<3,0,1),1)","v":0}]
[1,1,"111","9",2,3,18744.550889091723,11.170000000000002,3.23,533.29,17.62,4.1399999999999997,0.44,2.58,0,0.67,7.42,7.42,4.75,4.75,15.62,0,17.619999999999997,0,0,0.05,0.19,0,0,0.2,2.58,0,0,0.44999999999999996,0.28000000000000003,7.42,0,3,0,3,0,0,1,0,5222,0,2167,0,0,0,0,0,0,0,0,0,0,0,0,0,2166.9499999999998,2166.9499999999998,0,0,0,0,0,0,0,0,0,3055,0,0,0,0,0,0,0,0,0,3055.12,3055.12,0,0,0,0,0,0,0,0,0,0,0,0,0,0,0,0,0,0,0,0,0,0,0,0,0,0,0,0,0,0,0,0,0,0,0,0,0,0,0,0,0,0,11.17,11.17,0,0,0,0,0,0,0,0,0,0,0,0,0,0,0,0,0,0,0,0,3,0,0,0,0,0,0,0,0,0,0,0,0,0,0,0,0,0,0,0,0,0,0,3,0,0,null,null,null,null,3,{"$f":"+INDEX($F35:$FS35,1,Sheet3!$C$1)","v":3},{"$f":"+IF(Sheet3!$C$1=1,IF(FW35<3,0,1),1)","v":1}]
[1,1,"112","0",5,2,0,3.28,5.48,394.52,3.28,3.18,0,0.24,0,3.04,0,0,2.2000000000000002,24.4,9.379999999999999,2.5299999999999998,3.2800000000000002,0,0,0,0,0,0,0,0.24,0,0.41,2.5299999999999998,0,0,0,0,1,0,6,2,0,0,3086,266,1871,0,0,0,0,0,0,0,0,0,0,0,0,0,1871.45,1871.45,0,0,0,0,0,0,0,0,0,1214,265.64999999999998,0,265.64999999999998,0,0,0,0,0,0,948.48,948.48,0,0,0,0,0,0,0,0,0,0,0,0,0,0,0,0,0,0,0,0,0,0,0,0,0,0,0,0,0,0,0,0,0,2.5299999999999998,0,2.5299999999999998,0,0,0,0,0,0,3.28,3.28,0,0,0,0,0,0,0,0,0,0,0,0,0,0,0,0,0,0,0,0,2,0,0,0,0,0,0,0,0,0,1,0,0,0,0,0,0,0,0,0,0,0,0,1,0,0,null,null,null,null,0,{"$f":"+INDEX($F36:$FS36,1,Sheet3!$C$1)","v":2},{"$f":"+IF(Sheet3!$C$1=1,IF(FW36<3,0,1),1)","v":0}]
[1,1,"112","1_1",1,803,1238797.2549899539,1035.0699999999993,964.66999999999939,120260.55000000003,1035.0699999999993,950.35,793.85,131.30000000000001,5.87,54.420000000000016,49.63,1.37,12.649999999999999,13.15,1031.1099999999994,50.07,306.96000000000009,0,0,110.83,647.25000000000011,0,3.99,20.749999999999979,132.01999999999998,5.87,6.55,37.490000000000009,0.94000000000000006,49.630000000000017,19.570000000000007,0,6,5,18,4,4,1,654222,6584,568217,0,0,0,0,0,0,0,0,0,0,0,0,0,568216.52,568216.52,0,0,0,0,0,0,0,0,0,86005,5361.23,0,0,0,0,0,0,5041.2299999999996,320,79421.279999999999,79421.279999999999,0,0,0,1222.68,1222.68,0,0,0,0,0,0,0,0,0,0,0,0,0,0,0,0,0,0,0,0,0,0,0,0,0,0,0,0,43.43,0,0,0,0,0,0,41.43,2,270.01,270.01,0,0,0,4.43,4.43,0,0,0,0,0,0,0,0,0,0,0,0,0,0,0,803,0,0,0,0,0,0,0,0,0,0,0,0,0,0,34,1,3,0,0,0,0,0,188,0,0,null,null,null,null,803,{"$f":"+INDEX($F37:$FS37,1,Sheet3!$C$1)","v":803},{"$f":"+IF(Sheet3!$C$1=1,IF(FW37<3,0,1),1)","v":1}]
[1,1,"112","1_1",2,71,428360.01965387282,184.51000000000013,155.57999999999998,17405.500000000007,184.51000000000013,171.33,122.29,41.41,0,16.459999999999997,4.3499999999999996,0.2,4.4499999999999993,4.4499999999999993,183.82000000000014,0.56999999999999995,91.950000000000031,0,0,3.09,69,0,1.1000000000000001,6.4599999999999973,41.410000000000004,0,3.3200000000000003,9.5300000000000011,0.85,4.3499999999999996,45.239999999999988,0,2,2,10,1,0,0,89879,0,64270,0,0,0,0,0,0,0,0,0,0,0,0,0,64269.54,64269.54,0,0,0,0,0,0,0,0,0,25609,0,0,0,0,0,0,0,0,0,25609.439999999999,25609.439999999999,0,0,0,0,0,0,0,0,0,0,0,0,0,0,0,0,0,0,0,0,0,0,0,0,0,0,0,0,0,0,0,0,0,0,0,0,0,0,0,0,0,0,88.64,88.64,0,0,0,0,0,0,0,0,0,0,0,0,0,0,0,0,0,0,0,0,71,0,0,0,0,0,0,0,0,0,0,0,0,0,0,0,0,0,0,0,0,0,0,43,0,0,null,null,null,null,71,{"$f":"+INDEX($F38:$FS38,1,Sheet3!$C$1)","v":71},{"$f":"+IF(Sheet3!$C$1=1,IF(FW38<3,0,1),1)","v":1}]
[1,1,"112","1_1",3,3,124577.22810305574,3.39,3.21,267.13,3.39,2.61,2.21,0.22,0,0.96000000000000008,0,0,0,0,3.39,1.31,2.48,0,0,0,0.06,0,0,2.15,0.22,0,0.70000000000000007,0.2,0,0,0.06,0,0,0,0,0,0,0,3069,168,2167,0,0,0,0,0,0,0,0,0,0,0,0,0,2166.9499999999998,2166.9499999999998,0,0,0,0,0,0,0,0,0,902,168.12,0,0,0,0,0,0,168.12,0,734.08,734.08,0,0,0,0,0,0,0,0,0,0,0,0,0,0,0,0,0,0,0,0,0,0,0,0,0,0,0,0,0,0,0,0,0,1.31,0,0,0,0,0,0,1.31,0,2.48,2.48,0,0,0,0,0,0,0,0,0,0,0,0,0,0,0,0,0,0,0,0,3,0,0,0,0,0,0,0,0,0,0,0,0,0,0,1,0,0,0,0,0,0,0,2,0,0,null,null,null,null,3,{"$f":"+INDEX($F39:$FS39,1,Sheet3!$C$1)","v":3},{"$f":"+IF(Sheet3!$C$1=1,IF(FW39<3,0,1),1)","v":1}]
[1,1,"112","1_2",1,301,442717.14602952171,383.2199999999994,375.91999999999956,55491.380000000026,383.2199999999994,21.29,258.58,75.3,1.04,16.219999999999992,32.08,0,0,0,382.01999999999947,3.71,8.7100000000000009,0,0,6.13,241.86000000000007,0,1.77,8.8199999999999967,75.300000000000026,1.04,2.4000000000000008,10.71999999999999,0.72,32.080000000000005,2.3500000000000005,0,0,0,0,0,0,0,215468,800,212709,0,0,0,0,0,0,0,0,0,0,0,0,0,212708.55,212708.55,0,0,0,0,0,0,0,0,0,2759,446.46,0,0,0,0,0,0,446.46,0,1959.37,1959.37,0,0,0,353.28,353.28,0,0,0,0,0,0,0,0,0,0,0,0,0,0,0,0,0,0,0,0,0,0,0,0,0,0,0,0,3.71,0,0,0,0,0,0,3.71,0,6.78,6.78,0,0,0,1.28,1.28,0,0,0,0,0,0,0,0,0,0,0,0,0,0,0,301,0,0,0,0,0,0,0,0,0,0,0,0,0,0,3,0,1,0,0,0,0,0,5,0,0,null,null,null,null,301,{"$f":"+INDEX($F40:$FS40,1,Sheet3!$C$1)","v":301},{"$f":"+IF(Sheet3!$C$1=1,IF(FW40<3,0,1),1)","v":1}]
[1,1,"112","1_2",2,7,36288.116192146743,16.98,16.149999999999999,1900.0100000000002,16.98,0.39,12.47,3.11,0,1.06,0.34,0,0,0,16.98,0,1.1700000000000002,0,0,0,8.1900000000000013,0,0.49,2.6500000000000004,3.11,0,0,0.80999999999999994,0,0.34,1.3900000000000001,0,0,0,0,0,0,0,6847,0,6501,0,0,0,0,0,0,0,0,0,0,0,0,0,6500.82,6500.82,0,0,0,0,0,0,0,0,0,346,0,0,0,0,0,0,0,0,0,346.32,346.32,0,0,0,0,0,0,0,0,0,0,0,0,0,0,0,0,0,0,0,0,0,0,0,0,0,0,0,0,0,0,0,0,0,0,0,0,0,0,0,0,0,0,1.17,1.17,0,0,0,0,0,0,0,0,0,0,0,0,0,0,0,0,0,0,0,0,7,0,0,0,0,0,0,0,0,0,0,0,0,0,0,0,0,0,0,0,0,0,0,1,0,0,null,null,null,null,7,{"$f":"+INDEX($F41:$FS41,1,Sheet3!$C$1)","v":7},{"$f":"+IF(Sheet3!$C$1=1,IF(FW41<3,0,1),1)","v":1}]
[1,1,"112","1_2",3,1,34496.781845760001,0.59,0.56000000000000005,36.5,0.59,0,0.56000000000000005,0,0,0,0.03,0,0,0,0.59000000000000008,0,0,0,0,0,0,0,0,0.56000000000000005,0,0,0,0,0,0.03,0,0,0,0,0,0,0,0,492,0,492,0,0,0,0,0,0,0,0,0,0,0,0,0,492.49,492.49,0,0,0,0,0,0,0,0,0,0,0,0,0,0,0,0,0,0,0,0,0,0,0,0,0,0,0,0,0,0,0,0,0,0,0,0,0,0,0,0,0,0,0,0,0,0,0,0,0,0,0,0,0,0,0,0,0,0,0,0,0,0,0,0,0,0,0,0,0,0,0,0,0,0,0,0,0,0,0,0,0,0,0,0,0,1,0,0,0,0,0,0,0,0,0,0,0,0,0,0,0,0,0,0,0,0,0,0,0,0,0,null,null,null,null,0,{"$f":"+INDEX($F42:$FS42,1,Sheet3!$C$1)","v":1},{"$f":"+IF(Sheet3!$C$1=1,IF(FW42<3,0,1),1)","v":0}]
[1,1,"112","10_1",1,61,146437.45507596902,78.139999999999986,68.349999999999994,10529.68,88.009999999999991,57.05,8.43,42.22,0.56000000000000005,3.48,23.23,23.230000000000004,108.2,108.2,84.609999999999985,2.8200000000000003,43.6,0,0,0.81,6.27,0,0.44,0.91000000000000014,42.219999999999978,0.56000000000000005,0.33,2.5700000000000003,0.15,23.230000000000004,0.65,0,53,93,7,4,0,1,56743,2043,43733,0,0,0,0,0,0,0,0,0,0,0,0,0,43732.98,43732.98,0,0,0,0,0,0,0,0,0,13010,2042.85,0,0,0,0,0,0,282.85000000000002,1760,10967.28,10967.28,0,0,0,0,0,0,0,0,0,0,0,0,0,0,0,0,0,0,0,0,0,0,0,0,0,0,0,0,0,0,0,0,0,13.82,0,0,0,0,0,0,2.82,11,37.130000000000003,37.130000000000003,0,0,0,0,0,0,0,0,0,0,0,0,0,0,0,0,0,0,0,0,61,0,0,0,0,0,0,0,0,0,0,0,0,0,0,3,6,0,0,0,0,0,0,21,0,0,null,null,null,null,61,{"$f":"+INDEX($F43:$FS43,1,Sheet3!$C$1)","v":61},{"$f":"+IF(Sheet3!$C$1=1,IF(FW43<3,0,1),1)","v":1}]
[1,1,"112","10_1",2,49,349562.26255806664,109.28999999999996,97.520000000000024,16020.920000000002,109.28999999999996,70.8,11.96,84.9,0.33,6.169999999999999,5.93,5.93,177.90000000000003,179.90000000000003,108.99999999999996,0,11.53,0,0,0.47,7.9600000000000017,0,0.14000000000000001,3.3899999999999992,84.899999999999977,0.33,1.4000000000000001,3.89,0.06,5.93,0.82000000000000006,3,19,266,22,4,0,0,50969,1706,45851,0,0,0,0,0,0,0,0,0,0,0,0,0,45850.51,45850.51,0,0,0,0,0,0,0,0,0,5119,1706,0,0,0,0,0,0,0,1706,3412.88,3412.88,0,0,0,0,0,0,0,0,0,0,0,0,0,0,0,0,0,0,0,0,0,0,0,0,0,0,0,0,0,0,0,0,0,10.1,0,0,0,0,0,0,0,10.1,11.53,11.53,0,0,0,0,0,0,0,0,0,0,0,0,0,0,0,0,0,0,0,0,49,0,0,0,0,0,0,0,0,0,0,0,0,0,0,0,6,0,0,0,0,0,0,5,0,0,null,null,null,null,49,{"$f":"+INDEX($F44:$FS44,1,Sheet3!$C$1)","v":49},{"$f":"+IF(Sheet3!$C$1=1,IF(FW44<3,0,1),1)","v":1}]
[1,1,"112","10_15",1,23,69542.341740874152,20.700000000000003,18.25,2606.7600000000002,20.700000000000003,16.059999999999999,5.56,12.14,0,2.0500000000000003,0.95,0.95,75.649999999999977,76.449999999999974,20.700000000000003,1.28,5.85,0,0,2.2399999999999998,3.21,0,0,0.11,12.14,0,0.3,1.4200000000000004,0.02,0.95,0.31,0,27,76,24,3,0,0,16066,956,13378,0,0,0,0,0,0,0,0,0,0,0,0,0,13378.22,13378.22,0,0,0,0,0,0,0,0,0,2687,955.7,0,0,0,0,0,0,155.69999999999999,800,1731.6,1731.6,0,0,0,0,0,0,0,0,0,0,0,0,0,0,0,0,0,0,0,0,0,0,0,0,0,0,0,0,0,0,0,0,0,6.28,0,0,0,0,0,0,1.28,5,5.85,5.85,0,0,0,0,0,0,0,0,0,0,0,0,0,0,0,0,0,0,0,0,23,0,0,0,0,0,0,0,0,0,0,0,0,0,0,1,2,0,0,0,0,0,0,4,0,0,null,null,null,null,23,{"$f":"+INDEX($F45:$FS45,1,Sheet3!$C$1)","v":23},{"$f":"+IF(Sheet3!$C$1=1,IF(FW45<3,0,1),1)","v":1}]
[1,1,"112","10_15",2,130,1192033.0494758415,195.83999999999997,191.2,38140.94,195.83999999999997,145.15,38.11,133.97999999999999,0,16.739999999999995,7.01,7.0100000000000007,1092.5500000000002,1093.5500000000002,195.48000000000002,3.3500000000000005,29.639999999999997,0,0,1.39,26.760000000000005,0,1.1900000000000002,8.7700000000000014,133.97999999999999,0,3.35,11.44,0.66,7.0100000000000007,1.2900000000000003,18,232,1435,37,6,0,6,119304,5884,105553,0,0,0,0,0,0,0,0,0,0,0,0,0,105552.65,105552.65,0,0,0,0,0,0,0,0,0,13751,5884.5,0,0,0,0,0,0,412.5,5472,7866.6,7866.6,0,0,0,0,0,0,0,0,0,0,0,0,0,0,0,0,0,0,0,0,0,0,0,0,0,0,0,0,0,0,0,0,0,35.549999999999997,0,0,0,0,0,0,3.35,32.200000000000003,26.64,26.64,0,0,0,0,0,0,0,0,0,0,0,0,0,0,0,0,0,0,0,0,130,0,0,0,0,0,0,0,0,0,0,0,0,0,0,3,10,0,0,0,0,0,0,15,0,0,null,null,null,null,130,{"$f":"+INDEX($F46:$FS46,1,Sheet3!$C$1)","v":130},{"$f":"+IF(Sheet3!$C$1=1,IF(FW46<3,0,1),1)","v":1}]
[1,1,"112","10_15",3,5,194581.50538349425,7.52,6.74,1829.5299999999997,7.52,6.91,0.08,7.37,0,7.0000000000000007E-2,0,0,231.2,231.2,7.5200000000000005,0,0,0,0,0,0,0,0,0.08,7.37,0,7.0000000000000007E-2,0,0,0,0,0,18,370,0,0,0,0,4383,0,4383,0,0,0,0,0,0,0,0,0,0,0,0,0,4383.1400000000003,4383.1400000000003,0,0,0,0,0,0,0,0,0,0,0,0,0,0,0,0,0,0,0,0,0,0,0,0,0,0,0,0,0,0,0,0,0,0,0,0,0,0,0,0,0,0,0,0,0,0,0,0,0,0,0,0,0,0,0,0,0,0,0,0,0,0,0,0,0,0,0,0,0,0,0,0,0,0,0,0,0,0,0,0,0,0,0,0,0,5,0,0,0,0,0,0,0,0,0,0,0,0,0,0,0,0,0,0,0,0,0,0,0,0,0,null,null,null,null,5,{"$f":"+INDEX($F47:$FS47,1,Sheet3!$C$1)","v":5},{"$f":"+IF(Sheet3!$C$1=1,IF(FW47<3,0,1),1)","v":1}]
[1,1,"112","10_2",1,38,87219.725079827782,69.849999999999994,63.82,9212.76,85.14,40.299999999999997,5.18,30.05,0.06,1.02,33.31,33.309999999999995,39.400000000000006,39.400000000000006,84.279999999999987,3.4400000000000004,60.830000000000013,0,0,1.17,3.3500000000000005,0,0.02,0.64000000000000012,30.049999999999997,0.06,0.13,1,0,33.309999999999995,0.12000000000000001,0,22,31,0,0,4,0,46603,1097,32209,0,0,0,0,0,0,0,0,0,0,0,0,0,32208.69,32208.69,0,0,0,0,0,0,0,0,0,14395,578.04999999999995,0,0,0,0,0,0,258.05,320,13297.84,13297.84,0,0,0,518.88,518.88,0,0,0,0,0,0,0,0,0,0,0,0,0,0,0,0,0,0,0,0,0,0,0,0,0,0,0,0,4.6500000000000004,0,0,0,0,0,0,2.65,2,45.59,45.59,0,0,0,1.88,1.88,0,0,0,0,0,0,0,0,0,0,0,0,0,0,0,38,0,0,0,0,0,0,0,0,0,0,0,0,0,0,3,2,1,0,0,0,0,0,19,0,0,null,null,null,null,38,{"$f":"+INDEX($F48:$FS48,1,Sheet3!$C$1)","v":38},{"$f":"+IF(Sheet3!$C$1=1,IF(FW48<3,0,1),1)","v":1}]
[1,1,"112","10_2",2,14,73217.059170604218,41.69,36.400000000000006,6287.1000000000013,46.62,24.12,2.86,26.34,0.09,1.4900000000000002,10.74,10.739999999999998,22.4,22.4,46.62,0.71000000000000008,19.580000000000002,0,0,0,2.2200000000000002,0,0.1,0.54,26.34,0.09,0.28000000000000003,0.97,0,10.739999999999998,0.41000000000000003,0,7,26,4,0,0,0,18044,608,13346,0,0,0,0,0,0,0,0,0,0,0,0,0,13346.38,13346.38,0,0,0,0,0,0,0,0,0,4698,412.34,0,0,0,0,0,0,92.34,320,4089.2,4089.2,0,0,0,195.96,195.96,0,0,0,0,0,0,0,0,0,0,0,0,0,0,0,0,0,0,0,0,0,0,0,0,0,0,0,0,2.71,0,0,0,0,0,0,0.71,2,14.65,14.65,0,0,0,0.71,0.71,0,0,0,0,0,0,0,0,0,0,0,0,0,0,0,14,0,0,0,0,0,0,0,0,0,0,0,0,0,0,1,2,1,0,0,0,0,0,4,0,0,null,null,null,null,14,{"$f":"+INDEX($F49:$FS49,1,Sheet3!$C$1)","v":14},{"$f":"+IF(Sheet3!$C$1=1,IF(FW49<3,0,1),1)","v":1}]
[1,1,"112","11",1,103,204726.80578699394,201.95000000000002,150.77000000000004,15548.960000000001,269.67,126.4,10.15,67.14,0.11,4.7299999999999995,118.77,65.300000000000011,130.79999999999995,205.79999999999993,262.39000000000004,14.669999999999998,243.74,0,0,1.2000000000000002,7.4499999999999984,0,9.9999999999999992E-2,1.4000000000000006,67.14,0.11,0.9900000000000001,2.0900000000000007,0.78,118.76999999999995,1.9200000000000002,0,9,9,554,97,107,26,129816,4949,77465,0,0,0,0,0,0,0,0,0,0,0,0,0,77464.63,77464.63,0,0,0,0,0,0,0,0,0,52351,4755.46,0,0,0,0,0,0,1505.46,3250,47402.81,47402.81,0,0,0,193.2,193.2,0,0,0,0,0,0,0,0,0,0,0,0,0,0,0,0,0,0,0,0,0,0,0,0,0,0,0,0,25.51,0,0,0,0,0,0,12.51,13,163.29,163.29,0,0,0,0.7,0.7,0,0,0,0,0,0,0,0,0,0,0,0,0,0,0,103,0,0,0,0,0,0,0,0,0,0,0,0,0,0,7,5,1,0,0,0,0,0,83,0,0,null,null,null,null,103,{"$f":"+INDEX($F50:$FS50,1,Sheet3!$C$1)","v":103},{"$f":"+IF(Sheet3!$C$1=1,IF(FW50<3,0,1),1)","v":1}]
[1,1,"112","11",2,15,76536.907583483451,65.92,34,4498.8499999999995,101.11,24.68,2.65,20.95,0,1.6400000000000001,40.450000000000003,13.799999999999999,23.1,65.099999999999994,101.03,0,82.42,0,0,0.24,1.9300000000000002,0,0.04,0.44,20.950000000000003,0,0.49,0.61,0.13,40.449999999999996,0.64,0,1,4,95,12,19,4,29678,5750,14922,0,0,0,0,0,0,0,0,0,0,0,0,0,14922.33,14922.33,0,0,0,0,0,0,0,0,0,14756,5750,0,0,0,0,0,0,0,5750,9005.92,9005.92,0,0,0,0,0,0,0,0,0,0,0,0,0,0,0,0,0,0,0,0,0,0,0,0,0,0,0,0,0,0,0,0,0,23,0,0,0,0,0,0,0,23,37.22,37.22,0,0,0,0,0,0,0,0,0,0,0,0,0,0,0,0,0,0,0,0,15,0,0,0,0,0,0,0,0,0,0,0,0,0,0,0,3,0,0,0,0,0,0,6,0,0,null,null,null,null,15,{"$f":"+INDEX($F51:$FS51,1,Sheet3!$C$1)","v":15},{"$f":"+IF(Sheet3!$C$1=1,IF(FW51<3,0,1),1)","v":1}]
[1,1,"112","12",1,302,749637.61440176808,421.5199999999997,389.12000000000018,42519.170000000035,439.90999999999963,345.76,129.1,148.91,0.21,46.370000000000026,94.29,88.320000000000064,424.35,438.9500000000001,435.05999999999966,39.71,303.06999999999994,0,0,5.88,101.03,0,2.7899999999999996,19.219999999999981,148.91000000000008,0.21000000000000002,9.6699999999999946,25.81,3.91,94.290000000000063,9.7499999999999947,0,161,243,675,120,44,10,316582,12135,223319,0,0,0,0,0,0,0,0,0,0,0,0,0,223319.16,223319.16,0,0,0,0,0,0,0,0,0,93263,12134.8,0,0,0,0,0,0,4382.8,7752,81127.81,81127.81,0,0,0,0,0,0,0,0,0,0,0,0,0,0,0,0,0,0,0,0,0,0,0,0,0,0,0,0,0,0,0,0,0,86.02,0,0,0,0,0,0,38.57,47.45,275.23,275.23,0,0,0,0,0,0,0,0,0,0,0,0,0,0,0,0,0,0,0,0,302,0,0,0,0,0,0,0,0,0,0,0,0,0,0,28,32,0,0,0,0,0,0,162,0,0,null,null,null,null,302,{"$f":"+INDEX($F52:$FS52,1,Sheet3!$C$1)","v":302},{"$f":"+IF(Sheet3!$C$1=1,IF(FW52<3,0,1),1)","v":1}]
[1,1,"112","12",2,96,608336.3777133628,229.15999999999991,199.58999999999997,25038.300000000007,253.24999999999991,143.69999999999999,75.8,83.4,0.08,25.42,43.5,32.81,289.00000000000011,315.20000000000022,248.22999999999996,10.76,127.78,0,0,0.57000000000000006,53.120000000000005,0,3.1100000000000003,18.909999999999989,83.400000000000034,0.08,4.62,15.570000000000004,1.46,43.500000000000007,4.4399999999999986,0,84,294,165,24,3,0,123500,6565,86621,0,0,0,0,0,0,0,0,0,0,0,0,0,86620.6,86620.6,0,0,0,0,0,0,0,0,0,36879,6565.08,0,0,0,0,0,0,1381.08,5184,30313.83,30313.83,0,0,0,0,0,0,0,0,0,0,0,0,0,0,0,0,0,0,0,0,0,0,0,0,0,0,0,0,0,0,0,0,0,43.16,0,0,0,0,0,0,10.76,32.4,106.9,106.9,0,0,0,0,0,0,0,0,0,0,0,0,0,0,0,0,0,0,0,0,96,0,0,0,0,0,0,0,0,0,0,0,0,0,0,6,15,0,0,0,0,0,0,38,0,0,null,null,null,null,96,{"$f":"+INDEX($F53:$FS53,1,Sheet3!$C$1)","v":96},{"$f":"+IF(Sheet3!$C$1=1,IF(FW53<3,0,1),1)","v":1}]
[1,1,"112","13",1,588,971540.09901723429,725.83999999999878,686.22999999999956,92807.86000000003,725.83999999999878,515.23,28.74,527.92999999999995,8.24,24.889999999999976,136.04,0,0,0,725.04999999999882,51.14,129.30000000000004,0,0,3.02,19.409999999999986,0,0.64,4.5199999999999951,529.07999999999993,8.24,4.55,15.249999999999977,1.2300000000000002,136.03999999999996,3.7399999999999993,0,0,0,0,0,0,0,415558,4259,400845,0,0,0,0,0,0,0,0,0,0,0,0,0,400844.75,400844.75,0,0,0,0,0,0,0,0,0,14713,2752.46,0,0,0,0,0,0,2752.46,0,10453.51,10453.51,0,0,0,1506.96,1506.96,0,0,0,0,0,0,0,0,0,0,0,0,0,0,0,0,0,0,0,0,0,0,0,0,0,0,0,0,23.76,0,0,0,0,0,0,23.76,0,35.54,35.54,0,0,0,5.46,5.46,0,0,0,0,0,0,0,0,0,0,0,0,0,0,0,588,0,0,0,0,0,0,0,0,0,0,0,0,0,0,18,0,1,0,0,0,0,0,47,0,0,null,null,null,null,588,{"$f":"+INDEX($F54:$FS54,1,Sheet3!$C$1)","v":588},{"$f":"+IF(Sheet3!$C$1=1,IF(FW54<3,0,1),1)","v":1}]
[1,1,"112","13",2,103,581084.49934022815,305.90999999999997,281.67999999999989,40168.69,305.90999999999997,244.87,14.23,275.51,0.25,11.379999999999992,4.54,0,0,1.9,305.27000000000004,2.7700000000000005,13.7,0,0,0,10.98,0,0,3.2499999999999996,275.51,0.25,1.8800000000000003,6.8499999999999979,0.69000000000000006,4.54,1.9200000000000006,0,0,0,0,0,0,0,107196,348,104145,0,0,0,0,0,0,0,0,0,0,0,0,0,104145.38,104145.38,0,0,0,0,0,0,0,0,0,3051,348.36,0,0,0,0,0,0,348.36,0,2702.72,2702.72,0,0,0,0,0,0,0,0,0,0,0,0,0,0,0,0,0,0,0,0,0,0,0,0,0,0,0,0,0,0,0,0,0,2.77,0,0,0,0,0,0,2.77,0,17.54,17.54,0,0,0,0,0,0,0,0,0,0,0,0,0,0,0,0,0,0,0,0,103,0,0,0,0,0,0,0,0,0,0,0,0,0,0,1,0,0,0,0,0,0,0,3,0,0,null,null,null,null,103,{"$f":"+INDEX($F55:$FS55,1,Sheet3!$C$1)","v":103},{"$f":"+IF(Sheet3!$C$1=1,IF(FW55<3,0,1),1)","v":1}]
[1,1,"112","15",1,2,1749.2197789598952,1.34,1.3,198.6,1.34,0.68,1.25,0,0,0,0.09,0,0,0,1.3399999999999999,0,0,0,0,0.56000000000000005,0.22,0,0,0.47,0,0,0,0,0,0.09,0,0,0,0,0,0,0,0,985,0,985,0,0,0,0,0,0,0,0,0,0,0,0,0,984.98,984.98,0,0,0,0,0,0,0,0,0,0,0,0,0,0,0,0,0,0,0,0,0,0,0,0,0,0,0,0,0,0,0,0,0,0,0,0,0,0,0,0,0,0,0,0,0,0,0,0,0,0,0,0,0,0,0,0,0,0,0,0,0,0,0,0,0,0,0,0,0,0,0,0,0,0,0,0,0,0,0,0,0,0,0,0,0,2,0,0,0,0,0,0,0,0,0,0,0,0,0,0,0,0,0,0,0,0,0,0,0,0,0,null,null,null,null,0,{"$f":"+INDEX($F56:$FS56,1,Sheet3!$C$1)","v":2},{"$f":"+IF(Sheet3!$C$1=1,IF(FW56<3,0,1),1)","v":0}]
[1,1,"112","4",1,195,483559.85999205703,163.97999999999996,156.96999999999997,19079.130000000005,164.47999999999996,98.73,101.13,22.15,9.39,11.139999999999993,20.100000000000001,0.91,4.6500000000000004,4.6500000000000004,163.99000000000004,5.69,47.110000000000007,0,0,22.29,38.61999999999999,0,2.8500000000000005,37.280000000000015,22.150000000000006,9.3899999999999988,2.8500000000000005,5.8499999999999961,0.19,20.100000000000005,2.410000000000001,0,3,0,7,4,0,0,126198,563,113365,0,0,0,0,0,0,0,0,0,0,0,0,0,113364.85,113364.85,0,0,0,0,0,0,0,0,0,12833,562.79999999999995,0,0,0,0,0,0,562.79999999999995,0,12270.53,12270.53,0,0,0,0,0,0,0,0,0,0,0,0,0,0,0,0,0,0,0,0,0,0,0,0,0,0,0,0,0,0,0,0,0,4.4800000000000004,0,0,0,0,0,0,4.4800000000000004,0,41.66,41.66,0,0,0,0,0,0,0,0,0,0,0,0,0,0,0,0,0,0,0,0,195,0,0,0,0,0,0,0,0,0,0,0,0,0,0,6,0,0,0,0,0,0,0,37,0,0,null,null,null,null,195,{"$f":"+INDEX($F57:$FS57,1,Sheet3!$C$1)","v":195},{"$f":"+IF(Sheet3!$C$1=1,IF(FW57<3,0,1),1)","v":1}]
[1,1,"112","4",2,189,1791285.6036208088,283.32,264.90999999999997,33141.21,283.32,140.69999999999999,181.33,53.3,4.83,24.169999999999987,19.690000000000001,2.81,34.799999999999997,34.799999999999997,279.97000000000003,8.3400000000000016,53.1,0,0,5.43,76.86,0,7.41,91.57999999999997,53.29999999999999,4.83,7.2700000000000005,9.0199999999999978,0.82,19.690000000000001,6.5199999999999987,0,8,43,2,5,2,3,158454,1362,142763,0,0,0,0,0,0,0,0,0,0,0,0,0,142762.79,142762.79,0,0,0,0,0,0,0,0,0,15691,1362.08,0,0,0,0,0,0,1042.08,320,14328.88,14328.88,0,0,0,0,0,0,0,0,0,0,0,0,0,0,0,0,0,0,0,0,0,0,0,0,0,0,0,0,0,0,0,0,0,10.11,0,0,0,0,0,0,8.11,2,48.43,48.43,0,0,0,0,0,0,0,0,0,0,0,0,0,0,0,0,0,0,0,0,189,0,0,0,0,0,0,0,0,0,0,0,0,0,0,7,1,0,0,0,0,0,0,33,0,0,null,null,null,null,189,{"$f":"+INDEX($F58:$FS58,1,Sheet3!$C$1)","v":189},{"$f":"+IF(Sheet3!$C$1=1,IF(FW58<3,0,1),1)","v":1}]
[1,1,"112","4",3,27,989545.68447887525,47.199999999999996,39.960000000000008,4868.0099999999993,47.199999999999996,32.43,33.9,8.4600000000000009,0.48,2.2400000000000002,2.12,1.1299999999999999,14,14,47.03,0.54,7.9900000000000011,0,0,1.03,5.2299999999999995,0,0.12,27.519999999999996,8.4599999999999991,0.48,1.58,0.31,0,2.12,0.35,0,4,18,0,0,0,0,24044,87,21866,0,0,0,0,0,0,0,0,0,0,0,0,0,21866.46,21866.46,0,0,0,0,0,0,0,0,0,2177,87.48,0,0,0,0,0,87.48,0,0,2089.7600000000002,2089.7600000000002,0,0,0,0,0,0,0,0,0,0,0,0,0,0,0,0,0,0,0,0,0,0,0,0,0,0,0,0,0,0,0,0,0,0.54,0,0,0,0,0,0.54,0,0,7.06,7.06,0,0,0,0,0,0,0,0,0,0,0,0,0,0,0,0,0,0,0,0,27,0,0,0,0,0,0,0,0,0,0,0,0,0,1,0,0,0,0,0,0,0,0,5,0,0,null,null,null,null,27,{"$f":"+INDEX($F59:$FS59,1,Sheet3!$C$1)","v":27},{"$f":"+IF(Sheet3!$C$1=1,IF(FW59<3,0,1),1)","v":1}]
[1,1,"112","5",1,39,94740.182407406974,50.810000000000009,44.830000000000013,3884.96,50.810000000000009,36.61,5.03,2.58,1.5,38.479999999999997,3.22,7.0000000000000007E-2,1.3,1.3,51.650000000000006,12.510000000000002,31.690000000000005,0,0,2.14,2.37,0,0,0.52000000000000013,2.5799999999999996,1.5000000000000002,1.2100000000000002,34.99,0.01,3.2199999999999998,0.91000000000000014,0,1,0,0,2,0,0,37685,1454,27727,0,0,0,0,0,0,0,0,0,0,0,0,0,27727.1,27727.1,0,0,0,0,0,0,0,0,0,9958,1453.8,0,231,0,0,0,0,1222.8,0,8504.08,8504.08,0,0,0,0,0,0,0,0,0,0,0,0,0,0,0,0,0,0,0,0,0,0,0,0,0,0,0,0,0,0,0,0,0,10.5,0,2.2000000000000002,0,0,0,0,8.3000000000000007,0,28.73,28.73,0,0,0,0,0,0,0,0,0,0,0,0,0,0,0,0,0,0,0,0,39,0,0,0,0,0,0,0,0,0,2,0,0,0,0,7,0,0,0,0,0,0,0,21,0,0,null,null,null,null,39,{"$f":"+INDEX($F60:$FS60,1,Sheet3!$C$1)","v":39},{"$f":"+IF(Sheet3!$C$1=1,IF(FW60<3,0,1),1)","v":1}]
[1,1,"112","5",2,29,184338.84738569838,87.479999999999976,74.719999999999985,6488.4599999999991,87.479999999999976,70.069999999999993,6.96,3.25,0.76,75.529999999999987,0.98,0,0,0,86.96999999999997,19.380000000000003,48.45,0,0,1.24,4.9999999999999991,0,0,0.61,3.25,0.76,2.27,68.849999999999994,0.05,0.98,1.6800000000000002,0,0,0,0,0,0,0,43268,2622,27231,0,0,0,0,0,0,0,0,0,0,0,0,0,27230.77,27230.77,0,0,0,0,0,0,0,0,0,16037,2621.91,0,706.65,0,0,0,0,1915.26,0,13415.2,13415.2,0,0,0,0,0,0,0,0,0,0,0,0,0,0,0,0,0,0,0,0,0,0,0,0,0,0,0,0,0,0,0,0,0,18.690000000000001,0,6.73,0,0,0,0,11.96,0,46.7,46.7,0,0,0,0,0,0,0,0,0,0,0,0,0,0,0,0,0,0,0,0,29,0,0,0,0,0,0,0,0,0,3,0,0,0,0,5,0,0,0,0,0,0,0,15,0,0,null,null,null,null,29,{"$f":"+INDEX($F61:$FS61,1,Sheet3!$C$1)","v":29},{"$f":"+IF(Sheet3!$C$1=1,IF(FW61<3,0,1),1)","v":1}]
[1,1,"112","6",1,29,54392.398612059726,28.680000000000003,26.49,2572.7900000000004,28.680000000000003,22.21,3.41,1.1299999999999999,2.5,19.409999999999997,2.23,0,0.75,0.75,28.580000000000002,5.21,13.690000000000001,0,0,0.95000000000000007,2.2799999999999998,0,0.04,0.14000000000000001,1.1299999999999999,2.5,18.52,0.47,0.25,2.23,0.02,0,0,0,5,0,0,0,22204,632,18419,0,0,0,0,0,0,0,0,0,0,0,0,0,18419.09,18419.09,0,0,0,0,0,0,0,0,0,3785,632.49,0,177.45,0,0,0,115.02,340.02,0,3152.4,3152.4,0,0,0,0,0,0,0,0,0,0,0,0,0,0,0,0,0,0,0,0,0,0,0,0,0,0,0,0,0,0,0,0,0,4.5999999999999996,0,1.69,0,0,0,0.71,2.2000000000000002,0,10.65,10.65,0,0,0,0,0,0,0,0,0,0,0,0,0,0,0,0,0,0,0,0,29,0,0,0,0,0,0,0,0,0,2,0,0,0,1,3,0,0,0,0,0,0,0,10,0,0,null,null,null,null,29,{"$f":"+INDEX($F62:$FS62,1,Sheet3!$C$1)","v":29},{"$f":"+IF(Sheet3!$C$1=1,IF(FW62<3,0,1),1)","v":1}]
[1,1,"112","6",2,54,584145.05427315575,102.35999999999997,85.060000000000016,6874.1699999999983,102.35999999999997,93.28,14.22,7.03,1.02,77.049999999999983,3.04,1.29,20.8,20.8,101.83999999999996,13.399999999999999,71.000000000000014,0,0,6.98,4.45,0,0.03,2.1800000000000002,7.0299999999999994,1.02,69.180000000000007,3.7,0.51,3.0399999999999991,2.5000000000000004,0,5,7,42,3,32,3,63594,2049,41817,0,0,0,0,0,0,0,0,0,0,0,0,0,41817.46,41817.46,0,0,0,0,0,0,0,0,0,21777,2048.58,0,0,0,0,0,432.54,1616.04,0,19728.16,19728.16,0,0,0,0,0,0,0,0,0,0,0,0,0,0,0,0,0,0,0,0,0,0,0,0,0,0,0,0,0,0,0,0,0,13.4,0,0,0,0,0,2.67,10.73,0,69.36,69.36,0,0,0,0,0,0,0,0,0,0,0,0,0,0,0,0,0,0,0,0,54,0,0,0,0,0,0,0,0,0,0,0,0,0,1,11,0,0,0,0,0,0,0,31,0,0,null,null,null,null,54,{"$f":"+INDEX($F63:$FS63,1,Sheet3!$C$1)","v":54},{"$f":"+IF(Sheet3!$C$1=1,IF(FW63<3,0,1),1)","v":1}]
[1,1,"112","6",3,42,1638351.1130740962,68.88,60.18,5374.5900000000011,68.88,64.81,3.74,1.69,0.76,56.829999999999991,5.86,0.01,0.3,0.3,68.899999999999991,21.060000000000002,62.51,0,0,1.5900000000000003,0.69,0,0.06,1.25,1.69,0.76,51.42,1.8900000000000003,0.23,5.86,1.4500000000000002,0,0,0,2,0,0,0,53207,3488,33538,0,0,0,0,0,0,0,0,0,0,0,0,0,33538.44,33538.44,0,0,0,0,0,0,0,0,0,19669,2985.54,0,256.2,0,0,0,0,2729.34,0,16180.71,16180.71,0,0,0,502.32,502.32,0,0,0,0,0,0,0,0,0,0,0,0,0,0,0,0,0,0,0,0,0,0,0,0,0,0,0,0,19.489999999999998,0,2.44,0,0,0,0,17.05,0,54.98,54.98,0,0,0,1.82,1.82,0,0,0,0,0,0,0,0,0,0,0,0,0,0,0,42,0,0,0,0,0,0,0,0,0,2,0,0,0,0,12,0,2,0,0,0,0,0,37,0,0,null,null,null,null,42,{"$f":"+INDEX($F64:$FS64,1,Sheet3!$C$1)","v":42},{"$f":"+IF(Sheet3!$C$1=1,IF(FW64<3,0,1),1)","v":1}]
[1,1,"112","6",4,1,111836.70568423116,3.8,3.79,323.93,3.8,3.46,0.03,0,0,3.77,0,0,0,0,3.7999999999999989,0,3.7999999999999989,0,0,0,0,0,0,0.03,0,0,3.39,0,0,0,0.04,0,0,0,0,0,0,0,2095,0,1034,0,0,0,0,0,0,0,0,0,0,0,0,0,1034.22,1034.22,0,0,0,0,0,0,0,0,0,1061,0,0,0,0,0,0,0,0,0,1060.8,1060.8,0,0,0,0,0,0,0,0,0,0,0,0,0,0,0,0,0,0,0,0,0,0,0,0,0,0,0,0,0,0,0,0,0,0,0,0,0,0,0,0,0,0,3.8,3.8,0,0,0,0,0,0,0,0,0,0,0,0,0,0,0,0,0,0,0,0,1,0,0,0,0,0,0,0,0,0,0,0,0,0,0,0,0,0,0,0,0,0,0,1,0,0,null,null,null,null,0,{"$f":"+INDEX($F65:$FS65,1,Sheet3!$C$1)","v":1},{"$f":"+IF(Sheet3!$C$1=1,IF(FW65<3,0,1),1)","v":0}]
[1,1,"112","7",1,3,3452.1283810185664,3.5799999999999996,3.2899999999999996,319.94,3.5799999999999996,3.58,0,0.24,0,2.7399999999999998,0.6,0,0,0,3.58,0.84,2.59,0,0,0,0,0,0,0,0.24,0,0,0,2.7399999999999998,0.6,0,0,0,0,0,0,0,0,2892,136,2167,0,0,0,0,0,0,0,0,0,0,0,0,0,2166.9499999999998,2166.9499999999998,0,0,0,0,0,0,0,0,0,725,136.08000000000001,0,0,0,0,0,0,136.08000000000001,0,589.04,589.04,0,0,0,0,0,0,0,0,0,0,0,0,0,0,0,0,0,0,0,0,0,0,0,0,0,0,0,0,0,0,0,0,0,0.84,0,0,0,0,0,0,0.84,0,1.99,1.99,0,0,0,0,0,0,0,0,0,0,0,0,0,0,0,0,0,0,0,0,3,0,0,0,0,0,0,0,0,0,0,0,0,0,0,1,0,0,0,0,0,0,0,2,0,0,null,null,null,null,{"$f":"+FW66*FX66","v":3},{"$f":"+INDEX($F66:$FS66,1,Sheet3!$C$1)","v":3},{"$f":"+IF(Sheet3!$C$1=1,IF(FW66<3,0,1),1)","v":1}]
[1,1,"112","8",1,1531,3054388.9664693112,1816.5499999999911,1714.6499999999962,195047.38999999984,1819.9899999999909,1358.21,950.96,303.48,51.12,337.95000000000005,172.53,21.76,141.65,149.65,1807.099999999992,155.91000000000003,780.71999999999957,0,0,199.41000000000003,603.71000000000049,0,18.079999999999991,126.9999999999998,303.47999999999996,51.120000000000005,74.920000000000059,150.65000000000009,21.889999999999993,172.53000000000006,91.850000000000009,0,52,66,258,64,24,5,1267503,18784,1055693,0,0,0,0,0,0,0,0,0,0,0,0,0,1055693.28,1055693.28,0,0,0,0,0,0,0,0,0,211809,17931.62,0,67.2,0,0,0,0,16424.419999999998,1440,193024.86,193024.86,0,0,0,852.84,852.84,0,0,0,0,0,0,0,0,0,0,0,0,0,0,0,0,0,0,0,0,0,0,0,0,0,0,0,0,134.13999999999999,0,0.64,0,0,0,0,124.5,9,658.83,658.83,0,0,0,3.09,3.09,0,0,0,0,0,0,0,0,0,0,0,0,0,0,0,1531,0,0,0,0,0,0,0,0,0,1,0,0,0,0,118,8,3,0,0,0,0,0,497,0,0,null,null,null,null,1531,{"$f":"+INDEX($F67:$FS67,1,Sheet3!$C$1)","v":1531},{"$f":"+IF(Sheet3!$C$1=1,IF(FW67<3,0,1),1)","v":1}]
[1,1,"112","8",2,280,1680274.5674527877,675.53,607.72999999999968,67378.250000000029,681.4799999999999,522.05999999999995,298.91000000000003,145.51,14.33,184.16,31.35,12.380000000000004,119.15,133.07,673.1999999999997,53.800000000000011,328.58000000000004,0,0,9.7299999999999969,210.59,0,2.9699999999999998,65.120000000000033,146.17000000000002,14.33,50.580000000000005,90.699999999999989,3.59,31.349999999999987,47.499999999999986,0,50,60,192,39,9,1,355739,9705,258655,0,0,0,0,0,0,0,0,0,0,0,0,0,258655.33,258655.33,0,0,0,0,0,0,0,0,0,97084,9704.75,0,278.25,0,0,0,0,6213,3213.5,87378.94,87378.94,0,0,0,0,0,0,0,0,0,0,0,0,0,0,0,0,0,0,0,0,0,0,0,0,0,0,0,0,0,0,0,0,0,63.97,0,2.65,0,0,0,0,45.23,16.09,301.58,301.58,0,0,0,0,0,0,0,0,0,0,0,0,0,0,0,0,0,0,0,0,280,0,0,0,0,0,0,0,0,0,3,0,0,0,0,22,9,0,0,0,0,0,0,133,0,0,null,null,null,null,280,{"$f":"+INDEX($F68:$FS68,1,Sheet3!$C$1)","v":280},{"$f":"+IF(Sheet3!$C$1=1,IF(FW68<3,0,1),1)","v":1}]
[1,1,"112","8",3,2,107125.54467893136,2.27,1.8399999999999999,153.69,2.27,2.27,0.86,0,0.01,1.2999999999999998,0.1,0,0,0,2.27,1.22,2.27,0,0,0,0,0,0,0.86,0,0.01,1.2999999999999998,0,0,0.1,0,0,0,0,0,0,0,0,2139,170,1330,0,0,0,0,0,0,0,0,0,0,0,0,0,1329.72,1329.72,0,0,0,0,0,0,0,0,0,810,170.4,0,0,0,0,0,0,170.4,0,639.36,639.36,0,0,0,0,0,0,0,0,0,0,0,0,0,0,0,0,0,0,0,0,0,0,0,0,0,0,0,0,0,0,0,0,0,1.21,0,0,0,0,0,0,1.21,0,2.16,2.16,0,0,0,0,0,0,0,0,0,0,0,0,0,0,0,0,0,0,0,0,2,0,0,0,0,0,0,0,0,0,0,0,0,0,0,1,0,0,0,0,0,0,0,2,0,0,null,null,null,null,0,{"$f":"+INDEX($F69:$FS69,1,Sheet3!$C$1)","v":2},{"$f":"+IF(Sheet3!$C$1=1,IF(FW69<3,0,1),1)","v":0}]
[1,1,"112","9",1,1,3769.819111885763,0.63,0.5,33.08,0.63,0.63,0,0.63,0,0,0,0,1,1,0.63,0,0,0,0,0,0,0,0,0,0.63,0,0,0,0,0,0,1,0,0,0,0,0,0,492,0,492,0,0,0,0,0,0,0,0,0,0,0,0,0,492.49,492.49,0,0,0,0,0,0,0,0,0,0,0,0,0,0,0,0,0,0,0,0,0,0,0,0,0,0,0,0,0,0,0,0,0,0,0,0,0,0,0,0,0,0,0,0,0,0,0,0,0,0,0,0,0,0,0,0,0,0,0,0,0,0,0,0,0,0,0,0,0,0,0,0,0,0,0,0,0,0,0,0,0,0,0,0,0,1,0,0,0,0,0,0,0,0,0,0,0,0,0,0,0,0,0,0,0,0,0,0,0,0,0,null,null,null,null,0,{"$f":"+INDEX($F70:$FS70,1,Sheet3!$C$1)","v":1},{"$f":"+IF(Sheet3!$C$1=1,IF(FW70<3,0,1),1)","v":0}]
[1,1,"112","9",2,9,75286.448176484948,16.060000000000002,20.060000000000002,3498.3799999999997,16.060000000000002,6.83,2.73,9.0299999999999994,0,0.8,3.5,3.5,40.4,40.4,16.059999999999995,0,0,0,0,0,2.57,0,0,0.16,9.0299999999999994,0,0.12,0.56000000000000005,0,3.5,0.12000000000000001,22,4,26,0,0,0,0,7586,0,7586,0,0,0,0,0,0,0,0,0,0,0,0,0,7586.33,7586.33,0,0,0,0,0,0,0,0,0,0,0,0,0,0,0,0,0,0,0,0,0,0,0,0,0,0,0,0,0,0,0,0,0,0,0,0,0,0,0,0,0,0,0,0,0,0,0,0,0,0,0,0,0,0,0,0,0,0,0,0,0,0,0,0,0,0,0,0,0,0,0,0,0,0,0,0,0,0,0,0,0,0,0,0,0,9,0,0,0,0,0,0,0,0,0,0,0,0,0,0,0,0,0,0,0,0,0,0,0,0,0,null,null,null,null,9,{"$f":"+INDEX($F71:$FS71,1,Sheet3!$C$1)","v":9},{"$f":"+IF(Sheet3!$C$1=1,IF(FW71<3,0,1),1)","v":1}]
[1,1,"112","9",3,1,31475.492260869556,1.58,1.01,344.93,1.58,1.58,0.19,1.32,0,7.0000000000000007E-2,0,0,12.4,12.4,1.5800000000000003,0,0,0,0,0,0,0,0,0.19,1.32,0,0,0,0,0,7.0000000000000007E-2,10,0,5,0,0,0,0,837,0,837,0,0,0,0,0,0,0,0,0,0,0,0,0,837.23,837.23,0,0,0,0,0,0,0,0,0,0,0,0,0,0,0,0,0,0,0,0,0,0,0,0,0,0,0,0,0,0,0,0,0,0,0,0,0,0,0,0,0,0,0,0,0,0,0,0,0,0,0,0,0,0,0,0,0,0,0,0,0,0,0,0,0,0,0,0,0,0,0,0,0,0,0,0,0,0,0,0,0,0,0,0,0,1,0,0,0,0,0,0,0,0,0,0,0,0,0,0,0,0,0,0,0,0,0,0,0,0,0,null,null,null,null,0,{"$f":"+INDEX($F72:$FS72,1,Sheet3!$C$1)","v":1},{"$f":"+IF(Sheet3!$C$1=1,IF(FW72<3,0,1),1)","v":0}]
[1,1,"119","0",5,3,0,1.69,5.15,345.24,1.69,1.69,0,1.69,0,0,0,0,33.6,292.10000000000002,5.23,0,1.69,0,0,0,0,0,0,0,1.69,0,0,0,0,0,0,0,4,45,0,0,0,0,2864,0,2364,0,0,0,0,0,0,0,0,0,0,0,0,0,2363.94,2363.94,0,0,0,0,0,0,0,0,0,500,0,0,0,0,0,0,0,0,0,500.24,500.24,0,0,0,0,0,0,0,0,0,0,0,0,0,0,0,0,0,0,0,0,0,0,0,0,0,0,0,0,0,0,0,0,0,0,0,0,0,0,0,0,0,0,1.69,1.69,0,0,0,0,0,0,0,0,0,0,0,0,0,0,0,0,0,0,0,0,3,0,0,0,0,0,0,0,0,0,0,0,0,0,0,0,0,0,0,0,0,0,0,1,0,0,null,null,null,null,3,{"$f":"+INDEX($F73:$FS73,1,Sheet3!$C$1)","v":3},{"$f":"+IF(Sheet3!$C$1=1,IF(FW73<3,0,1),1)","v":1}]
[1,1,"119","1_1",1,331,478204.37824137911,469.9500000000001,452.1599999999998,47026.730000000032,469.9500000000001,448.52,288.27,68.28,15.01,17.519999999999992,80.87,0.41,4.95,4.95,468.71000000000021,123.76999999999998,227.68000000000006,0,0,5.98,271.72000000000008,0,1.6900000000000002,8.7399999999999931,68.280000000000044,15.010000000000002,2.56,9.6999999999999904,2.6700000000000004,80.869999999999948,2.5299999999999998,0,3,1,8,1,0,0,289109,9966,244951,0,0,0,0,0,0,0,0,0,0,0,0,0,244950.84,244950.84,0,0,0,0,0,0,0,0,0,44159,9965.67,0,0,0,0,0,0,9965.67,0,34192.949999999997,34192.949999999997,0,0,0,0,0,0,0,0,0,0,0,0,0,0,0,0,0,0,0,0,0,0,0,0,0,0,0,0,0,0,0,0,0,83.74,0,0,0,0,0,0,83.74,0,121.45,121.45,0,0,0,0,0,0,0,0,0,0,0,0,0,0,0,0,0,0,0,0,331,0,0,0,0,0,0,0,0,0,0,0,0,0,0,71,0,0,0,0,0,0,0,124,0,0,null,null,null,null,331,{"$f":"+INDEX($F74:$FS74,1,Sheet3!$C$1)","v":331},{"$f":"+IF(Sheet3!$C$1=1,IF(FW74<3,0,1),1)","v":1}]
[1,1,"119","1_1",2,12,56581.205323788701,46.730000000000004,35.22,5095.329999999999,46.730000000000004,44.66,44.1,1.05,0.24,0.94,0.4,0,0,0,46.67,0,3.7600000000000002,0,0,0,43.96,0,0,0.14000000000000001,1.05,0.24,0.19,0.62000000000000011,0,0.4,0.13,0,0,0,0,0,0,0,12687,0,11635,0,0,0,0,0,0,0,0,0,0,0,0,0,11635.2,11635.2,0,0,0,0,0,0,0,0,0,1052,0,0,0,0,0,0,0,0,0,1052.1600000000001,1052.1600000000001,0,0,0,0,0,0,0,0,0,0,0,0,0,0,0,0,0,0,0,0,0,0,0,0,0,0,0,0,0,0,0,0,0,0,0,0,0,0,0,0,0,0,3.76,3.76,0,0,0,0,0,0,0,0,0,0,0,0,0,0,0,0,0,0,0,0,12,0,0,0,0,0,0,0,0,0,0,0,0,0,0,0,0,0,0,0,0,0,0,1,0,0,null,null,null,null,12,{"$f":"+INDEX($F75:$FS75,1,Sheet3!$C$1)","v":12},{"$f":"+IF(Sheet3!$C$1=1,IF(FW75<3,0,1),1)","v":1}]
[1,1,"119","1_1",3,1,36741.746800000001,2.4300000000000002,2.4300000000000002,207.69,2.4300000000000002,2.4300000000000002,0.43,1.2,0,0.8,0,0,0,0,2.4300000000000002,1.6300000000000001,2.4300000000000002,0,0,0,0,0,0,0.43,1.2,0,0,0,0,0,0.8,0,0,0,0,0,0,0,1594,196,1034,0,0,0,0,0,0,0,0,0,0,0,0,0,1034.22,1034.22,0,0,0,0,0,0,0,0,0,560,195.6,0,0,0,0,0,0,195.6,0,364.08,364.08,0,0,0,0,0,0,0,0,0,0,0,0,0,0,0,0,0,0,0,0,0,0,0,0,0,0,0,0,0,0,0,0,0,1.63,0,0,0,0,0,0,1.63,0,1.23,1.23,0,0,0,0,0,0,0,0,0,0,0,0,0,0,0,0,0,0,0,0,1,0,0,0,0,0,0,0,0,0,0,0,0,0,0,1,0,0,0,0,0,0,0,1,0,0,null,null,null,null,0,{"$f":"+INDEX($F76:$FS76,1,Sheet3!$C$1)","v":1},{"$f":"+IF(Sheet3!$C$1=1,IF(FW76<3,0,1),1)","v":0}]
[1,1,"119","1_1",4,1,122464.13945487815,3.16,3.16,257.95,3.16,2.97,1.97,0.27,0,0.69,0.23,0,0,0,3.1600000000000006,0.59000000000000008,3.1600000000000006,0,0,0,0,0,0,1.97,0.27,0,0.2,0,0,0.23,0.3,0,0,0,0,0,0,0,1879,58,1034,0,0,0,0,0,0,0,0,0,0,0,0,0,1034.22,1034.22,0,0,0,0,0,0,0,0,0,845,57.6,0,0,0,0,0,0,57.6,0,787.36,787.36,0,0,0,0,0,0,0,0,0,0,0,0,0,0,0,0,0,0,0,0,0,0,0,0,0,0,0,0,0,0,0,0,0,0.48,0,0,0,0,0,0,0.48,0,2.66,2.66,0,0,0,0,0,0,0,0,0,0,0,0,0,0,0,0,0,0,0,0,1,0,0,0,0,0,0,0,0,0,0,0,0,0,0,1,0,0,0,0,0,0,0,1,0,0,null,null,null,null,0,{"$f":"+INDEX($F77:$FS77,1,Sheet3!$C$1)","v":1},{"$f":"+IF(Sheet3!$C$1=1,IF(FW77<3,0,1),1)","v":0}]
[1,1,"119","1_2",1,117,174371.22165642609,141.94999999999996,132.51999999999998,15837.529999999997,141.94999999999996,5.71,109.12,14.55,2.0099999999999998,12.739999999999997,3.53,0,3.5,3.5,139.26,6.5400000000000009,8.66,0,0,5.71,101.78000000000007,0,0.33,1.3000000000000003,14.55,2.0100000000000002,1.5900000000000003,9.5399999999999991,0.12,3.53,1.4900000000000004,0,2,2,2,0,0,0,81892,681,79027,0,0,0,0,0,0,0,0,0,0,0,0,0,79027.210000000006,79027.210000000006,0,0,0,0,0,0,0,0,0,2865,680.64,0,0,0,0,0,0,680.64,0,2184.48,2184.48,0,0,0,0,0,0,0,0,0,0,0,0,0,0,0,0,0,0,0,0,0,0,0,0,0,0,0,0,0,0,0,0,0,5.63,0,0,0,0,0,0,5.63,0,7.38,7.38,0,0,0,0,0,0,0,0,0,0,0,0,0,0,0,0,0,0,0,0,117,0,0,0,0,0,0,0,0,0,0,0,0,0,0,5,0,0,0,0,0,0,0,6,0,0,null,null,null,null,117,{"$f":"+INDEX($F78:$FS78,1,Sheet3!$C$1)","v":117},{"$f":"+IF(Sheet3!$C$1=1,IF(FW78<3,0,1),1)","v":1}]
[1,1,"119","1_2",2,2,9620.6060346846571,5.9,5.76,621.28,5.9,0.12,3.62,1.77,0,0.51,0,0,0,0,5.9,0,0,0,0,0,3.5,0,0,0.12,1.77,0,0.12,0.39,0,0,0,0,0,0,0,0,0,0,2068,0,2068,0,0,0,0,0,0,0,0,0,0,0,0,0,2068.44,2068.44,0,0,0,0,0,0,0,0,0,0,0,0,0,0,0,0,0,0,0,0,0,0,0,0,0,0,0,0,0,0,0,0,0,0,0,0,0,0,0,0,0,0,0,0,0,0,0,0,0,0,0,0,0,0,0,0,0,0,0,0,0,0,0,0,0,0,0,0,0,0,0,0,0,0,0,0,0,0,0,0,0,0,0,0,0,2,0,0,0,0,0,0,0,0,0,0,0,0,0,0,0,0,0,0,0,0,0,0,0,0,0,null,null,null,null,0,{"$f":"+INDEX($F79:$FS79,1,Sheet3!$C$1)","v":2},{"$f":"+IF(Sheet3!$C$1=1,IF(FW79<3,0,1),1)","v":0}]
[1,1,"119","1_2",3,1,94983.26715541615,4.25,2.11,172.61,4.25,1.5,1.5,2.6,0,0.15,0,0,0,0,4.25,0,0,0,0,0,0,0,0,1.5,2.6,0,0.15,0,0,0,0,0,0,0,0,0,0,0,1034,0,1034,0,0,0,0,0,0,0,0,0,0,0,0,0,1034.22,1034.22,0,0,0,0,0,0,0,0,0,0,0,0,0,0,0,0,0,0,0,0,0,0,0,0,0,0,0,0,0,0,0,0,0,0,0,0,0,0,0,0,0,0,0,0,0,0,0,0,0,0,0,0,0,0,0,0,0,0,0,0,0,0,0,0,0,0,0,0,0,0,0,0,0,0,0,0,0,0,0,0,0,0,0,0,0,1,0,0,0,0,0,0,0,0,0,0,0,0,0,0,0,0,0,0,0,0,0,0,0,0,0,null,null,null,null,0,{"$f":"+INDEX($F80:$FS80,1,Sheet3!$C$1)","v":1},{"$f":"+IF(Sheet3!$C$1=1,IF(FW80<3,0,1),1)","v":0}]
[1,1,"119","10_1",1,53,132896.47503082996,107.19000000000001,93.04000000000002,9890.6,127.7,85.44,8.5,34.130000000000003,0,3.9200000000000004,60.58,60.58,142.30000000000001,142.30000000000001,119.82,69.809999999999988,107.63,0,0,0.05,7.1300000000000008,0,0.2,1.1200000000000003,34.129999999999995,0,0.27999999999999997,2.1100000000000003,0.80999999999999994,60.58,0.78,0,106,70,1,1,3,1,90011,17984,44176,0,0,0,0,0,0,0,0,0,0,0,0,0,44176.11,44176.11,0,0,0,0,0,0,0,0,0,45835,17984.29,0,0,0,0,6648.83,0,4103.46,7232,27850.74,27850.74,0,0,0,0,0,0,0,0,0,0,0,0,0,0,0,0,0,0,0,0,0,0,0,0,0,0,0,0,0,0,0,0,0,111.23,0,0,0,0,29.41,0,39.619999999999997,42.2,95,95,0,0,0,0,0,0,0,0,0,0,0,0,0,0,0,0,0,0,0,0,53,0,0,0,0,0,0,0,0,0,0,0,0,19,0,27,20,0,0,0,0,0,0,42,0,0,null,null,null,null,53,{"$f":"+INDEX($F81:$FS81,1,Sheet3!$C$1)","v":53},{"$f":"+IF(Sheet3!$C$1=1,IF(FW81<3,0,1),1)","v":1}]
[1,1,"119","10_1",2,18,110337.66426119352,51.88000000000001,39.53,5381.3700000000008,60.27000000000001,27.07,4.74,30.11,0,2.85,14.18,14.18,70,70,60.27000000000001,14.74,33.46,0,0,0,4.21,0,0.04,0.49,30.109999999999996,0,0.1,2.4899999999999998,0,14.18,0.14000000000000001,1,25,74,8,2,2,0,27247,3312,17089,0,0,0,0,0,0,0,0,0,0,0,0,0,17089.28,17089.28,0,0,0,0,0,0,0,0,0,10158,3311.98,0,0,0,0,650.9,0,1381.08,1280,6845.52,6845.52,0,0,0,0,0,0,0,0,0,0,0,0,0,0,0,0,0,0,0,0,0,0,0,0,0,0,0,0,0,0,0,0,0,22.74,0,0,0,0,3.49,0,11.25,8,25.07,25.07,0,0,0,0,0,0,0,0,0,0,0,0,0,0,0,0,0,0,0,0,18,0,0,0,0,0,0,0,0,0,0,0,0,2,0,6,4,0,0,0,0,0,0,7,0,0,null,null,null,null,18,{"$f":"+INDEX($F82:$FS82,1,Sheet3!$C$1)","v":18},{"$f":"+IF(Sheet3!$C$1=1,IF(FW82<3,0,1),1)","v":1}]
[1,1,"119","10_15",1,22,53993.354653499424,19.53,20.059999999999999,2728.28,19.53,15.03,5.41,8.31,0,0.76,5.05,5.05,69.55,69.55,19.53,6.32,9.5299999999999994,0,0,0.75,4.41,0,0,0.25,8.3099999999999987,0,0.19999999999999998,0.56000000000000005,0,5.05,0,0,32,64,5,0,0,0,18746,2825,13100,0,0,0,0,0,0,0,0,0,0,0,0,0,13100.21,13100.21,0,0,0,0,0,0,0,0,0,5646,2824.99,0,0,0,0,68.67,0,676.32,2080,2820.88,2820.88,0,0,0,0,0,0,0,0,0,0,0,0,0,0,0,0,0,0,0,0,0,0,0,0,0,0,0,0,0,0,0,0,0,18.32,0,0,0,0,0.74,0,5.58,12,9.5299999999999994,9.5299999999999994,0,0,0,0,0,0,0,0,0,0,0,0,0,0,0,0,0,0,0,0,22,0,0,0,0,0,0,0,0,0,0,0,0,1,0,6,6,0,0,0,0,0,0,7,0,0,null,null,null,null,22,{"$f":"+INDEX($F83:$FS83,1,Sheet3!$C$1)","v":22},{"$f":"+IF(Sheet3!$C$1=1,IF(FW83<3,0,1),1)","v":1}]
[1,1,"119","10_15",2,27,208554.92402746616,43.86,43.029999999999994,6797.4599999999991,43.86,31.06,8.6,27.57,0,2.6400000000000006,5.05,5.05,218.49999999999994,225.49999999999994,43.820000000000007,11.21,13.5,0,0,0,7.6599999999999984,0,0,0.94,27.569999999999997,0,0.09,2.25,0,5.05,0.28000000000000003,2,55,262,12,3,4,3,28099,2248,21868,0,0,0,0,0,0,0,0,0,0,0,0,0,21868.48,21868.48,0,0,0,0,0,0,0,0,0,6231,2247.58,0,0,0,0,0,0,1127.58,1120,3983.2,3983.2,0,0,0,0,0,0,0,0,0,0,0,0,0,0,0,0,0,0,0,0,0,0,0,0,0,0,0,0,0,0,0,0,0,16.329999999999998,0,0,0,0,0,0,9.33,7,13.5,13.5,0,0,0,0,0,0,0,0,0,0,0,0,0,0,0,0,0,0,0,0,27,0,0,0,0,0,0,0,0,0,0,0,0,0,0,6,2,0,0,0,0,0,0,7,0,0,null,null,null,null,27,{"$f":"+INDEX($F84:$FS84,1,Sheet3!$C$1)","v":27},{"$f":"+IF(Sheet3!$C$1=1,IF(FW84<3,0,1),1)","v":1}]
[1,1,"119","10_2",1,87,204082.63700351637,281.82999999999993,179.47,18618.38,439.88,114.81,5.09,51.13,0,2.5500000000000007,221.96,207.07,122.70000000000003,123.70000000000003,417.67000000000007,81.289999999999992,398.18999999999994,0,0,0.19,4.1400000000000006,0,0.06,0.70000000000000018,51.129999999999988,0,0.68,2.21,0.5,221.95999999999998,0.26,0,91,56,9,1,0,0,161135,13381,77488,0,0,0,0,0,0,0,0,0,0,0,0,0,77487.679999999993,77487.679999999993,0,0,0,0,0,0,0,0,0,83648,13380.61,0,0,0,0,5743.32,0,4501.29,3136,70266.960000000006,70266.960000000006,0,0,0,0,0,0,0,0,0,0,0,0,0,0,0,0,0,0,0,0,0,0,0,0,0,0,0,0,0,0,0,0,0,100.87,0,0,0,0,25.19,0,56.08,19.600000000000001,251.61,251.61,0,0,0,0,0,0,0,0,0,0,0,0,0,0,0,0,0,0,0,0,87,0,0,0,0,0,0,0,0,0,0,0,0,15,0,26,16,0,0,0,0,0,0,75,0,0,null,null,null,null,87,{"$f":"+INDEX($F85:$FS85,1,Sheet3!$C$1)","v":87},{"$f":"+IF(Sheet3!$C$1=1,IF(FW85<3,0,1),1)","v":1}]
[1,1,"119","10_2",2,17,91103.388062945858,90.65,39.75,4571.91,149.87,22.31,3.13,21.01,0,1.03,64.7,64.7,40.000000000000007,40.000000000000007,148.56,12.18,135.76000000000002,0,0,0,2.81,0,0,0.32,21.01,0,0,1.4100000000000001,0,64.7,0.4,1,19,33,0,0,0,0,38738,3831,14972,0,0,0,0,0,0,0,0,0,0,0,0,0,14971.6,14971.6,0,0,0,0,0,0,0,0,0,23767,3831.06,0,0,0,0,720.48,0,1094.58,2016,19935.599999999999,19935.599999999999,0,0,0,0,0,0,0,0,0,0,0,0,0,0,0,0,0,0,0,0,0,0,0,0,0,0,0,0,0,0,0,0,0,21.78,0,0,0,0,3.16,0,9.02,9.6,77.849999999999994,77.849999999999994,0,0,0,0,0,0,0,0,0,0,0,0,0,0,0,0,0,0,0,0,17,0,0,0,0,0,0,0,0,0,0,0,0,3,0,5,5,0,0,0,0,0,0,13,0,0,null,null,null,null,17,{"$f":"+INDEX($F86:$FS86,1,Sheet3!$C$1)","v":17},{"$f":"+IF(Sheet3!$C$1=1,IF(FW86<3,0,1),1)","v":1}]
[1,1,"119","11",1,227,503032.71500158403,713.81999999999971,393.11999999999989,34727.219999999987,1184.68,243.08,9.57,102.76,0,4.7700000000000005,591.32000000000005,209.25999999999996,176.54999999999998,375.10600000000005,1158.3000000000004,139.06999999999996,1136.5000000000007,0,0,0.76,6.3900000000000006,0,0.30000000000000004,2.1200000000000006,102.76000000000002,0,2.1600000000000006,3.8799999999999994,2.08,591.3199999999996,2.0300000000000007,0,8,8,814,102,150,23,408653,29315,191695,0,0,0,0,0,0,0,0,0,0,0,0,0,191695.49,191695.49,0,0,0,0,0,0,0,0,0,216958,28965.18,0,0,0,0,8700.48,0,10334.700000000001,9930,187642.68,187642.68,0,0,0,350,0,0,0,350,0,0,0,0,0,0,0,0,0,0,0,0,0,0,0,0,0,0,0,0,0,0,0,0,0,180.25,0,0,0,0,38.159999999999997,0,99.18,42.91,680.88,680.88,0,0,0,3.15,0,0,0,3.15,0,0,0,0,0,0,0,0,0,0,0,0,227,0,0,0,0,0,0,0,0,0,0,0,0,34,0,68,21,0,0,0,1,0,0,202,0,0,null,null,null,null,227,{"$f":"+INDEX($F87:$FS87,1,Sheet3!$C$1)","v":227},{"$f":"+IF(Sheet3!$C$1=1,IF(FW87<3,0,1),1)","v":1}]
[1,1,"119","11",2,21,129196.20293480702,166.42999999999995,55.67,5073.95,274.58999999999997,27.45,0.35,23.95,0,0.67,139.97,38.33,22.349999999999998,104.35,274.38,22.06,264.78999999999996,0,0,0,0.09,0,0,0.26,23.950000000000003,0,0.01,1.01,0.69000000000000006,139.97,0.43,0,3,7,30,4,62,5,68839,17419,18465,0,0,0,0,0,0,0,0,0,0,0,0,0,18464.52,18464.52,0,0,0,0,0,0,0,0,0,50375,17069.46,0,0,0,0,1662.12,0,1775.34,13632,32955.480000000003,32955.480000000003,0,0,0,350,0,0,0,350,0,0,0,0,0,0,0,0,0,0,0,0,0,0,0,0,0,0,0,0,0,0,0,0,0,78.010000000000005,0,0,0,0,7.29,0,14.77,55.95,156.44,156.44,0,0,0,3,0,0,0,3,0,0,0,0,0,0,0,0,0,0,0,0,21,0,0,0,0,0,0,0,0,0,0,0,0,4,0,8,7,0,0,0,1,0,0,17,0,0,null,null,null,null,21,{"$f":"+INDEX($F88:$FS88,1,Sheet3!$C$1)","v":21},{"$f":"+IF(Sheet3!$C$1=1,IF(FW88<3,0,1),1)","v":1}]
[1,1,"119","12",1,205,480902.13953342702,336.10999999999984,311.28999999999991,32108.810000000009,371.71000000000004,290.69,89.01,92.65,0.04,28.080000000000005,121.44,95.07,275,305.69999999999993,357.49999999999994,163.21000000000004,293.61999999999989,0,0,1.3800000000000001,74.829999999999984,0,0.77000000000000013,12.02999999999999,92.649999999999991,0.04,3.16,20.759999999999991,3.0199999999999996,121.44,5.629999999999999,0,122,113,483,58,64,7,259764,24066,158301,0,0,0,0,0,0,0,0,0,0,0,0,0,158301.35,158301.35,0,0,0,0,0,0,0,0,0,101463,24066.23,0,0,0,0,6491.45,0,14348.78,3226,77396.72,77396.72,0,0,0,0,0,0,0,0,0,0,0,0,0,0,0,0,0,0,0,0,0,0,0,0,0,0,0,0,0,0,0,0,0,176.25,0,0,0,0,28.52,0,128.13,19.600000000000001,264.16000000000003,264.16000000000003,0,0,0,0,0,0,0,0,0,0,0,0,0,0,0,0,0,0,0,0,205,0,0,0,0,0,0,0,0,0,0,0,0,26,0,89,13,0,0,0,0,0,0,135,0,0,null,null,null,null,205,{"$f":"+INDEX($F89:$FS89,1,Sheet3!$C$1)","v":205},{"$f":"+IF(Sheet3!$C$1=1,IF(FW89<3,0,1),1)","v":1}]
[1,1,"119","12",2,55,316060.74378448498,162.44999999999999,117.61,12533.58,200.84000000000003,89.98,39.450000000000003,43.85,0,14.219999999999997,60.35,36.63000000000001,165.05,181.85,199.79000000000005,53.71,145.57000000000002,0,0,0,32.180000000000007,0,0.16999999999999998,7.1000000000000005,43.849999999999994,0,1.9600000000000002,15.819999999999997,0.2,60.350000000000009,0.57999999999999996,2,58,125,128,10,8,1,88902,9677,49330,0,0,0,0,0,0,0,0,0,0,0,0,0,49329.69,49329.69,0,0,0,0,0,0,0,0,0,39572,9677.32,0,0,0,0,1613.45,0,5053.87,3010,29894.6,29894.6,0,0,0,0,0,0,0,0,0,0,0,0,0,0,0,0,0,0,0,0,0,0,0,0,0,0,0,0,0,0,0,0,0,66.44,0,0,0,0,7.33,0,40.86,18.25,108.23,108.23,0,0,0,0,0,0,0,0,0,0,0,0,0,0,0,0,0,0,0,0,55,0,0,0,0,0,0,0,0,0,0,0,0,6,0,23,8,0,0,0,0,0,0,30,0,0,null,null,null,null,55,{"$f":"+INDEX($F90:$FS90,1,Sheet3!$C$1)","v":55},{"$f":"+IF(Sheet3!$C$1=1,IF(FW90<3,0,1),1)","v":1}]
[1,1,"119","13",1,438,540345.98929531313,653.03000000000031,648.34000000000015,69857.169999999925,653.03000000000031,481.81,11.5,372.67,4.76,17.569999999999986,246.53,0,0,0,653.08000000000038,119.45000000000002,228.61999999999998,0,0,0.16,9.0799999999999983,0,0.29000000000000004,1.9700000000000009,372.67000000000013,4.76,2.92,10.729999999999995,1.83,246.52999999999992,2.0800000000000005,0,0,0,0,0,0,0,338021,10594,321901,0,0,0,0,0,0,0,0,0,0,0,0,0,321901.46000000002,321901.46000000002,0,0,0,0,0,0,0,0,0,16120,10594.08,0,0,0,0,0,0,10594.08,0,5525.88,5525.88,0,0,0,0,0,0,0,0,0,0,0,0,0,0,0,0,0,0,0,0,0,0,0,0,0,0,0,0,0,0,0,0,0,89.31,0,0,0,0,0,0,89.31,0,18.72,18.72,0,0,0,0,0,0,0,0,0,0,0,0,0,0,0,0,0,0,0,0,438,0,0,0,0,0,0,0,0,0,0,0,0,0,0,70,0,0,0,0,0,0,0,72,0,0,null,null,null,null,438,{"$f":"+INDEX($F91:$FS91,1,Sheet3!$C$1)","v":438},{"$f":"+IF(Sheet3!$C$1=1,IF(FW91<3,0,1),1)","v":1}]
[1,1,"119","13",2,60,344390.35088684969,183.89,169.59000000000003,20836.189999999995,183.89,82.63,4.99,169.09,0,8.16,1.65,0,0,0,181.95,5.0600000000000005,2.76,0,0,0,3.6199999999999997,0,0.72,0.65,169.08999999999997,0,1.7500000000000002,6.129999999999999,0.13,1.6500000000000001,0.11000000000000001,0,0,0,0,0,0,0,62720,607,61352,0,0,0,0,0,0,0,0,0,0,0,0,0,61352.07,61352.07,0,0,0,0,0,0,0,0,0,1368,607.20000000000005,0,0,0,0,0,0,607.20000000000005,0,760.72,760.72,0,0,0,0,0,0,0,0,0,0,0,0,0,0,0,0,0,0,0,0,0,0,0,0,0,0,0,0,0,0,0,0,0,5.0599999999999996,0,0,0,0,0,0,5.0599999999999996,0,2.57,2.57,0,0,0,0,0,0,0,0,0,0,0,0,0,0,0,0,0,0,0,0,60,0,0,0,0,0,0,0,0,0,0,0,0,0,0,2,0,0,0,0,0,0,0,1,0,0,null,null,null,null,60,{"$f":"+INDEX($F92:$FS92,1,Sheet3!$C$1)","v":60},{"$f":"+IF(Sheet3!$C$1=1,IF(FW92<3,0,1),1)","v":1}]
[1,1,"119","15",1,1,2460.38980421819,1.0900000000000001,1.01,301.17,1.0900000000000001,0,0.92,0,0,0.17,0,0,0,0,1.0899999999999999,0,0,0,0,0,0.32,0,0,0.6,0,0,0,0.17,0,0,0,0,0,0,0,0,0,0,837,0,837,0,0,0,0,0,0,0,0,0,0,0,0,0,837.23,837.23,0,0,0,0,0,0,0,0,0,0,0,0,0,0,0,0,0,0,0,0,0,0,0,0,0,0,0,0,0,0,0,0,0,0,0,0,0,0,0,0,0,0,0,0,0,0,0,0,0,0,0,0,0,0,0,0,0,0,0,0,0,0,0,0,0,0,0,0,0,0,0,0,0,0,0,0,0,0,0,0,0,0,0,0,0,1,0,0,0,0,0,0,0,0,0,0,0,0,0,0,0,0,0,0,0,0,0,0,0,0,0,null,null,null,null,0,{"$f":"+INDEX($F93:$FS93,1,Sheet3!$C$1)","v":1},{"$f":"+IF(Sheet3!$C$1=1,IF(FW93<3,0,1),1)","v":0}]
[1,1,"119","3",2,1,17245.091911201202,2.02,1.97,407.39,2.02,1.93,1.93,0,0,0.09,0,0,0,0,2.02,0,0,0,0,0,0,0,0,1.93,0,0,0,0,0,0,0.09,0,0,0,0,0,0,0,837,0,837,0,0,0,0,0,0,0,0,0,0,0,0,0,837.23,837.23,0,0,0,0,0,0,0,0,0,0,0,0,0,0,0,0,0,0,0,0,0,0,0,0,0,0,0,0,0,0,0,0,0,0,0,0,0,0,0,0,0,0,0,0,0,0,0,0,0,0,0,0,0,0,0,0,0,0,0,0,0,0,0,0,0,0,0,0,0,0,0,0,0,0,0,0,0,0,0,0,0,0,0,0,0,1,0,0,0,0,0,0,0,0,0,0,0,0,0,0,0,0,0,0,0,0,0,0,0,0,0,null,null,null,null,0,{"$f":"+INDEX($F94:$FS94,1,Sheet3!$C$1)","v":1},{"$f":"+IF(Sheet3!$C$1=1,IF(FW94<3,0,1),1)","v":0}]
[1,1,"119","4",1,53,116618.23356199576,47.6,47.25,4729.7100000000009,47.6,42.52,16.989999999999998,7.99,4.6500000000000004,1.8500000000000003,16.12,1.6300000000000001,3.1999999999999997,3.1999999999999997,48.870000000000005,12.719999999999999,20.120000000000005,0,0,0.48000000000000004,7.1899999999999995,0,0.25,9.0699999999999985,7.990000000000002,4.6499999999999995,0.31,0.69000000000000006,0.67999999999999994,16.119999999999997,0.16999999999999998,0,2,0,5,1,2,0,35093,1181,31453,0,0,0,0,0,0,0,0,0,0,0,0,0,31452.57,31452.57,0,0,0,0,0,0,0,0,0,3641,1181.0999999999999,0,0,0,0,250.8,0,930.3,0,2459.7600000000002,2459.7600000000002,0,0,0,0,0,0,0,0,0,0,0,0,0,0,0,0,0,0,0,0,0,0,0,0,0,0,0,0,0,0,0,0,0,8.59,0,0,0,0,1.1000000000000001,0,7.49,0,8.31,8.31,0,0,0,0,0,0,0,0,0,0,0,0,0,0,0,0,0,0,0,0,53,0,0,0,0,0,0,0,0,0,0,0,0,2,0,10,0,0,0,0,0,0,0,14,0,0,null,null,null,null,53,{"$f":"+INDEX($F95:$FS95,1,Sheet3!$C$1)","v":53},{"$f":"+IF(Sheet3!$C$1=1,IF(FW95<3,0,1),1)","v":1}]
[1,1,"119","4",2,46,378689.18980890088,72.97,64.790000000000006,6280.47,74.5,60.49,44.13,7.4,0.03,9.2900000000000009,11.7,3.8200000000000003,17.8,23.8,74.47,36.959999999999994,37.419999999999995,0,0,0,18.719999999999995,0,0.05,25.359999999999996,7.4000000000000021,0.03,1.6900000000000002,5.2299999999999995,1.82,11.7,0.94000000000000017,0,8,13,13,3,0,0,47898,5154,34282,0,0,0,0,0,0,0,0,0,0,0,0,0,34282.42,34282.42,0,0,0,0,0,0,0,0,0,13615,5153.71,0,0,0,0,1616.52,0,3369.19,168,8461.52,8461.52,0,0,0,0,0,0,0,0,0,0,0,0,0,0,0,0,0,0,0,0,0,0,0,0,0,0,0,0,0,0,0,0,0,38.01,0,0,0,0,7.09,0,29.87,1.05,29.37,29.37,0,0,0,0,0,0,0,0,0,0,0,0,0,0,0,0,0,0,0,0,46,0,0,0,0,0,0,0,0,0,0,0,0,2,0,15,1,0,0,0,0,0,0,16,0,0,null,null,null,null,46,{"$f":"+INDEX($F96:$FS96,1,Sheet3!$C$1)","v":46},{"$f":"+IF(Sheet3!$C$1=1,IF(FW96<3,0,1),1)","v":1}]
[1,1,"119","4",3,12,646519.03045038146,34.780000000000008,29.919999999999998,2722.2200000000003,34.780000000000008,29.82,20.73,5.15,0.62,5.4,2.88,2.2999999999999998,13.549999999999999,13.549999999999999,34.26,18.599999999999998,10.780000000000001,0,0,0.13,4.28,0,0.09,16.23,5.1499999999999995,0.62,2.16,2.4800000000000004,0.13,2.88,0.63000000000000012,0,6,14,9,0,0,0,16284,1790,11586,0,0,0,0,0,0,0,0,0,0,0,0,0,11585.96,11585.96,0,0,0,0,0,0,0,0,0,4698,1790.27,0,0,0,0,0,0,1694.27,96,2907.92,2907.92,0,0,0,0,0,0,0,0,0,0,0,0,0,0,0,0,0,0,0,0,0,0,0,0,0,0,0,0,0,0,0,0,0,14.07,0,0,0,0,0,0,13.47,0.6,10.17,10.17,0,0,0,0,0,0,0,0,0,0,0,0,0,0,0,0,0,0,0,0,12,0,0,0,0,0,0,0,0,0,0,0,0,0,0,5,1,0,0,0,0,0,0,3,0,0,null,null,null,null,12,{"$f":"+INDEX($F97:$FS97,1,Sheet3!$C$1)","v":12},{"$f":"+IF(Sheet3!$C$1=1,IF(FW97<3,0,1),1)","v":1}]
[1,1,"119","4",4,1,100602.3905996117,3.49,1.32,110.6,3.49,2.5499999999999998,3.47,0,0,0.02,0,0,0,0,3.4899999999999998,0,0,0,0,0,0,0,0,3.47,0,0,0,0.02,0,0,0,0,0,0,0,0,0,0,837,0,837,0,0,0,0,0,0,0,0,0,0,0,0,0,837.23,837.23,0,0,0,0,0,0,0,0,0,0,0,0,0,0,0,0,0,0,0,0,0,0,0,0,0,0,0,0,0,0,0,0,0,0,0,0,0,0,0,0,0,0,0,0,0,0,0,0,0,0,0,0,0,0,0,0,0,0,0,0,0,0,0,0,0,0,0,0,0,0,0,0,0,0,0,0,0,0,0,0,0,0,0,0,0,1,0,0,0,0,0,0,0,0,0,0,0,0,0,0,0,0,0,0,0,0,0,0,0,0,0,null,null,null,null,0,{"$f":"+INDEX($F98:$FS98,1,Sheet3!$C$1)","v":1},{"$f":"+IF(Sheet3!$C$1=1,IF(FW98<3,0,1),1)","v":0}]
[1,1,"119","5",1,77,162140.04226145151,93.940000000000012,89.27,8036.0999999999995,93.940000000000012,71.900000000000006,4.45,10.53,0.68,66.149999999999991,12.13,0.02,1.35,2.1500000000000004,92.550000000000026,40.72,65.319999999999993,0,0,1.53,2.38,0,0,0.54,10.53,0.68,1.1800000000000002,61.410000000000025,0.48,12.129999999999997,0.99,0,0,0,8,1,0,0,74949,6302,53565,0,0,0,0,0,0,0,0,0,0,0,0,0,53565.26,53565.26,0,0,0,0,0,0,0,0,0,21383,6302.1,0,0,0,0,0,0,6302.1,0,15081.2,15081.2,0,0,0,0,0,0,0,0,0,0,0,0,0,0,0,0,0,0,0,0,0,0,0,0,0,0,0,0,0,0,0,0,0,40.39,0,0,0,0,0,0,40.39,0,50.95,50.95,0,0,0,0,0,0,0,0,0,0,0,0,0,0,0,0,0,0,0,0,77,0,0,0,0,0,0,0,0,0,0,0,0,0,0,35,0,0,0,0,0,0,0,44,0,0,null,null,null,null,77,{"$f":"+INDEX($F99:$FS99,1,Sheet3!$C$1)","v":77},{"$f":"+IF(Sheet3!$C$1=1,IF(FW99<3,0,1),1)","v":1}]
[1,1,"119","5",2,56,355094.75032711239,173.70999999999995,134.16999999999999,10994.180000000002,173.70999999999995,109.06,7.71,13.41,0.1,144.22,8.27,3.95,5.9,5.9,173.54999999999995,107.07,122.01999999999998,0,0,0.18,6.05,0,0,1.4800000000000004,13.409999999999998,0.1,1.9,134.97000000000006,2.14,8.27,0.54,0,2,0,17,3,4,2,100197,15499,52893,0,0,0,0,0,0,0,0,0,0,0,0,0,52893.03,52893.03,0,0,0,0,0,0,0,0,0,47304,15498.9,0,562.79999999999995,0,0,385.32,0,14550.78,0,31804.880000000001,31804.880000000001,0,0,0,0,0,0,0,0,0,0,0,0,0,0,0,0,0,0,0,0,0,0,0,0,0,0,0,0,0,0,0,0,0,99.05,0,5.36,0,0,1.69,0,92,0,109.03,109.03,0,0,0,0,0,0,0,0,0,0,0,0,0,0,0,0,0,0,0,0,56,0,0,0,0,0,0,0,0,0,2,0,0,1,0,35,0,0,0,0,0,0,0,42,0,0,null,null,null,null,56,{"$f":"+INDEX($F100:$FS100,1,Sheet3!$C$1)","v":56},{"$f":"+IF(Sheet3!$C$1=1,IF(FW100<3,0,1),1)","v":1}]
[1,1,"119","6",1,17,28713.07562269313,19.55,20.88,1767.1,19.55,9.86,0.73,1.33,0.83,10.590000000000003,6.07,0,1.8,1.8,19.55,6.84,10.139999999999999,0,0,0,0.65,0,0,0.08,1.33,0.83,10.020000000000001,0.21,0.35000000000000003,6.0699999999999994,0.01,0,0,0,12,0,0,0,14829,1108,11524,0,0,0,0,0,0,0,0,0,0,0,0,0,11524.23,11524.23,0,0,0,0,0,0,0,0,0,3304,1108.08,0,0,0,0,0,0,1108.08,0,2196.3200000000002,2196.3200000000002,0,0,0,0,0,0,0,0,0,0,0,0,0,0,0,0,0,0,0,0,0,0,0,0,0,0,0,0,0,0,0,0,0,6.84,0,0,0,0,0,0,6.84,0,7.42,7.42,0,0,0,0,0,0,0,0,0,0,0,0,0,0,0,0,0,0,0,0,17,0,0,0,0,0,0,0,0,0,0,0,0,0,0,5,0,0,0,0,0,0,0,6,0,0,null,null,null,null,17,{"$f":"+INDEX($F101:$FS101,1,Sheet3!$C$1)","v":17},{"$f":"+IF(Sheet3!$C$1=1,IF(FW101<3,0,1),1)","v":1}]
[1,1,"119","6",2,32,313992.8238368975,61.190000000000005,54.010000000000012,4550.62,63.56,43.99,3.34,6.85,0.25,45.97999999999999,4.25,0,2.4,4.4000000000000004,59.079999999999991,21.01,32.759999999999991,0,0,0,2.7700000000000005,0,0.05,0.52,6.8500000000000014,0.25,41.429999999999986,2.15,1.49,4.25,0.77,0,0,0,12,4,0,0,36295,2907,25806,0,0,0,0,0,0,0,0,0,0,0,0,0,25806.35,25806.35,0,0,0,0,0,0,0,0,0,10488,2907.18,0,163.80000000000001,0,0,0,0,2743.38,0,7581.28,7581.28,0,0,0,0,0,0,0,0,0,0,0,0,0,0,0,0,0,0,0,0,0,0,0,0,0,0,0,0,0,0,0,0,0,19.14,0,1.56,0,0,0,0,17.579999999999998,0,25.78,25.78,0,0,0,0,0,0,0,0,0,0,0,0,0,0,0,0,0,0,0,0,32,0,0,0,0,0,0,0,0,0,1,0,0,0,0,11,0,0,0,0,0,0,0,14,0,0,null,null,null,null,32,{"$f":"+INDEX($F102:$FS102,1,Sheet3!$C$1)","v":32},{"$f":"+IF(Sheet3!$C$1=1,IF(FW102<3,0,1),1)","v":1}]
[1,1,"119","6",3,35,1430133.8402127165,65.72,51.4,4215.99,73.679999999999993,51.32,1.64,6.49,0,45.93,9.69,0,0,3,73.64,29.98,48.88,0,0,0,1.28,0,0,0.36,6.49,0,44.63000000000001,0.35,0.66,9.69,0.18,0,0,0,0,0,0,0,42821,4092,28761,0,0,0,0,0,0,0,0,0,0,0,0,0,28761.29,28761.29,0,0,0,0,0,0,0,0,0,14060,4092.21,0,574.35,0,0,0,0,3517.86,0,9967.76,9967.76,0,0,0,0,0,0,0,0,0,0,0,0,0,0,0,0,0,0,0,0,0,0,0,0,0,0,0,0,0,0,0,0,0,28.3,0,5.47,0,0,0,0,22.83,0,34.909999999999997,34.909999999999997,0,0,0,0,0,0,0,0,0,0,0,0,0,0,0,0,0,0,0,0,35,0,0,0,0,0,0,0,0,0,3,0,0,0,0,13,0,0,0,0,0,0,0,19,0,0,null,null,null,null,35,{"$f":"+INDEX($F103:$FS103,1,Sheet3!$C$1)","v":35},{"$f":"+IF(Sheet3!$C$1=1,IF(FW103<3,0,1),1)","v":1}]
[1,1,"119","7",1,3,3022.6241191999998,3.46,3.4,247.16,3.46,3.15,0.56000000000000005,0.06,0,2.4900000000000002,0.35,0,0,0,3.4600000000000004,3.0700000000000003,2.64,0,0,0.56000000000000005,0,0,0,0,0.06,0,0,0,2.4900000000000002,0.35,0,0,0,0,0,0,0,0,3047,473,1822,0,0,0,0,0,0,0,0,0,0,0,0,0,1822.21,1822.21,0,0,0,0,0,0,0,0,0,1225,472.98,0,0,0,0,0,0,472.98,0,751.84,751.84,0,0,0,0,0,0,0,0,0,0,0,0,0,0,0,0,0,0,0,0,0,0,0,0,0,0,0,0,0,0,0,0,0,3.07,0,0,0,0,0,0,3.07,0,2.54,2.54,0,0,0,0,0,0,0,0,0,0,0,0,0,0,0,0,0,0,0,0,3,0,0,0,0,0,0,0,0,0,0,0,0,0,0,3,0,0,0,0,0,0,0,2,0,0,null,null,null,null,3,{"$f":"+INDEX($F104:$FS104,1,Sheet3!$C$1)","v":3},{"$f":"+IF(Sheet3!$C$1=1,IF(FW104<3,0,1),1)","v":1}]
[1,1,"119","8",1,567,1079192.0147293778,741.36999999999944,725.6199999999991,69868.380000000019,744.06999999999937,584.29999999999995,250.32,149.58000000000001,12.79,160.21999999999997,167.36,16.689999999999998,72.700000000000031,74.700000000000031,745.59999999999968,206.16000000000014,386.46000000000026,0,0,13.980000000000004,194.98000000000008,0,2.4700000000000002,38.889999999999993,149.58000000000004,12.79,25.479999999999983,93.90000000000002,18.230000000000004,167.36000000000007,21.339999999999975,0,29,29,127,15,22,6,497904,23936,404428,0,0,0,0,0,0,0,0,0,0,0,0,0,404427.78,404427.78,0,0,0,0,0,0,0,0,0,93476,23935.84,0,0,0,0,335.16,0,23440.68,160,69540.44,69540.44,0,0,0,0,0,0,0,0,0,0,0,0,0,0,0,0,0,0,0,0,0,0,0,0,0,0,0,0,0,0,0,0,0,178.92,0,0,0,0,1.47,0,176.45,1,235.7,235.7,0,0,0,0,0,0,0,0,0,0,0,0,0,0,0,0,0,0,0,0,567,0,0,0,0,0,0,0,0,0,0,0,0,2,0,155,1,0,0,0,0,0,0,237,0,0,null,null,null,null,567,{"$f":"+INDEX($F105:$FS105,1,Sheet3!$C$1)","v":567},{"$f":"+IF(Sheet3!$C$1=1,IF(FW105<3,0,1),1)","v":1}]
[1,1,"119","8",2,108,652667.97021369915,308.25000000000006,265.43000000000006,25532.42,308.25000000000006,224.73,111.5,68.63,2.96,97.43,27.73,4.6599999999999993,42.050000000000011,49.650000000000013,310.98,100.68,158.69999999999996,0,0,5.3999999999999995,82.31,0,0.98,22.810000000000009,68.63,2.9600000000000004,16.189999999999998,65.820000000000022,6.24,27.73,6.97,0,17,26,31,4,24,4,150754,13432,101249,0,0,0,0,0,0,0,0,0,0,0,0,0,101249.04,101249.04,0,0,0,0,0,0,0,0,0,49505,13432.14,0,0,0,0,195.08,0,12417.06,820,36072.67,36072.67,0,0,0,0,0,0,0,0,0,0,0,0,0,0,0,0,0,0,0,0,0,0,0,0,0,0,0,0,0,0,0,0,0,95.37,0,0,0,0,1.24,0,90.13,4,123.69,123.69,0,0,0,0,0,0,0,0,0,0,0,0,0,0,0,0,0,0,0,0,108,0,0,0,0,0,0,0,0,0,0,0,0,1,0,40,2,0,0,0,0,0,0,56,0,0,null,null,null,null,108,{"$f":"+INDEX($F106:$FS106,1,Sheet3!$C$1)","v":108},{"$f":"+IF(Sheet3!$C$1=1,IF(FW106<3,0,1),1)","v":1}]
[1,1,"119","9",1,4,14255.717815147542,6.9,6.5399999999999991,732.8599999999999,6.9,2.85,0.24,0.54,0,0.19,5.93,5.93,12.65,12.65,6.9,0,2.85,0,0,0,0.24,0,0,0,0.54,0,0,0.19,0,5.93,0,5,3,10,0,0,2,1,3897,0,3053,0,0,0,0,0,0,0,0,0,0,0,0,0,3053.42,3053.42,0,0,0,0,0,0,0,0,0,844,0,0,0,0,0,0,0,0,0,843.6,843.6,0,0,0,0,0,0,0,0,0,0,0,0,0,0,0,0,0,0,0,0,0,0,0,0,0,0,0,0,0,0,0,0,0,0,0,0,0,0,0,0,0,0,2.85,2.85,0,0,0,0,0,0,0,0,0,0,0,0,0,0,0,0,0,0,0,0,4,0,0,0,0,0,0,0,0,0,0,0,0,0,0,0,0,0,0,0,0,0,0,1,0,0,null,null,null,null,4,{"$f":"+INDEX($F107:$FS107,1,Sheet3!$C$1)","v":4},{"$f":"+IF(Sheet3!$C$1=1,IF(FW107<3,0,1),1)","v":1}]
[1,1,"119","9",2,6,41277.405992312866,14.34,11.79,1350.2400000000002,18.96,2.98,0.43,6.04,0,0.86,7.01,7.01,13.200000000000001,13.200000000000001,18.760000000000002,1.9300000000000002,11.25,0,0,0,0.28000000000000003,0,0,0.15,6.04,0,0.06,0.71,0,7.01,0.09,9,1,6,0,0,0,0,7476,380,5270,0,0,0,0,0,0,0,0,0,0,0,0,0,5269.61,5269.61,0,0,0,0,0,0,0,0,0,2206,379.74,0,0,0,0,310.08,0,69.66,0,1826.48,1826.48,0,0,0,0,0,0,0,0,0,0,0,0,0,0,0,0,0,0,0,0,0,0,0,0,0,0,0,0,0,0,0,0,0,1.93,0,0,0,0,1.36,0,0.56999999999999995,0,6.63,6.63,0,0,0,0,0,0,0,0,0,0,0,0,0,0,0,0,0,0,0,0,6,0,0,0,0,0,0,0,0,0,0,0,0,1,0,1,0,0,0,0,0,0,0,2,0,0,null,null,null,null,6,{"$f":"+INDEX($F108:$FS108,1,Sheet3!$C$1)","v":6},{"$f":"+IF(Sheet3!$C$1=1,IF(FW108<3,0,1),1)","v":1}]
[1,1,"11A","1_1",1,480,675976.49376646196,564.07000000000005,540.05999999999972,77547.059999999983,564.07000000000005,528.96,407.93,70.52,1.99,25.880000000000003,57.75,0.15,3.4499999999999997,4.05,561.61000000000013,110.96999999999997,142.76,0,0,11.840000000000003,376.82999999999936,0,1.59,15.869999999999989,71.010000000000005,1.9900000000000002,4.7499999999999964,16.089999999999986,1.6400000000000001,57.749999999999993,4.6099999999999968,0,1,3,0,0,3,4,363949,12486,322491,0,0,0,0,0,0,0,0,0,0,0,0,0,322490.8,322490.8,0,0,0,0,0,0,0,0,0,41459,12486.12,0,0,0,0,0,0,12486.12,0,28972.48,28972.48,0,0,0,0,0,0,0,0,0,0,0,0,0,0,0,0,0,0,0,0,0,0,0,0,0,0,0,0,0,0,0,0,0,102.43,0,0,0,0,0,0,102.43,0,97.88,97.88,0,0,0,0,0,0,0,0,0,0,0,0,0,0,0,0,0,0,0,0,480,0,0,0,0,0,0,0,0,0,0,0,0,0,0,88,0,0,0,0,0,0,0,91,0,0,null,null,null,null,480,{"$f":"+INDEX($F109:$FS109,1,Sheet3!$C$1)","v":480},{"$f":"+IF(Sheet3!$C$1=1,IF(FW109<3,0,1),1)","v":1}]
[1,1,"11A","1_1",2,19,105085.12215808318,61.680000000000007,63.210000000000008,8311.69,61.680000000000007,56.56,36.44,23.55,0,1.6100000000000003,0.08,0,0,0,61.440000000000012,0.76,2.9899999999999998,0,0,1.1900000000000002,30.99,0,0,4.2600000000000007,23.549999999999997,0,0.38,1.19,0,0.08,0.04,0,0,0,0,0,0,0,19889,93,18911,0,0,0,0,0,0,0,0,0,0,0,0,0,18911.46,18911.46,0,0,0,0,0,0,0,0,0,978,92.88,0,0,0,0,0,0,92.88,0,885.04,885.04,0,0,0,0,0,0,0,0,0,0,0,0,0,0,0,0,0,0,0,0,0,0,0,0,0,0,0,0,0,0,0,0,0,0.76,0,0,0,0,0,0,0.76,0,2.99,2.99,0,0,0,0,0,0,0,0,0,0,0,0,0,0,0,0,0,0,0,0,19,0,0,0,0,0,0,0,0,0,0,0,0,0,0,1,0,0,0,0,0,0,0,1,0,0,null,null,null,null,19,{"$f":"+INDEX($F110:$FS110,1,Sheet3!$C$1)","v":19},{"$f":"+IF(Sheet3!$C$1=1,IF(FW110<3,0,1),1)","v":1}]
[1,1,"11A","1_1",4,1,102865.32,1.67,1.59,137.08000000000001,1.67,1.67,1.67,0,0,0,0,0,0,0,1.67,0,1.67,0,0,0,0,0,0,1.67,0,0,0,0,0,0,0,0,0,0,0,0,0,0,1332,0,837,0,0,0,0,0,0,0,0,0,0,0,0,0,837.23,837.23,0,0,0,0,0,0,0,0,0,494,0,0,0,0,0,0,0,0,0,494.32,494.32,0,0,0,0,0,0,0,0,0,0,0,0,0,0,0,0,0,0,0,0,0,0,0,0,0,0,0,0,0,0,0,0,0,0,0,0,0,0,0,0,0,0,1.67,1.67,0,0,0,0,0,0,0,0,0,0,0,0,0,0,0,0,0,0,0,0,1,0,0,0,0,0,0,0,0,0,0,0,0,0,0,0,0,0,0,0,0,0,0,1,0,0,null,null,null,null,0,{"$f":"+INDEX($F111:$FS111,1,Sheet3!$C$1)","v":1},{"$f":"+IF(Sheet3!$C$1=1,IF(FW111<3,0,1),1)","v":0}]
[1,1,"11A","1_2",1,34,41211.311410674614,41.85,40.039999999999992,5487.6500000000005,41.85,4.93,22.64,10.23,0,1.3900000000000003,7.59,0,0,0,41.49,0.56999999999999995,11.340000000000002,0,0,3.9300000000000006,17.79,0,0,0.87000000000000011,10.23,0,0.49,0.78,0,7.59,0.14000000000000001,0,0,0,0,0,0,0,23982,68,22519,0,0,0,0,0,0,0,0,0,0,0,0,0,22519.25,22519.25,0,0,0,0,0,0,0,0,0,1463,68.400000000000006,0,0,0,0,0,0,68.400000000000006,0,1394.16,1394.16,0,0,0,0,0,0,0,0,0,0,0,0,0,0,0,0,0,0,0,0,0,0,0,0,0,0,0,0,0,0,0,0,0,0.56999999999999995,0,0,0,0,0,0,0.56999999999999995,0,4.71,4.71,0,0,0,0,0,0,0,0,0,0,0,0,0,0,0,0,0,0,0,0,34,0,0,0,0,0,0,0,0,0,0,0,0,0,0,1,0,0,0,0,0,0,0,5,0,0,null,null,null,null,34,{"$f":"+INDEX($F112:$FS112,1,Sheet3!$C$1)","v":34},{"$f":"+IF(Sheet3!$C$1=1,IF(FW112<3,0,1),1)","v":1}]
[1,1,"11A","1_2",3,1,64042.289281350982,1.1499999999999999,1.1399999999999999,93.26,1.1499999999999999,0.02,1.06,0,0,0.09,0,0,0,0,1.1500000000000001,1.1300000000000001,1.1500000000000001,0,0,0,0,0,0,1.06,0,0,7.0000000000000007E-2,0,0,0,0.02,0,0,0,0,0,0,0,1304,127,837,0,0,0,0,0,0,0,0,0,0,0,0,0,837.23,837.23,0,0,0,0,0,0,0,0,0,467,126.54,0,0,0,0,0,0,126.54,0,340.4,340.4,0,0,0,0,0,0,0,0,0,0,0,0,0,0,0,0,0,0,0,0,0,0,0,0,0,0,0,0,0,0,0,0,0,1.03,0,0,0,0,0,0,1.03,0,1.1499999999999999,1.1499999999999999,0,0,0,0,0,0,0,0,0,0,0,0,0,0,0,0,0,0,0,0,1,0,0,0,0,0,0,0,0,0,0,0,0,0,0,1,0,0,0,0,0,0,0,1,0,0,null,null,null,null,0,{"$f":"+INDEX($F113:$FS113,1,Sheet3!$C$1)","v":1},{"$f":"+IF(Sheet3!$C$1=1,IF(FW113<3,0,1),1)","v":0}]
[1,1,"11A","10_1",1,39,87957.588677802167,43.99,41.38,6358.7499999999991,43.99,39.270000000000003,8.64,20.16,0,1.6300000000000003,13.56,13.56,57.600000000000016,58.600000000000016,43.890000000000008,14.73,25.720000000000002,0,0,1.39,6.6999999999999993,0,0.11,0.44,20.16,0,0.35,1.1400000000000001,0,13.56,0.14000000000000001,0,15,75,0,0,0,0,35525,2796,26429,0,0,0,0,0,0,0,0,0,0,0,0,0,26429.439999999999,26429.439999999999,0,0,0,0,0,0,0,0,0,9095,2796.06,0,0,0,0,0,0,1580.06,1216,6299.17,6299.17,0,0,0,0,0,0,0,0,0,0,0,0,0,0,0,0,0,0,0,0,0,0,0,0,0,0,0,0,0,0,0,0,0,21.33,0,0,0,0,0,0,14.73,6.6,21.62,21.62,0,0,0,0,0,0,0,0,0,0,0,0,0,0,0,0,0,0,0,0,39,0,0,0,0,0,0,0,0,0,0,0,0,0,0,11,4,0,0,0,0,0,0,17,0,0,null,null,null,null,39,{"$f":"+INDEX($F114:$FS114,1,Sheet3!$C$1)","v":39},{"$f":"+IF(Sheet3!$C$1=1,IF(FW114<3,0,1),1)","v":1}]
[1,1,"11A","10_1",2,21,159724.51842172965,50.659999999999989,50.39,7602.3499999999985,50.659999999999989,48.38,4.21,40.19,0,2.4200000000000004,3.84,3.8399999999999994,85.199999999999974,85.199999999999974,50.599999999999987,2.35,24.609999999999996,0,0,0,2.87,0,0,1.34,40.190000000000005,0,0.21,1.9800000000000002,7.0000000000000007E-2,3.8399999999999994,0.16,2,16,116,0,0,0,0,25557,292,19601,0,0,0,0,0,0,0,0,0,0,0,0,0,19600.97,19600.97,0,0,0,0,0,0,0,0,0,5956,292.5,0,0,0,0,0,0,292.5,0,5663.92,5663.92,0,0,0,0,0,0,0,0,0,0,0,0,0,0,0,0,0,0,0,0,0,0,0,0,0,0,0,0,0,0,0,0,0,2.35,0,0,0,0,0,0,2.35,0,19.66,19.66,0,0,0,0,0,0,0,0,0,0,0,0,0,0,0,0,0,0,0,0,21,0,0,0,0,0,0,0,0,0,0,0,0,0,0,2,0,0,0,0,0,0,0,11,0,0,null,null,null,null,21,{"$f":"+INDEX($F115:$FS115,1,Sheet3!$C$1)","v":21},{"$f":"+IF(Sheet3!$C$1=1,IF(FW115<3,0,1),1)","v":1}]
[1,1,"11A","10_15",1,29,81798.796722513769,21.839999999999996,24.470000000000006,3863.8399999999988,21.839999999999996,19.510000000000002,9.8000000000000007,8.3800000000000008,0,1.2100000000000004,2.4500000000000002,2.4500000000000002,77.300000000000011,77.300000000000011,21.839999999999996,3.7600000000000002,5.07,0,0,0.03,8.36,0,0.51,0.59,8.69,0,0.27,0.94000000000000017,0,2.4500000000000002,0,0,11,100,14,5,3,4,18190,1588,15661,0,0,0,0,0,0,0,0,0,0,0,0,0,15661.17,15661.17,0,0,0,0,0,0,0,0,0,2529,1587.58,0,0,0,0,0,0,467.58,1120,941.58,941.58,0,0,0,0,0,0,0,0,0,0,0,0,0,0,0,0,0,0,0,0,0,0,0,0,0,0,0,0,0,0,0,0,0,10.76,0,0,0,0,0,0,3.76,7,3.34,3.34,0,0,0,0,0,0,0,0,0,0,0,0,0,0,0,0,0,0,0,0,29,0,0,0,0,0,0,0,0,0,0,0,0,0,0,5,4,0,0,0,0,0,0,4,0,0,null,null,null,null,29,{"$f":"+INDEX($F116:$FS116,1,Sheet3!$C$1)","v":29},{"$f":"+IF(Sheet3!$C$1=1,IF(FW116<3,0,1),1)","v":1}]
[1,1,"11A","10_15",2,70,607254.34715941618,108.41000000000003,111.88999999999999,22594.570000000011,108.41000000000003,99.1,31.24,68.03,0.17,5.61,3.36,3.3600000000000003,525.85,525.85,107.71000000000002,15.590000000000002,35.779999999999994,0,0,1.49,26.809999999999995,0,0.09,2.4500000000000002,68.429999999999993,0.17,0.94000000000000006,4.21,0,3.3600000000000003,0.26,12,65,766,13,3,8,3,68132,4305,54342,0,0,0,0,0,0,0,0,0,0,0,0,0,54341.94,54341.94,0,0,0,0,0,0,0,0,0,13790,4305,0,0,0,0,0,0,1905,2400,9485.0300000000007,9485.0300000000007,0,0,0,0,0,0,0,0,0,0,0,0,0,0,0,0,0,0,0,0,0,0,0,0,0,0,0,0,0,0,0,0,0,24.16,0,0,0,0,0,0,15.56,8.6,38.090000000000003,38.090000000000003,0,0,0,0,0,0,0,0,0,0,0,0,0,0,0,0,0,0,0,0,70,0,0,0,0,0,0,0,0,0,0,0,0,0,0,13,3,0,0,0,0,0,0,22,0,0,null,null,null,null,70,{"$f":"+INDEX($F117:$FS117,1,Sheet3!$C$1)","v":70},{"$f":"+IF(Sheet3!$C$1=1,IF(FW117<3,0,1),1)","v":1}]
[1,1,"11A","10_15",3,4,152794.28402485917,8.4499999999999993,4.0599999999999996,1174.01,8.4499999999999993,7.55,1.43,5.58,0,0.41000000000000003,1.03,1.03,162.55000000000001,162.55000000000001,8.4500000000000011,0.8,0,0,0,0,1.36,0,0,7.0000000000000007E-2,5.58,0,0.04,0.31,0,1.03,0,5,19,234,8,1,0,0,2952,96,2856,0,0,0,0,0,0,0,0,0,0,0,0,0,2856.43,2856.43,0,0,0,0,0,0,0,0,0,96,96,0,0,0,0,0,0,96,0,0,0,0,0,0,0,0,0,0,0,0,0,0,0,0,0,0,0,0,0,0,0,0,0,0,0,0,0,0,0,0,0,0,0,0,0.8,0,0,0,0,0,0,0.8,0,0,0,0,0,0,0,0,0,0,0,0,0,0,0,0,0,0,0,0,0,0,0,4,0,0,0,0,0,0,0,0,0,0,0,0,0,0,1,0,0,0,0,0,0,0,0,0,0,null,null,null,null,4,{"$f":"+INDEX($F118:$FS118,1,Sheet3!$C$1)","v":4},{"$f":"+IF(Sheet3!$C$1=1,IF(FW118<3,0,1),1)","v":1}]
[1,1,"11A","10_2",1,28,64504.022225445558,44.210000000000008,39.250000000000007,6343.01,50.63,33.31,2.56,25.89,0,1.3900000000000001,14.37,7.82,21.600000000000005,22.600000000000005,50.41,7.12,36.770000000000003,0,0,0.03,2.0800000000000005,0,0,0.45000000000000007,25.889999999999997,0,0.17,0.82999999999999985,0.21,14.370000000000001,0.18000000000000002,0,6,30,0,0,0,0,29338,849,21443,0,0,0,0,0,0,0,0,0,0,0,0,0,21442.75,21442.75,0,0,0,0,0,0,0,0,0,7896,848.84,0,0,0,0,0,0,688.84,160,7046.78,7046.78,0,0,0,0,0,0,0,0,0,0,0,0,0,0,0,0,0,0,0,0,0,0,0,0,0,0,0,0,0,0,0,0,0,8.1199999999999992,0,0,0,0,0,0,7.12,1,24.15,24.15,0,0,0,0,0,0,0,0,0,0,0,0,0,0,0,0,0,0,0,0,28,0,0,0,0,0,0,0,0,0,0,0,0,0,0,4,1,0,0,0,0,0,0,15,0,0,null,null,null,null,28,{"$f":"+INDEX($F119:$FS119,1,Sheet3!$C$1)","v":28},{"$f":"+IF(Sheet3!$C$1=1,IF(FW119<3,0,1),1)","v":1}]
[1,1,"11A","10_2",2,12,65681.692059043358,28.23,31.12,6260.18,28.23,26.65,1.51,25.65,0,0.89,0.18,0.18,12.399999999999999,12.399999999999999,28.229999999999997,0,1.4300000000000002,0,0,0,1.26,0,0,0.25,25.65,0,6.0000000000000005E-2,0.79,0,0.18,0.02,0,2,18,0,0,0,0,11808,0,11426,0,0,0,0,0,0,0,0,0,0,0,0,0,11425.69,11425.69,0,0,0,0,0,0,0,0,0,382,0,0,0,0,0,0,0,0,0,381.84,381.84,0,0,0,0,0,0,0,0,0,0,0,0,0,0,0,0,0,0,0,0,0,0,0,0,0,0,0,0,0,0,0,0,0,0,0,0,0,0,0,0,0,0,1.29,1.29,0,0,0,0,0,0,0,0,0,0,0,0,0,0,0,0,0,0,0,0,12,0,0,0,0,0,0,0,0,0,0,0,0,0,0,0,0,0,0,0,0,0,0,1,0,0,null,null,null,null,12,{"$f":"+INDEX($F120:$FS120,1,Sheet3!$C$1)","v":12},{"$f":"+IF(Sheet3!$C$1=1,IF(FW120<3,0,1),1)","v":1}]
[1,1,"11A","11",1,28,55165.959060447844,48.33,44.87,5326.6000000000013,59.069999999999993,25.34,2.48,20.39,0,0.85,24.56,22.030000000000005,48.7,51.699999999999996,52.97,4.51,49.03,0,0,0.65,1.49,0,0.02,0.31999999999999995,20.389999999999997,0,0.41000000000000003,0.33,0.16,24.560000000000002,0,0,6,1,194,25,49,10,32962,543,21159,0,0,0,0,0,0,0,0,0,0,0,0,0,21159.49,21159.49,0,0,0,0,0,0,0,0,0,11803,542.88,0,0,0,0,0,0,542.88,0,11259.84,11259.84,0,0,0,0,0,0,0,0,0,0,0,0,0,0,0,0,0,0,0,0,0,0,0,0,0,0,0,0,0,0,0,0,0,4.51,0,0,0,0,0,0,4.51,0,39.04,39.04,0,0,0,0,0,0,0,0,0,0,0,0,0,0,0,0,0,0,0,0,28,0,0,0,0,0,0,0,0,0,0,0,0,0,0,4,0,0,0,0,0,0,0,19,0,0,null,null,null,null,28,{"$f":"+INDEX($F121:$FS121,1,Sheet3!$C$1)","v":28},{"$f":"+IF(Sheet3!$C$1=1,IF(FW121<3,0,1),1)","v":1}]
[1,1,"11A","11",2,11,68354.439321358033,50.899999999999991,22.07,2828.1199999999994,87.40000000000002,18.91,2.58,14.61,0,0.8600000000000001,31.87,18.21,39.550000000000004,39.550000000000004,79.110000000000014,5.3400000000000007,65.59,0,0,0,2.3499999999999996,0,7.0000000000000007E-2,0.16,14.610000000000001,0,0.63,0.32,0.86,31.869999999999997,0,0,9,12,37,1,106,9,16029,1480,9160,0,0,0,0,0,0,0,0,0,0,0,0,0,9160.26,9160.26,0,0,0,0,0,0,0,0,0,6869,1129.68,0,0,0,0,0,0,489.68,640,5388.88,5388.88,0,0,0,350,0,0,0,350,0,0,0,0,0,0,0,0,0,0,0,0,0,0,0,0,0,0,0,0,0,0,0,0,0,8.92,0,0,0,0,0,0,4.92,4,23.13,23.13,0,0,0,5.55,0,0,0,5.55,0,0,0,0,0,0,0,0,0,0,0,0,11,0,0,0,0,0,0,0,0,0,0,0,0,0,0,3,2,0,0,0,1,0,0,5,0,0,null,null,null,null,11,{"$f":"+INDEX($F122:$FS122,1,Sheet3!$C$1)","v":11},{"$f":"+IF(Sheet3!$C$1=1,IF(FW122<3,0,1),1)","v":1}]
[1,1,"11A","12",1,189,414874.17010450887,207.91,197.48000000000008,24982.610000000008,207.91,176.35,96.87,49.31,0,24.18,37.549999999999997,37.550000000000026,246.09999999999985,246.09999999999985,206.77999999999997,94.640000000000043,124.66000000000005,0,0,7.88,74.719999999999956,0,1.0200000000000002,13.249999999999991,49.309999999999974,0,6.1899999999999968,11.599999999999996,4.0100000000000007,37.550000000000026,2.3000000000000003,1,69,192,288,31,120,27,169263,11689,124737,0,0,0,0,0,0,0,0,0,0,0,0,0,124737.2,124737.2,0,0,0,0,0,0,0,0,0,44526,11689.2,0,0,0,0,0,0,7259.2,4430,32836.33,32836.33,0,0,0,0,0,0,0,0,0,0,0,0,0,0,0,0,0,0,0,0,0,0,0,0,0,0,0,0,0,0,0,0,0,115.95,0,0,0,0,0,0,90.95,25,112.45,112.45,0,0,0,0,0,0,0,0,0,0,0,0,0,0,0,0,0,0,0,0,189,0,0,0,0,0,0,0,0,0,0,0,0,0,0,47,20,0,0,0,0,0,0,91,0,0,null,null,null,null,189,{"$f":"+INDEX($F123:$FS123,1,Sheet3!$C$1)","v":189},{"$f":"+IF(Sheet3!$C$1=1,IF(FW123<3,0,1),1)","v":1}]
[1,1,"11A","12",2,43,307104.05860831396,87.02,82.120000000000019,12738.58,87.02,79,37.49,28.37,0,13.490000000000002,7.67,7.67,163.99999999999997,163.99999999999997,86.15,19.389999999999997,30.150000000000002,0,0,0.45,28.770000000000003,0,0.38000000000000006,7.8900000000000023,28.37,0,3.24,9.259999999999998,0.3,7.67,0.47,5,37,182,46,14,21,3,48953,3517,37281,0,0,0,0,0,0,0,0,0,0,0,0,0,37281.279999999999,37281.279999999999,0,0,0,0,0,0,0,0,0,11672,3517.36,0,0,0,0,0,0,2397.36,1120,8154.81,8154.81,0,0,0,0,0,0,0,0,0,0,0,0,0,0,0,0,0,0,0,0,0,0,0,0,0,0,0,0,0,0,0,0,0,25.14,0,0,0,0,0,0,19.14,6,28.09,28.09,0,0,0,0,0,0,0,0,0,0,0,0,0,0,0,0,0,0,0,0,43,0,0,0,0,0,0,0,0,0,0,0,0,0,0,10,2,0,0,0,0,0,0,14,0,0,null,null,null,null,43,{"$f":"+INDEX($F124:$FS124,1,Sheet3!$C$1)","v":43},{"$f":"+IF(Sheet3!$C$1=1,IF(FW124<3,0,1),1)","v":1}]
[1,1,"11A","13",1,437,700259.99860539613,538.02,523.96999999999946,82990.509999999951,554.04000000000019,445.92,20.92,404.56,1.55,13.689999999999992,97.23,0,0,0,524.29999999999984,74.839999999999989,115.02999999999999,0,0,2.2399999999999998,14.709999999999997,0,0.04,3.8799999999999986,404.60999999999984,1.55,4.71,7.4799999999999915,0.14000000000000001,97.23,1.3700000000000003,0,0,0,0,0,0,0,317948,8166,300851,0,0,0,0,0,0,0,0,0,0,0,0,0,300850.55,300850.55,0,0,0,0,0,0,0,0,0,17098,8166.3,0,0,0,0,0,0,8166.3,0,8931.25,8931.25,0,0,0,0,0,0,0,0,0,0,0,0,0,0,0,0,0,0,0,0,0,0,0,0,0,0,0,0,0,0,0,0,0,67.510000000000005,0,0,0,0,0,0,67.510000000000005,0,30.21,30.21,0,0,0,0,0,0,0,0,0,0,0,0,0,0,0,0,0,0,0,0,437,0,0,0,0,0,0,0,0,0,0,0,0,0,0,57,0,0,0,0,0,0,0,64,0,0,null,null,null,null,437,{"$f":"+INDEX($F125:$FS125,1,Sheet3!$C$1)","v":437},{"$f":"+IF(Sheet3!$C$1=1,IF(FW125<3,0,1),1)","v":1}]
[1,1,"11A","5",1,30,62317.078085837515,35.860000000000007,36.82,4075.54,35.860000000000007,20.64,3.42,1.62,1.1200000000000001,25.630000000000003,4.07,0,2.4,2.4,34.570000000000007,7.76,22.94,0,0,0.66,2.04,0,0.18000000000000002,0.54,1.62,1.1200000000000001,0.99,23.390000000000008,0.18000000000000002,4.0699999999999994,0.05,0,0,0,15,1,0,0,27246,953,20778,0,0,0,0,0,0,0,0,0,0,0,0,0,20778.060000000001,20778.060000000001,0,0,0,0,0,0,0,0,0,6468,953.22,0,115.5,0,0,0,0,837.72,0,5514.48,5514.48,0,0,0,0,0,0,0,0,0,0,0,0,0,0,0,0,0,0,0,0,0,0,0,0,0,0,0,0,0,0,0,0,0,6.59,0,1.1000000000000001,0,0,0,0,5.49,0,18.63,18.63,0,0,0,0,0,0,0,0,0,0,0,0,0,0,0,0,0,0,0,0,30,0,0,0,0,0,0,0,0,0,1,0,0,0,0,6,0,0,0,0,0,0,0,16,0,0,null,null,null,null,30,{"$f":"+INDEX($F134:$FS134,1,Sheet3!$C$1)","v":30},{"$f":"+IF(Sheet3!$C$1=1,IF(FW134<3,0,1),1)","v":1}]
[1,1,"11D","11",1,202,290636.83875696844,631.69999999999959,338.33000000000004,30644.710000000017,1065.52,61.85,13.89,59.93,0.55000000000000004,11.349999999999998,527.63,143.01,144.85,364.85000000000008,912.56999999999925,102.64,1006.3599999999997,0,0,8.5500000000000007,2.5200000000000005,0,7.0000000000000007E-2,2.7499999999999996,59.930000000000021,0.55000000000000004,13.700000000000001,5.1900000000000013,9.2099999999999991,527.63000000000011,1.32,0,0,16,677,71,129,26,331638,12160,158532,0,0,0,0,0,0,0,0,0,0,0,0,0,158532.29,158532.29,0,0,0,0,0,0,0,0,0,173106,12160.1,0,0,0,0,2841.48,562.66,8755.9599999999991,0,160945.85999999999,160945.85999999999,0,0,0,0,0,0,0,0,0,0,0,0,0,0,0,0,0,0,0,0,0,0,0,0,0,0,0,0,0,0,0,0,0,99.12,0,0,0,0,13.91,0.85,84.36,0,584.1,584.1,0,0,0,0,0,0,0,0,0,0,0,0,0,0,0,0,0,0,0,0,202,0,0,0,0,0,0,0,0,0,0,0,0,14,2,54,0,0,0,0,0,0,0,186,0,0,null,null,null,null,202,{"$f":"+INDEX($F225:$FS225,1,Sheet3!$C$1)","v":202},{"$f":"+IF(Sheet3!$C$1=1,IF(FW225<3,0,1),1)","v":1}]
[1,1,"150","1_1",4,1,101282.43,1.8,1.96,160.34,1.8,1.8,1.64,0,0,0.16,0,0,0,0,1.8000000000000003,0,1.8000000000000003,0,0,0,0,0,0,1.64,0,0,0.16,0,0,0,0,0,0,0,0,0,0,0,1370,0,837,0,0,0,0,0,0,0,0,0,0,0,0,0,837.23,837.23,0,0,0,0,0,0,0,0,0,533,0,0,0,0,0,0,0,0,0,532.79999999999995,532.79999999999995,0,0,0,0,0,0,0,0,0,0,0,0,0,0,0,0,0,0,0,0,0,0,0,0,0,0,0,0,0,0,0,0,0,0,0,0,0,0,0,0,0,0,1.8,1.8,0,0,0,0,0,0,0,0,0,0,0,0,0,0,0,0,0,0,0,0,1,0,0,0,0,0,0,0,0,0,0,0,0,0,0,0,0,0,0,0,0,0,0,1,0,0,null,null,null,null,0,{"$f":"+INDEX($F280:$FS280,1,Sheet3!$C$1)","v":1},{"$f":"+IF(Sheet3!$C$1=1,IF(FW280<3,0,1),1)","v":0}]
[1,1,"16E","6",5,1,647299.50459282356,16.62,3.31,215.74,16.62,0,0,0,0,16.32,0.3,0,0,0,16.399999999999999,14.729999999999999,16.399999999999999,0,0,0,0,0,0,0,0,0,13.83,0.36,2.13,0.3,0,0,0,0,0,0,0,0,5980,2046,1034,0,0,0,0,0,0,0,0,0,0,0,0,0,1034.22,1034.22,0,0,0,0,0,0,0,0,0,4945,2045.7,0,0,0,0,0,0,2045.7,0,2899.74,2721.64,0,178.1,0,0,0,0,0,0,0,0,0,0,0,0,0,0,0,0,0,0,0,0,0,0,0,0,0,0,0,0,0,0,0,14.73,0,0,0,0,0,0,14.73,0,16.100000000000001,14.73,0,1.37,0,0,0,0,0,0,0,0,0,0,0,0,0,0,0,0,0,0,1,0,0,0,0,0,0,0,0,0,0,0,0,0,0,1,0,0,0,0,0,0,0,1,0,1,null,null,null,null,0,{"$f":"+INDEX($F406:$FS406,1,Sheet3!$C$1)","v":1},{"$f":"+IF(Sheet3!$C$1=1,IF(FW406<3,0,1),1)","v":0}]
[1,1,"16G","9",1,4,13532.539128984023,7.13,7.05,1425.3400000000001,7.13,6.06,0.26,3.39,0,0.49000000000000005,2.99,2.99,9.4,9.4,6.5699999999999994,0,6.5699999999999994,0,0,0,0.23,0,0,0.03,3.3899999999999997,0,0.12,0.11,0.19,2.99,7.0000000000000007E-2,5,2,6,0,0,0,0,5294,0,3349,0,0,0,0,0,0,0,0,0,0,0,0,0,3348.92,3348.92,0,0,0,0,0,0,0,0,0,1945,0,0,0,0,0,0,0,0,0,1944.72,1944.72,0,0,0,0,0,0,0,0,0,0,0,0,0,0,0,0,0,0,0,0,0,0,0,0,0,0,0,0,0,0,0,0,0,0,0,0,0,0,0,0,0,0,6.57,6.57,0,0,0,0,0,0,0,0,0,0,0,0,0,0,0,0,0,0,0,0,4,0,0,0,0,0,0,0,0,0,0,0,0,0,0,0,0,0,0,0,0,0,0,4,0,0,null,null,null,null,4,{"$f":"+INDEX($F475:$FS475,1,Sheet3!$C$1)","v":4},{"$f":"+IF(Sheet3!$C$1=1,IF(FW475<3,0,1),1)","v":1}]
[1,1,"16I","6",2,76,707456.40893902665,176.94,154.68,11311.390000000003,176.94,15.93,8.82,13.23,1.89,139.60999999999999,13.39,2.5499999999999998,14.849999999999998,14.849999999999998,175.9,88.940000000000026,132.48000000000002,0,0,3.4299999999999997,0.43000000000000005,0,7.0000000000000007E-2,4.8900000000000006,13.229999999999997,1.8900000000000001,44.639999999999993,6.0399999999999991,81.210000000000022,13.390000000000002,7.6900000000000013,0,0,0,52,10,32,5,103755,13687,63429,0,0,0,0,0,0,0,0,0,0,0,0,0,63428.65,63428.65,0,0,0,0,0,0,0,0,0,40327,13687.08,0,0,0,0,0,3772.98,9914.1,0,26639.52,20101.3,2862.57,3675.65,0,0,0,0,0,0,0,0,0,0,0,0,0,0,0,0,0,0,0,0,0,0,0,0,0,0,0,0,0,0,0,87.06,0,0,0,0,0,23.29,63.77,0,119.88,68.569999999999993,22.22,29.09,0,0,0,0,0,0,0,0,0,0,0,0,0,0,0,0,0,0,76,0,0,0,0,0,0,0,0,0,0,0,0,0,17,41,0,0,0,0,0,0,0,38,11,13,null,null,null,null,76,{"$f":"+INDEX($F520:$FS520,1,Sheet3!$C$1)","v":76},{"$f":"+IF(Sheet3!$C$1=1,IF(FW520<3,0,1),1)","v":1}]
[1,1,"170","6",2,8,81291.511857787962,24.13,19.369999999999997,1395.17,24.13,4.4800000000000004,0.09,4.32,0,12.59,7.13,0.52,2.85,2.85,24.130000000000003,1.69,1.73,0,0,0,0,0,0,0.09,4.32,0,8.5799999999999983,2.7800000000000002,0.14000000000000001,7.1300000000000008,0.92999999999999994,0,0,0,0,0,19,0,7582,274,6796,0,0,0,0,0,0,0,0,0,0,0,0,0,6796.32,6796.32,0,0,0,0,0,0,0,0,0,786,273.77999999999997,0,0,0,0,0,273.77999999999997,0,0,512.08000000000004,512.08000000000004,0,0,0,0,0,0,0,0,0,0,0,0,0,0,0,0,0,0,0,0,0,0,0,0,0,0,0,0,0,0,0,0,0,1.69,0,0,0,0,0,1.69,0,0,1.73,1.73,0,0,0,0,0,0,0,0,0,0,0,0,0,0,0,0,0,0,0,0,8,0,0,0,0,0,0,0,0,0,0,0,0,0,1,0,0,0,0,0,0,0,0,1,0,0,null,null,null,null,8,{"$f":"+INDEX($F582:$FS582,1,Sheet3!$C$1)","v":8},{"$f":"+IF(Sheet3!$C$1=1,IF(FW582<3,0,1),1)","v":1}]
[1,1,"185","3",2,5,90853.188927790208,13.13,23.37,2297.7399999999998,13.13,10.62,11.39,1.02,0,0.26,0.46,0,0,0,13.13,0,1.06,0,0,0.77,0.93,0,0,9.69,1.02,0,0.1,0,0.16,0.45999999999999996,0,0,0,0,0,0,0,0,5112,0,4974,0,0,0,0,0,0,0,0,0,0,0,0,0,4974.1099999999997,4974.1099999999997,0,0,0,0,0,0,0,0,0,138,0,0,0,0,0,0,0,0,0,137.80000000000001,0,0,137.80000000000001,0,0,0,0,0,0,0,0,0,0,0,0,0,0,0,0,0,0,0,0,0,0,0,0,0,0,0,0,0,0,0,0,0,0,0,0,0,0,0,0,1.06,0,0,1.06,0,0,0,0,0,0,0,0,0,0,0,0,0,0,0,0,0,0,5,0,0,0,0,0,0,0,0,0,0,0,0,0,0,0,0,0,0,0,0,0,0,0,0,1,null,null,null,null,5,{"$f":"+INDEX($F651:$FS651,1,Sheet3!$C$1)","v":5},{"$f":"+IF(Sheet3!$C$1=1,IF(FW651<3,0,1),1)","v":1}]
[1,2,"111","10_1",3,54,2211596.7687056195,2094.25,1603.45,178171.59000000003,3890.2500000000014,229.76,12.04,94.12,2.2000000000000002,0.32,1980.49,1980.4899999999993,3300.0499999999993,3330.3499999999995,3765.5600000000004,239.45999999999995,3763.98,239.51999999999992,0,0.03,11.57,0,0,0.43999999999999995,94.12,2.2000000000000002,0.28000000000000003,4.3699999999999992,0.1,1980.4899999999993,0.49,1,2439,1510,153,7,26,1,1176426,412403,600919,449490.96,195970.15,253520.81,249848.4,3672.41,0,0,0,0,0,0,0,0,107786.46,0,107786.46,43641.57,16353.94,1377.07,0,0,25910.560000000001,0,0,575507,341635.79,0,0,0,0,12948.89,0,9749.15,318937.75,206745.02,206745.02,0,0,0,27125.74,7173.24,0,0,19952.5,0,4040.02,1524.02,2516,2355,161,0,0,0,0,0,0,0,0,1056.73,0,1056.73,1458.04,388,7.84,0,0,1062.2,0,0,2199.6999999999998,0,0,0,0,91.83,0,124.13,1983.74,2086.1799999999998,2086.1799999999998,0,0,0,2064.7600000000002,25.99,0,0,2038.77,0,54,51,0,2,0,0,0,0,0,0,0,0,54,4,1,0,0,16,0,0,0,0,0,0,19,0,21,44,12,0,0,34,0,0,54,0,0,null,null,null,null,54,{"$f":"+INDEX($F719:$FS719,1,Sheet3!$C$1)","v":54},{"$f":"+IF(Sheet3!$C$1=1,IF(FW719<3,0,1),1)","v":1}]
[1,2,"119","4",3,6,312559.35989035497,33.949999999999996,32.549999999999997,2670.14,43.089999999999996,20.04,15.33,5.64,0,2.6799999999999997,9.6199999999999992,9.6100000000000012,22,22,42.49,3.39,24.95,12.45,0,0,4.75,0,0.05,10.53,5.64,0,0.67999999999999994,2.62,0,9.620000000000001,0,0,12,18,0,0,0,0,18460,7452,12619,4087.14,2912.34,1174.8,1174.8,0,0,0,0,0,0,0,0,0,3312.96,0,3312.96,5218.41,2636.12,2582.29,0,0,0,0,0,5842,2233.19,0,82.95,0,0,104.88,0,285.36,1760,3608.48,3608.48,0,0,0,0,0,0,0,0,0,42.23,31.23,11,11,0,0,0,0,0,0,0,0,0,32.479999999999997,0,32.479999999999997,12.45,5.39,7.06,0,0,0,0,0,14.39,0,0.79,0,0,0.46,0,2.14,11,15.58,15.58,0,0,0,0,0,0,0,0,0,6,2,0,0,0,0,0,0,0,0,0,0,6,2,2,0,0,0,0,0,0,1,0,0,1,0,1,2,0,0,0,0,0,0,2,0,0,null,null,null,null,6,{"$f":"+INDEX($F832:$FS832,1,Sheet3!$C$1)","v":6},{"$f":"+IF(Sheet3!$C$1=1,IF(FW832<3,0,1),1)","v":1}]
[1,2,"11A","9",2,20,276293.29010723595,66.050000000000011,66.070000000000007,14712.119999999999,66.050000000000011,61.7,5.85,51.27,0.24,3.88,4.8099999999999996,4.8100000000000005,132.59999999999997,132.59999999999997,65.87,12.36,14.25,0,0,0.06,4.43,0,0,1.36,51.270000000000017,0.24,2.4300000000000002,1.35,0,4.8100000000000005,0.09,58,17,105,20,0,0,0,30939,1470,25813,18968.53,16193.98,2774.55,320.39999999999998,250.91,2203.2399999999998,0,0,0,0,0,0,0,6718.74,0,6718.74,126,0,0,0,0,0,126,0,5125,1343.87,0,0,0,0,0,0,1343.87,0,3781.44,3781.44,0,0,0,0,0,0,0,0,0,97.57,64.569999999999993,33,3,11,19,0,0,0,0,0,0,0,65.87,0,65.87,9,0,0,0,0,0,9,0,12.36,0,0,0,0,0,0,12.36,0,12.84,12.84,0,0,0,0,0,0,0,0,0,20,3,0,1,3,0,0,0,0,0,0,0,20,0,0,0,0,0,1,0,0,0,0,0,0,0,6,0,0,0,0,0,0,0,7,0,0,null,null,null,null,20,{"$f":"+INDEX($F901:$FS901,1,Sheet3!$C$1)","v":20},{"$f":"+IF(Sheet3!$C$1=1,IF(FW901<3,0,1),1)","v":1}]
[1,2,"11C","10_15",3,17,710935.87472649082,112.96000000000001,98.85,24717.700000000004,112.96000000000001,75.64,7.48,69.13,0.77,24.540000000000003,11.04,11.04,766.85,766.85,112.95999999999998,21.5,22.81,11.11,0,2.41,3.27,0,0,1.8,69.13000000000001,0.76999999999999991,0.28000000000000003,22.580000000000002,0.28999999999999998,11.04,0.14000000000000001,7,230,924,13,1,4,1,80718,15634,63064,48269.22,27858.1,20411.12,20137.400000000001,273.72000000000003,0,0,0,0,0,0,0,0,11297.01,0,11297.01,3497.93,0,1872.89,0,0,966.24,658.8,0,17653,12136.33,0,586.95000000000005,0,0,0,0,1309.3800000000001,10240,5517.12,5517.12,0,0,0,0,0,0,0,0,0,307.60000000000002,98.6,209,197,12,0,0,0,0,0,0,0,0,110.91,0,110.91,84.31,0,11.11,0,0,36.6,36.6,0,84.07,0,5.59,0,0,0,0,14.48,64,22.81,22.81,0,0,0,0,0,0,0,0,0,17,9,0,1,0,0,0,0,0,0,0,0,17,0,2,0,0,1,1,0,0,1,0,0,0,0,2,2,0,0,0,0,0,0,4,0,0,null,null,null,null,17,{"$f":"+INDEX($F959:$FS959,1,Sheet3!$C$1)","v":17},{"$f":"+IF(Sheet3!$C$1=1,IF(FW959<3,0,1),1)","v":1}]
[1,2,"11E","4",2,1385,15050839.27336736,12627.299999999983,11932.929999999989,898373.22999999824,12631.629999999985,285.91000000000003,3030.24,200.48,2751.69,3856.2700000000018,2788.41,355.47000000000008,389.79999999999984,576.60000000000014,12678.699999999986,4568.8899999999985,11952.559999999983,1117.47,16.29,1406.4499999999989,179.56000000000003,0,190.67000000000013,1248.7099999999978,203.96999999999997,2726.8199999999988,1423.1200000000006,372.24999999999977,1966.68,2788.4100000000021,83.970000000000041,4,123,122,1125,153,60,6,5478813,878810,2552941,1008225.9,966613.02,41612.879999999997,12709.2,27987.88,0,0,0,915.8,0,0,0,0,1226690.5900000001,0,1226690.5900000001,318024.24,275128.59999999998,42554.96,0,0,0,0,340.68,2925872,533280.75,786,8438.26,0,0,24035.64,95429.34,381101.52,23489.99,2365086.4700000002,2365086.4700000002,0,0,11406.2,16098.71,13438.71,0,0,2432.5,227.5,12716.11,11348.82,1367.29,119,1232,0,0,0,16.29,0,0,0,0,12050.35,0,12050.35,1125.8900000000001,874.96,222.54,0,0,0,0,28.39,3702.75,13.1,81.459999999999994,0,0,229.21,582.54,2688.84,107.6,10474.27,10474.27,0,0,570.30999999999995,141.94,93.93,0,0,47.1,0.91,1385,34,0,49,0,0,0,5,0,0,0,0,1375,156,38,0,0,0,0,4,1,14,0,0,65,302,609,47,23,0,0,7,1,128,1385,0,0,null,null,null,null,1385,{"$f":"+INDEX($F1082:$FS1082,1,Sheet3!$C$1)","v":1385},{"$f":"+IF(Sheet3!$C$1=1,IF(FW1082<3,0,1),1)","v":1}]
[1,2,"150","7",2,4,26493.940000000002,38.130000000000003,40.089999999999996,3672.0899999999997,38.130000000000003,22.74,1.0900000000000001,1.9,0,33.269999999999996,1.87,0,0,0,38.130000000000003,11.940000000000001,36.29,26.71,0,1.0900000000000001,0,0,0,0,1.9000000000000001,0,1.37,0,31.77,1.87,0.08,0,0,0,0,0,0,0,24410,8892,15394,3836.08,3836.08,0,0,0,0,0,0,0,0,0,0,0,3889.26,0,3889.26,7669.02,4841.76,2827.26,0,0,0,0,0,9015,1222.6600000000001,0,1222.6600000000001,0,0,0,0,0,0,7792.72,7792.72,0,0,0,0,0,0,0,0,0,36.53,36.53,0,0,0,0,0,0,0,0,0,0,0,38.130000000000003,0,38.130000000000003,26.71,14.77,11.94,0,0,0,0,0,11.94,0,11.94,0,0,0,0,0,0,34.36,34.36,0,0,0,0,0,0,0,0,0,4,0,0,0,0,0,0,0,0,0,0,0,4,2,1,0,0,0,0,0,0,1,0,0,0,0,0,0,0,0,0,0,0,0,4,0,0,null,null,null,null,4,{"$f":"+INDEX($F1151:$FS1151,1,Sheet3!$C$1)","v":4},{"$f":"+IF(Sheet3!$C$1=1,IF(FW1151<3,0,1),1)","v":1}]
[1,2,"16B","5",1,5,13539.390953632386,7.3999999999999995,7.3500000000000005,2889.46,7.3999999999999995,0,0,1.05,0,5.55,0.8,0,0.15,0.15,7.3999999999999995,0,0,1.36,0,0,0,0,0,0,1.05,0,0,5.25,0,0.8,0,0,0,0,1,0,0,0,4349,319,4349,3274.82,3274.82,0,0,0,0,0,0,0,0,0,0,0,754.8,0,754.8,319.27,0,319.27,0,0,0,0,0,0,0,0,0,0,0,0,0,0,0,0,0,0,0,0,0,0,0,0,0,0,7.33,7.33,0,0,0,0,0,0,0,0,0,0,0,7.4,0,7.4,1.36,0,1.36,0,0,0,0,0,0,0,0,0,0,0,0,0,0,0,0,0,0,0,0,0,0,0,0,0,5,0,0,0,0,0,0,0,0,0,0,0,5,0,1,0,0,0,0,0,0,0,0,0,0,0,0,0,0,0,0,0,0,0,0,0,0,null,null,null,null,5,{"$f":"+INDEX($F1199:$FS1199,1,Sheet3!$C$1)","v":5},{"$f":"+IF(Sheet3!$C$1=1,IF(FW1199<3,0,1),1)","v":1}]
[1,2,"16D","6",1,2,6464.24064,1.0900000000000001,1.05,68.430000000000007,1.0900000000000001,1.0900000000000001,0,0,0,1.0900000000000001,0,0,0,0,1.0900000000000001,0.54,0,1.0900000000000001,0,0,0,0,0,0,0,0,1.0900000000000001,0,0,0,0,0,0,0,0,0,0,0,844,655,787,77.73,77.73,0,0,0,0,0,0,0,0,0,0,0,111.18,0,111.18,598.53,0,598.53,0,0,0,0,0,57,56.7,0,56.7,0,0,0,0,0,0,0,0,0,0,0,0,0,0,0,0,0,1.05,1.05,0,0,0,0,0,0,0,0,0,0,0,1.0900000000000001,0,1.0900000000000001,1.0900000000000001,0,1.0900000000000001,0,0,0,0,0,0.54,0,0.54,0,0,0,0,0,0,0,0,0,0,0,0,0,0,0,0,0,2,0,0,0,0,0,0,0,0,0,0,0,2,0,2,0,0,0,0,0,0,1,0,0,0,0,0,0,0,0,0,0,0,0,0,0,0,null,null,null,null,0,{"$f":"+INDEX($F1258:$FS1258,1,Sheet3!$C$1)","v":2},{"$f":"+IF(Sheet3!$C$1=1,IF(FW1258<3,0,1),1)","v":0}]
[1,2,"16F","6",4,6,1032005.1424780929,120.72000000000001,83.05,6491.7,120.72000000000001,109.39,1.64,1.18,0.53,117.14999999999999,0.22,0,0,0,119.78,84.48,37.660000000000004,107,0,0.27,1.0900000000000001,0,0,0.14000000000000001,1.18,0.53,109.36,0,6.54,0.22,0.14000000000000001,0,0,0,0,0,0,0,73214,50857,59420,6939.3,6939.3,0,0,0,0,0,0,0,0,0,0,0,10033.74,0,10033.74,42446.52,7455.14,34991.379999999997,0,0,0,0,0,13794,8410.08,0,7410.96,0,0,0,741.96,257.16000000000003,0,5384.06,2442.16,2941.9,0,0,0,0,0,0,0,0,78.459999999999994,78.459999999999994,0,0,0,0,0,0,0,0,0,0,0,98.37,0,98.37,107,8.4700000000000006,98.53,0,0,0,0,0,84.48,0,78.239999999999995,0,0,0,4.58,1.66,0,37.659999999999997,10.62,27.04,0,0,0,0,0,0,0,0,6,0,0,0,0,0,0,0,0,0,0,0,6,1,4,0,0,0,0,0,0,3,0,0,0,1,1,0,0,0,0,0,0,0,1,4,0,null,null,null,null,6,{"$f":"+INDEX($F1371:$FS1371,1,Sheet3!$C$1)","v":6},{"$f":"+IF(Sheet3!$C$1=1,IF(FW1371<3,0,1),1)","v":1}]
[1,2,"16H","1_2",4,2,344300.48043756979,20.329999999999998,20.47,1604.04,20.329999999999998,3.04,7.89,0,3.23,6.9499999999999993,2.2599999999999998,0,0,0,19.830000000000002,5.62,19.630000000000003,13.530000000000001,0,0,0,0,1.97,5.6,0.32,3.23,0.44,0.33,6.02,2.2599999999999998,0,0,0,0,0,0,0,0,11354,5021,7731,1761.63,1761.63,0,0,0,0,0,0,0,0,0,0,0,2022.66,0,2022.66,3946.27,3883.27,0,0,0,0,0,63,3623,1074.3599999999999,0,235.2,0,0,0,839.16,0,0,2548.61,1421.52,0,1127.0899999999999,0,0,0,0,0,0,0,19.82,19.82,0,0,0,0,0,0,0,0,0,0,0,19.829999999999998,0,19.829999999999998,13.53,8.2799999999999994,0,0,0,0,0,5.25,7.42,0,2.2400000000000002,0,0,0,5.18,0,0,18.14,5.47,0,12.67,0,0,0,0,0,0,0,2,0,0,0,0,0,0,0,0,0,0,0,2,1,0,0,0,0,0,1,0,1,0,0,0,2,0,0,0,0,0,0,0,0,1,0,1,null,null,null,null,0,{"$f":"+INDEX($F1439:$FS1439,1,Sheet3!$C$1)","v":2},{"$f":"+IF(Sheet3!$C$1=1,IF(FW1439<3,0,1),1)","v":0}]
[1,2,"16I","11",3,25,1169102.253146928,1616.02,1544.11,113446.07,1616.02,75.55,11.95,356.95,0.08,133.65,1113.3900000000001,1095.1599999999999,1386.9,1471.8999999999999,1616.98,973.31000000000006,1501.1699999999998,572.12,0,8.68,0.71,0,0,0.51,357.03999999999996,0.08,9.02,2.4299999999999997,116.21000000000001,1113.3899999999999,7.9500000000000011,3,23,25,7070,253,1593,70,449798,75428,347122,286717.5,123509.74,163207.76,1174.8,162032.95999999999,0,0,0,0,0,0,0,0,34596.36,0,34596.36,25807.68,22889.33,1791.31,0,0,0,0,1127.04,102676,47672.639999999999,0,0,0,0,21086.61,10569.96,14778.57,1237.5,53056.3,14031.38,1720.22,37304.699999999997,1947.2,0,0,0,0,0,0,8683.1299999999992,1479.13,7204,11,7193,0,0,0,0,0,0,0,0,339.18,0,339.18,555.02,449.06,12.04,0,0,0,0,93.92,970.86,0,0,0,0,663.2,75.38,227.33,4.95,1348.03,121.03,22.74,1204.26,48.68,0,0,0,0,0,0,25,2,0,22,0,0,0,0,0,0,0,0,20,3,1,0,0,0,0,1,0,0,0,0,6,10,6,1,0,0,0,0,0,1,4,2,16,null,null,null,null,25,{"$f":"+INDEX($F1508:$FS1508,1,Sheet3!$C$1)","v":25},{"$f":"+IF(Sheet3!$C$1=1,IF(FW1508<3,0,1),1)","v":1}]
[1,2,"16J","5",1,64,147593.56059394326,263.29000000000008,258.44,18855.059999999998,263.29000000000008,4.03,22.3,7.31,13.65,193.15000000000003,26.88,0,0,0,261.98000000000008,195.98999999999998,252.32000000000005,62.11,0,16.549999999999997,2.8,0,2.4599999999999995,0.48999999999999994,7.3099999999999987,13.65,2.1500000000000004,145.33000000000001,38.280000000000008,26.88,0.84,0,0,0,0,0,0,0,149674,43731,62177,20492.009999999998,20492.009999999998,0,0,0,0,0,0,0,0,0,0,0,26239.5,0,26239.5,15445.4,11210.47,4234.93,0,0,0,0,0,87497,28187.64,0,0,0,0,0,2214.42,25973.22,0,59211.06,58221.36,0,989.7,98,0,0,0,0,0,0,247.27,247.27,0,0,0,0,0,0,0,0,0,0,0,257.25,0,257.25,45.19,25.39,19.8,0,0,0,0,0,186.11,0,0,0,0,0,9.84,176.27,0,218.86,211.01,0,7.85,4.9000000000000004,0,0,0,0,0,0,64,0,0,0,0,0,0,0,0,0,0,0,62,8,7,0,0,0,0,0,0,0,0,0,0,6,50,0,0,0,0,0,0,2,60,0,3,null,null,null,null,64,{"$f":"+INDEX($F1585:$FS1585,1,Sheet3!$C$1)","v":64},{"$f":"+IF(Sheet3!$C$1=1,IF(FW1585<3,0,1),1)","v":1}]
[1,2,"170","10_1",1,1,3484.5278669428085,1.56,1.56,516.29,1.56,0,0,0,0,0,1.56,1.56,3,3,1.56,0,0,0,0,0,0,0,0,0,0,0,0,0,0,1.56,0,0,0,5,0,0,0,0,746,0,746,586.41,586.41,0,0,0,0,0,0,0,0,0,0,0,159.12,0,159.12,0,0,0,0,0,0,0,0,0,0,0,0,0,0,0,0,0,0,0,0,0,0,0,0,0,0,0,0,0,1.56,1.56,0,0,0,0,0,0,0,0,0,0,0,1.56,0,1.56,0,0,0,0,0,0,0,0,0,0,0,0,0,0,0,0,0,0,0,0,0,0,0,0,0,0,0,0,1,0,0,0,0,0,0,0,0,0,0,0,1,0,0,0,0,0,0,0,0,0,0,0,0,0,0,0,0,0,0,0,0,0,0,0,0,null,null,null,null,0,{"$f":"+INDEX($F1615:$FS1615,1,Sheet3!$C$1)","v":1},{"$f":"+IF(Sheet3!$C$1=1,IF(FW1615<3,0,1),1)","v":0}]
[1,2,"181","3",5,2,2790758.2710049134,719.82999999999993,255.98,24822.22,719.82999999999993,121.5,283,340.64,0,58.24,37.950000000000003,0,15.6,15.6,715.74999999999977,138.41999999999996,682.98999999999978,0,55.05,0,0,0,0,283,340.64,0,56.84,0,0,37.950000000000003,0,4,9,5,0,0,0,0,44234,3,32249,32249.200000000001,28193.09,4056.11,961.2,0,0,0,0,3094.91,0,0,0,0,0,0,0,0,0,0,0,0,0,0,0,11985,0,0,0,0,0,0,0,0,0,11982.14,4472.1400000000003,0,7510,2.8,0,0,0,0,0,0,320.02999999999997,255.98,64.05,9,0,0,0,0,55.05,0,0,0,0,0,0,0,0,0,0,0,0,0,0,0,0,0,0,0,0,0,0,0,0,362.37,62.37,0,300,7.0000000000000007E-2,0,0,0,0,0,0,2,1,0,0,0,0,0,1,0,0,0,0,0,0,0,0,0,0,0,0,0,0,0,0,0,0,0,0,0,0,0,0,0,1,1,0,2,null,null,null,null,0,{"$f":"+INDEX($F1728:$FS1728,1,Sheet3!$C$1)","v":2},{"$f":"+IF(Sheet3!$C$1=1,IF(FW1728<3,0,1),1)","v":0}]
[1,2,"181","9",4,3,1121367.8855585821,132.85,136.47000000000003,15440.43,132.85,69.75,11.13,102.76,11.55,0.60000000000000009,6.81,6.81,537.4,537.4,133.06,29.950000000000003,133.06,0,34.29,6.21,0,0,0,2.86,104.82,11.55,0.26,0,0,6.81,0,370,19,271,0,0,0,0,90456,10736,85335,68735.009999999995,17112.47,51622.54,854.4,0,46036.12,0,0,0,0,0,4732.0200000000004,0,6120,0,6120,10479.700000000001,0,0,0,0,2953.7,7526,0,5121,0,0,0,0,0,0,0,0,0,4864.5600000000004,0,0,4864.5600000000004,256.8,0,0,0,0,0,0,572.35,133.06,439.29,8,0,397,0,0,0,0,0,34.29,0,60,0,60,650,0,0,0,0,286,364,0,0,0,0,0,0,0,0,0,0,96.12,0,0,96.12,6.42,0,0,0,0,0,0,3,2,0,0,3,0,0,0,0,0,1,0,3,0,0,0,0,3,1,0,0,0,0,0,0,0,0,0,0,0,0,0,0,1,0,0,3,null,null,null,null,3,{"$f":"+INDEX($F1752:$FS1752,1,Sheet3!$C$1)","v":3},{"$f":"+IF(Sheet3!$C$1=1,IF(FW1752<3,0,1),1)","v":1}]
[1,2,"185","13",3,31,1243108.910762511,6710.3700000000008,6684.1299999999992,532826.5,6710.3700000000008,169.2,33.630000000000003,998.1,34.130000000000003,52.06,5592.45,0,0,0,6832.2800000000007,136.94999999999999,5363.1900000000014,24.65,0,31.73,0,0,1.9,0,998.10000000000025,34.130000000000003,24.440000000000005,0,19.420000000000002,5592.45,6.5,0,0,0,0,0,0,0,671077,8604,615417,586543.31000000006,586543.31000000006,0,0,0,0,0,0,0,0,0,0,0,20400,0,20400,8474.19,985.94,3725.94,0,0,0,0,3762.31,55659,130.19999999999999,0,130.19999999999999,0,0,0,0,0,0,55528.9,1093.2,0,54435.7,0,0,0,0,0,0,0,6615.85,6615.85,0,0,0,0,0,0,0,0,0,0,0,200,0,200,345.64,1.24,23.41,0,0,0,0,320.99,1.24,0,1.24,0,0,0,0,0,0,1903.11,3.95,0,1899.16,0,0,0,0,0,0,0,31,0,0,0,0,0,0,0,0,0,0,0,10,1,1,0,0,0,0,4,0,1,0,0,0,0,0,0,0,0,0,0,0,0,1,0,20,null,null,null,null,31,{"$f":"+INDEX($F1865:$FS1865,1,Sheet3!$C$1)","v":31},{"$f":"+IF(Sheet3!$C$1=1,IF(FW1865<3,0,1),1)","v":1}]
[1,2,"185","8",5,20,19589999.328944691,14086.780000000002,14087.720000000003,1082738.4300000002,14086.780000000002,3450.92,2649.2,754.82,205.56,2841.4900000000002,7635.71,3724.87,1695.1999999999998,1749.1999999999998,14188.179999999991,3280.5999999999995,10586.299999999997,5659.6699999999983,1923.48,218.66000000000003,1375.8399999999997,293.89,113.53999999999999,647.27,754.82,205.56,1582.8700000000001,355.04,340.85,7635.7100000000009,527.29,0,1153,855,665,31,0,0,2667927,845034,2407170,1787057.2,1194499.99,592557.21,115984.8,15077.41,0,127807.25,22533.85,3169.12,1024.48,306960.3,0,0,2040,0,2040,618072.51,34784.769999999997,434468.25,82524.149999999994,0,7780.1,0,58515.24,260757,172869.8,0,23341.17,0,58513.27,28695.360000000001,0,0,62320,33795,0,0,33795,0,54092.05,0,0,0,54092.05,0,17213.55,13688.68,3524.87,1086,661,0,303.39999999999998,72.37,56.37,11.12,1334.61,0,0,20,0,20,10897.31,169.6,3226.57,2056.27,0,568.6,0,4876.2700000000004,3727.96,0,568.49,0,1157.19,1716.28,0,0,286,1350,0,0,1350,0,212.43,0,0,0,212.43,0,20,7,0,2,0,5,2,2,1,10,0,0,1,2,18,5,0,3,0,6,0,3,0,5,3,0,0,2,0,0,0,3,0,0,0,0,9,null,null,null,null,20,{"$f":"+INDEX($F1904:$FS1904,1,Sheet3!$C$1)","v":20},{"$f":"+IF(Sheet3!$C$1=1,IF(FW1904<3,0,1),1)","v":1}]
[1,2,"187","10_1",5,8,11147695.755257895,7288.7699999999995,6473.170000000001,600338.41999999993,7288.7699999999995,761.65,251.32,1907.13,31.07,107.38,4991.87,4991.8700000000008,11182.550000000001,11197.550000000001,7379.4899999999971,2102.4899999999998,5600.829999999999,3277.83,288.80999999999995,141.76,12.78,0,34.549999999999997,0,1969.36,31.07,39.700000000000003,20.57,43.32,4991.8700000000008,0.61,1000,4138,10508,664,57,0,0,1482105,303809,1334123,1143497.96,613707.39,529790.56999999995,386723.66,14119.39,128947.52,0,0,0,0,0,0,0,0,0,0,190624.89,76072.31,29771.95,50514,0,16860.150000000001,0,17406.48,147983,82328.03,12272.42,1989.58,24193.919999999998,0,2411.4499999999998,2039.58,2325.08,37096,34798.58,6400,0,28398.58,30855.9,0,0,0,0,0,0,11974.3,6470.3,5504,3773,619,1112,0,0,0,0,0,0,0,0,0,0,7512.89,1724.75,283.08999999999997,1995.91,0,2058.6,0,1450.54,1727.43,236.98,19.98,608.99,0,568.12,12.59,36.32,244.45,1258.81,150,0,1108.81,918,0,0,0,0,0,0,8,7,0,2,1,0,0,0,0,0,0,0,0,2,2,4,0,3,0,2,1,2,3,0,2,2,1,2,0,0,0,0,0,3,1,0,8,null,null,null,null,8,{"$f":"+INDEX($F1992:$FS1992,1,Sheet3!$C$1)","v":8},{"$f":"+IF(Sheet3!$C$1=1,IF(FW1992<3,0,1),1)","v":1}]
[1,2,"187","7",2,70,630748.06378942926,1629.0799999999997,1493.1399999999999,108846.40000000004,1629.0799999999997,288.91000000000003,9.5500000000000007,60.16,0.47,1161.4499999999998,397.45,10.62,17.049999999999997,17.049999999999997,1617.3499999999997,978.13000000000011,1276.8599999999994,665.06000000000017,0,8.74,0.2,0,0.53,0.08,60.159999999999989,0.47000000000000003,2.81,3.9799999999999995,1150.1599999999996,397.45000000000016,0.66999999999999993,0,1,0,92,11,4,0,643562,323127,417262,123845.35,122066.17,1779.18,0,1779.18,0,0,0,0,0,0,0,0,112122.48,0,112122.48,181293.75,149347.44,31946.31,0,0,0,0,0,226300,140835.22,0,40781.879999999997,0,4162.8100000000004,0,95778.81,111.72,0,84467.44,195.36,0,84272.08,997.8,0,0,0,0,0,0,1552.64,1474.64,78,0,78,0,0,0,0,0,0,0,0,1099.24,0,1099.24,663.63,497.69,165.94,0,0,0,0,0,1213.3399999999999,0,421.04,0,57.22,0,734.31,0.77,0,1216.67,0.66,0,1216.01,23.72,0,0,0,0,0,0,70,0,0,5,0,0,0,0,0,0,0,0,69,23,10,0,0,0,0,0,0,26,0,3,0,50,1,0,0,0,0,0,0,2,1,0,70,null,null,null,null,70,{"$f":"+INDEX($F2041:$FS2041,1,Sheet3!$C$1)","v":70},{"$f":"+IF(Sheet3!$C$1=1,IF(FW2041<3,0,1),1)","v":1}]
[1,3,"11B","11",1,63,139158.40745328224,209.88000000000002,6.57,470.17,367.03999999999996,12.42,2.9,13.91,0,1.62,190.25,190.24999999999994,148.05000000000001,160.04999999999998,19.48,36.28,362.35,0,0,0.64,1.06,0,0.03,1.1700000000000002,13.910000000000002,0,1.83,0.3,0.41000000000000003,190.24999999999994,0.22,0,1,3,752,85,127,7,87358,6592,25801,25801.35,0,25801.35,106.8,25694.55,0,0,0,0,0,0,0,0,0,0,0,0,0,0,0,0,0,0,0,61557,3151.02,0,0,0,0,405,0,2746.02,0,54964.72,54964.72,0,0,0,3440.84,990.84,0,0,2450,0,1133,0,1133,1,1132,0,0,0,0,0,0,0,0,0,0,0,0,0,0,0,0,0,0,0,34.369999999999997,0,0,0,0,2.39,0,31.98,0,209.47,209.47,0,0,0,41.69,3.59,0,0,38.1,0,0,1,0,62,0,0,0,0,0,0,0,0,0,0,0,0,0,0,0,0,0,0,0,0,4,0,17,0,3,0,0,7,0,0,48,0,0,null,null,null,null,63,{"$f":"+INDEX($F2154:$FS2154,1,Sheet3!$C$1)","v":63},{"$f":"+IF(Sheet3!$C$1=1,IF(FW2154<3,0,1),1)","v":1}]
[1,3,"11E","10_15",1,9,14848.405014235679,5.8999999999999995,71.05,6461.119999999999,5.8999999999999995,0,1.71,1.76,0.35,1.69,0.39,0.39,12.6,12.6,0,4.6400000000000006,5.9,0,0,1.71,0,0,0,0,1.76,0.35,0,0,1.69,0.39,0,0,9,7,0,0,0,0,6170,1030,3524,3524.4,0,3524.4,3524.4,0,0,0,0,0,0,0,0,0,0,0,0,0,0,0,0,0,0,0,0,2646,1030.46,0,0,0,0,0,0,614.46,416,1615.2,1615.2,0,0,0,0,0,0,0,0,0,33,0,33,33,0,0,0,0,0,0,0,0,0,0,0,0,0,0,0,0,0,0,0,0,7.24,0,0,0,0,0,0,4.6399999999999997,2.6,5.9,5.9,0,0,0,0,0,0,0,0,0,0,9,0,0,0,0,0,0,0,0,0,0,0,0,0,0,0,0,0,0,0,0,0,0,0,0,1,1,0,0,0,0,0,0,2,0,0,null,null,null,null,9,{"$f":"+INDEX($F2232:$FS2232,1,Sheet3!$C$1)","v":9},{"$f":"+IF(Sheet3!$C$1=1,IF(FW2232<3,0,1),1)","v":1}]
[1,3,"11E","8",3,4,174531.59410200687,68.97999999999999,0,0,68.97999999999999,0.23,9.91,0,1.63,55.589999999999996,1.85,0,0,0,36.479999999999983,34.029999999999994,68.299999999999983,63.08,0,0,0.8,0,0,9.11,0,1.63,37.299999999999997,10.09,8.1999999999999993,1.85,0,0,0,0,0,0,0,0,42054,31103,27065,0,0,0,0,0,0,0,0,0,0,0,0,0,0,0,0,27064.880000000001,27064.880000000001,0,0,0,0,0,0,14989,4037.86,0,2077.06,0,0,0,456.84,1503.96,0,10951.2,10951.2,0,0,0,0,0,0,0,0,0,0,0,0,0,0,0,0,0,0,0,0,0,0,0,0,0,63.08,63.08,0,0,0,0,0,0,34.03,0,21.54,0,0,0,2.82,9.67,0,68.150000000000006,68.150000000000006,0,0,0,0,0,0,0,0,0,0,0,0,0,0,0,0,0,0,0,0,0,0,4,0,0,0,0,0,0,0,1,0,0,0,1,2,0,0,0,0,0,0,0,4,0,0,null,null,null,null,4,{"$f":"+INDEX($F2261:$FS2261,1,Sheet3!$C$1)","v":4},{"$f":"+IF(Sheet3!$C$1=1,IF(FW2261<3,0,1),1)","v":1}]
[1,3,"16G","11",3,1,28221.024792172335,5.62,0,0,5.62,0,1.49,4.13,0,0,0,0,34.65,34.65,0,5.62,5.62,0,0,1.49,0,0,0,0,4.13,0,0,0,0,0,0,0,0,0,224,7,0,0,6288,517,5132,5132.25,0,5132.25,0,5132.25,0,0,0,0,0,0,0,0,0,0,0,0,0,0,0,0,0,0,0,1156,517.20000000000005,0,0,0,0,0,0,517.20000000000005,0,638.9,0,0,638.9,0,0,0,0,0,0,0,225,0,225,0,225,0,0,0,0,0,0,0,0,0,0,0,0,0,0,0,0,0,0,0,5.62,0,0,0,0,0,0,5.62,0,5.62,0,0,5.62,0,0,0,0,0,0,0,0,0,0,1,0,0,0,0,0,0,0,0,0,0,0,0,0,0,0,0,0,0,0,0,0,0,1,0,0,0,0,0,0,0,0,0,1,null,null,null,null,0,{"$f":"+INDEX($F2404:$FS2404,1,Sheet3!$C$1)","v":1},{"$f":"+IF(Sheet3!$C$1=1,IF(FW2404<3,0,1),1)","v":0}]
[1,3,"16I","8",2,13,104780.36501937655,51.06,0,0,51.06,6.38,5.74,11.94,0,25.64,7.74,4.42,19.5,19.5,0,30.669999999999998,27.230000000000004,19.040000000000003,0,1.27,1.89,0,0.1,2.48,11.94,0,4.7299999999999995,0.56000000000000005,13.499999999999998,7.7399999999999993,6.81,0,0,2,87,13,20,2,16342,9780,7855,2144.14,0,2144.14,0,2144.14,0,0,0,0,0,0,0,0,0,0,0,5710.42,5710.42,0,0,0,0,0,0,8487,3937.26,0,504,0,0,0,1636.2,1797.06,0,4416.91,2437.36,0,1979.55,132.80000000000001,0,0,0,0,0,0,94,0,94,0,94,0,0,0,0,0,0,0,0,0,0,0,20.21,20.21,0,0,0,0,0,0,28.83,0,4.8,0,0,0,10.1,13.93,0,24.52,8.31,0,16.21,6.64,0,0,0,0,0,0,0,0,0,8,0,0,0,0,0,0,0,0,0,5,0,0,0,0,0,0,0,1,0,0,0,3,7,0,0,0,0,0,0,1,4,0,5,null,null,null,null,13,{"$f":"+INDEX($F2472:$FS2472,1,Sheet3!$C$1)","v":13},{"$f":"+IF(Sheet3!$C$1=1,IF(FW2472<3,0,1),1)","v":1}]
[1,3,"170","1_1",4,5,1083746.0399202129,29.41,0,0,29.41,29.08,28.04,0,1.04,0,0.33,0,0,0,13.22,0,13.22,15.86,6.96,0,0,0,0,28.04,0,1.04,0,0,0,0.33,0,0,0,0,0,0,0,0,10580,7270,9438,2167.14,0,2167.14,0,0,0,0,2167.14,0,0,0,0,0,0,0,0,7270.46,1096.57,6173.89,0,0,0,0,0,1142,0,0,0,0,0,0,0,0,0,1141.94,0,0,1141.94,0,0,0,0,0,0,0,6.96,0,6.96,0,0,0,0,6.96,0,0,0,0,0,0,0,0,15.86,2.29,13.57,0,0,0,0,0,0,0,0,0,0,0,0,0,0,13.22,0,0,13.22,0,0,0,0,0,0,0,0,0,0,0,0,0,1,0,0,0,0,0,0,1,3,0,0,0,0,0,0,0,0,0,0,0,0,0,0,0,0,0,0,0,0,0,1,null,null,null,null,5,{"$f":"+INDEX($F2511:$FS2511,1,Sheet3!$C$1)","v":5},{"$f":"+IF(Sheet3!$C$1=1,IF(FW2511<3,0,1),1)","v":1}]
[1,3,"184","10_1",2,1,24522.510654561833,20.59,0,0,20.59,0,0,17.670000000000002,0,2.12,0.8,0.8,28.6,28.6,0,1.36,20.590000000000003,0,0,0,0,0,0,0,17.670000000000002,0,0,0,2.12,0.8,0,0,18,15,0,0,0,0,2736,220,1175,1174.8,0,1174.8,1174.8,0,0,0,0,0,0,0,0,0,0,0,0,0,0,0,0,0,0,0,0,1561,220.32,0,0,0,0,0,220.32,0,0,1340.93,0,0,1340.93,0,0,0,0,0,0,0,11,0,11,11,0,0,0,0,0,0,0,0,0,0,0,0,0,0,0,0,0,0,0,0,1.36,0,0,0,0,0,1.36,0,0,20.59,0,0,20.59,0,0,0,0,0,0,0,0,1,0,0,0,0,0,0,0,0,0,0,0,0,0,0,0,0,0,0,0,0,0,0,0,1,0,0,0,0,0,0,0,0,0,0,1,null,null,null,null,0,{"$f":"+INDEX($F2580:$FS2580,1,Sheet3!$C$1)","v":1},{"$f":"+IF(Sheet3!$C$1=1,IF(FW2580<3,0,1),1)","v":0}]
[1,3,"185","8",3,2,90135.637917386528,22.82,0,0,22.82,6.4,4.78,3.77,5.07,8.75,0.45,0,15.2,15.2,0,0,0,14.600000000000001,0,0,0,0,0,4.78,3.77,5.07,0,8.3500000000000014,0.12,0.45,0,0,13,4,0,0,0,0,4490,3209,4490,1281.5999999999999,0,1281.5999999999999,1281.5999999999999,0,0,0,0,0,0,0,0,0,0,0,0,3208.81,3208.81,0,0,0,0,0,0,0,0,0,0,0,0,0,0,0,0,0,0,0,0,0,0,0,0,0,0,0,12,0,12,12,0,0,0,0,0,0,0,0,0,0,0,0,7.76,7.76,0,0,0,0,0,0,0,0,0,0,0,0,0,0,0,0,0,0,0,0,0,0,0,0,0,0,0,1,0,0,0,0,0,0,0,0,0,0,0,1,0,0,0,0,0,0,0,0,0,0,0,0,0,0,0,0,0,0,0,0,0,0,0,null,null,null,null,0,{"$f":"+INDEX($F2639:$FS2639,1,Sheet3!$C$1)","v":2},{"$f":"+IF(Sheet3!$C$1=1,IF(FW2639<3,0,1),1)","v":0}]
[1,4,"112","4",1,8,18571.757681099782,8.4599999999999991,4.21,358.36,8.4599999999999991,8.4600000000000009,6.17,0.68,1.08,0.53,0,0,0,0,5.73,1.2500000000000002,5.68,0,0,3.4000000000000004,0.77,0,0.43999999999999995,1.56,0.68,1.08,0,0.29000000000000004,0.09,0,0.15000000000000002,0,0,0,0,0,0,0,554,0,0,0,0,0,0,0,0,0,0,0,0,0,0,0,0,0,0,0,0,0,0,0,0,0,0,554,0,0,0,0,0,0,0,0,0,554.41,554.41,0,0,0,0,0,0,0,0,0,0,0,0,0,0,0,0,0,0,0,0,0,0,0,0,0,0,0,0,0,0,0,0,0,0,0,0,0,0,0,0,0,0,1.93,1.93,0,0,0,0,0,0,0,0,0,0,0,0,0,0,0,0,0,0,0,0,0,0,0,0,0,0,0,0,0,0,0,0,0,0,0,0,0,0,0,0,0,0,0,3,0,0,null,null,null,null,8,{"$f":"+INDEX($F2761:$FS2761,1,Sheet3!$C$1)","v":8},{"$f":"+IF(Sheet3!$C$1=1,IF(FW2761<3,0,1),1)","v":1}]
[1,4,"119","10_2",2,7,54625.935181163935,59.160000000000004,22.56,1876.48,106.69,9.74,0.21,9.4600000000000009,0,0.35,49.08,49.08,28.4,29.4,22.220000000000002,2.46,100.58999999999999,0,0,0,0.08,0,0,0.13,9.4599999999999991,0,0.06,0.35,0,49.08,0,0,16,24,0,0,0,0,11950,1575,0,0,0,0,0,0,0,0,0,0,0,0,0,0,0,0,0,0,0,0,0,0,0,0,0,11950,1575.2,0,0,0,0,0,0,295.2,1280,10374.959999999999,10374.959999999999,0,0,0,0,0,0,0,0,0,0,0,0,0,0,0,0,0,0,0,0,0,0,0,0,0,0,0,0,0,0,0,0,0,10.46,0,0,0,0,0,0,2.46,8,45.56,45.56,0,0,0,0,0,0,0,0,0,0,0,0,0,0,0,0,0,0,0,0,0,0,0,0,0,0,0,0,0,0,0,0,0,0,0,1,2,0,0,0,0,0,0,5,0,0,null,null,null,null,7,{"$f":"+INDEX($F2785:$FS2785,1,Sheet3!$C$1)","v":7},{"$f":"+IF(Sheet3!$C$1=1,IF(FW2785<3,0,1),1)","v":1}]
[1,4,"11B","9",1,1,3487.3458720104973,2.5599999999999996,0,0,4.0199999999999996,0,0.19,0.37,0,0,2,2,1,1,0,0,4.0199999999999996,0,0,0,0.08,0,0,0.11,0.37,0,0,0,0,2,0,1,0,0,0,0,0,0,758,0,0,0,0,0,0,0,0,0,0,0,0,0,0,0,0,0,0,0,0,0,0,0,0,0,0,758,0,0,0,0,0,0,0,0,0,757.76,757.76,0,0,0,0,0,0,0,0,0,0,0,0,0,0,0,0,0,0,0,0,0,0,0,0,0,0,0,0,0,0,0,0,0,0,0,0,0,0,0,0,0,0,2.56,2.56,0,0,0,0,0,0,0,0,0,0,0,0,0,0,0,0,0,0,0,0,0,0,0,0,0,0,0,0,0,0,0,0,0,0,0,0,0,0,0,0,0,0,0,1,0,0,null,null,null,null,0,{"$f":"+INDEX($F2868:$FS2868,1,Sheet3!$C$1)","v":1},{"$f":"+IF(Sheet3!$C$1=1,IF(FW2868<3,0,1),1)","v":0}]
[1,4,"11E","12",1,10,9905.2930416014951,16.46,0.9,58.66,16.46,0.04,3.94,2.15,0,6.54,3.83,0.4,7.2,17.2,0.9,7.52,14.59,0,0,3.8499999999999996,0,0,0,0.09,2.1500000000000004,0,4.05,0.34,1.77,3.8300000000000005,0.34,0,0,0,37,9,1,1,5502,1186,0,0,0,0,0,0,0,0,0,0,0,0,0,0,0,0,0,0,0,0,0,0,0,0,0,5502,1105.68,0,0,0,0,0,0,1105.68,0,4316.24,4316.24,0,0,80.400000000000006,0,0,0,0,0,0,0,0,0,0,0,0,0,0,0,0,0,0,0,0,0,0,0,0,0,0,0,0,0,0,7.52,0,0,0,0,0,0,7.52,0,14.59,14.59,0,0,4.0199999999999996,0,0,0,0,0,0,0,0,0,0,0,0,0,0,0,0,0,0,0,0,0,0,0,0,0,0,0,0,0,0,0,0,5,0,0,0,0,0,0,2,7,0,0,null,null,null,null,10,{"$f":"+INDEX($F2937:$FS2937,1,Sheet3!$C$1)","v":10},{"$f":"+IF(Sheet3!$C$1=1,IF(FW2937<3,0,1),1)","v":1}]
[1,4,"16D","8",2,2,13841.334117407219,5.55,5.6099999999999994,680.74,5.55,4.2,4.63,0.33,0,0.03,0.56000000000000005,0,0,0,5.55,0,0,0,0,0,3.81,0,0,0.82000000000000006,0.33,0,0.03,0,0,0.56000000000000005,0,0,0,0,0,0,0,0,0,0,0,0,0,0,0,0,0,0,0,0,0,0,0,0,0,0,0,0,0,0,0,0,0,0,0,0,0,0,0,0,0,0,0,0,0,0,0,0,0,0,0,0,0,0,0,0,0,0,0,0,0,0,0,0,0,0,0,0,0,0,0,0,0,0,0,0,0,0,0,0,0,0,0,0,0,0,0,0,0,0,0,0,0,0,0,0,0,0,0,0,0,0,0,0,0,0,0,0,0,0,0,0,0,0,0,0,0,0,0,0,0,0,0,0,0,0,0,0,0,0,0,0,0,0,0,0,0,null,null,null,null,0,{"$f":"+INDEX($F3025:$FS3025,1,Sheet3!$C$1)","v":2},{"$f":"+IF(Sheet3!$C$1=1,IF(FW3025<3,0,1),1)","v":0}]
[1,4,"16H","10_2",1,1,3229.0569038296248,37.72,0,0,37.72,0,0,0.54,0,2.76,34.42,0,4.4000000000000004,4.4000000000000004,0,2.76,23.56,0,0,0,0,0,0,0,0.54,0,0,0,2.76,34.42,0,0,2,4,0,0,0,0,1944,523,0,0,0,0,0,0,0,0,0,0,0,0,0,0,0,0,0,0,0,0,0,0,0,0,0,1944,447.12,0,0,0,0,0,447.12,0,0,1421.12,0,0,1421.12,76,0,0,0,0,0,0,0,0,0,0,0,0,0,0,0,0,0,0,0,0,0,0,0,0,0,0,0,0,0,0,2.76,0,0,0,0,0,2.76,0,0,23.56,0,0,23.56,1.9,0,0,0,0,0,0,0,0,0,0,0,0,0,0,0,0,0,0,0,0,0,0,0,0,0,0,0,0,0,0,0,1,0,0,0,0,0,0,0,1,0,0,1,null,null,null,null,0,{"$f":"+INDEX($F3118:$FS3118,1,Sheet3!$C$1)","v":1},{"$f":"+IF(Sheet3!$C$1=1,IF(FW3118<3,0,1),1)","v":0}]
[1,4,"16J","12",2,15,103782.38351508637,167.97,3.91,324.92,167.97,6.91,21.09,69.77,12.05,21.9,43.16,11.610000000000001,21.900000000000002,42.5,3.9299999999999997,56.709999999999994,167.59,0,0,16.72,0.27,0,0,4.1000000000000005,69.77,12.049999999999999,7.589999999999999,2.5499999999999998,10.729999999999999,43.16,0.8600000000000001,0,0,6,81,14,15,12,32982,6127,0,0,0,0,0,0,0,0,0,0,0,0,0,0,0,0,0,0,0,0,0,0,0,0,0,32982,5905.5,0,0,0,0,0,570.24,4835.26,500,26854.65,26854.65,0,0,221.6,0,0,0,0,0,0,0,0,0,0,0,0,0,0,0,0,0,0,0,0,0,0,0,0,0,0,0,0,0,0,58.68,0,0,0,0,0,3.52,53.16,2,151.05000000000001,151.05000000000001,0,0,11.08,0,0,0,0,0,0,0,0,0,0,0,0,0,0,0,0,0,0,0,0,0,0,0,0,0,0,0,0,0,0,0,3,8,1,0,0,0,0,0,2,15,0,0,null,null,null,null,15,{"$f":"+INDEX($F3187:$FS3187,1,Sheet3!$C$1)","v":15},{"$f":"+IF(Sheet3!$C$1=1,IF(FW3187<3,0,1),1)","v":1}]
[1,4,"170","4",2,1,4956.9712359387968,0.56000000000000005,0,0,0.56000000000000005,0.45,0.45,0,0,0.11,0,0,0,0,0,0,0,0.55999999999999994,0,0,0,0,0,0.45,0,0,0.11,0,0,0,0,0,0,0,0,0,0,0,0,0,0,null,null,null,null,null,null,null,null,null,null,null,null,null,null,null,null,null,null,null,null,null,null,null,null,0,null,null,null,null,null,null,null,null,null,null,null,null,null,null,null,null,null,null,null,null,null,null,null,null,null,null,null,null,null,null,null,null,null,null,null,null,null,null,null,null,null,null,null,null,null,null,null,null,null,null,null,null,null,null,null,null,null,null,null,null,null,null,null,null,0,0,0,0,0,0,0,0,0,0,0,0,0,0,0,0,0,0,0,0,0,0,0,0,0,0,0,0,0,0,0,0,0,0,0,0,0,null,null,null,null,0,{"$f":"+INDEX($F3224:$FS3224,1,Sheet3!$C$1)","v":1},{"$f":"+IF(Sheet3!$C$1=1,IF(FW3224<3,0,1),1)","v":0}]
[1,4,"184","7",4,1,115704.60400000001,119.29,0,0,119.29,117.56,0,0,0,118.85,0.44,0,0,0,0,118.85,118.85,0,0,0,0,0,0,0,0,0,0,0,117.56,0.44,0,0,0,0,0,0,0,0,9311,6117,0,0,0,0,0,0,0,0,0,0,0,0,0,0,0,0,0,0,0,0,0,0,0,0,0,9311,6116.56,0,6116.56,0,0,0,0,0,0,3194.3,0,0,3194.3,0,0,0,0,0,0,0,0,0,0,0,0,0,0,0,0,0,0,0,0,0,0,0,0,0,0,0,0,0,0,0,117.56,0,117.56,0,0,0,0,0,0,118.85,0,0,118.85,0,0,0,0,0,0,0,0,0,0,0,0,0,0,0,0,0,0,0,0,0,0,0,0,0,0,0,0,1,0,0,0,0,0,0,0,0,0,0,0,0,0,0,1,null,null,null,null,0,{"$f":"+INDEX($F3294:$FS3294,1,Sheet3!$C$1)","v":1},{"$f":"+IF(Sheet3!$C$1=1,IF(FW3294<3,0,1),1)","v":0}]
[2,1,"112","5",2,1,11343.757353186704,5.41,5.05,343.9,5.41,1.0900000000000001,0.6,0,0,4.8099999999999996,0,0,0,0,5.4099999999999984,3.8699999999999997,5.4099999999999984,0,0,0.52,0,0,0,0.08,0,0,0.37,4.0999999999999996,0,0,0.12,0,0,0,0,0,0,0,2849,406,1034,0,0,0,0,0,0,0,0,0,0,0,0,0,1034.22,1034.22,0,0,0,0,0,0,0,0,0,1815,406.35,0,406.35,0,0,0,0,0,0,1408.56,1408.56,0,0,0,0,0,0,0,0,0,0,0,0,0,0,0,0,0,0,0,0,0,0,0,0,0,0,0,0,0,0,0,0,0,3.87,0,3.87,0,0,0,0,0,0,5.41,5.41,0,0,0,0,0,0,0,0,0,0,0,0,0,0,0,0,0,0,0,0,1,0,0,0,0,0,0,0,0,0,1,0,0,0,0,0,0,0,0,0,0,0,0,1,0,0,null,null,null,null,0,{"$f":"+INDEX($F3437:$FS3437,1,Sheet3!$C$1)","v":1},{"$f":"+IF(Sheet3!$C$1=1,IF(FW3437<3,0,1),1)","v":0}]
[2,1,"119","6",1,84,1772839.7396723072,146.45999999999995,126.29000000000002,10533.709999999997,156.78999999999991,105.17,5.71,14.67,1.08,102.49999999999999,20.010000000000002,0,4.2,9.2000000000000011,152.2699999999999,57.830000000000005,91.78000000000003,0,0,0,4.7,0,0.05,0.96000000000000019,14.67,1.08,96.079999999999984,2.71,2.5,20.009999999999998,0.96,0,0,0,24,4,0,0,93945,8107,66092,0,0,0,0,0,0,0,0,0,0,0,0,0,66091.87,66091.87,0,0,0,0,0,0,0,0,0,27853,8107.47,0,738.15,0,0,0,0,7369.32,0,19745.36,19745.36,0,0,0,0,0,0,0,0,0,0,0,0,0,0,0,0,0,0,0,0,0,0,0,0,0,0,0,0,0,0,0,0,0,54.28,0,7.03,0,0,0,0,47.25,0,68.11,68.11,0,0,0,0,0,0,0,0,0,0,0,0,0,0,0,0,0,0,0,0,84,0,0,0,0,0,0,0,0,0,4,0,0,0,0,29,0,0,0,0,0,0,0,39,0,0,null,null,null,null,84,{"$f":"+INDEX($F3464:$FS3464,1,Sheet3!$C$1)","v":84},{"$f":"+IF(Sheet3!$C$1=1,IF(FW3464<3,0,1),1)","v":1}]
[2,1,"11C","8",1,2050,5772267.9071678771,2974.0800000000004,2748.7100000000009,263819.08000000007,2976.9800000000005,2206.71,942.92,435.07,90.23,1226.830000000004,278.89999999999998,59.820000000000007,303.89999999999975,316.19999999999987,2963.8599999999997,925.59999999999866,2086.0499999999952,0,0,92.269999999999939,597.85,0,25.690000000000005,223.89000000000073,435.07000000000016,90.230000000000061,231.13999999999996,614.84999999999934,104.52000000000002,278.90000000000026,267.81000000000034,0,59,90,1050,159,74,7,2169264,136688,1504230,0,0,0,0,0,0,0,0,0,0,0,0,0,1504230.3999999999,1504230.3999999999,0,0,0,0,0,0,0,0,0,665033,136660.26,0,2058,0,0,1429.56,20862.240000000002,110390.46,1920,528345.30000000005,528345.30000000005,0,0,27.6,0,0,0,0,0,0,0,0,0,0,0,0,0,0,0,0,0,0,0,0,0,0,0,0,0,0,0,0,0,0,850.79,0,19.600000000000001,0,0,6.27,33.340000000000003,779.58,12,1799.51,1799.51,0,0,1.38,0,0,0,0,0,0,0,0,0,0,0,0,0,0,0,0,0,2050,0,0,0,0,0,0,0,0,0,9,0,0,7,45,604,11,0,0,0,0,0,1,1208,0,0,null,null,null,null,2050,{"$f":"+INDEX($F3544:$FS3544,1,Sheet3!$C$1)","v":2050},{"$f":"+IF(Sheet3!$C$1=1,IF(FW3544<3,0,1),1)","v":1}]
[2,1,"150","4",1,38,335776.66672967677,81.98,79.609999999999985,5959.62,81.98,25.23,30.86,7.16,4.18,15.099999999999996,24.68,1.52,1.65,2.65,80.7,28.49,75.179999999999993,0,0,7.330000000000001,7.0000000000000007E-2,0,0,23.460000000000004,7.1599999999999993,4.1800000000000006,6.97,1.26,3.12,24.68,3.6199999999999997,0,0,0,6,4,1,0,49378,2459,30535,0,0,0,0,0,0,0,0,0,0,0,0,0,30534.51,30534.51,0,0,0,0,0,0,0,0,0,18844,2371.89,0,0,0,0,0,145.80000000000001,2226.09,0,16384.77,16057.17,0,327.60000000000002,87.2,0,0,0,0,0,0,0,0,0,0,0,0,0,0,0,0,0,0,0,0,0,0,0,0,0,0,0,0,0,0,20.02,0,0,0,0,0,0.9,19.12,0,58.46,55.94,0,2.52,2.48,0,0,0,0,0,0,0,0,0,0,0,0,0,0,0,0,0,38,0,0,0,0,0,0,0,0,0,0,0,0,0,1,9,0,0,0,0,0,0,2,29,0,1,null,null,null,null,38,{"$f":"+INDEX($F3613:$FS3613,1,Sheet3!$C$1)","v":38},{"$f":"+IF(Sheet3!$C$1=1,IF(FW3613<3,0,1),1)","v":1}]
[2,1,"16F","1_1",2,2,18456.261503940699,10.57,10.199999999999999,768.84999999999991,10.57,10.25,10.57,0,0,0,0,0,0,0,10.57,0,0,0,0,0.32,10.25,0,0,0,0,0,0,0,0,0,0,0,0,0,0,0,0,0,2068,0,2068,0,0,0,0,0,0,0,0,0,0,0,0,0,2068.44,2068.44,0,0,0,0,0,0,0,0,0,0,0,0,0,0,0,0,0,0,0,0,0,0,0,0,0,0,0,0,0,0,0,0,0,0,0,0,0,0,0,0,0,0,0,0,0,0,0,0,0,0,0,0,0,0,0,0,0,0,0,0,0,0,0,0,0,0,0,0,0,0,0,0,0,0,0,0,0,0,0,0,0,0,0,0,0,2,0,0,0,0,0,0,0,0,0,0,0,0,0,0,0,0,0,0,0,0,0,0,0,0,0,null,null,null,null,0,{"$f":"+INDEX($F3704:$FS3704,1,Sheet3!$C$1)","v":2},{"$f":"+IF(Sheet3!$C$1=1,IF(FW3704<3,0,1),1)","v":0}]
[2,1,"16I","7",2,10,20423.900160979832,59.1,71.2,4640.7599999999993,59.1,0.8,0.08,2.0699999999999998,0,49.05,7.9,0.13,0.15,0.15,53.01,33.13000000000001,39.080000000000005,0,0,0,0,0,0,0.08,2.0699999999999998,0,0,0,48.510000000000005,7.8999999999999995,0.44999999999999996,0,0,0,1,0,0,0,20147,5324,10043,0,0,0,0,0,0,0,0,0,0,0,0,0,10042.98,10042.98,0,0,0,0,0,0,0,0,0,10104,5323.8,0,0,0,0,0,4617,706.8,0,4780.58,649.13,855.7,3275.75,0,0,0,0,0,0,0,0,0,0,0,0,0,0,0,0,0,0,0,0,0,0,0,0,0,0,0,0,0,0,0,33.130000000000003,0,0,0,0,0,28.5,4.63,0,37.68,2.58,7.25,27.85,0,0,0,0,0,0,0,0,0,0,0,0,0,0,0,0,0,0,10,0,0,0,0,0,0,0,0,0,0,0,0,0,8,1,0,0,0,0,0,0,0,1,2,6,null,null,null,null,10,{"$f":"+INDEX($F3794:$FS3794,1,Sheet3!$C$1)","v":10},{"$f":"+IF(Sheet3!$C$1=1,IF(FW3794<3,0,1),1)","v":1}]
[2,1,"170","12",1,7,25484.962930853588,16.7,16.36,1615.93,16.7,1.08,5.4,4.9400000000000004,0,1.2,5.16,5.16,10.050000000000001,14.550000000000002,16.739999999999998,0,0,0,0,4.54,0,0,0.06,0.8,4.9399999999999995,0,0.43,0.33,0.36,5.16,0.06,0,0,4,45,6,0,0,6501,0,6501,0,0,0,0,0,0,0,0,0,0,0,0,0,6500.82,6500.82,0,0,0,0,0,0,0,0,0,0,0,0,0,0,0,0,0,0,0,0,0,0,0,0,0,0,0,0,0,0,0,0,0,0,0,0,0,0,0,0,0,0,0,0,0,0,0,0,0,0,0,0,0,0,0,0,0,0,0,0,0,0,0,0,0,0,0,0,0,0,0,0,0,0,0,0,0,0,0,0,0,0,0,0,0,7,0,0,0,0,0,0,0,0,0,0,0,0,0,0,0,0,0,0,0,0,0,0,0,0,0,null,null,null,null,7,{"$f":"+INDEX($F3833:$FS3833,1,Sheet3!$C$1)","v":7},{"$f":"+IF(Sheet3!$C$1=1,IF(FW3833<3,0,1),1)","v":1}]
[2,1,"187","1_2",2,3,4623.9459680878181,19.78,15.45,1097.5999999999999,19.78,0,12.15,0,3.41,2.74,1.48,0,0,0,19.78,1.6800000000000002,19.61,0,0,7.67,0,0,4.4800000000000004,0,0,3.41,0,0,2.72,1.48,0,0,0,0,0,0,0,0,5553,272,3103,0,0,0,0,0,0,0,0,0,0,0,0,0,3102.66,3102.66,0,0,0,0,0,0,0,0,0,2450,272.16000000000003,0,0,0,0,0,272.16000000000003,0,0,2177.9499999999998,0,0,2177.9499999999998,0,0,0,0,0,0,0,0,0,0,0,0,0,0,0,0,0,0,0,0,0,0,0,0,0,0,0,0,0,0,0,1.68,0,0,0,0,0,1.68,0,0,19.61,0,0,19.61,0,0,0,0,0,0,0,0,0,0,0,0,0,0,0,0,0,0,3,0,0,0,0,0,0,0,0,0,0,0,0,0,2,0,0,0,0,0,0,0,0,0,0,3,null,null,null,null,3,{"$f":"+INDEX($F3944:$FS3944,1,Sheet3!$C$1)","v":3},{"$f":"+IF(Sheet3!$C$1=1,IF(FW3944<3,0,1),1)","v":1}]
[2,2,"111","10_1",2,159,2892510.8342868458,2548.2799999999997,1950.2200000000012,208664.96999999986,4520.34,496.48,38.85,268.76,2.23,7.660000000000001,2214.75,2214.7499999999986,3970.7499999999982,4035.0499999999979,4422.3500000000013,298.77999999999992,4419.3000000000011,75.53,0,0.43,33.26,0,0.06,5.0999999999999988,268.75999999999993,2.23,1.8700000000000006,17.93,1.6300000000000001,2214.7499999999986,1.9500000000000002,9,2843,1936,234,27,66,10,1586571,450767,746078,503281.51,221772.61,281508.90000000002,276718.8,4790.1000000000004,0,0,0,0,0,0,0,0,213475.8,0,213475.8,29320.400000000001,3045.57,2791.92,0,0,23482.91,0,0,840494,381851.49,0,0,0,0,17093.759999999998,0,17515.22,347242.51,419046.93,419046.93,0,0,0,39595.18,17920.68,0,0,21674.5,0,4611.8999999999996,1810.9,2801,2591,210,0,0,0,0,0,0,0,0,2092.9,0,2092.9,904.38,42.61,15.57,0,0,846.2,0,0,2414.39,0,0,0,0,77.489999999999995,0,194.12,2142.7800000000002,2530.5,2530.5,0,0,0,1560.23,64.930000000000007,0,0,1495.3,0,159,149,0,11,0,0,0,0,0,0,0,0,159,3,2,0,0,21,0,0,0,0,0,0,44,0,48,120,33,0,0,49,0,0,159,0,0,null,null,null,null,{"$f":"+FW3970*FX3970","v":159},{"$f":"+INDEX($F3970:$FS3970,1,Sheet3!$C$1)","v":159},{"$f":"+IF(Sheet3!$C$1=1,IF(FW3970<3,0,1),1)","v":1}]
[2,2,"11A","11",3,5,135720.4815559604,211.45,163.58000000000001,16172.64,353.59000000000003,52.94,2.42,30.66,2.4,0.34,175.19,66.390000000000015,44.15,44.15,309.41999999999996,128.01000000000005,280.96999999999997,0,0,0,2.1100000000000003,0,0.08,0.23,30.66,2.4,0.22,0.26,0.27,175.19,0.03,0,20,9,54,4,68,3,47385,6947,32420,22219.73,18368.91,3850.82,1068,2782.82,0,0,0,0,0,0,0,0,10200,0,10200,0,0,0,0,0,0,0,0,14966,6314.04,0,0,0,0,0,0,4874.04,1440,8019.12,8019.12,0,0,2.6,630,0,0,0,630,0,295.58,163.58000000000001,132,10,122,0,0,0,0,0,0,0,0,100,0,100,0,0,0,0,0,0,0,0,136.75,0,0,0,0,0,0,127.75,9,69.790000000000006,69.790000000000006,0,0,0.13,9.4499999999999993,0,0,0,9.4499999999999993,0,5,3,0,4,0,0,0,0,0,0,0,0,5,0,0,0,0,0,0,0,0,0,0,0,0,0,3,3,0,0,0,1,0,1,3,0,0,null,null,null,null,5,{"$f":"+INDEX($F4090:$FS4090,1,Sheet3!$C$1)","v":5},{"$f":"+IF(Sheet3!$C$1=1,IF(FW4090<3,0,1),1)","v":1}]
[2,2,"11B","7",3,7,302463.47250004555,431.03,381.57,30895.23,431.03,250.61,0.55000000000000004,0,1.71,427.62,1.1499999999999999,0,0,0,423.17,314.75999999999993,423.01000000000005,418.57,0,0,0,0,0,0.55000000000000004,0,1.71,85.72,11.15,329.68000000000006,1.1499999999999999,0.48,0,0,0,0,0,0,0,212480,137291,147715,34360,34360,0,0,0,0,0,0,0,0,0,0,0,10200,0,10200,103155.15,79666.929999999993,23488.22,0,0,0,0,0,64765,34135.410000000003,0,20125.810000000001,0,3681.56,0,8181.9,2146.14,0,30629.9,30629.9,0,0,0,0,0,0,0,0,0,372.31,372.31,0,0,0,0,0,0,0,0,0,0,0,100,0,100,418.57,267.35000000000002,151.22,0,0,0,0,0,407.14,0,288.52999999999997,0,41.83,0,62.51,14.27,0,421.21,421.21,0,0,0,0,0,0,0,0,0,7,0,0,0,0,0,0,0,0,0,0,0,5,6,3,0,0,0,0,0,0,5,0,1,0,4,2,0,0,0,0,0,0,0,7,0,0,null,null,null,null,7,{"$f":"+INDEX($F4151:$FS4151,1,Sheet3!$C$1)","v":7},{"$f":"+IF(Sheet3!$C$1=1,IF(FW4151<3,0,1),1)","v":1}]
[2,2,"11C","6",3,4,505328.19357306173,109.85,53.62,4031.42,109.85,78.92,0.22,3.31,0,102.49000000000001,3.83,0,0,0,109.93,53.11,71.890000000000015,76.8,0,0,0,0,0,0.22,3.31,0,98.649999999999991,2.8499999999999996,0.21,3.83,0.13,0,0,0,0,0,0,0,48715,25796,33170,4578.91,4578.91,0,0,0,0,0,0,0,0,0,0,0,8160,0,8160,20430.73,11415.23,9015.5,0,0,0,0,0,15545,5365.07,0,2369.87,0,0,0,0,2995.2,0,10180.120000000001,10180.120000000001,0,0,0,0,0,0,0,0,0,53.62,53.62,0,0,0,0,0,0,0,0,0,0,0,80,0,80,46.76,21.93,24.83,0,0,0,0,0,49.35,0,24.83,0,0,0,0,24.52,0,64.94,64.94,0,0,0,0,0,0,0,0,0,4,0,0,0,0,0,0,0,0,0,0,0,4,1,1,0,0,0,0,0,0,1,0,0,0,0,1,0,0,0,0,0,0,0,4,0,0,null,null,null,null,4,{"$f":"+INDEX($F4190:$FS4190,1,Sheet3!$C$1)","v":4},{"$f":"+IF(Sheet3!$C$1=1,IF(FW4190<3,0,1),1)","v":1}]
[2,2,"11E","10_2",2,43,276193.44449303392,667.84,535.82999999999981,45133.540000000015,815.95000000000016,36.340000000000003,59.2,112.52,56.06,29.130000000000003,404.98,362.06,312.39999999999998,314.39999999999998,803.10000000000025,233.47999999999996,804.5200000000001,58.2,0,54.21,2.75,0,0.61,1.6300000000000001,112.52,56.060000000000009,12.780000000000001,2.37,19.809999999999999,404.97999999999996,0.08,1,213,180,0,0,0,0,284812,39407,141424,70385.69,48384.89,22000.799999999999,22000.799999999999,0,0,0,0,0,0,0,0,0,64892.4,0,64892.4,6146.23,6146.23,0,0,0,0,0,0,143388,31600.93,0,0,0,0,10580.1,1498.5,10370.33,9152,110127.56,110127.56,0,0,959.4,700,0,0,0,700,0,713.46,507.46,206,206,0,0,0,0,0,0,0,0,0,636.20000000000005,0,636.20000000000005,67.13,67.13,0,0,0,0,0,0,257.64999999999998,0,0,0,0,77.489999999999995,9.25,114.71,56.2,636.46,636.46,0,0,47.97,26,0,0,0,26,0,43,39,0,0,0,0,0,0,0,0,0,0,43,4,0,0,0,0,0,0,0,0,0,0,16,6,19,11,0,0,0,2,0,9,43,0,0,null,null,null,null,43,{"$f":"+INDEX($F4257:$FS4257,1,Sheet3!$C$1)","v":43},{"$f":"+IF(Sheet3!$C$1=1,IF(FW4257<3,0,1),1)","v":1}]
[2,2,"150","2",3,2,348969.93,261.77,258.58,40333.160000000003,261.77,191.13,222,1.92,8.7799999999999994,6.75,22.32,21.6,58.8,58.8,261.05,0,174.51000000000002,197.88,196.2,30.87,0,191.13,0,0,1.92,8.7799999999999994,0,0,0,22.32,0,0,27,30,89,3,0,0,214259,75943,207859,129875.6,45018.64,84856.960000000006,2883.6,1459.84,0,80513.52,0,0,0,0,0,0,2040,0,2040,75943.490000000005,0,75943.490000000005,0,0,0,0,0,6400,0,0,0,0,0,0,0,0,0,6400,6400,0,0,0,0,0,0,0,0,0,536.42999999999995,254.3,282.13,27,64,0,191.13,0,0,0,0,0,0,20,0,20,197.64,0,197.64,0,0,0,0,0,0,0,0,0,0,0,0,0,0,150,150,0,0,0,0,0,0,0,0,0,2,1,0,1,0,2,0,0,0,0,0,0,1,0,2,0,0,0,0,0,0,0,0,0,0,0,0,0,0,0,0,0,0,0,1,0,0,null,null,null,null,0,{"$f":"+INDEX($F4327:$FS4327,1,Sheet3!$C$1)","v":2},{"$f":"+IF(Sheet3!$C$1=1,IF(FW4327<3,0,1),1)","v":0}]
[2,2,"16E","1_1",3,58,4070435.0560611635,2464.2799999999997,2376.2000000000003,387029.58000000019,2464.2799999999997,2050.65,2062.88,111.39,139.16,34.269999999999996,116.58,45.76,125.1,127.69999999999999,2457.31,368.36,44.14,1914.58,1883.0199999999995,45.72,1538.1999999999996,415.71000000000009,9.83,51.11999999999999,113.69,139.15999999999997,5.05,1.3600000000000003,21.380000000000003,116.57999999999998,0.03,0,82,76,9,1,6,2,1644831,606360,1509080,921193.97,432075.83,489118.14,8757.6,228.1,0,177240.98,0,510.46,0,302381,0,0,114240,0,114240,473646.21,2038.27,470870.9,0,0,0,0,737.04,135750,10202.4,0,0,0,0,0,0,0,10202.4,3036.8,0,1083.8900000000001,1952.91,0,122511.27,0,0,0,122511.27,0,4171.3599999999997,2334.83,1836.53,82,10,0,420.75,0,9.08,0,1314.7,0,0,1120,0,1120,1905.91,6.05,1838.44,0,0,0,0,61.42,40.81,0,0,0,0,0,0,0,40.81,32.479999999999997,0,11.07,21.41,0,368.36,0,0,0,368.36,0,58,4,0,1,0,28,0,2,0,48,0,0,56,2,51,0,0,0,0,2,0,0,0,0,0,0,0,2,0,0,0,20,0,0,0,1,2,null,null,null,null,58,{"$f":"+INDEX($F4440:$FS4440,1,Sheet3!$C$1)","v":58},{"$f":"+IF(Sheet3!$C$1=1,IF(FW4440<3,0,1),1)","v":1}]
[2,2,"16F","10_1",3,6,313079.28483289521,340.69999999999993,243.60999999999999,20877.080000000002,427.54,19.399999999999999,7.33,45.05,1.4,67.63,216.59,216.59,363.25,363.25,427.31000000000006,107.25,366.56000000000006,0,0,0,7.33,0,0,0,45.050000000000004,1.4,0,0.06,69.97999999999999,216.59,0.28999999999999998,0,240,205,81,6,30,6,82690,7221,62981,52781.04,23960.76,28820.28,26379.599999999999,2440.6799999999998,0,0,0,0,0,0,0,0,10200,0,10200,0,0,0,0,0,0,0,0,19709,7082.51,0,0,0,0,0,4170.24,2912.27,0,12488.34,3810.82,8677.52,0,138.4,0,0,0,0,0,0,599.61,243.61,356,247,109,0,0,0,0,0,0,0,0,100,0,100,0,0,0,0,0,0,0,0,73.61,0,0,0,0,0,34.32,39.29,0,279.95,32.31,247.64,0,6.92,0,0,0,0,0,0,6,6,0,4,0,0,0,0,0,0,0,0,5,0,0,0,0,0,0,0,0,0,0,0,0,3,2,0,0,0,0,0,0,1,1,4,0,null,null,null,null,6,{"$f":"+INDEX($F4497:$FS4497,1,Sheet3!$C$1)","v":6},{"$f":"+IF(Sheet3!$C$1=1,IF(FW4497<3,0,1),1)","v":1}]
[2,2,"16H","1_1",4,2,640204.35139344377,493.75,279.72000000000003,44146.240000000005,493.75,342.64,376.56,15.17,42.8,0,59.22,59.22,87.2,87.2,493.75,156.30999999999995,347.04999999999995,200.6,351.21999999999997,0,320.39999999999998,0,35.19,17.87,18.27,42.800000000000004,0,0,0,59.22,0,0,70,39,0,0,0,0,159042,34647,139721,117573.4,50141.3,67432.100000000006,7048.8,0,0,0,0,1732.7,0,58650.6,0,0,0,0,0,22147.98,0,18755.7,0,0,1560,0,1832.28,19321,12499.47,235.8,0,4347.3100000000004,7916.36,0,0,0,0,6821.32,0,0,6821.32,0,0,0,0,0,0,0,670.36,279.72000000000003,390.64,66,0,0,0,0,30.82,0,293.82,0,0,0,0,0,322.26,0,95.97,0,0,73.599999999999994,0,152.69,155.18,3.1,0,59.22,92.86,0,0,0,0,261.74,0,0,261.74,0,0,0,0,0,0,0,2,1,0,0,0,0,0,1,0,2,0,0,0,0,1,0,0,1,0,1,1,0,1,1,0,0,0,0,0,0,0,0,0,0,0,0,2,null,null,null,null,0,{"$f":"+INDEX($F4577:$FS4577,1,Sheet3!$C$1)","v":2},{"$f":"+IF(Sheet3!$C$1=1,IF(FW4577<3,0,1),1)","v":0}]
[2,2,"16J","1_2",2,249,1070670.6246095272,2835.9099999999985,2761.5299999999993,210246.78000000006,2835.9099999999985,90.41,1433.85,177.43,531.16999999999996,260.68999999999994,432.77,0,2.1,17.100000000000001,2898.9799999999987,1567.7300000000014,2641.5999999999995,549.5200000000001,252.46000000000004,675.53,335.00000000000011,0,409.98999999999995,11.05,179.71000000000004,531.16999999999996,31.11,31.66,190.81999999999991,432.76999999999987,4.3199999999999994,0,0,0,6,0,7,1,1312222,323690,709572,232386.14,218579.23,13806.91,0,0,0,0,0,13806.91,0,0,0,0,282417.7,0,282417.7,194767.83,182527.81,8914.7000000000007,0,0,0,0,3325.32,602650,121580.4,0,459.9,0,0,0,23473.52,97146.98,500,473728.09,468211.72,0,5516.37,7341.4,0,0,0,0,0,0,2793.9811,2548.3910999999998,245.59,0,0,0,0,0,245.59,0,0,0,0,2772.39,0,2772.39,712.69,406.89,28.08,0,0,0,0,277.72000000000003,1135.98,0,4.38,0,0,0,105.94,1023.66,2,2274.16,2214.39,0,59.77,261.97000000000003,0,0,0,0,0,0,249,0,0,0,0,0,0,30,0,0,0,0,247,39,3,0,0,0,0,22,0,1,0,0,0,45,149,1,0,0,0,0,0,34,244,0,7,null,null,null,null,249,{"$f":"+INDEX($F4690:$FS4690,1,Sheet3!$C$1)","v":249},{"$f":"+IF(Sheet3!$C$1=1,IF(FW4690<3,0,1),1)","v":1}]
[2,2,"16J","9",4,1,689258.11638625723,256.86,188.42,20089.34,256.86,184.67,184.57,49.34,14.86,0,8.09,8.09,399.2,399.2,256.6099999999999,230.46999999999994,256.6099999999999,232.39999999999995,181.92000000000002,41.02,143.55000000000001,0,0,0,49.34,14.86,0,0,0,8.09,0,248,15,250,0,0,0,0,83879,25556,74299,51923.43,22817.47,29105.96,0,0,29105.96,0,0,0,0,0,0,0,0,0,0,22375.5,0,21273.02,0,0,1102.48,0,0,9580,3180,0,0,0,0,0,0,3180,0,6400,6400,0,0,0,0,0,0,0,0,0,439.42,188.42,251,0,0,251,0,0,0,0,0,0,0,0,0,0,395.12,0,222.12,0,0,173,0,0,50,0,0,0,0,0,0,50,0,150,150,0,0,0,0,0,0,0,0,0,1,0,0,0,1,0,0,0,0,0,0,0,0,0,1,0,0,1,0,0,0,0,0,0,0,0,1,0,0,0,0,0,0,0,1,0,0,null,null,null,null,0,{"$f":"+INDEX($F4737:$FS4737,1,Sheet3!$C$1)","v":1},{"$f":"+IF(Sheet3!$C$1=1,IF(FW4737<3,0,1),1)","v":0}]
[2,2,"170","6",3,24,5946572.3419065662,2174.2000000000003,1953.4500000000005,147043.99000000002,2174.2000000000003,437.73,53.72,103.69,42.59,1168.7600000000002,805.44,278.01,74.849999999999994,74.849999999999994,2185.5699999999997,253.74999999999997,645.76,872.04,34.480000000000004,11.2,0,4.43,9.17,28.92,103.69,42.59,1063.5899999999999,62.2,5.8,805.44000000000017,23.199999999999996,0,18,15,292,43,0,0,372123,137205,346875,181711.37,163629.47,18081.900000000001,1922.4,6546.47,0,1866.14,7746.89,0,0,0,0,0,34680,0,34680,130483.56,87626.29,40921.79,0,0,0,0,1935.48,25248,4249.67,0,3051.71,0,341.64,0,372.6,483.72,0,18526.88,2184,0,16342.88,2471.3200000000002,0,0,0,0,0,0,2286.04,1951.73,334.31,18,287,0,4.43,24.88,0,0,0,0,0,340,0,340,876.88,573.70000000000005,141.88999999999999,0,0,0,0,161.29,43.84,0,31.31,0,6.57,0,2.2999999999999998,3.66,0,520.12,9,0,511.12,126.98,0,0,0,0,0,0,24,1,0,2,0,1,1,0,0,0,0,0,17,5,5,0,0,0,0,2,0,2,0,1,0,1,1,0,0,0,0,0,0,2,1,0,7,null,null,null,null,24,{"$f":"+INDEX($F4797:$FS4797,1,Sheet3!$C$1)","v":24},{"$f":"+IF(Sheet3!$C$1=1,IF(FW4797<3,0,1),1)","v":1}]
[2,2,"181","6",5,1,1089462.0951207418,1188.6199999999999,1754.85,114381.12,1188.6199999999999,0,0,15.5,0,720.64,452.48,452.48,247.6,247.6,1193.3300000000002,0,808.65999999999985,1192.68,0,0,0,0,0,0,15.5,0,719.99,0,0.65,452.48,0,0,159,172,0,0,0,0,129470,19991,125715,105724.05,87995.25,17728.8,17728.8,0,0,0,0,0,0,0,0,0,0,0,0,19991.41,17012.91,0,0,0,2978.5,0,0,3755,0,0,0,0,0,0,0,0,0,3755,0,0,3755,0,0,0,0,0,0,0,1354.62,1188.6199999999999,166,166,0,0,0,0,0,0,0,0,0,0,0,0,933.58,706.78,0,0,0,226.8,0,0,0,0,0,0,0,0,0,0,0,150,0,0,150,0,0,0,0,0,0,0,1,1,0,0,0,0,0,0,0,0,0,0,0,1,0,0,0,1,0,0,0,0,0,0,0,0,0,0,0,0,0,0,0,0,0,0,1,null,null,null,null,{"$f":"+FW4866*FX4866","v":0},{"$f":"+INDEX($F4866:$FS4866,1,Sheet3!$C$1)","v":1},{"$f":"+IF(Sheet3!$C$1=1,IF(FW4866<3,0,1),1)","v":0}]
[2,2,"185","10_2",3,19,737763.52833128232,2102.41,2074.02,176926.37,2102.41,102.84,60.63,335.63,21.15,26.49,1658.51,1536.7499999999998,949.15,949.15,2088.31,526.21,1496.6,1231.07,0,60.629999999999995,0,0,0,0,335.63,21.15,12.64,0,13.39,1658.5099999999998,0.46,0,714,428,12,3,1,1,404898,96150,343528,255683.22,196409.22,59274,59274,0,0,0,0,0,0,0,0,0,14178,0,14178,73667,27199.02,7168.67,33568.050000000003,0,3431.7,0,2299.56,61370,22482.63,0,0,0,0,18181.41,941.22,0,3360,38887.449999999997,0,0,38887.449999999997,0,0,0,0,0,0,0,2586.17,2031.17,555,555,0,0,0,0,0,0,0,0,0,140,0,140,1479.81,565.54999999999995,116.25,477.38,0,129,0,191.63,568.21,0,0,0,0,520.4,5.81,0,42,1345.23,0,0,1345.23,0,0,0,0,0,0,0,19,16,0,0,0,0,0,0,0,0,0,0,7,4,1,5,0,3,0,1,0,0,0,0,6,2,0,1,0,0,0,0,0,0,0,0,14,null,null,null,null,19,{"$f":"+INDEX($F4977:$FS4977,1,Sheet3!$C$1)","v":19},{"$f":"+IF(Sheet3!$C$1=1,IF(FW4977<3,0,1),1)","v":1}]
[2,2,"186","10_1",4,25,5612501.6459057312,7754.7399999999989,7788.6200000000017,609452.56000000017,7754.7399999999989,293.93,402.7,746,23.54,426.22,6156.28,6156.28,8875.35,8924.85,7769.130000000001,3455.8700000000003,7696.6100000000006,5821.09,325.8,281.54999999999995,0,0,111.00000000000001,10.15,746,23.54,57.1,0.38,365.95000000000005,6156.28,0.15000000000000002,12,5356,5883,1373,88,16,0,1878977,537444,1583077,1246080.2,684287.53,561792.67000000004,525505.02,31604.53,0,0,0,4683.12,0,0,0,0,0,0,0,336996.48,188715.19,50631.69,62287.839999999997,0,21252.400000000001,0,14109.36,295900,139049.24,7918.64,18799.78,27107.88,7760.24,5845.16,27509.74,2260.64,41847.160000000003,95452.33,1577.33,0,93875,61398.31,0,0,0,0,0,0,14202.71,7688.41,6514.3,5033,1398,0,0,0,83.3,0,0,0,0,0,0,0,10452.120000000001,5178.3599999999997,498.15,1845.23,0,1754.6,0,1175.78,2096.27,106.94,239.82,470.45,127.59,588.13,261.07,40.72,261.55,3757.48,7.48,0,3750,1712.08,0,0,0,0,0,0,25,25,0,7,0,0,0,2,0,0,0,0,0,12,4,9,0,7,0,6,1,7,5,1,5,16,1,3,0,0,0,0,0,12,1,0,25,null,null,null,null,25,{"$f":"+INDEX($F5047:$FS5047,1,Sheet3!$C$1)","v":25},{"$f":"+IF(Sheet3!$C$1=1,IF(FW5047<3,0,1),1)","v":1}]
[2,2,"187","10_1",2,18,185057.35176399251,268.95,242.85,17905.230000000003,268.95,0.24,6.21,50.61,0,12.51,199.62,199.62,375.95,375.95,304.89,60.37,269.58,62.15,0,6.21,0,0,0,0,50.61,0,1.64,7.0000000000000007E-2,10.73,199.62,0.06,0,248,217,104,11,4,2,97555,6547,72233,44600.39,18594.23,26006.16,23816.400000000001,2189.7600000000002,0,0,0,0,0,0,0,0,26097.72,0,26097.72,1535.2,1535.2,0,0,0,0,0,0,25321,2768.6,0,0,0,0,35.74,652.86,0,2080,20309.77,0,0,20309.77,2242.9699999999998,0,0,0,0,0,0,538.39,219.39,319,223,96,0,0,0,0,0,0,0,0,255.86,0,255.86,22.79,22.79,0,0,0,0,0,0,27.39,0,0,0,0,10.36,4.03,0,13,268.95,0,0,268.95,53.94,0,0,0,0,0,0,18,16,0,4,0,0,0,0,0,0,0,0,18,1,0,0,0,0,0,0,0,0,0,0,2,3,0,1,0,0,0,0,0,3,0,0,18,null,null,null,null,18,{"$f":"+INDEX($F5116:$FS5116,1,Sheet3!$C$1)","v":18},{"$f":"+IF(Sheet3!$C$1=1,IF(FW5116<3,0,1),1)","v":1}]
[2,2,"187","2",3,7,742217.47508311307,532.56999999999994,547.07999999999993,71899.12999999999,532.56999999999994,415.47,402.4,30.46,14.1,15.250000000000002,70.36,0,0,0,532.84,91.48,454.07,434.96999999999997,416.72999999999996,0,0,402.40000000000003,0,0,30.46,14.1,7.0000000000000007E-2,0,0.85,70.36,0,0,0,0,0,0,0,0,485319,211458,442185,246494.37,73672.34,172822.03,0,0,0,172822.03,0,0,0,0,0,0,12240,0,12240,183451.03,0,181935.31,0,0,0,0,1515.72,43134,0,0,0,0,0,0,0,0,0,15126.8,0,0,15126.8,0,28006.71,0,0,0,28006.71,0,887.07,476.81,410.26,0,0,0,410.26,0,0,0,0,0,0,120,0,120,561.29999999999995,0,434.99,0,0,0,0,126.31,0,0,0,0,0,0,0,0,0,439.73,0,0,439.73,0,91.48,0,0,0,91.48,0,7,0,0,0,0,7,0,0,0,0,0,0,6,0,7,0,0,0,0,2,0,0,0,0,0,0,0,0,0,0,0,4,0,0,0,0,7,null,null,null,null,7,{"$f":"+INDEX($F5144:$FS5144,1,Sheet3!$C$1)","v":7},{"$f":"+IF(Sheet3!$C$1=1,IF(FW5144<3,0,1),1)","v":1}]
[2,3,"119","6",1,10,266727.644793958,26.72,5.1099999999999994,1214.02,26.72,20.77,0.44,1.1200000000000001,0,23.89,1.27,0,0,0,6.0499999999999989,21.5,10.83,22.43,0,0,0.17,0,0,0.16999999999999998,1.1200000000000001,0,22.310000000000002,1.1800000000000002,0.04,1.27,0.23,0,0,0,0,0,0,0,17425,14559,11982,0,0,0,0,0,0,0,0,0,0,0,0,0,0,0,0,11982.33,2960.23,9022.1,0,0,0,0,0,5442,2576.4299999999998,0,1668.45,0,0,0,0,907.98,0,2866,2866,0,0,0,0,0,0,0,0,0,0,0,0,0,0,0,0,0,0,0,0,0,0,0,0,0,22.44,4.07,18.37,0,0,0,0,0,21.5,0,15.89,0,0,0,0,5.61,0,9.75,9.75,0,0,0,0,0,0,0,0,0,0,0,0,0,0,0,0,0,0,0,0,0,0,4,6,0,0,0,0,0,0,5,0,0,0,0,3,0,0,0,0,0,0,0,5,0,0,null,null,null,null,10,{"$f":"+INDEX($F5223:$FS5223,1,Sheet3!$C$1)","v":10},{"$f":"+IF(Sheet3!$C$1=1,IF(FW5223<3,0,1),1)","v":1}]
[2,3,"11D","10_2",1,10,28102.884515051017,53.720000000000006,0,0,102.14000000000001,0.81,0.53,0.9,0,0,52.29,52.29,28,28,0,0.71,101.89000000000001,0,0,0.35,0.12,0,0,0.06,0.89999999999999991,0,0,0,0,52.29,0,0,22,12,0,0,0,0,18077,1685,2454,2454.2600000000002,0,2454.2600000000002,2454.2600000000002,0,0,0,0,0,0,0,0,0,0,0,0,0,0,0,0,0,0,0,0,15622,1685.2,0,0,0,0,0,0,85.2,1600,13937.12,13937.12,0,0,0,0,0,0,0,0,0,23,0,23,23,0,0,0,0,0,0,0,0,0,0,0,0,0,0,0,0,0,0,0,0,10.71,0,0,0,0,0,0,0.71,10,53.72,53.72,0,0,0,0,0,0,0,0,0,0,10,0,0,0,0,0,0,0,0,0,0,0,0,0,0,0,0,0,0,0,0,0,0,0,0,1,5,0,0,0,0,0,0,10,0,0,null,null,null,null,10,{"$f":"+INDEX($F5292:$FS5292,1,Sheet3!$C$1)","v":10},{"$f":"+IF(Sheet3!$C$1=1,IF(FW5292<3,0,1),1)","v":1}]
[2,3,"16E","10_1",2,1,22918.097715328269,14.09,0,0,14.09,11.18,0,1.01,0,1.24,11.84,11.84,28.6,28.6,0,14.09,14.09,0,0,0,0,0,0,0,1.01,0,0,0,1.24,11.84,0,0,14,25,0,0,0,0,6515,1060,2777,2776.8,0,2776.8,2776.8,0,0,0,0,0,0,0,0,0,0,0,0,0,0,0,0,0,0,0,0,3739,1060.4000000000001,0,0,0,0,0,200.88,859.52,0,2678.12,2678.12,0,0,0,0,0,0,0,0,0,26,0,26,26,0,0,0,0,0,0,0,0,0,0,0,0,0,0,0,0,0,0,0,0,14.09,0,0,0,0,0,1.24,12.85,0,14.09,14.09,0,0,0,0,0,0,0,0,0,0,1,0,0,0,0,0,0,0,0,0,0,0,0,0,0,0,0,0,0,0,0,0,0,0,1,1,0,0,0,0,0,0,0,1,0,0,null,null,null,null,0,{"$f":"+INDEX($F5416:$FS5416,1,Sheet3!$C$1)","v":1},{"$f":"+IF(Sheet3!$C$1=1,IF(FW5416<3,0,1),1)","v":0}]
[2,3,"16G","7",2,1,2219.9659999999999,5.14,0,0,5.14,0,0,0,0,5.14,0,0,0,0,0,5.1400000000000006,5.1400000000000006,5.1400000000000006,0,0,0,0,0,0,0,0,0,0,5.14,0,0,0,0,0,0,0,0,0,2191,1597,765,0,0,0,0,0,0,0,0,0,0,0,0,0,0,0,0,764.73,0,764.73,0,0,0,0,0,1426,832.68,0,0,0,0,0,0,832.68,0,593.29999999999995,0,0,593.29999999999995,0,0,0,0,0,0,0,0,0,0,0,0,0,0,0,0,0,0,0,0,0,0,0,5.14,0,5.14,0,0,0,0,0,5.14,0,0,0,0,0,0,5.14,0,5.14,0,0,5.14,0,0,0,0,0,0,0,0,0,0,0,0,0,0,0,0,0,0,0,0,0,1,0,0,0,0,0,0,0,0,0,0,0,1,0,0,0,0,0,0,0,0,0,1,null,null,null,null,0,{"$f":"+INDEX($F5473:$FS5473,1,Sheet3!$C$1)","v":1},{"$f":"+IF(Sheet3!$C$1=1,IF(FW5473<3,0,1),1)","v":0}]
[2,3,"16J","1_2",1,5,22460.348856015975,14.209999999999999,0,0,14.209999999999999,0,10.119999999999999,0.46,0,2.4300000000000002,1.2,0,0,0,6.47,8.2800000000000011,13.12,12.73,3.83,0.76,0,0,8.9700000000000006,0.39,0.46,0,0,1.52,0.91,1.2000000000000002,0,0,0,0,0,0,0,0,10580,6717,5946,215.32,0,215.32,0,0,0,0,0,215.32,0,0,0,0,0,0,0,5730.8,5730.8,0,0,0,0,0,0,4634,986.22,0,0,0,0,0,0,986.22,0,3647.6,3647.6,0,0,0,0,0,0,0,0,0,3.83,0,3.83,0,0,0,0,0,3.83,0,0,0,0,0,0,0,12.27,12.27,0,0,0,0,0,0,8.2799999999999994,0,0,0,0,0,0,8.2799999999999994,0,12.55,12.55,0,0,0,0,0,0,0,0,0,0,0,0,0,0,0,0,1,0,0,0,0,0,5,0,0,0,0,0,0,0,0,0,0,0,0,3,0,0,0,0,0,0,0,5,0,0,null,null,null,null,5,{"$f":"+INDEX($F5530:$FS5530,1,Sheet3!$C$1)","v":5},{"$f":"+IF(Sheet3!$C$1=1,IF(FW5530<3,0,1),1)","v":1}]
[2,3,"170","4",2,3,268929.11547665915,20.439999999999998,0,0,20.439999999999998,15.83,15.99,3.99,0,0,0.46,0.46,4.6500000000000004,4.6500000000000004,0,0,0,13.440000000000001,0,0,0,0,0,15.99,3.9899999999999998,0,0,0,0,0.46,0,0,0,0,21,4,5,1,6200,5789,6200,410.59,0,410.59,0,410.59,0,0,0,0,0,0,0,0,0,0,0,5789.44,0,5789.44,0,0,0,0,0,0,0,0,0,0,0,0,0,0,0,0,0,0,0,0,0,0,0,0,0,0,22,0,22,0,22,0,0,0,0,0,0,0,0,0,0,0,13.44,0,13.44,0,0,0,0,0,0,0,0,0,0,0,0,0,0,0,0,0,0,0,0,0,0,0,0,0,0,0,0,1,0,0,0,0,0,0,0,0,0,0,2,0,0,0,0,0,0,0,0,0,0,0,0,0,0,0,0,0,0,0,0,0,0,null,null,null,null,3,{"$f":"+INDEX($F5580:$FS5580,1,Sheet3!$C$1)","v":3},{"$f":"+IF(Sheet3!$C$1=1,IF(FW5580<3,0,1),1)","v":1}]
[2,3,"184","7",2,7,47284.596375345602,69.44,0,0,69.44,37.840000000000003,0.04,0.47,1.35,67.180000000000007,0.4,0,0,0,30.639999999999997,65.78,68.349999999999994,66.87,0,0,0,0,0,0.04,0.47,1.35,0.09,0,66.180000000000007,0.4,0,0,0,0,0,0,0,0,33292,26796,15818,0,0,0,0,0,0,0,0,0,0,0,0,0,0,0,0,15818.47,5786.86,10031.61,0,0,0,0,0,17473,10977.89,0,6560.15,0,0,0,4417.74,0,0,6495.48,0,0,6495.48,0,0,0,0,0,0,0,0,0,0,0,0,0,0,0,0,0,0,0,0,0,0,0,66.87,22.39,44.48,0,0,0,0,0,91.02,0,63.75,0,0,0,27.27,0,0,67,0,0,67,0,0,0,0,0,0,0,0,0,0,0,0,0,0,0,0,0,0,0,0,3,4,0,0,0,0,0,0,7,0,0,0,4,0,0,0,0,0,0,0,0,0,0,7,null,null,null,null,7,{"$f":"+INDEX($F5649:$FS5649,1,Sheet3!$C$1)","v":7},{"$f":"+IF(Sheet3!$C$1=1,IF(FW5649<3,0,1),1)","v":1}]
[2,3,"187","12",1,24,95704.851050645128,55.559999999999995,0,0,55.559999999999995,6.61,2.61,17.45,0.09,30.22,5.19,5.1899999999999995,88.199999999999989,88.199999999999989,20.94,24.22,55.19,0,0,1,0,0,0,1.6100000000000003,17.45,0.09,1.33,0.43000000000000005,26.869999999999997,5.1899999999999995,1.56,0,0,9,495,60,8,1,21752,3438,11291,11290.55,0,11290.55,0,11290.55,0,0,0,0,0,0,0,0,0,0,0,0,0,0,0,0,0,0,0,10462,3437.64,0,0,0,0,0,3437.64,0,0,7024.05,0,0,7024.05,0,0,0,0,0,0,0,500,0,500,0,500,0,0,0,0,0,0,0,0,0,0,0,0,0,0,0,0,0,0,0,21.22,0,0,0,0,0,21.22,0,0,55.1,0,0,55.1,0,0,0,0,0,0,0,0,0,0,24,0,0,0,0,0,0,0,0,0,0,0,0,0,0,0,0,0,0,0,0,0,11,0,0,0,0,0,0,0,0,0,0,22,null,null,null,null,24,{"$f":"+INDEX($F5729:$FS5729,1,Sheet3!$C$1)","v":24},{"$f":"+IF(Sheet3!$C$1=1,IF(FW5729<3,0,1),1)","v":1}]
[2,4,"11A","10_15",1,6,23291.987398027592,3.58,1.56,134.47,3.58,2.54,1.85,1.72,0,0.01,0,0,36.4,36.4,0.65000000000000013,1.1900000000000002,1.27,0,0,1.83,0,0,0,0.02,1.72,0,0,0.01,0,0,0,0,8,39,8,0,11,1,762,386,0,0,0,0,0,0,0,0,0,0,0,0,0,0,0,0,0,0,0,0,0,0,0,0,0,762,386,0,0,0,0,0,0,66,320,375.92,375.92,0,0,0,0,0,0,0,0,0,0,0,0,0,0,0,0,0,0,0,0,0,0,0,0,0,0,0,0,0,0,0,0,0,2.5499999999999998,0,0,0,0,0,0,0.55000000000000004,2,1.27,1.27,0,0,0,0,0,0,0,0,0,0,0,0,0,0,0,0,0,0,0,0,0,0,0,0,0,0,0,0,0,0,0,0,0,0,0,1,1,0,0,0,0,0,0,1,0,0,null,null,null,null,6,{"$f":"+INDEX($F5830:$FS5830,1,Sheet3!$C$1)","v":6},{"$f":"+IF(Sheet3!$C$1=1,IF(FW5830<3,0,1),1)","v":1}]
[2,4,"11C","8",2,6,85492.661812967723,39.209999999999994,0,0,39.209999999999994,31.44,6.43,2.94,1.34,28.479999999999997,0.02,0.02,0.6,0.6,0,21.25,36.17,0,0,0.71,2.06,0,0.13,3.43,2.94,1.34,9.370000000000001,10.040000000000001,0.45,0.02,8.48,0,0,0,3,1,0,0,11296,2342,0,0,0,0,0,0,0,0,0,0,0,0,0,0,0,0,0,0,0,0,0,0,0,0,0,11296,2342.2199999999998,0,1386,0,0,0,0,956.22,0,8954,8954,0,0,0,0,0,0,0,0,0,0,0,0,0,0,0,0,0,0,0,0,0,0,0,0,0,0,0,0,0,0,0,0,0,20.57,0,13.2,0,0,0,0,7.37,0,35.25,35.25,0,0,0,0,0,0,0,0,0,0,0,0,0,0,0,0,0,0,0,0,0,0,0,0,0,0,0,0,0,0,2,0,0,0,0,2,0,0,0,0,0,0,0,6,0,0,null,null,null,null,6,{"$f":"+INDEX($F5899:$FS5899,1,Sheet3!$C$1)","v":6},{"$f":"+IF(Sheet3!$C$1=1,IF(FW5899<3,0,1),1)","v":1}]
[2,4,"150","12",1,11,43013.590000000011,29.66,1.57,168.55,29.66,4.03,6.86,9.84,0,5.4399999999999995,7.52,3.9,13.850000000000001,30.25,6.9899999999999993,5.9499999999999993,30.009999999999998,0,0,6.2100000000000009,0,0,0.15,0.5,9.84,0,3.12,0,0,7.52,2.3199999999999998,0,4,4,30,7,8,2,7488,458,0,0,0,0,0,0,0,0,0,0,0,0,0,0,0,0,0,0,0,0,0,0,0,0,0,7488,327.42,0,0,0,0,0,0,327.42,0,7030.04,6689.44,0,340.6,130.4,0,0,0,0,0,0,0,0,0,0,0,0,0,0,0,0,0,0,0,0,0,0,0,0,0,0,0,0,0,0,2.06,0,0,0,0,0,0,2.06,0,31.32,28.7,0,2.62,3.89,0,0,0,0,0,0,0,0,0,0,0,0,0,0,0,0,0,0,0,0,0,0,0,0,0,0,0,0,0,0,0,0,1,0,0,0,0,0,0,2,9,0,1,null,null,null,null,11,{"$f":"+INDEX($F5969:$FS5969,1,Sheet3!$C$1)","v":11},{"$f":"+IF(Sheet3!$C$1=1,IF(FW5969<3,0,1),1)","v":1}]
[2,4,"16G","6",1,126,2968566.6481952881,266.23000000000008,11.719999999999999,1200.02,266.23000000000008,94.07,18.89,4.25,3.55,232.71000000000006,6.83,0,0.6,0.6,35.460000000000015,127.11999999999999,255.32000000000011,8.18,0,8.0599999999999987,3.22,0,0.91,6.7,4.25,3.55,209.0800000000001,4.0199999999999996,13.44,6.83,5,0,0,0,4,0,0,0,87539,19693,0,0,0,0,0,0,0,0,0,0,0,0,0,0,0,0,0,0,0,0,0,0,0,0,0,87539,19693.41,0,120.75,0,0,0,121.5,19451.16,0,67845.850000000006,65228.2,0,2617.65,0,0,0,0,0,0,0,0,0,0,0,0,0,0,0,0,0,0,0,0,0,0,0,0,0,0,0,0,0,0,0,124.73,0,1.1499999999999999,0,0,0,0.75,122.83,0,253.15,232.92,0,20.23,0,0,0,0,0,0,0,0,0,0,0,0,0,0,0,0,0,0,0,0,0,0,0,0,0,0,0,0,1,0,0,0,1,67,0,0,0,0,0,0,0,110,0,10,null,null,null,null,126,{"$f":"+INDEX($F6080:$FS6080,1,Sheet3!$C$1)","v":126},{"$f":"+IF(Sheet3!$C$1=1,IF(FW6080<3,0,1),1)","v":1}]
[2,4,"16J","10_15",1,1,7158.5098763269252,3.22,0,0,3.22,0,0.75,0,1.05,1.08,0.34,0.34,6.6,6.6,0,2.88,3.2199999999999998,0,0,0.75,0,0,0,0,0,1.05,0,0,1.08,0.34,0,0,0,13,0,0,0,0,1200,265,0,0,0,0,0,0,0,0,0,0,0,0,0,0,0,0,0,0,0,0,0,0,0,0,0,1200,264.95999999999998,0,0,0,0,0,0,264.95999999999998,0,935.52,935.52,0,0,0,0,0,0,0,0,0,0,0,0,0,0,0,0,0,0,0,0,0,0,0,0,0,0,0,0,0,0,0,0,0,1.83,0,0,0,0,0,0,1.83,0,3.22,3.22,0,0,0,0,0,0,0,0,0,0,0,0,0,0,0,0,0,0,0,0,0,0,0,0,0,0,0,0,0,0,0,0,0,0,0,1,0,0,0,0,0,0,0,1,0,0,null,null,null,null,0,{"$f":"+INDEX($F6149:$FS6149,1,Sheet3!$C$1)","v":1},{"$f":"+IF(Sheet3!$C$1=1,IF(FW6149<3,0,1),1)","v":0}]
[2,4,"181","12",1,6,19649.818642617731,15.830000000000002,0.88,67.19,15.830000000000002,2.8,2.87,10.3,0,2.12,0.54,0.54,10.95,10.95,6.35,0,15.080000000000002,0,0,2.4899999999999998,0,0,0,0.38000000000000006,10.3,0,0.57000000000000006,1.1400000000000001,0.33,0.54,0.08,0,0,0,61,4,7,1,1870,0,0,0,0,0,0,0,0,0,0,0,0,0,0,0,0,0,0,0,0,0,0,0,0,0,0,1870,0,0,0,0,0,0,0,0,0,1869.75,0,0,1869.75,0,0,0,0,0,0,0,0,0,0,0,0,0,0,0,0,0,0,0,0,0,0,0,0,0,0,0,0,0,0,0,0,0,0,0,0,0,0,0,0,15.08,0,0,15.08,0,0,0,0,0,0,0,0,0,0,0,0,0,0,0,0,0,0,0,0,0,0,0,0,0,0,0,0,0,0,0,0,0,0,0,0,0,0,0,0,0,0,0,5,null,null,null,null,6,{"$f":"+INDEX($F6209:$FS6209,1,Sheet3!$C$1)","v":6},{"$f":"+IF(Sheet3!$C$1=1,IF(FW6209<3,0,1),1)","v":1}]
[2,4,"184","5",3,3,345963.86236621649,197.66,21.45,1398.11,197.66,103.44,0,2.65,6.44,160.48999999999998,28.08,0,0,0,30.269999999999989,48.76,188.49999999999997,0,0,0,0,0,0,0,2.65,6.4399999999999995,2.23,108.89,41.93,28.080000000000002,0.83,0,0,0,0,0,0,0,16300,10397,0,0,0,0,0,0,0,0,0,0,0,0,0,0,0,0,0,0,0,0,0,0,0,0,0,16300,10397.219999999999,0,0,0,10037.58,0,359.64,0,0,5902.62,0,0,5902.62,0,0,0,0,0,0,0,0,0,0,0,0,0,0,0,0,0,0,0,0,0,0,0,0,0,0,0,0,0,0,0,48.76,0,0,0,46.54,0,2.2200000000000002,0,0,154.04,0,0,154.04,0,0,0,0,0,0,0,0,0,0,0,0,0,0,0,0,0,0,0,0,0,0,0,0,0,0,0,0,0,0,1,0,1,0,0,0,0,0,0,0,0,0,0,3,null,null,null,null,3,{"$f":"+INDEX($F6256:$FS6256,1,Sheet3!$C$1)","v":3},{"$f":"+IF(Sheet3!$C$1=1,IF(FW6256<3,0,1),1)","v":1}]
[3,1,"111","10_2",2,158,469760.85001519596,562.10000000000025,350.92999999999984,33422.030000000006,868.71000000000049,203.32,20.13,90.51,0,3.1999999999999997,441.34,423.44,296.39999999999998,316.40000000000003,855.9400000000004,81.620000000000033,825.61000000000047,0,0,0.85,17.739999999999995,0,0.17,1.3700000000000006,90.510000000000034,0,0.92000000000000015,7.4199999999999973,0.83,441.34000000000003,0.90000000000000013,2,161,223,48,6,2,0,309729,21993,139830,0,0,0,0,0,0,0,0,0,0,0,0,0,139829.6,139829.6,0,0,0,0,0,0,0,0,0,169900,19917.68,0,0,0,0,5759.28,0,4980.3999999999996,9178,147906.47,147906.47,0,0,0,2075.52,2075.52,0,0,0,0,0,0,0,0,0,0,0,0,0,0,0,0,0,0,0,0,0,0,0,0,0,0,0,0,130.22999999999999,0,0,0,0,25.26,0,50.17,54.8,541.86,541.86,0,0,0,7.52,7.52,0,0,0,0,0,0,0,0,0,0,0,0,0,0,0,158,0,0,0,0,0,0,0,0,0,0,0,0,26,0,29,33,9,0,0,0,0,0,157,0,0,null,null,null,null,158,{"$f":"+INDEX($F6369:$FS6369,1,Sheet3!$C$1)","v":158},{"$f":"+IF(Sheet3!$C$1=1,IF(FW6369<3,0,1),1)","v":1}]
[3,1,"119","8",1,525,1145578.3184642163,713.75999999999931,682.51999999999941,70181.47000000003,713.75999999999931,502.96,253.87,162,7.16,144.00000000000014,146.72999999999999,10.5,68.900000000000006,69.500000000000014,716.74999999999955,91.090000000000046,223.20999999999998,0,0,10.6,201.82000000000002,0,1.8100000000000005,39.640000000000008,162.00000000000006,7.1599999999999984,23.259999999999987,92.830000000000069,9.3900000000000023,146.73000000000002,15.919999999999989,0,22,41,90,13,27,8,410742,9783,368840,0,0,0,0,0,0,0,0,0,0,0,0,0,368840.38,368840.38,0,0,0,0,0,0,0,0,0,41902,9783.48,0,0,0,0,200.64,0,9582.84,0,32118.36,32118.36,0,0,0,0,0,0,0,0,0,0,0,0,0,0,0,0,0,0,0,0,0,0,0,0,0,0,0,0,0,0,0,0,0,74.569999999999993,0,0,0,0,0.88,0,73.69,0,109.02,109.02,0,0,0,0,0,0,0,0,0,0,0,0,0,0,0,0,0,0,0,0,525,0,0,0,0,0,0,0,0,0,0,0,0,1,0,80,0,0,0,0,0,0,0,147,0,0,null,null,null,null,525,{"$f":"+INDEX($F6449:$FS6449,1,Sheet3!$C$1)","v":525},{"$f":"+IF(Sheet3!$C$1=1,IF(FW6449<3,0,1),1)","v":1}]
[3,1,"11B","6",1,103,139323.6183943683,133.01,123.16000000000001,9827.869999999999,133.01,9.85,3.04,4.3600000000000003,5.58,96.919999999999987,23.11,0,0.45,1.45,129.43,48.63000000000001,105.72999999999999,0,0,1.71,1.17,0,0,0.16,4.3600000000000003,5.58,90.749999999999957,1.24,4.71,23.110000000000003,0.06,0,0,0,0,0,3,0,97021,7409,66449,0,0,0,0,0,0,0,0,0,0,0,0,0,66448.789999999994,66448.789999999994,0,0,0,0,0,0,0,0,0,30573,7409.04,0,0,0,0,0,481.14,6927.9,0,23163.48,23163.48,0,0,0,0,0,0,0,0,0,0,0,0,0,0,0,0,0,0,0,0,0,0,0,0,0,0,0,0,0,0,0,0,0,46.37,0,0,0,0,0,2.97,43.4,0,78.87,78.87,0,0,0,0,0,0,0,0,0,0,0,0,0,0,0,0,0,0,0,0,103,0,0,0,0,0,0,0,0,0,0,0,0,0,4,49,0,0,0,0,0,0,0,75,0,0,null,null,null,null,103,{"$f":"+INDEX($F6506:$FS6506,1,Sheet3!$C$1)","v":103},{"$f":"+IF(Sheet3!$C$1=1,IF(FW6506<3,0,1),1)","v":1}]
[3,1,"11D","0",1,3,0,0,6.8999999999999995,449.72,0,0,0,0,0,0,0,0,0,0,8.27,0,0,0,0,0,0,0,0,0,0,0,0,0,0,0,0,0,0,0,0,0,0,0,2561,0,2561,0,0,0,0,0,0,0,0,0,0,0,0,0,2560.9299999999998,2560.9299999999998,0,0,0,0,0,0,0,0,0,0,0,0,0,0,0,0,0,0,0,0,0,0,0,0,0,0,0,0,0,0,0,0,0,0,0,0,0,0,0,0,0,0,0,0,0,0,0,0,0,0,0,0,0,0,0,0,0,0,0,0,0,0,0,0,0,0,0,0,0,0,0,0,0,0,0,0,0,0,0,0,0,0,0,0,0,3,0,0,0,0,0,0,0,0,0,0,0,0,0,0,0,0,0,0,0,0,0,0,0,0,0,null,null,null,null,3,{"$f":"+INDEX($F6545:$FS6545,1,Sheet3!$C$1)","v":3},{"$f":"+IF(Sheet3!$C$1=1,IF(FW6545<3,0,1),1)","v":1}]
[3,1,"11E","8",3,3,40415.452631868437,43.54,22.15,1517.23,43.54,3.9,2.97,0.38,5.49,28.47,6.23,4.97,2.8,2.8,42.94,38.33,41.579999999999991,0,0,1.2,0.23,0,0,1.54,0.38,5.49,22.009999999999998,2.4500000000000002,2.1799999999999997,6.2299999999999995,1.73,0,2,2,0,0,0,0,19302,8329,3103,0,0,0,0,0,0,0,0,0,0,0,0,0,3102.66,3102.66,0,0,0,0,0,0,0,0,0,16200,8127.83,0,0,0,0,396.72,4475.71,3255.4,0,7870.48,7870.48,0,0,201.2,0,0,0,0,0,0,0,0,0,0,0,0,0,0,0,0,0,0,0,0,0,0,0,0,0,0,0,0,0,0,41.01,0,0,0,0,1.74,15.69,23.58,0,39.86,39.86,0,0,10.06,0,0,0,0,0,0,0,0,0,0,0,0,0,0,0,0,0,3,0,0,0,0,0,0,0,0,0,0,0,0,1,2,3,0,0,0,0,0,0,1,3,0,0,null,null,null,null,3,{"$f":"+INDEX($F6616:$FS6616,1,Sheet3!$C$1)","v":3},{"$f":"+IF(Sheet3!$C$1=1,IF(FW6616<3,0,1),1)","v":1}]
[3,1,"16D","6",2,18,750584.49334093556,35.680000000000007,33.319999999999993,3420.72,35.680000000000007,26.87,6.29,1.88,0,23.699999999999996,3.81,2.3199999999999998,2.5,2.5,35.540000000000006,21.459999999999997,35.540000000000006,0,0,1.9000000000000001,3.64,0,0,0.75000000000000011,1.88,0,22.66,0.52,0,3.81,0.38,0,1,1,1,1,4,0,27997,3057,15858,0,0,0,0,0,0,0,0,0,0,0,0,0,15858.1,15858.1,0,0,0,0,0,0,0,0,0,12138,3057.06,0,0,0,0,0,0,3057.06,0,9081.36,9081.36,0,0,0,0,0,0,0,0,0,0,0,0,0,0,0,0,0,0,0,0,0,0,0,0,0,0,0,0,0,0,0,0,0,20.39,0,0,0,0,0,0,20.39,0,31.31,31.31,0,0,0,0,0,0,0,0,0,0,0,0,0,0,0,0,0,0,0,0,18,0,0,0,0,0,0,0,0,0,0,0,0,0,0,11,0,0,0,0,0,0,0,18,0,0,null,null,null,null,18,{"$f":"+INDEX($F6682:$FS6682,1,Sheet3!$C$1)","v":18},{"$f":"+IF(Sheet3!$C$1=1,IF(FW6682<3,0,1),1)","v":1}]
[3,1,"16G","13",1,121,51034.355393562939,158.17999999999995,162.13999999999999,18606.889999999996,163.27999999999997,37.619999999999997,1.44,76.25,5.75,2.4899999999999998,72.25,0,0,0,159.95999999999995,11.02,72.320000000000007,0,0,1,0.16,0,0.09,0.19,76.25,5.7500000000000009,0.05,0.17000000000000004,1.8800000000000003,72.25,0.35,0,0,0,0,0,0,0,85342,627,83428,0,0,0,0,0,0,0,0,0,0,0,0,0,83427.53,83427.53,0,0,0,0,0,0,0,0,0,1914,627.26,0,0,0,0,0,0,627.26,0,1286.96,1257.06,0,29.9,0,0,0,0,0,0,0,0,0,0,0,0,0,0,0,0,0,0,0,0,0,0,0,0,0,0,0,0,0,0,0,6.29,0,0,0,0,0,0,6.29,0,4.49,4.26,0,0.23,0,0,0,0,0,0,0,0,0,0,0,0,0,0,0,0,0,0,121,0,0,0,0,0,0,0,0,0,0,0,0,0,0,6,0,0,0,0,0,0,0,22,0,1,null,null,null,null,121,{"$f":"+INDEX($F6762:$FS6762,1,Sheet3!$C$1)","v":121},{"$f":"+IF(Sheet3!$C$1=1,IF(FW6762<3,0,1),1)","v":1}]
[3,1,"170","1_2",1,17,108955.94161695849,61.25,77.510000000000005,5862.3300000000008,61.25,1.38,41.5,4.07,0,0.2,15.48,0,0,0,59.419999999999995,0,0,0,0,35.729999999999997,3.21,0,0,2.5599999999999996,4.07,0,0,0.2,0,15.48,0,0,0,0,0,0,0,0,16991,0,16991,0,0,0,0,0,0,0,0,0,0,0,0,0,16990.77,16990.77,0,0,0,0,0,0,0,0,0,0,0,0,0,0,0,0,0,0,0,0,0,0,0,0,0,0,0,0,0,0,0,0,0,0,0,0,0,0,0,0,0,0,0,0,0,0,0,0,0,0,0,0,0,0,0,0,0,0,0,0,0,0,0,0,0,0,0,0,0,0,0,0,0,0,0,0,0,0,0,0,0,0,0,0,0,17,0,0,0,0,0,0,0,0,0,0,0,0,0,0,0,0,0,0,0,0,0,0,0,0,0,null,null,null,null,17,{"$f":"+INDEX($F6863:$FS6863,1,Sheet3!$C$1)","v":17},{"$f":"+IF(Sheet3!$C$1=1,IF(FW6863<3,0,1),1)","v":1}]
[3,1,"184","0",1,6,0,0,53.760000000000005,3520.8999999999996,0,0,0,0,0,0,0,0,0,0,62.14,0,0,0,0,0,0,0,0,0,0,0,0,0,0,0,0,0,0,0,0,0,0,0,5811,0,5811,0,0,0,0,0,0,0,0,0,0,0,0,0,5811.34,5811.34,0,0,0,0,0,0,0,0,0,0,0,0,0,0,0,0,0,0,0,0,0,0,0,0,0,0,0,0,0,0,0,0,0,0,0,0,0,0,0,0,0,0,0,0,0,0,0,0,0,0,0,0,0,0,0,0,0,0,0,0,0,0,0,0,0,0,0,0,0,0,0,0,0,0,0,0,0,0,0,0,0,0,0,0,0,6,0,0,0,0,0,0,0,0,0,0,0,0,0,0,0,0,0,0,0,0,0,0,0,0,0,null,null,null,null,6,{"$f":"+INDEX($F6902:$FS6902,1,Sheet3!$C$1)","v":6},{"$f":"+IF(Sheet3!$C$1=1,IF(FW6902<3,0,1),1)","v":1}]
[3,2,"111","1_1",2,5,34633.650566521988,27,25.72,4945.51,27,23.57,20.93,2.5,0,1.6300000000000001,1.94,0,0,0,27,3.31,27,0,0,0.27,19.68,0,0.23,0.75,2.5,0,0.14000000000000001,1.26,0,1.94,7.0000000000000007E-2,0,0,0,0,0,0,0,15055,379,8271,5517.3,5517.3,0,0,0,0,0,0,0,0,0,0,0,2754,0,2754,0,0,0,0,0,0,0,0,6784,378.6,0,0,0,0,0,0,378.6,0,6404.96,6404.96,0,0,0,0,0,0,0,0,0,25.1,25.1,0,0,0,0,0,0,0,0,0,0,0,27,0,27,0,0,0,0,0,0,0,0,3.31,0,0,0,0,0,0,3.31,0,24.86,24.86,0,0,0,0,0,0,0,0,0,5,0,0,0,0,0,0,0,0,0,0,0,5,0,0,0,0,0,0,0,0,0,0,0,0,0,1,0,0,0,0,0,0,0,5,0,0,null,null,null,null,5,{"$f":"+INDEX($F7002:$FS7002,1,Sheet3!$C$1)","v":5},{"$f":"+IF(Sheet3!$C$1=1,IF(FW7002<3,0,1),1)","v":1}]
[3,2,"119","6",1,11,729386.12409046432,32.08,31.169999999999998,2667.68,32.08,30.75,1.55,0.59,0,29.939999999999998,0,0,4.25,4.25,31.869999999999997,7.4,6.95,21.410000000000004,0,0,0.94,0,0,0.61,0.59000000000000008,0,28.93,0.33000000000000007,0.03,0,0.04,0,2,1,8,1,1,1,10621,2190,7653,3217.77,3004.17,213.6,213.6,0,0,0,0,0,0,0,0,0,3250.74,0,3250.74,1184.1500000000001,0,1184.1500000000001,0,0,0,0,0,2968,1005.54,0,338.1,0,0,0,0,667.44,0,1962.48,1962.48,0,0,0,0,0,0,0,0,0,32.89,30.89,2,2,0,0,0,0,0,0,0,0,0,31.87,0,31.87,2.48,0,2.48,0,0,0,0,0,7.34,0,3.22,0,0,0,0,4.12,0,6.63,6.63,0,0,0,0,0,0,0,0,0,11,1,0,0,0,0,0,0,0,0,0,0,11,0,2,0,0,0,0,0,0,2,0,0,0,0,2,0,0,0,0,0,0,0,4,0,0,null,null,null,null,11,{"$f":"+INDEX($F7113:$FS7113,1,Sheet3!$C$1)","v":11},{"$f":"+IF(Sheet3!$C$1=1,IF(FW7113<3,0,1),1)","v":1}]
[3,2,"11A","5",2,21,190020.78209106374,100.29,75.67,10674.849999999999,100.29,41.75,3.79,7.64,1.38,81.8,5.68,0,0,0,99.73,56.39,73.97999999999999,45.39,0,0.3,2.9699999999999998,0,0,0.52,7.6400000000000006,1.3800000000000001,4.3999999999999995,71.89,0.43,5.68,0.53,0,0,0,0,0,0,0,53906,14560,31163,11934.77,11934.77,0,0,0,0,0,0,0,0,0,0,0,10159.200000000001,0,10159.200000000001,9068.98,0,9068.98,0,0,0,0,0,22743,5491.29,0,3285.45,0,0,0,69.66,2136.1799999999998,0,17251.599999999999,17251.599999999999,0,0,0,0,0,0,0,0,0,74.52,74.52,0,0,0,0,0,0,0,0,0,0,0,99.6,0,99.6,41.93,0,41.93,0,0,0,0,0,45.22,0,31.29,0,0,0,0.43,13.5,0,62.95,62.95,0,0,0,0,0,0,0,0,0,21,0,0,0,0,0,0,0,0,0,0,0,21,0,10,0,0,0,0,0,0,9,0,0,0,1,3,0,0,0,0,0,0,0,17,0,0,null,null,null,null,21,{"$f":"+INDEX($F7152:$FS7152,1,Sheet3!$C$1)","v":21},{"$f":"+IF(Sheet3!$C$1=1,IF(FW7152<3,0,1),1)","v":1}]
[3,2,"11C","5",2,152,1752701.098808151,890.66000000000008,810.19,72315.910000000033,895.37,236.97,50.24,28.99,30.59,733.83000000000038,44.76,2.58,15.450000000000001,17.45,882.49999999999977,411.91999999999996,664.8599999999999,398.19999999999987,0,2.4000000000000004,39.530000000000008,0,0.53999999999999992,7.4799999999999978,28.990000000000006,30.589999999999993,10.229999999999999,675.5100000000001,12.07,44.760000000000005,4.75,0,0,3,79,10,1,1,457931,132360,246286,78019.14,77083.929999999993,935.21,0,935.21,0,0,0,0,0,0,0,0,89261.63,0,89261.63,79005.52,3206.57,75798.95,0,0,0,0,0,211645,53354.04,0,17276.46,0,0,0,2835.66,33241.919999999998,0,158291.01999999999,158291.01999999999,0,0,0,0,0,0,0,0,0,797.21,756.21,41,0,41,0,0,0,0,0,0,0,0,885.45,0,885.45,367.12,6.78,360.34,0,0,0,0,0,376.82,0,165.1,0,0,0,3.5,208.22,0,599.75,599.75,0,0,0,0,0,0,0,0,0,152,0,0,3,0,0,0,0,0,0,0,0,151,2,79,0,0,0,0,0,0,37,0,0,0,2,50,0,0,0,0,0,0,0,127,0,0,null,null,null,null,152,{"$f":"+INDEX($F7242:$FS7242,1,Sheet3!$C$1)","v":152},{"$f":"+IF(Sheet3!$C$1=1,IF(FW7242<3,0,1),1)","v":1}]
[3,2,"11E","3",2,3,11081.46049930112,17.100000000000001,14.39,1272.9499999999998,17.100000000000001,0,1.82,0,4.92,3.77,6.59,0,0,0,16.71,2.14,15.43,0,0,0.54,0,0,0,1.28,0,4.92,1.1700000000000002,0.51,2.09,6.59,0,0,0,0,0,0,0,0,6913,347,3145,1440.64,1440.64,0,0,0,0,0,0,0,0,0,0,0,1704.42,0,1704.42,0,0,0,0,0,0,0,0,3768,346.68,0,0,0,0,0,346.68,0,0,3421.68,3421.68,0,0,0,0,0,0,0,0,0,14.32,14.32,0,0,0,0,0,0,0,0,0,0,0,16.71,0,16.71,0,0,0,0,0,0,0,0,2.14,0,0,0,0,0,2.14,0,0,12.63,12.63,0,0,0,0,0,0,0,0,0,3,0,0,0,0,0,0,0,0,0,0,0,3,0,0,0,0,0,0,0,0,0,0,0,0,1,0,0,0,0,0,0,0,0,3,0,0,null,null,null,null,3,{"$f":"+INDEX($F7333:$FS7333,1,Sheet3!$C$1)","v":3},{"$f":"+IF(Sheet3!$C$1=1,IF(FW7333<3,0,1),1)","v":1}]
[3,2,"16B","0",3,11,0,220.17000000000002,214.64000000000001,22195.86,220.17000000000002,22.74,0,40.270000000000003,0,37.72,142.18,129.85,605.79999999999995,9422,219.42,0,10.91,25.44,0,0,0,0,0,0,40.269999999999996,0,33.889999999999993,0.35,1.53,142.17999999999998,0.03,0,117,818,69,20,6,1,176790,125332,175559,37487.49,25098.69,12388.8,12388.8,0,0,0,0,0,0,0,0,0,12907.08,0,12907.08,125163.96,0,8095.22,0,0,0,117068.74,0,1232,168,0,0,0,0,0,0,0,168,1063.9100000000001,0,1063.9100000000001,0,0,0,0,0,0,0,0,318.11,202.11,116,116,0,0,0,0,0,0,0,0,0,126.54,0,126.54,5628.55,0,25.44,0,0,0,5603.11,0,1.05,0,0,0,0,0,0,0,1.05,10.33,0,10.33,0,0,0,0,0,0,0,0,11,5,0,0,0,0,0,0,0,0,0,0,11,0,1,0,0,0,8,0,0,0,0,0,0,0,0,1,0,0,0,0,0,0,0,1,0,null,null,null,null,11,{"$f":"+INDEX($F7402:$FS7402,1,Sheet3!$C$1)","v":11},{"$f":"+IF(Sheet3!$C$1=1,IF(FW7402<3,0,1),1)","v":1}]
[3,2,"16D","5",2,17,219616.55515422151,144.11000000000001,125.57999999999998,9771.16,144.11000000000001,0.96,2.5,7.46,4.12,124.19999999999999,5.83,0,0,0,144.10999999999996,5.5000000000000009,0,94.84,0,0,0,0,2.5,0,7.46,4.12,1.2300000000000002,115.34000000000003,0.83000000000000007,5.83,0.96,0,0,0,0,0,0,0,46483,20787,45622,10996.61,10996.61,0,0,0,0,0,0,0,0,0,0,0,14699.22,0,14699.22,19926.439999999999,0,19879.04,0,0,0,0,47.4,861,860.76,0,0,0,0,0,0,860.76,0,0,0,0,0,0,0,0,0,0,0,0,124.22,124.22,0,0,0,0,0,0,0,0,0,0,0,144.11000000000001,0,144.11000000000001,95.54,0,91.59,0,0,0,0,3.95,5.5,0,0,0,0,0,0,5.5,0,0,0,0,0,0,0,0,0,0,0,0,17,0,0,0,0,0,0,0,0,0,0,0,17,0,13,0,0,0,0,1,0,0,0,0,0,0,1,0,0,0,0,0,0,0,0,0,0,null,null,null,null,17,{"$f":"+INDEX($F7482:$FS7482,1,Sheet3!$C$1)","v":17},{"$f":"+IF(Sheet3!$C$1=1,IF(FW7482<3,0,1),1)","v":1}]
[3,2,"16E","10_15",2,30,467680.76431745151,102.30000000000001,128.13,37667.9,102.30000000000001,28.78,22.03,40.18,0,5.85,34.24,34.239999999999995,547.80000000000007,553.90000000000009,102.30000000000001,3.15,2.95,0,2.6399999999999997,11.989999999999998,8.64,0.2,0.17,1.03,40.179999999999993,0,0.54,0.22,4.8900000000000006,34.239999999999995,0.2,23,180,604,2,0,18,8,65808,1313,64047,53187.62,36992.17,16195.45,14845.2,387.77,463.84,0,0,0,0,335.8,162.84,0,10434.6,0,10434.6,424.8,0,0,0,0,0,424.8,0,1761,887.72,0,0,0,0,0,0,387.72,500,873.2,873.2,0,0,0,0,0,0,0,0,0,259.89,97.25,162.63999999999999,139,17,4,0,0,0,0,1.46,1.18,0,102.3,0,102.3,23.6,0,0,0,0,0,23.6,0,4.93,0,0,0,0,0,0,2.93,2,2.95,2.95,0,0,0,0,0,0,0,0,0,30,25,0,1,1,0,0,0,0,1,1,0,30,0,0,0,0,0,1,0,0,0,0,0,0,0,1,1,0,0,0,0,0,0,1,0,0,null,null,null,null,30,{"$f":"+INDEX($F7509:$FS7509,1,Sheet3!$C$1)","v":30},{"$f":"+IF(Sheet3!$C$1=1,IF(FW7509<3,0,1),1)","v":1}]
[3,2,"16F","13",2,7,8960.8452295111001,50.93,49.96,6933.76,50.93,0,0,6.45,0,2.1900000000000004,42.29,0,0,0,50.929999999999993,0,19.369999999999997,0,0,0,0,0,0,0,6.45,0,0,0,1.9700000000000002,42.29,0.22,0,0,0,0,0,0,0,13189,0,13045,7850.22,7850.22,0,0,0,0,0,0,0,0,0,0,0,5194.8599999999997,0,5194.8599999999997,0,0,0,0,0,0,0,0,144,0,0,0,0,0,0,0,0,0,144.30000000000001,0,144.30000000000001,0,0,0,0,0,0,0,0,49.62,49.62,0,0,0,0,0,0,0,0,0,0,0,50.93,0,50.93,0,0,0,0,0,0,0,0,0,0,0,0,0,0,0,0,0,1.1100000000000001,0,1.1100000000000001,0,0,0,0,0,0,0,0,7,0,0,0,0,0,0,0,0,0,0,0,7,0,0,0,0,0,0,0,0,0,0,0,0,0,0,0,0,0,0,0,0,0,0,1,0,null,null,null,null,7,{"$f":"+INDEX($F7578:$FS7578,1,Sheet3!$C$1)","v":7},{"$f":"+IF(Sheet3!$C$1=1,IF(FW7578<3,0,1),1)","v":1}]
[3,2,"16H","1_2",3,46,831026.82322528004,2970.04,2895.76,274716.83,2970.04,102.09,636.05999999999995,149.66,833.3,206.76000000000002,1144.26,56.379999999999995,22.8,22.8,2996.7299999999996,226.53000000000006,2438.58,1355.36,429.37999999999994,64.840000000000018,28.070000000000004,0,534.85999999999979,5.6999999999999993,152.25,833.29999999999973,16.5,2.4500000000000002,184.74000000000004,1144.2600000000004,2.1800000000000002,0,20,5,0,0,0,0,830344,348997,713580,332826.31,307130.36,25695.95,1602,0,0,0,0,24093.95,0,0,0,0,65476.86,0,65476.86,315276.93,292154.43,4823.3,0,0,0,0,18299.2,116764,33719.589999999997,0,5145.05,0,0,1951.88,22936.66,1926,1760,83044.58,6722.11,0,76322.47,0,0,0,0,0,0,0,3286.01,2841.63,444.38,15,0,0,0,0,429.38,0,0,0,0,641.92999999999995,0,641.92999999999995,2663.31,1107.76,20.79,0,0,0,0,1534.76,281.32,0,52.15,0,0,23.41,168.66,26.1,11,1878.24,36.659999999999997,0,1841.58,0,0,0,0,0,0,0,46,4,0,0,0,0,0,26,0,0,0,0,36,34,1,0,0,0,0,20,0,7,0,0,1,25,2,3,0,0,0,0,0,0,5,0,45,null,null,null,null,46,{"$f":"+INDEX($F7649:$FS7649,1,Sheet3!$C$1)","v":46},{"$f":"+IF(Sheet3!$C$1=1,IF(FW7649<3,0,1),1)","v":1}]
[3,2,"16J","10_15",3,16,1141458.8919826949,377.13,469.78000000000009,61162.28,377.13,177.83,50.06,191.67,10.11,22.42,102.87,102.86999999999999,1860.1,1861.1,370.31,150.07999999999998,358.66999999999996,109.95000000000002,32.169999999999995,13.91,34.810000000000009,0,0.24,1.1000000000000001,191.66999999999996,10.11,1.26,10.75,9.17,102.86999999999999,0.8,72,576,1970,14,0,36,4,191563,36550,128475,93637.79,45956.160000000003,47681.63,36846.11,1094.8800000000001,9740.64,0,0,0,0,0,0,0,18186.599999999999,0,18186.599999999999,16650.86,0,15218.3,0,0,0,1285.2,147.36000000000001,63088,18853.189999999999,0,0,0,0,371.74,588.05999999999995,10523.39,7370,43189.120000000003,43189.120000000003,0,0,345.49,700,0,0,0,700,0,814.49,333.49,481,349,48,84,0,0,0,0,0,0,0,178.3,0,178.3,214.03,0,109.95,0,0,0,91.8,12.28,188.3,0,0,0,0,1.83,3.63,141.84,41,353.96,353.96,0,0,9.4499999999999993,44.6,0,0,0,44.6,0,16,13,0,2,3,0,0,0,0,0,0,0,15,0,2,0,0,0,1,1,0,0,0,0,2,1,9,2,0,0,0,2,0,1,16,0,0,null,null,null,null,16,{"$f":"+INDEX($F7759:$FS7759,1,Sheet3!$C$1)","v":16},{"$f":"+IF(Sheet3!$C$1=1,IF(FW7759<3,0,1),1)","v":1}]
[3,2,"170","12",3,15,1460729.575577107,2240.4,2045.69,151994.72,2240.4,190.07,59.43,197.22,14.65,191.15,1777.95,1416.2000000000003,801.35000000000014,801.35000000000014,2261.3500000000004,149.20999999999998,740.8900000000001,1406.16,37.370000000000005,11.05,23.33,17.28,1.31,6.46,197.22000000000003,14.649999999999999,59.64,109.69999999999999,11.63,1777.9500000000003,0.75,2,498,421,264,11,209,5,329873,75998,311484,228475.11,162935.35,65539.759999999995,42890.879999999997,10515.2,0,8205.2800000000007,0,0,0,3928.4,0,0,14036.22,0,14036.22,68972.25,38355.96,21788.54,6896.74,0,1231.6500000000001,0,699.36,18389,7025.84,0,2486.12,0,0,4539.72,0,0,0,11363.55,0,0,11363.55,0,0,0,0,0,0,0,2858.27,1953.9,904.37,404,463,0,20.29,0,0,0,17.079999999999998,0,0,137.61000000000001,0,137.61000000000001,1019.24,705.41,91.44,123.11,0,41,0,58.28,147.63,0,26.28,0,0,121.35,0,0,0,432.06,0,0,432.06,0,0,0,0,0,0,0,15,11,0,6,0,1,0,0,0,1,0,0,8,3,5,1,0,1,0,1,0,1,0,0,2,0,0,0,0,0,0,0,0,0,0,0,4,null,null,null,null,15,{"$f":"+INDEX($F7828:$FS7828,1,Sheet3!$C$1)","v":15},{"$f":"+IF(Sheet3!$C$1=1,IF(FW7828<3,0,1),1)","v":1}]
[3,2,"181","7",4,6,2270210.7726590666,3556.97,3445.3199999999997,297168.53000000003,3556.97,2114.41,38.56,202.99,112.78,2210.67,991.97,439.37,231.4,231.4,3552.3299999999995,1947.6300000000003,3141.940000000001,2140.7800000000002,15.830000000000002,15.83,0,0,22.63,0.1,202.99000000000004,112.78,1.2799999999999998,0,2084.8000000000002,991.97,0.26,0,174,126,0,0,0,0,629390,254264,515743,354636.61,337228.21,17408.400000000001,17408.400000000001,0,0,0,0,0,0,0,0,0,0,0,0,161106.48000000001,55120.17,95920.14,8170.77,0,0,0,1895.4,113647,92302.11,0,55332.6,0,36969.51,0,0,0,0,20489.16,0,0,20489.16,855.6,0,0,0,0,0,0,3599.92,3436.92,163,163,0,0,0,0,0,0,0,0,0,0,0,0,2298.73,407.38,1624.55,108.85,0,0,0,157.94999999999999,3100.28,0,1775.1,0,1325.18,0,0,0,0,786.62,0,0,786.62,21.39,0,0,0,0,0,0,6,2,0,0,0,0,0,0,0,0,0,0,0,1,5,1,0,0,0,2,0,3,0,2,0,0,0,0,0,0,0,0,0,1,0,0,6,null,null,null,null,6,{"$f":"+INDEX($F7921:$FS7921,1,Sheet3!$C$1)","v":6},{"$f":"+IF(Sheet3!$C$1=1,IF(FW7921<3,0,1),1)","v":1}]
[3,2,"184","1_2",1,16,68889.656809554232,43.330000000000013,56.680000000000007,4927.5199999999986,43.330000000000013,0.88,38.840000000000003,1.66,0,1.34,1.49,0,0,0,43.330000000000013,0.56999999999999995,43.330000000000013,2.33,8.2199999999999989,32.300000000000004,0,0,5.66,0.88,1.66,0,0,0,1.25,1.49,0.09,0,0,0,0,0,0,0,14054,577,8870,4131.54,4131.54,0,0,0,0,0,0,0,0,0,0,0,4253.3999999999996,0,4253.3999999999996,484.6,484.6,0,0,0,0,0,0,5184,92.34,0,0,0,0,0,92.34,0,0,5091.8,0,0,5091.8,0,0,0,0,0,0,0,40.97,40.97,0,0,0,0,0,0,0,0,0,0,0,41.7,0,41.7,0.88,0.88,0,0,0,0,0,0,0.56999999999999995,0,0,0,0,0,0.56999999999999995,0,0,40.18,0,0,40.18,0,0,0,0,0,0,0,16,0,0,0,0,0,0,0,0,0,0,0,16,1,0,0,0,0,0,0,0,0,0,0,0,1,0,0,0,0,0,0,0,0,0,0,16,null,null,null,null,16,{"$f":"+INDEX($F7935:$FS7935,1,Sheet3!$C$1)","v":16},{"$f":"+IF(Sheet3!$C$1=1,IF(FW7935<3,0,1),1)","v":1}]
[3,2,"185","14",5,2,8659910.3833616413,1408.5900000000001,1151.7,214871.04000000001,1408.5900000000001,1277.2,1242.1400000000001,39.99,104.89,11.39,10.18,0,0,0,1410.4100000000003,115.91000000000003,367.07,365.37,1286.2000000000003,0,61.3,295.53999999999996,0,885.3,39.99,104.89,0,0,0,10.18,0,0,0,0,0,0,0,0,787291,124363,757761,659173.13,244050.54,415122.59,0,0,0,129294.27,285828.32,0,0,0,0,0,0,0,0,98587.64,0,98587.64,0,0,0,0,0,29531,0,0,0,0,0,0,0,0,0,3755,0,0,3755,0,25775.53,0,0,0,25775.53,0,2376.6,1151.7,1224.9000000000001,0,0,0,306.93,917.97,0,0,0,0,0,0,0,0,365.37,0,365.37,0,0,0,0,0,0,0,0,0,0,0,0,0,0,150,0,0,150,0,115.91,0,0,0,115.91,0,2,0,0,0,0,2,2,0,0,0,0,0,0,0,2,0,0,0,0,0,0,0,0,0,0,0,0,0,0,0,0,1,0,0,0,0,1,null,null,null,null,0,{"$f":"+INDEX($F8035:$FS8035,1,Sheet3!$C$1)","v":2},{"$f":"+IF(Sheet3!$C$1=1,IF(FW8035<3,0,1),1)","v":0}]
[3,2,"186","6",1,1,9212.4680942135928,3.04,3.54,230.73,3.04,1.37,0,0,0,1.98,1.06,0,0,0,3.0999999999999996,1.67,1.98,0,0,0,0,0,0,0,0,0,1.55,0,0.43,1.06,0,0,0,0,0,0,0,0,828,24,546,229.5,229.5,0,0,0,0,0,0,0,0,0,0,0,316.2,0,316.2,0,0,0,0,0,0,0,0,282,0,0,0,0,0,0,0,0,0,257.39999999999998,0,0,257.39999999999998,24.4,0,0,0,0,0,0,3.1,3.1,0,0,0,0,0,0,0,0,0,0,0,3.1,0,3.1,0,0,0,0,0,0,0,0,0,0,0,0,0,0,0,0,0,1.98,0,0,1.98,0.61,0,0,0,0,0,0,1,0,0,0,0,0,0,0,0,0,0,0,1,0,0,0,0,0,0,0,0,0,0,0,0,0,0,0,0,0,0,0,0,1,0,0,1,null,null,null,null,0,{"$f":"+INDEX($F8116:$FS8116,1,Sheet3!$C$1)","v":1},{"$f":"+IF(Sheet3!$C$1=1,IF(FW8116<3,0,1),1)","v":0}]
[3,2,"187","6",1,4,12163.274414459849,6.2,6.7799999999999994,506.46,6.2,5.95,0,0.14000000000000001,0,6.06,0,0,0,0,6.2,0,5.36,3.63,0,0,0,0,0,0,0.14000000000000001,0,5.9499999999999993,0,0.09,0,0.02,0,0,0,0,0,0,0,3447,1611,2768,524.94000000000005,524.94000000000005,0,0,0,0,0,0,0,0,0,0,0,632.4,0,632.4,1610.92,1244.92,366,0,0,0,0,0,679,0,0,0,0,0,0,0,0,0,678.6,0,0,678.6,0,0,0,0,0,0,0,6.1,6.1,0,0,0,0,0,0,0,0,0,0,0,6.2,0,6.2,3.63,1.91,1.72,0,0,0,0,0,0,0,0,0,0,0,0,0,0,5.22,0,0,5.22,0,0,0,0,0,0,0,4,0,0,0,0,0,0,0,0,0,0,0,4,2,1,0,0,0,0,0,0,0,0,0,0,0,0,0,0,0,0,0,0,0,0,0,3,null,null,null,null,4,{"$f":"+INDEX($F8185:$FS8185,1,Sheet3!$C$1)","v":4},{"$f":"+IF(Sheet3!$C$1=1,IF(FW8185<3,0,1),1)","v":1}]
[3,3,"112","4",1,2,13692.248348833216,1.1499999999999999,0,0,1.1499999999999999,0.81,1.02,0,0,0,0.13,0.13,2,2,0,0,0,0.52,0,0.09,0.21,0,0,0.72,0,0,0,0,0,0.13,0,0,2,0,0,0,0,0,366,261,366,104.66,0,104.66,104.66,0,0,0,0,0,0,0,0,0,0,0,0,261.25,261.25,0,0,0,0,0,0,0,0,0,0,0,0,0,0,0,0,0,0,0,0,0,0,0,0,0,0,0,1,0,1,1,0,0,0,0,0,0,0,0,0,0,0,0,0.52,0.52,0,0,0,0,0,0,0,0,0,0,0,0,0,0,0,0,0,0,0,0,0,0,0,0,0,0,0,1,0,0,0,0,0,0,0,0,0,0,0,1,0,0,0,0,0,0,0,0,0,0,0,0,0,0,0,0,0,0,0,0,0,0,0,null,null,null,null,0,{"$f":"+INDEX($F8234:$FS8234,1,Sheet3!$C$1)","v":2},{"$f":"+IF(Sheet3!$C$1=1,IF(FW8234<3,0,1),1)","v":0}]
[3,3,"11D","5",2,81,497092.5502709127,423.69999999999987,0,0,423.69999999999987,0.79,4.0199999999999996,4.91,4.3499999999999996,408.03000000000003,2.39,0,0,0,81.510000000000005,237.70999999999995,420.61999999999983,383.51999999999992,0,2.02,0,0,0,2,4.9099999999999993,4.3500000000000005,2.2499999999999996,360.59,32.129999999999995,2.39,2.2000000000000002,0,0,0,0,0,0,0,247552,140895,84718,0,0,0,0,0,0,0,0,0,0,0,0,0,0,0,0,84718.28,9150.26,75568.02,0,0,0,0,0,162834,56176.78,0,8706.6,0,0,0,38559.58,8910.6,0,106656.91,106656.91,0,0,0,0,0,0,0,0,0,0,0,0,0,0,0,0,0,0,0,0,0,0,0,0,0,383.54,18.7,364.84,0,0,0,0,0,246.36,0,82.92,0,0,0,108.4,55.04,0,411.3,411.3,0,0,0,0,0,0,0,0,0,0,0,0,0,0,0,0,0,0,0,0,0,0,7,74,0,0,0,0,0,0,18,0,0,0,41,16,0,0,0,0,0,0,0,81,0,0,null,null,null,null,81,{"$f":"+INDEX($F8366:$FS8366,1,Sheet3!$C$1)","v":81},{"$f":"+IF(Sheet3!$C$1=1,IF(FW8366<3,0,1),1)","v":1}]
[3,3,"16B","0",1,1,0,5.51,0,0,5.51,0,0,5.21,0,0.3,0,0,0,261.8,0,0,0,0,0,0,0,0,0,0,5.21,0,0,0.3,0,0,0,0,0,0,0,0,0,0,342,342,342,0,0,0,0,0,0,0,0,0,0,0,0,0,0,0,0,342,0,0,0,0,0,342,0,0,0,0,0,0,0,0,0,0,0,0,0,0,0,0,0,0,0,0,0,0,0,0,0,0,0,0,0,0,0,0,0,0,0,0,0,0,18,0,0,0,0,0,18,0,0,0,0,0,0,0,0,0,0,0,0,0,0,0,0,0,0,0,0,0,0,0,0,0,0,0,0,0,0,0,0,0,0,0,0,0,0,0,1,0,0,0,0,0,0,0,0,0,0,0,0,0,0,0,0,0,0,null,null,null,null,0,{"$f":"+INDEX($F8435:$FS8435,1,Sheet3!$C$1)","v":1},{"$f":"+IF(Sheet3!$C$1=1,IF(FW8435<3,0,1),1)","v":0}]
[3,3,"16D","6",1,22,252711.01138733519,32.230000000000004,0,0,32.230000000000004,27.13,1.63,1.33,0.45,27.970000000000002,0.85,0,0,0,5.5200000000000005,11.840000000000002,2.71,24.86,0,0.14000000000000001,1.01,0,0,0.48,1.33,0.45000000000000007,25.639999999999997,1.79,7.0000000000000007E-2,0.85,0,0,0,0,0,0,0,0,16034,15231,13869,0,0,0,0,0,0,0,0,0,0,0,0,0,0,0,0,13869.26,2184.84,11684.42,0,0,0,0,0,2164,1362.15,0,889.35,0,0,0,0,472.8,0,802.16,802.16,0,0,0,0,0,0,0,0,0,0,0,0,0,0,0,0,0,0,0,0,0,0,0,0,0,24.87,3.17,21.7,0,0,0,0,0,11.64,0,8.4700000000000006,0,0,0,0,3.17,0,2.71,2.71,0,0,0,0,0,0,0,0,0,0,0,0,0,0,0,0,0,0,0,0,0,0,4,18,0,0,0,0,0,0,7,0,0,0,0,3,0,0,0,0,0,0,0,2,0,0,null,null,null,null,22,{"$f":"+INDEX($F8474:$FS8474,1,Sheet3!$C$1)","v":22},{"$f":"+IF(Sheet3!$C$1=1,IF(FW8474<3,0,1),1)","v":1}]
[3,3,"16G","12",1,31,109766.86794721147,39.03,1.24,114.24,39.03,17.829999999999998,9.44,12.27,0,11.490000000000002,5.83,5.83,70.849999999999994,71.149999999999991,12.89,15.48,35.04,0,0,0.44999999999999996,5.4499999999999993,0,0.15000000000000002,3.3899999999999988,12.270000000000003,0,2.0900000000000003,2.37,5.5199999999999987,5.83,1.5000000000000002,0,7,5,284,13,104,6,18948,1966,9318,9317.73,0,9317.73,640.79999999999995,8676.93,0,0,0,0,0,0,0,0,0,0,0,0,0,0,0,0,0,0,0,9630,1966.41,0,0,0,0,0,0,1966.41,0,7664.02,6118.32,0,1545.7,0,0,0,0,0,0,0,388,0,388,6,382,0,0,0,0,0,0,0,0,0,0,0,0,0,0,0,0,0,0,0,15,0,0,0,0,0,0,15,0,32.56,20.67,0,11.89,0,0,0,0,0,0,0,0,4,0,27,0,0,0,0,0,0,0,0,0,0,0,0,0,0,0,0,0,0,0,0,0,0,12,0,0,0,0,0,0,0,15,0,9,null,null,null,null,31,{"$f":"+INDEX($F8542:$FS8542,1,Sheet3!$C$1)","v":31},{"$f":"+IF(Sheet3!$C$1=1,IF(FW8542<3,0,1),1)","v":1}]
[3,3,"16J","1_2",1,1,808.55070100254045,1.55,0,0,1.55,0,0.59,0,0,0.85,0.11,0,0,0,1.55,1.4400000000000002,1.55,1.1600000000000001,0,0,0,0,0.45,0.14000000000000001,0,0,0,0.1,0.75,0.11,0,0,0,0,0,0,0,0,948,522,313,0,0,0,0,0,0,0,0,0,0,0,0,0,0,0,0,313.33999999999997,313.33999999999997,0,0,0,0,0,0,635,208.5,0,0,0,0,0,0,208.5,0,426.24,426.24,0,0,0,0,0,0,0,0,0,0,0,0,0,0,0,0,0,0,0,0,0,0,0,0,0,1.1599999999999999,1.1599999999999999,0,0,0,0,0,0,1.44,0,0,0,0,0,0,1.44,0,1.44,1.44,0,0,0,0,0,0,0,0,0,0,0,0,0,0,0,0,0,0,0,0,0,0,1,0,0,0,0,0,0,0,0,0,0,0,0,1,0,0,0,0,0,0,0,1,0,0,null,null,null,null,0,{"$f":"+INDEX($F8611:$FS8611,1,Sheet3!$C$1)","v":1},{"$f":"+IF(Sheet3!$C$1=1,IF(FW8611<3,0,1),1)","v":0}]
[3,3,"184","10_2",3,1,24225.237517027519,51.31,0,0,51.31,0,0,0,0,0,51.31,51.31,47.55,47.55,0,0,51.31,51.31,0,0,0,0,0,0,0,0,0,0,0,51.31,0,1,23,16,93,4,0,0,8149,4049,6171,2121.33,0,2121.33,0,2121.33,0,0,0,0,0,0,0,0,0,0,0,4049.32,0,0,4049.32,0,0,0,0,1979,0,0,0,0,0,0,0,0,0,1978.58,0,0,1978.58,0,0,0,0,0,0,0,93,0,93,0,93,0,0,0,0,0,0,0,0,0,0,0,51.31,0,0,51.31,0,0,0,0,0,0,0,0,0,0,0,0,0,51.31,0,0,51.31,0,0,0,0,0,0,0,0,0,0,1,0,0,0,0,0,0,0,0,0,0,0,1,0,0,0,0,0,0,0,0,0,0,0,0,0,0,0,0,0,0,0,0,1,null,null,null,null,0,{"$f":"+INDEX($F8714:$FS8714,1,Sheet3!$C$1)","v":1},{"$f":"+IF(Sheet3!$C$1=1,IF(FW8714<3,0,1),1)","v":0}]
[3,3,"186","6",2,1,8005.6580742385859,5.44,2.2000000000000002,162.47,5.44,2.3199999999999998,0,0.27,0,4.3499999999999996,0.82,0,0,0,0,2.7699999999999996,5.17,4.22,0,0,0,0,0,0,0.27,0,3.47,0.15,0.71,0.82,0,0,0,0,0,0,0,0,2366,1871,1680,0,0,0,0,0,0,0,0,0,0,0,0,0,0,0,0,1680.46,1680.46,0,0,0,0,0,0,686,115.02,0,0,0,0,0,115.02,0,0,495.45,0,0,495.45,75.2,0,0,0,0,0,0,0,0,0,0,0,0,0,0,0,0,0,0,0,0,0,0,3.13,3.13,0,0,0,0,0,0,0.71,0,0,0,0,0,0.71,0,0,4.1100000000000003,0,0,4.1100000000000003,1.88,0,0,0,0,0,0,0,0,0,0,0,0,0,0,0,0,0,0,0,1,0,0,0,0,0,0,0,0,0,0,0,1,0,0,0,0,0,0,0,1,0,0,1,null,null,null,null,0,{"$f":"+INDEX($F8792:$FS8792,1,Sheet3!$C$1)","v":1},{"$f":"+IF(Sheet3!$C$1=1,IF(FW8792<3,0,1),1)","v":0}]
[3,4,"111","0",1,3,16043.422499999999,0,0,0,0,0,0,0,0,0,0,0,0,0,0,0,0,0,0,0,0,0,0,0,0,0,0,0,0,0,0,0,0,0,0,0,0,0,500,500,0,0,0,0,0,0,0,0,0,0,0,0,0,0,0,0,0,0,0,0,0,0,0,0,0,500,500,0,0,0,0,0,0,0,500,0,0,0,0,0,0,0,0,0,0,0,0,0,0,0,0,0,0,0,0,0,0,0,0,0,0,0,0,0,0,0,0,0,0,0,2,0,0,0,0,0,0,0,2,0,0,0,0,0,0,0,0,0,0,0,0,0,0,0,0,0,0,0,0,0,0,0,0,0,0,0,0,0,0,0,0,0,0,0,0,0,0,2,0,0,0,0,0,0,0,0,0,null,null,null,null,3,{"$f":"+INDEX($F8831:$FS8831,1,Sheet3!$C$1)","v":3},{"$f":"+IF(Sheet3!$C$1=1,IF(FW8831<3,0,1),1)","v":1}]
[3,4,"11B","6",1,274,343199.2778742392,523.41999999999996,33.380000000000003,2715.5499999999997,523.41999999999996,11.5,17.79,10.039999999999999,14.91,465.50999999999965,15.17,0.05,0.9,0.9,83.23,342.28000000000014,505.17999999999984,20.3,0,13.939999999999998,1.77,0,0.60000000000000009,1.4800000000000002,10.040000000000001,14.909999999999998,447.47999999999956,3.83,12.670000000000002,15.17,1.32,0,0,0,4,2,0,0,181436,48835,0,0,0,0,0,0,0,0,0,0,0,0,0,0,0,0,0,0,0,0,0,0,0,0,0,181436,48743.82,0,0,0,0,0,9434.8799999999992,39308.94,0,132601.32999999999,132601.32999999999,0,0,91.2,0,0,0,0,0,0,0,0,0,0,0,0,0,0,0,0,0,0,0,0,0,0,0,0,0,0,0,0,0,0,307.88,0,0,0,0,0,59.48,248.4,0,451.28,451.28,0,0,4.5599999999999996,0,0,0,0,0,0,0,0,0,0,0,0,0,0,0,0,0,0,0,0,0,0,0,0,0,0,0,0,0,0,0,46,162,0,0,0,0,0,0,3,258,0,0,null,null,null,null,274,{"$f":"+INDEX($F8954:$FS8954,1,Sheet3!$C$1)","v":274},{"$f":"+IF(Sheet3!$C$1=1,IF(FW8954<3,0,1),1)","v":1}]
[3,4,"11C","10_2",2,1,3668.0595537817403,5,0,0,9.99,0,0,0,0,0,5,5,1.2,1.2,0,0,9.99,0,0,0,0,0,0,0,0,0,0,0,0,5,0,0,0,2,0,0,0,0,1320,0,0,0,0,0,0,0,0,0,0,0,0,0,0,0,0,0,0,0,0,0,0,0,0,0,0,1320,0,0,0,0,0,0,0,0,0,1320,1320,0,0,0,0,0,0,0,0,0,0,0,0,0,0,0,0,0,0,0,0,0,0,0,0,0,0,0,0,0,0,0,0,0,0,0,0,0,0,0,0,0,0,5,5,0,0,0,0,0,0,0,0,0,0,0,0,0,0,0,0,0,0,0,0,0,0,0,0,0,0,0,0,0,0,0,0,0,0,0,0,0,0,0,0,0,0,0,1,0,0,null,null,null,null,0,{"$f":"+INDEX($F8968:$FS8968,1,Sheet3!$C$1)","v":1},{"$f":"+IF(Sheet3!$C$1=1,IF(FW8968<3,0,1),1)","v":0}]
[3,4,"16D","0",1,1,0,0.08,0,0,0.08,0.08,0,0.08,0,0,0,0,0,0.434,0,0,0,0,0,0,0,0,0,0,0.08,0,0,0,0,0,0,0,0,0,0,0,0,0,0,0,0,null,null,null,null,null,null,null,null,null,null,null,null,null,null,null,null,null,null,null,null,null,null,null,null,0,null,null,null,null,null,null,null,null,null,null,null,null,null,null,null,null,null,null,null,null,null,null,null,null,null,null,null,null,null,null,null,null,null,null,null,null,null,null,null,null,null,null,null,null,null,null,null,null,null,null,null,null,null,null,null,null,null,null,null,null,null,null,null,null,0,0,0,0,0,0,0,0,0,0,0,0,0,0,0,0,0,0,0,0,0,0,0,0,0,0,0,0,0,0,0,0,0,0,0,0,0,null,null,null,null,0,{"$f":"+INDEX($F9081:$FS9081,1,Sheet3!$C$1)","v":1},{"$f":"+IF(Sheet3!$C$1=1,IF(FW9081<3,0,1),1)","v":0}]
[3,4,"16F","11",1,25,78027.68976637398,46.279999999999994,0,0,56.28,2.66,0.26,11.63,0,8.9599999999999991,25.12,14.88,81.7,86.7,3.5700000000000003,16,50.190000000000005,0,0,0.24,0,0,0.01,0.01,11.629999999999999,0,0.22000000000000003,0.43000000000000005,8.39,25.120000000000005,0.22999999999999998,0,3,10,275,48,154,9,6248,1753,0,0,0,0,0,0,0,0,0,0,0,0,0,0,0,0,0,0,0,0,0,0,0,0,0,6248,1629.8,0,0,0,0,0,558.9,570.9,500,4495.32,1835.12,2660.2,0,123,0,0,0,0,0,0,0,0,0,0,0,0,0,0,0,0,0,0,0,0,0,0,0,0,0,0,0,0,0,0,9.2799999999999994,0,0,0,0,0,3.45,3.83,2,27.45,6.47,20.98,0,6.15,0,0,0,0,0,0,0,0,0,0,0,0,0,0,0,0,0,0,0,0,0,0,0,0,0,0,0,0,0,0,0,2,4,1,0,0,0,0,0,2,3,12,0,null,null,null,null,25,{"$f":"+INDEX($F9121:$FS9121,1,Sheet3!$C$1)","v":25},{"$f":"+IF(Sheet3!$C$1=1,IF(FW9121<3,0,1),1)","v":1}]
[3,4,"16J","11",1,84,224241.95597922718,284.46999999999986,53.37,4240.79,286.74999999999983,4.6100000000000003,14.65,109.81,4.59,22.919999999999995,132.32,74.930000000000007,128.10000000000002,220.09999999999997,100.03999999999999,141.36999999999995,281.94999999999987,24.890000000000004,0,10.870000000000001,3.19,0,0,0.59,109.80999999999997,4.59,0.15,2.3200000000000003,19.13,132.32,1.32,0,0,0,666,41,118,29,48580,7183,0,0,0,0,0,0,0,0,0,0,0,0,0,0,0,0,0,0,0,0,0,0,0,0,0,48580,6463.85,0,0,0,0,0,228.42,5485.43,750,41397.730000000003,40998.629999999997,0,399.1,718.8,0,0,0,0,0,0,0,0,0,0,0,0,0,0,0,0,0,0,0,0,0,0,0,0,0,0,0,0,0,0,57.76,0,0,0,0,0,1.41,53.35,3,147.05000000000001,143.97999999999999,0,3.07,18.7,0,0,0,0,0,0,0,0,0,0,0,0,0,0,0,0,0,0,0,0,0,0,0,0,0,0,0,0,0,0,0,3,28,1,0,0,0,0,0,10,65,0,2,null,null,null,null,84,{"$f":"+INDEX($F9218:$FS9218,1,Sheet3!$C$1)","v":84},{"$f":"+IF(Sheet3!$C$1=1,IF(FW9218<3,0,1),1)","v":1}]
[3,4,"186","13",2,10,67958.781995816695,507.82,0,0,507.82,0,41.49,88.14,0,21.960000000000004,356.23,0,0,0,38.410000000000004,45.309999999999995,488.12000000000006,0,0,10.42,0,0,11.99,0,107.22000000000001,0,0,0,19.32,356.22999999999996,0.18,0,0,0,0,0,0,0,20478,3811,0,0,0,0,0,0,0,0,0,0,0,0,0,0,0,0,0,0,0,0,0,0,0,0,0,20478,3585.66,0,470.4,0,0,0,3115.26,0,0,16666.79,916.08,0,15750.71,225.2,0,0,0,0,0,0,0,0,0,0,0,0,0,0,0,0,0,0,0,0,0,0,0,0,0,0,0,0,0,0,23.71,0,4.4800000000000004,0,0,0,19.23,0,0,360.74,3.13,0,357.61,5.63,0,0,0,0,0,0,0,0,0,0,0,0,0,0,0,0,0,0,0,0,0,0,0,0,0,0,0,1,0,0,0,6,0,0,0,0,0,0,0,1,1,0,10,null,null,null,null,10,{"$f":"+INDEX($F9331:$FS9331,1,Sheet3!$C$1)","v":10},{"$f":"+IF(Sheet3!$C$1=1,IF(FW9331<3,0,1),1)","v":1}]
[3,4,"186","3",1,1,52132.165051533877,14.93,11.77,1737.91,14.93,4.0999999999999996,4.0999999999999996,0,0,4.92,5.91,5.91,28.95,28.95,15.089999999999998,4.8600000000000003,15.089999999999998,0,0,0,0,0,0,4.0999999999999996,0,0,0.06,0,4.8600000000000003,5.91,0,0,0,0,182,11,0,0,0,0,0,null,null,null,null,null,null,null,null,null,null,null,null,null,null,null,null,null,null,null,null,null,null,null,null,0,null,null,null,null,null,null,null,null,null,null,null,null,null,null,null,null,null,null,null,null,null,null,null,null,null,null,null,null,null,null,null,null,null,null,null,null,null,null,null,null,null,null,null,null,null,null,null,null,null,null,null,null,null,null,null,null,null,null,null,null,null,null,null,null,0,0,0,0,0,0,0,0,0,0,0,0,0,0,0,0,0,0,0,0,0,0,0,0,0,0,0,0,0,0,0,0,0,0,0,0,0,null,null,null,null,0,{"$f":"+INDEX($F9332:$FS9332,1,Sheet3!$C$1)","v":1},{"$f":"+IF(Sheet3!$C$1=1,IF(FW9332<3,0,1),1)","v":0}]
[3,4,"186","3",2,1,11698.74071960376,9.92,0,0,9.92,0,0.98,0,0,8.94,0,0,0,0,9.92,9.92,9.92,0,0,0,0,0,0,0.98,0,0,0,0,8.94,0,0,0,0,0,0,0,0,0,2782,1735,0,0,0,0,0,0,0,0,0,0,0,0,0,0,0,0,0,0,0,0,0,0,0,0,0,2782,1338.12,0,0,0,0,0,1338.12,0,0,1047.4000000000001,0,0,1047.4000000000001,396.8,0,0,0,0,0,0,0,0,0,0,0,0,0,0,0,0,0,0,0,0,0,0,0,0,0,0,0,0,0,0,8.26,0,0,0,0,0,8.26,0,0,9.92,0,0,9.92,9.92,0,0,0,0,0,0,0,0,0,0,0,0,0,0,0,0,0,0,0,0,0,0,0,0,0,0,0,0,0,0,0,1,0,0,0,0,0,0,0,1,0,0,1,null,null,null,null,0,{"$f":"+INDEX($F9333:$FS9333,1,Sheet3!$C$1)","v":1},{"$f":"+IF(Sheet3!$C$1=1,IF(FW9333<3,0,1),1)","v":0}]
[3,4,"186","4",1,17,169883.04788685002,69.94,0,0,69.94,8.51,25.45,3.64,3.11,17.77,19.97,0,0.75,0.75,8.0500000000000007,23.030000000000005,69.58,0,0,10.290000000000001,0,0,3.75,11.409999999999998,3.6399999999999997,3.11,0.65,1.03,15.510000000000002,19.970000000000002,0.52,0,0,0,4,1,0,0,9767,2707,0,0,0,0,0,0,0,0,0,0,0,0,0,0,0,0,0,0,0,0,0,0,0,0,0,9767,2466.42,0,0,0,0,0,2204.8200000000002,261.60000000000002,0,7060.19,361.12,0,6699.07,240.4,0,0,0,0,0,0,0,0,0,0,0,0,0,0,0,0,0,0,0,0,0,0,0,0,0,0,0,0,0,0,15.79,0,0,0,0,0,13.61,2.1800000000000002,0,61.46,1.22,0,60.24,6.01,0,0,0,0,0,0,0,0,0,0,0,0,0,0,0,0,0,0,0,0,0,0,0,0,0,0,0,0,0,0,0,10,1,0,0,0,0,0,0,4,1,0,17,null,null,null,null,17,{"$f":"+INDEX($F9334:$FS9334,1,Sheet3!$C$1)","v":17},{"$f":"+IF(Sheet3!$C$1=1,IF(FW9334<3,0,1),1)","v":1}]
[3,4,"186","5",1,10,50112.657890341725,35.58,10,651.79999999999995,35.58,11.07,0,0.75,0,29.82,5.01,0,0,0,12.37,19.18,34.47,8.3500000000000014,0,0,0,0,0,0,0.75,0,0.71,22.810000000000002,4.37,5.01,0.37,0,0,0,0,0,0,0,5090,1554,0,0,0,0,0,0,0,0,0,0,0,0,0,0,0,0,0,0,0,0,0,0,0,0,0,5090,1206.06,0,0,0,0,0,383.94,822.12,0,3535.74,0,0,3535.74,348,0,0,0,0,0,0,0,0,0,0,0,0,0,0,0,0,0,0,0,0,0,0,0,0,0,0,0,0,0,0,7.45,0,0,0,0,0,2.37,5.08,0,29.36,0,0,29.36,8.6999999999999993,0,0,0,0,0,0,0,0,0,0,0,0,0,0,0,0,0,0,0,0,0,0,0,0,0,0,0,0,0,0,0,3,2,0,0,0,0,0,0,3,0,0,10,null,null,null,null,10,{"$f":"+INDEX($F9335:$FS9335,1,Sheet3!$C$1)","v":10},{"$f":"+IF(Sheet3!$C$1=1,IF(FW9335<3,0,1),1)","v":1}]
[3,4,"186","5",2,3,180856.08282891728,161.9,61.83,4030.07,161.9,42.87,15.39,9.6999999999999993,1.54,83.84,51.43,0,2.85,2.85,100.32999999999998,10.209999999999997,161.85999999999999,52.139999999999986,0,15.39,0,0,0,0,9.7000000000000011,1.54,0,78.37,2.06,51.43,0.16,0,0,0,14,1,3,1,6746,1301,0,0,0,0,0,0,0,0,0,0,0,0,0,0,0,0,0,0,0,0,0,0,0,0,0,6746,1300.69,0,1054.45,0,0,0,246.24,0,0,5445.6,0,0,5445.6,0,0,0,0,0,0,0,0,0,0,0,0,0,0,0,0,0,0,0,0,0,0,0,0,0,0,0,0,0,0,0,11.57,0,10.050000000000001,0,0,0,1.52,0,0,187.82,0,0,187.82,0,0,0,0,0,0,0,0,0,0,0,0,0,0,0,0,0,0,0,0,0,0,0,0,0,0,0,0,1,0,0,0,1,0,0,0,0,0,0,0,0,0,0,3,null,null,null,null,3,{"$f":"+INDEX($F9336:$FS9336,1,Sheet3!$C$1)","v":3},{"$f":"+IF(Sheet3!$C$1=1,IF(FW9336<3,0,1),1)","v":1}]
[3,4,"186","6",1,14,250545.52633995056,106,0,0,106,24.16,0.04,40.47,0,50.400000000000006,15.09,0,0.3,0.3,1.06,13.690000000000001,64.88,0,0,0,0,0,0,0.04,40.47,0,42.470000000000006,0.67,6.8199999999999994,15.09,0.35,0,0,0,0,0,2,0,7715,1632,0,0,0,0,0,0,0,0,0,0,0,0,0,0,0,0,0,0,0,0,0,0,0,0,0,7715,1389.36,0,0,0,0,0,542.70000000000005,846.66,0,6083.17,0,0,6083.17,242.8,0,0,0,0,0,0,0,0,0,0,0,0,0,0,0,0,0,0,0,0,0,0,0,0,0,0,0,0,0,0,9.65,0,0,0,0,0,3.35,6.3,0,56.73,0,0,56.73,6.07,0,0,0,0,0,0,0,0,0,0,0,0,0,0,0,0,0,0,0,0,0,0,0,0,0,0,0,0,0,0,0,6,2,0,0,0,0,0,0,3,0,0,14,null,null,null,null,14,{"$f":"+INDEX($F9337:$FS9337,1,Sheet3!$C$1)","v":14},{"$f":"+IF(Sheet3!$C$1=1,IF(FW9337<3,0,1),1)","v":1}]
[3,4,"186","6",2,5,113494.95356304105,125.25,0,0,125.25,0,0,3.87,0,72.92,48.46,0,0,0,33.71,38.239999999999995,125.25,0,0,0,0,0,0,0,3.87,0,66.209999999999994,1.92,4.78,48.46,0,0,0,0,0,0,0,0,9467,2872,0,0,0,0,0,0,0,0,0,0,0,0,0,0,0,0,0,0,0,0,0,0,0,0,0,9467,1497.6,0,0,0,0,0,0,1497.6,0,6594.24,0,0,6594.24,1374.8,0,0,0,0,0,0,0,0,0,0,0,0,0,0,0,0,0,0,0,0,0,0,0,0,0,0,0,0,0,0,10.57,0,0,0,0,0,0,10.57,0,109.63,0,0,109.63,34.369999999999997,0,0,0,0,0,0,0,0,0,0,0,0,0,0,0,0,0,0,0,0,0,0,0,0,0,0,0,0,0,0,0,0,1,0,0,0,0,0,0,3,0,0,5,null,null,null,null,5,{"$f":"+INDEX($F9338:$FS9338,1,Sheet3!$C$1)","v":5},{"$f":"+IF(Sheet3!$C$1=1,IF(FW9338<3,0,1),1)","v":1}]
[3,4,"186","7",1,155,576071.48296657403,830.7399999999999,514.82999999999993,43343.07,830.7399999999999,485.82,0,14.9,0.45,766.76999999999987,48.62,0,0,0,562.93000000000006,727.25999999999988,779.99999999999989,470.95000000000005,0,0,0,0,0,0,14.9,0.45,0.26,0.21,759.43,48.61999999999999,0.41000000000000003,0,0,0,0,0,0,0,74344,40084,0,0,0,0,0,0,0,0,0,0,0,0,0,0,0,0,0,0,0,0,0,0,0,0,0,74344,36715.019999999997,0,910.35,0,0,0,35109.449999999997,695.22,0,34260.06,0,0,34260.06,3369.2,0,0,0,0,0,0,0,0,0,0,0,0,0,0,0,0,0,0,0,0,0,0,0,0,0,0,0,0,0,0,230.41,0,8.67,0,0,0,217.42,4.32,0,273.56,0,0,273.56,84.23,0,0,0,0,0,0,0,0,0,0,0,0,0,0,0,0,0,0,0,0,0,0,0,0,0,0,0,4,0,0,0,130,2,0,0,0,0,0,0,44,0,0,125,null,null,null,null,155,{"$f":"+INDEX($F9339:$FS9339,1,Sheet3!$C$1)","v":155},{"$f":"+IF(Sheet3!$C$1=1,IF(FW9339<3,0,1),1)","v":1}]
[3,4,"186","7",2,27,150913.45111468399,318.51000000000005,14,934.92,318.51000000000005,79.06,0.04,10.92,0,270.64,36.909999999999997,0.26,3.3,3.3,133.09,189.57999999999998,298.84000000000009,13.479999999999997,0,0.04,0,0,0,0,10.92,0,1.1300000000000001,0,265.25,36.909999999999997,0.86,0,0,0,15,7,0,0,55901,32291,0,0,0,0,0,0,0,0,0,0,0,0,0,0,0,0,0,0,0,0,0,0,0,0,0,55901,30528.53,0,2879.27,0,0,0,27649.26,0,0,23610.09,0,0,23610.09,1762.8,0,0,0,0,0,0,0,0,0,0,0,0,0,0,0,0,0,0,0,0,0,0,0,0,0,0,0,0,0,0,203.5,0,27.99,0,0,0,175.51,0,0,279.77999999999997,0,0,279.77999999999997,44.07,0,0,0,0,0,0,0,0,0,0,0,0,0,0,0,0,0,0,0,0,0,0,0,0,0,0,0,3,0,0,0,25,0,0,0,0,0,0,0,6,0,0,27,null,null,null,null,27,{"$f":"+INDEX($F9340:$FS9340,1,Sheet3!$C$1)","v":27},{"$f":"+IF(Sheet3!$C$1=1,IF(FW9340<3,0,1),1)","v":1}]
[3,4,"186","8",1,97,183289.65404428376,381.69000000000011,41.71,2857.5600000000004,381.69000000000011,10.97,26.52,57.51,10.33,160.01000000000005,127.32,0.67,4.3499999999999996,4.3499999999999996,64.41,150.84000000000003,291.36,0,0,19.43,1.48,0,3.9099999999999997,1.6500000000000001,57.510000000000005,10.33,8.25,6.1300000000000008,119.2,127.31999999999996,25.920000000000009,0,0,0,23,6,0,0,43599,16876,0,0,0,0,0,0,0,0,0,0,0,0,0,0,0,0,0,0,0,0,0,0,0,0,0,43599,14661.18,0,0,0,0,0,14055.12,606.05999999999995,0,26723.42,0,0,26723.42,2214.4,0,0,0,0,0,0,0,0,0,0,0,0,0,0,0,0,0,0,0,0,0,0,0,0,0,0,0,0,0,0,90.61,0,0,0,0,0,86.83,3.78,0,229.38,4.4400000000000004,0,224.94,55.36,0,0,0,0,0,0,0,0,0,0,0,0,0,0,0,0,0,0,0,0,0,0,0,0,0,0,0,0,0,0,0,61,2,0,0,0,0,0,0,30,0,0,84,null,null,null,null,97,{"$f":"+INDEX($F9341:$FS9341,1,Sheet3!$C$1)","v":97},{"$f":"+IF(Sheet3!$C$1=1,IF(FW9341<3,0,1),1)","v":1}]
[3,4,"186","8",2,16,191594.0276909727,541.86,0,0,541.86,15.67,5.99,44.82,0,110.77000000000001,380.28,0,0,0,12.090000000000002,76.44,342.04999999999995,17.790000000000003,0,3.77,0,0,0.99,1.23,44.819999999999993,0,31.490000000000002,0.06,48.320000000000007,380.27999999999992,30.84,0,0,0,0,0,0,0,27262,9963,0,0,0,0,0,0,0,0,0,0,0,0,0,0,0,0,0,0,0,0,0,0,0,0,0,27262,8022.33,0,299.25,0,0,0,6979.5,743.58,0,17298.849999999999,263.44,0,17035.41,1940.4,0,0,0,0,0,0,0,0,0,0,0,0,0,0,0,0,0,0,0,0,0,0,0,0,0,0,0,0,0,0,50.55,0,2.85,0,0,0,43.11,4.59,0,260.92,0.89,0,260.02999999999997,48.51,0,0,0,0,0,0,0,0,0,0,0,0,0,0,0,0,0,0,0,0,0,0,0,0,0,0,0,1,0,0,0,10,1,0,0,0,0,0,0,6,1,0,16,null,null,null,null,16,{"$f":"+INDEX($F9342:$FS9342,1,Sheet3!$C$1)","v":16},{"$f":"+IF(Sheet3!$C$1=1,IF(FW9342<3,0,1),1)","v":1}]
[3,4,"186","8",3,1,18153.19902145529,118.62,0,0,118.62,0,0,0,0,5.07,113.55,0,0,0,0,1.03,89.53,0,0,0,0,0,0,0,0,0,1.03,0,1.38,113.55,2.66,0,0,0,0,0,0,0,5407,41,0,0,0,0,0,0,0,0,0,0,0,0,0,0,0,0,0,0,0,0,0,0,0,0,0,5407,0,0,0,0,0,0,0,0,0,5365.54,3051.44,0,2314.1,41.2,0,0,0,0,0,0,0,0,0,0,0,0,0,0,0,0,0,0,0,0,0,0,0,0,0,0,0,0,0,0,0,0,0,0,0,0,0,0,0,89.53,19.579999999999998,0,69.95,1.03,0,0,0,0,0,0,0,0,0,0,0,0,0,0,0,0,0,0,0,0,0,0,0,0,0,0,0,0,0,0,0,0,0,0,0,0,0,0,0,1,1,0,1,null,null,null,null,0,{"$f":"+INDEX($F9343:$FS9343,1,Sheet3!$C$1)","v":1},{"$f":"+IF(Sheet3!$C$1=1,IF(FW9343<3,0,1),1)","v":0}]
[3,4,"187","0",1,1,0,36.61,0,0,36.61,0,0,22.09,0,0.71,13.81,0,0,971.8,0,0,36.61,0,0,0,0,0,0,0,22.09,0,0,0,0.71,13.81,0,0,0,0,0,0,0,0,92,0,0,0,0,0,0,0,0,0,0,0,0,0,0,0,0,0,0,0,0,0,0,0,0,0,0,92,0,0,0,0,0,0,0,0,0,92.3,0,0,92.3,0,0,0,0,0,0,0,0,0,0,0,0,0,0,0,0,0,0,0,0,0,0,0,0,0,0,0,0,0,0,0,0,0,0,0,0,0,0,0,0,0.71,0,0,0.71,0,0,0,0,0,0,0,0,0,0,0,0,0,0,0,0,0,0,0,0,0,0,0,0,0,0,0,0,0,0,0,0,0,0,0,0,0,0,0,0,0,0,0,1,null,null,null,null,0,{"$f":"+INDEX($F9344:$FS9344,1,Sheet3!$C$1)","v":1},{"$f":"+IF(Sheet3!$C$1=1,IF(FW9344<3,0,1),1)","v":0}]
[3,4,"187","1_2",1,15,458664.41206860566,118.85000000000001,4.99,375.09,118.85000000000001,6.86,71.05,4.49,6.69,4.08,32.54,0,0,0,42.230000000000011,8.06,115.52000000000001,0,0,52.649999999999991,0,0,1.54,6.35,4.49,6.6899999999999995,0.01,0,4,32.54,10.58,0,0,0,0,0,0,0,8747,346,0,0,0,0,0,0,0,0,0,0,0,0,0,0,0,0,0,0,0,0,0,0,0,0,0,8747,95.58,0,0,0,0,0,95.58,0,0,8400.83,0,0,8400.83,250.8,0,0,0,0,0,0,0,0,0,0,0,0,0,0,0,0,0,0,0,0,0,0,0,0,0,0,0,0,0,0,0.59,0,0,0,0,0,0.59,0,0,83.79,0,0,83.79,5.7,0,0,0,0,0,0,0,0,0,0,0,0,0,0,0,0,0,0,0,0,0,0,0,0,0,0,0,0,0,0,0,1,0,0,0,0,0,0,0,3,0,0,13,null,null,null,null,15,{"$f":"+INDEX($F9345:$FS9345,1,Sheet3!$C$1)","v":15},{"$f":"+IF(Sheet3!$C$1=1,IF(FW9345<3,0,1),1)","v":1}]
[3,4,"187","10_1",1,1,6750.1443535951703,3.45,0,0,3.45,0,0,3.39,0,0.06,0,0,6.4,6.4,0,0,3.45,0,0,0,0,0,0,0,3.39,0,0,0,0,0,0.06,0,1,9,0,0,0,0,433,0,0,0,0,0,0,0,0,0,0,0,0,0,0,0,0,0,0,0,0,0,0,0,0,0,0,433,0,0,0,0,0,0,0,0,0,432.75,0,0,432.75,0,0,0,0,0,0,0,0,0,0,0,0,0,0,0,0,0,0,0,0,0,0,0,0,0,0,0,0,0,0,0,0,0,0,0,0,0,0,0,0,3.45,0,0,3.45,0,0,0,0,0,0,0,0,0,0,0,0,0,0,0,0,0,0,0,0,0,0,0,0,0,0,0,0,0,0,0,0,0,0,0,0,0,0,0,0,0,0,0,1,null,null,null,null,0,{"$f":"+INDEX($F9346:$FS9346,1,Sheet3!$C$1)","v":1},{"$f":"+IF(Sheet3!$C$1=1,IF(FW9346<3,0,1),1)","v":0}]
[3,4,"187","10_2",1,1,3581.7961226578168,7.76,0,0,7.76,0,0,6.63,0,0,1.1299999999999999,1.1299999999999999,4.5999999999999996,4.5999999999999996,7.76,0,7.76,0,0,0,0,0,0,0,6.63,0,0,0,0,1.1299999999999999,0,0,3,3,0,0,0,0,842,0,0,0,0,0,0,0,0,0,0,0,0,0,0,0,0,0,0,0,0,0,0,0,0,0,0,842,0,0,0,0,0,0,0,0,0,842.2,0,0,842.2,0,0,0,0,0,0,0,0,0,0,0,0,0,0,0,0,0,0,0,0,0,0,0,0,0,0,0,0,0,0,0,0,0,0,0,0,0,0,0,0,7.76,0,0,7.76,0,0,0,0,0,0,0,0,0,0,0,0,0,0,0,0,0,0,0,0,0,0,0,0,0,0,0,0,0,0,0,0,0,0,0,0,0,0,0,0,0,0,0,1,null,null,null,null,0,{"$f":"+INDEX($F9347:$FS9347,1,Sheet3!$C$1)","v":1},{"$f":"+IF(Sheet3!$C$1=1,IF(FW9347<3,0,1),1)","v":0}]
[3,4,"187","11",1,40,180809.54286897992,133.48999999999998,44.13,3372.9699999999993,133.48999999999998,0.16,1.47,66.86,0,12.729999999999999,52.43,48.149999999999991,299.79999999999995,309.79999999999995,60.1,10.659999999999998,127.53999999999998,0,0,0.52,0,0,0.95,0,66.860000000000014,0,0.16,0,12.459999999999997,52.429999999999993,0.11,0,3,2,1778,118,65,7,8164,1078,0,0,0,0,0,0,0,0,0,0,0,0,0,0,0,0,0,0,0,0,0,0,0,0,0,8164,1077.6600000000001,0,0,0,0,91.08,986.58,0,0,7086.6,0,0,7086.6,0,0,0,0,0,0,0,0,0,0,0,0,0,0,0,0,0,0,0,0,0,0,0,0,0,0,0,0,0,0,0,8.35,0,0,0,0,2.2599999999999998,6.09,0,0,61.5,0,0,61.5,0,0,0,0,0,0,0,0,0,0,0,0,0,0,0,0,0,0,0,0,0,0,0,0,0,0,0,0,0,0,0,1,6,0,0,0,0,0,0,0,0,0,0,19,null,null,null,null,40,{"$f":"+INDEX($F9348:$FS9348,1,Sheet3!$C$1)","v":40},{"$f":"+IF(Sheet3!$C$1=1,IF(FW9348<3,0,1),1)","v":1}]
[3,4,"187","11",2,2,32939.351533615198,55.6,0,0,55.6,0,0,10.51,0,2.2400000000000002,42.85,0,1.05,36.049999999999997,11.89,0,56.019999999999996,0,0,0,0,0,0,0,10.51,0,1.02,0,1.18,42.85,0.04,0,0,0,0,0,6,1,3428,480,0,0,0,0,0,0,0,0,0,0,0,0,0,0,0,0,0,0,0,0,0,0,0,0,0,3428,480,0,0,0,0,0,0,0,480,2947.81,0,0,2947.81,0,0,0,0,0,0,0,0,0,0,0,0,0,0,0,0,0,0,0,0,0,0,0,0,0,0,0,0,0,0,0,3,0,0,0,0,0,0,0,3,55.6,0,0,55.6,0,0,0,0,0,0,0,0,0,0,0,0,0,0,0,0,0,0,0,0,0,0,0,0,0,0,0,0,0,0,0,0,0,0,1,0,0,0,0,0,0,0,0,2,null,null,null,null,0,{"$f":"+INDEX($F9349:$FS9349,1,Sheet3!$C$1)","v":2},{"$f":"+IF(Sheet3!$C$1=1,IF(FW9349<3,0,1),1)","v":0}]
[3,4,"187","12",1,12,21926.915855897238,31.26,9.1999999999999993,599.64,31.26,0.51,3.6,7.41,1.1299999999999999,12.91,6.21,5.1499999999999995,18.450000000000003,18.450000000000003,13.439999999999998,15.179999999999998,30.02,0,0,3.44,0,0,0,0.16000000000000003,7.4099999999999993,1.1299999999999999,0.4,0.6,11.78,6.21,0.11,0,0,0,88,26,8,1,3825,1197,0,0,0,0,0,0,0,0,0,0,0,0,0,0,0,0,0,0,0,0,0,0,0,0,0,3825,978.48,0,0,0,0,0,978.48,0,0,2627.9,0,0,2627.9,218.39,0,0,0,0,0,0,0,0,0,0,0,0,0,0,0,0,0,0,0,0,0,0,0,0,0,0,0,0,0,0,6.04,0,0,0,0,0,6.04,0,0,20.92,0,0,20.92,5.46,0,0,0,0,0,0,0,0,0,0,0,0,0,0,0,0,0,0,0,0,0,0,0,0,0,0,0,0,0,0,0,5,0,0,0,0,0,0,0,2,0,0,8,null,null,null,null,12,{"$f":"+INDEX($F9350:$FS9350,1,Sheet3!$C$1)","v":12},{"$f":"+IF(Sheet3!$C$1=1,IF(FW9350<3,0,1),1)","v":1}]
[3,4,"187","13",1,35,182354.36002797558,774.56999999999982,72.23,4760.12,774.56999999999982,15.62,22.83,440.13,15.58,20.76,275.27,0,0,0,232.71000000000004,14.05,764.41999999999985,0,0,1.33,0,0,21.36,0.14000000000000001,440.13000000000005,15.58,0.09,0,20.6,275.27,0,0,0,0,0,0,0,0,10655,1781,0,0,0,0,0,0,0,0,0,0,0,0,0,0,0,0,0,0,0,0,0,0,0,0,0,10655,1731.78,0,0,0,0,0,1731.78,0,0,8874.3700000000008,0,0,8874.3700000000008,48.84,0,0,0,0,0,0,0,0,0,0,0,0,0,0,0,0,0,0,0,0,0,0,0,0,0,0,0,0,0,0,10.69,0,0,0,0,0,10.69,0,0,85.9,0,0,85.9,1.1100000000000001,0,0,0,0,0,0,0,0,0,0,0,0,0,0,0,0,0,0,0,0,0,0,0,0,0,0,0,0,0,0,0,10,0,0,0,0,0,0,0,1,0,0,21,null,null,null,null,35,{"$f":"+INDEX($F9351:$FS9351,1,Sheet3!$C$1)","v":35},{"$f":"+IF(Sheet3!$C$1=1,IF(FW9351<3,0,1),1)","v":1}]
[3,4,"187","13",2,5,76534.494518865016,708.93,0,0,708.93,0,5.9,73.19,3.09,26.81,599.94000000000005,0,0,0,593.42000000000007,22.67,478.02,0,0,5.9,0,0,0,0,73.19,3.09,3.9699999999999998,0,22.84,599.93999999999994,0,0,0,0,0,0,0,0,12855,3423,0,0,0,0,0,0,0,0,0,0,0,0,0,0,0,0,0,0,0,0,0,0,0,0,0,12855,3423.42,0,0,0,0,0,3423.42,0,0,9431.5,0,0,9431.5,0,0,0,0,0,0,0,0,0,0,0,0,0,0,0,0,0,0,0,0,0,0,0,0,0,0,0,0,0,0,0,22.67,0,0,0,0,0,22.67,0,0,264.42,0,0,264.42,0,0,0,0,0,0,0,0,0,0,0,0,0,0,0,0,0,0,0,0,0,0,0,0,0,0,0,0,0,0,0,0,4,0,0,0,0,0,0,0,0,0,0,5,null,null,null,null,5,{"$f":"+INDEX($F9352:$FS9352,1,Sheet3!$C$1)","v":5},{"$f":"+IF(Sheet3!$C$1=1,IF(FW9352<3,0,1),1)","v":1}]
[3,4,"187","3",1,1,4161.4678798301829,2.59,2.57,167.51,2.59,0.42,0.42,0.37,0,0.51,1.29,0,0,0,2.5900000000000003,0.51,2.5900000000000003,0,0,0,0,0,0,0.42,0.37,0,0,0,0.51,1.29,0,0,0,0,0,0,0,0,0,0,0,null,null,null,null,null,null,null,null,null,null,null,null,null,null,null,null,null,null,null,null,null,null,null,null,0,null,null,null,null,null,null,null,null,null,null,null,null,null,null,null,null,null,null,null,null,null,null,null,null,null,null,null,null,null,null,null,null,null,null,null,null,null,null,null,null,null,null,null,null,null,null,null,null,null,null,null,null,null,null,null,null,null,null,null,null,null,null,null,null,0,0,0,0,0,0,0,0,0,0,0,0,0,0,0,0,0,0,0,0,0,0,0,0,0,0,0,0,0,0,0,0,0,0,0,0,0,null,null,null,null,0,{"$f":"+INDEX($F9353:$FS9353,1,Sheet3!$C$1)","v":1},{"$f":"+IF(Sheet3!$C$1=1,IF(FW9353<3,0,1),1)","v":0}]
[3,4,"187","4",1,11,64032.253284019142,30.65,0,0,30.65,3.32,5.61,5.03,3.91,11.979999999999999,4.12,0,0.75,0.75,7.75,10.989999999999998,28.79,0,0,2.2000000000000002,0,0,0,3.41,5.0299999999999994,3.91,0.31,1.1200000000000001,10.53,4.1199999999999992,0,0,0,0,4,1,0,0,4869,1569,0,0,0,0,0,0,0,0,0,0,0,0,0,0,0,0,0,0,0,0,0,0,0,0,0,4869,1500.12,0,0,0,0,0,1500.12,0,0,3300.1,0,0,3300.1,69.2,0,0,0,0,0,0,0,0,0,0,0,0,0,0,0,0,0,0,0,0,0,0,0,0,0,0,0,0,0,0,9.26,0,0,0,0,0,9.26,0,0,30.72,0,0,30.72,1.73,0,0,0,0,0,0,0,0,0,0,0,0,0,0,0,0,0,0,0,0,0,0,0,0,0,0,0,0,0,0,0,6,0,0,0,0,0,0,0,1,0,0,9,null,null,null,null,11,{"$f":"+INDEX($F9354:$FS9354,1,Sheet3!$C$1)","v":11},{"$f":"+IF(Sheet3!$C$1=1,IF(FW9354<3,0,1),1)","v":1}]
[3,4,"187","5",1,55,591298.15275403741,302.81,2.7,176.98,302.81,89.43,0.41,11.31,0.56999999999999995,270.61999999999995,19.899999999999999,0,0,0,75.269999999999982,8.3800000000000008,282.74999999999994,27.150000000000006,0,0.14000000000000001,0,0,0,0.27,11.310000000000002,0.56999999999999995,0.95000000000000007,234.81000000000006,23.209999999999997,19.899999999999999,0.80000000000000016,0,0,0,0,0,0,0,25547,1013,0,0,0,0,0,0,0,0,0,0,0,0,0,0,0,0,0,0,0,0,0,0,0,0,0,25547,1012.5,0,0,0,0,0,1012.5,0,0,24534.54,0,0,24534.54,0,0,0,0,0,0,0,0,0,0,0,0,0,0,0,0,0,0,0,0,0,0,0,0,0,0,0,0,0,0,0,6.25,0,0,0,0,0,6.25,0,0,214.63,0,0,214.63,0,0,0,0,0,0,0,0,0,0,0,0,0,0,0,0,0,0,0,0,0,0,0,0,0,0,0,0,0,0,0,0,4,0,0,0,0,0,0,0,0,0,0,51,null,null,null,null,55,{"$f":"+INDEX($F9355:$FS9355,1,Sheet3!$C$1)","v":55},{"$f":"+IF(Sheet3!$C$1=1,IF(FW9355<3,0,1),1)","v":1}]
[3,4,"187","5",2,7,584320.99942501017,391.35,0,0,391.35,88.48,0,32.19,0,271.36,87.8,0,0,0,93.42,1.62,364.21,0,0,0,0,0,0,0,32.19,0,0.25,244.93,12.899999999999999,87.800000000000011,0.2,0,0,0,0,0,0,0,12514,262,0,0,0,0,0,0,0,0,0,0,0,0,0,0,0,0,0,0,0,0,0,0,0,0,0,12514,262.44,0,0,0,0,0,262.44,0,0,12251.39,0,0,12251.39,0,0,0,0,0,0,0,0,0,0,0,0,0,0,0,0,0,0,0,0,0,0,0,0,0,0,0,0,0,0,0,1.62,0,0,0,0,0,1.62,0,0,286.27,0,0,286.27,0,0,0,0,0,0,0,0,0,0,0,0,0,0,0,0,0,0,0,0,0,0,0,0,0,0,0,0,0,0,0,0,1,0,0,0,0,0,0,0,0,0,0,7,null,null,null,null,7,{"$f":"+INDEX($F9356:$FS9356,1,Sheet3!$C$1)","v":7},{"$f":"+IF(Sheet3!$C$1=1,IF(FW9356<3,0,1),1)","v":1}]
[3,4,"187","6",1,10,197338.65288025446,188.83,20.51,1336.84,188.83,10.64,1.55,4.71,0.74,44.080000000000005,137.75,0,0,0,155.72,4.41,188.23,0,0,1.42,0,0,0,0.13,4.71,0.74,38.410000000000004,0,4.6099999999999994,137.75,0.72,0,0,0,0,0,0,0,3843,714,0,0,0,0,0,0,0,0,0,0,0,0,0,0,0,0,0,0,0,0,0,0,0,0,0,3843,714.42,0,0,0,0,0,714.42,0,0,3128.65,0,0,3128.65,0,0,0,0,0,0,0,0,0,0,0,0,0,0,0,0,0,0,0,0,0,0,0,0,0,0,0,0,0,0,0,4.41,0,0,0,0,0,4.41,0,0,26.53,0,0,26.53,0,0,0,0,0,0,0,0,0,0,0,0,0,0,0,0,0,0,0,0,0,0,0,0,0,0,0,0,0,0,0,0,5,0,0,0,0,0,0,0,0,0,0,9,null,null,null,null,10,{"$f":"+INDEX($F9357:$FS9357,1,Sheet3!$C$1)","v":10},{"$f":"+IF(Sheet3!$C$1=1,IF(FW9357<3,0,1),1)","v":1}]
[3,4,"187","6",2,2,27280.107818626697,36.78,0,0,36.78,0,0,1.1599999999999999,0.14000000000000001,33.71,1.77,0,0,0,0,16.38,35.710000000000008,0,0,0,0,0,0,0,1.1599999999999999,0.14000000000000001,16.260000000000002,0,17.45,1.77,0,0,0,0,0,0,0,0,4865,2393,0,0,0,0,0,0,0,0,0,0,0,0,0,0,0,0,0,0,0,0,0,0,0,0,0,4865,2392.92,0,0,0,0,0,2392.92,0,0,2471.8000000000002,0,0,2471.8000000000002,0,0,0,0,0,0,0,0,0,0,0,0,0,0,0,0,0,0,0,0,0,0,0,0,0,0,0,0,0,0,0,16.38,0,0,0,0,0,16.38,0,0,33.4,0,0,33.4,0,0,0,0,0,0,0,0,0,0,0,0,0,0,0,0,0,0,0,0,0,0,0,0,0,0,0,0,0,0,0,0,2,0,0,0,0,0,0,0,0,0,0,2,null,null,null,null,0,{"$f":"+INDEX($F9358:$FS9358,1,Sheet3!$C$1)","v":2},{"$f":"+IF(Sheet3!$C$1=1,IF(FW9358<3,0,1),1)","v":0}]
[3,4,"187","7",1,142,175519.39974154567,420.97999999999996,104.97999999999999,6941.78,420.97999999999996,82.01,3.98,7.24,5.08,355.3,49.38,0.99,1.2,1.2,140.42999999999998,277.36,376.28,79.550000000000011,0,3.9800000000000004,0,0,0,0,7.240000000000002,5.0799999999999992,0.14000000000000001,0,354.79,49.379999999999981,0.22,0,0,0,5,3,0,0,61983,30125,0,0,0,0,0,0,0,0,0,0,0,0,0,0,0,0,0,0,0,0,0,0,0,0,0,61983,29715.87,0,408.45,0,0,0,29307.42,0,0,31858.639999999999,0,0,31858.639999999999,408.8,0,0,0,0,0,0,0,0,0,0,0,0,0,0,0,0,0,0,0,0,0,0,0,0,0,0,0,0,0,0,184.8,0,3.89,0,0,0,180.91,0,0,255.27,0,0,255.27,10.220000000000001,0,0,0,0,0,0,0,0,0,0,0,0,0,0,0,0,0,0,0,0,0,0,0,0,0,0,0,2,0,0,0,108,0,0,0,0,0,0,0,4,0,0,104,null,null,null,null,142,{"$f":"+INDEX($F9359:$FS9359,1,Sheet3!$C$1)","v":142},{"$f":"+IF(Sheet3!$C$1=1,IF(FW9359<3,0,1),1)","v":1}]
[3,4,"187","7",2,15,58593.540446997424,173.55,1,66.34,173.55,14.83,0,11.09,0,134.63,27.83,0,0,0,48.540000000000006,105.91,164.95999999999998,9.33,0,0,0,0,0,0,11.09,0,0.4,0.02,133.56,27.83,0,0,0,0,0,0,0,0,29594,17407,0,0,0,0,0,0,0,0,0,0,0,0,0,0,0,0,0,0,0,0,0,0,0,0,0,29594,17407.05,0,1695.75,0,0,0,15711.3,0,0,12186.69,0,0,12186.69,0,0,0,0,0,0,0,0,0,0,0,0,0,0,0,0,0,0,0,0,0,0,0,0,0,0,0,0,0,0,0,113.48,0,16.149999999999999,0,0,0,97.33,0,0,125.67,0,0,125.67,0,0,0,0,0,0,0,0,0,0,0,0,0,0,0,0,0,0,0,0,0,0,0,0,0,0,0,0,2,0,0,0,14,0,0,0,0,0,0,0,0,0,0,14,null,null,null,null,15,{"$f":"+INDEX($F9360:$FS9360,1,Sheet3!$C$1)","v":15},{"$f":"+IF(Sheet3!$C$1=1,IF(FW9360<3,0,1),1)","v":1}]
[3,4,"187","8",1,84,156043.19797974682,393.91999999999973,125.92,8486.5999999999985,393.91999999999973,9.4700000000000006,27.27,46.45,8.77,147.13999999999999,164.29,1.8900000000000001,2.4,2.4,179.33,119.48000000000003,362.17999999999989,1.38,0,22.6,0,0,3.1599999999999997,1.4800000000000002,46.45,8.77,6.25,8.84,121.34000000000005,164.29000000000002,10.290000000000001,0,0,0,12,4,0,0,35434,12532,0,0,0,0,0,0,0,0,0,0,0,0,0,0,0,0,0,0,0,0,0,0,0,0,0,35434,12060.78,0,98.7,0,0,0,11962.08,0,0,22902.240000000002,0,0,22902.240000000002,471.16,0,0,0,0,0,0,0,0,0,0,0,0,0,0,0,0,0,0,0,0,0,0,0,0,0,0,0,0,0,0,74.78,0,0.94,0,0,0,73.84,0,0,189.69,0,0,189.69,11.32,0,0,0,0,0,0,0,0,0,0,0,0,0,0,0,0,0,0,0,0,0,0,0,0,0,0,0,1,0,0,0,51,0,0,0,0,0,0,0,6,0,0,72,null,null,null,null,84,{"$f":"+INDEX($F9361:$FS9361,1,Sheet3!$C$1)","v":84},{"$f":"+IF(Sheet3!$C$1=1,IF(FW9361<3,0,1),1)","v":1}]
[3,4,"187","8",2,9,42146.79618284334,139.43,14.35,1111.98,139.43,0.33,5.31,7.84,0,68.599999999999994,57.68,0,0,0,33.309999999999995,50.699999999999996,130.91,0,0,5.16,0,0,0,0.15,7.84,0,1.7399999999999998,2.85,63.359999999999992,57.68,0.65,0,0,0,0,0,0,0,16575,7467,0,0,0,0,0,0,0,0,0,0,0,0,0,0,0,0,0,0,0,0,0,0,0,0,0,16575,7466.76,0,0,0,0,0,7466.76,0,0,9107.98,0,0,9107.98,0,0,0,0,0,0,0,0,0,0,0,0,0,0,0,0,0,0,0,0,0,0,0,0,0,0,0,0,0,0,0,50.7,0,0,0,0,0,50.7,0,0,116.57,0,0,116.57,0,0,0,0,0,0,0,0,0,0,0,0,0,0,0,0,0,0,0,0,0,0,0,0,0,0,0,0,0,0,0,0,8,0,0,0,0,0,0,0,0,0,0,9,null,null,null,null,9,{"$f":"+INDEX($F9362:$FS9362,1,Sheet3!$C$1)","v":9},{"$f":"+IF(Sheet3!$C$1=1,IF(FW9362<3,0,1),1)","v":1}]

{"sheet":"Ajuda","index":9,"n_rows":297,"n_cols":16,"rows_kept":297,"cut":false,"hidden":true,"merged":[[282,2,289,2],[291,2,295,2],[272,5,272,6],[201,2,201,3],[202,2,202,3],[203,2,203,3],[274,2,281,2],[201,4,201,6],[203,4,203,6],[202,4,202,6],[208,2,215,2],[216,2,223,2],[225,2,229,2],[200,2,200,3],[197,2,197,3],[199,2,199,3],[197,4,197,6],[198,4,198,6],[199,4,199,6],[23,2,23,5],[271,5,271,6],[271,2,272,4],[262,2,262,3],[262,4,262,5],[263,2,263,3],[263,4,263,5],[267,2,267,3],[267,4,267,5],[265,2,265,3],[265,4,265,5],[266,2,266,3],[266,4,266,5],[264,2,264,3],[264,4,264,5],[200,4,200,6]]}
[]
[null,null,null,null,null,null,null,null,null,null,null,null,null,null,null,"Fonte:"]
[]
[]
[null,"Classes de Dimensão"]
[null,"Variáveis disponíveis"]
[null,"Grandes Orientações Produtivas"]
[null,"Mapa das NUTS"]
[null,"Alguns conceitos"]
[null,"Estrutura da Base de Dados"]
[]
[null,"Intervalos considerados nas três classificações associadas à Dimensão "]
[]
[null,null,null,null,"Dimensão económica","Dimensão física","Dimensão - Valor global de \nPagamentos aos Produtores (2 pilares) recebidos"]
[null,null,"Classes","Descritivo","Classe de DE","Classe de Superfície Agrícola (elegível)","Classe de PP"]
[null,null,"MP","Muito Pequenas","< 4 000 € de VPP","< 4 ha","<  1250 €"]
[null,null,"P","Pequenas",">= 4 000 e < 25 000 € de VPP",">= 4  e < 25 ha",">= 1 250 e < 5 000 €"]
[null,null,"M","Médias",">= 25 000 e < 100 000 € de VPP",">= 25  e < 200 ha",">= 5 000 e < 50 000 €"]
[null,null,"G","Grandes",">= 100 000 e < 500 000 € de VPP","= 200  e < 1 000 ha",">= 50 000 e < 300 000 €"]
[null,null,"MG","Muito Grandes",">= 500 000  € de VPP",">= 1 000 ha",">= 300 000 €"]
[]
[null,"Variáveis disponíveis"]
[]
[null,null,"Listagem de variáveis ordenada por tipos afins",null,null,null,"Unidade"]
[null,null,{"$f":"+Sheet6!D2","v":"(1) - Nº de Beneficiários"},null,null,null,{"$f":"+Sheet6!G2","v":"Nº "}]
[null,null,{"$f":"+Sheet6!D3","v":"(2) - Valor de Produção Padrão"},null,null,null,{"$f":"+Sheet6!G3","v":"1000 €"}]
[null,null,{"$f":"+Sheet6!D4","v":"(3) - Superfície Elegível (inclui Superfície Agrícola e Agro-Florestal Elegível)"},null,null,null,{"$f":"+Sheet6!G4","v":"ha"}]
[null,null,{"$f":"+Sheet6!D5","v":"(4) - Nº de Direitos de RPB"},null,null,null,{"$f":"+Sheet6!G5","v":"Nº "}]
[null,null,{"$f":"+Sheet6!D6","v":"(5) - Montante Global dos Direitos de RPB"},null,null,null,{"$f":"+Sheet6!G6","v":"1000 €"}]
[null,null,{"$f":"+Sheet6!D7","v":"(6) - Superfície Agrícola (inc. Pastagens arbustivas)"},null,null,null,{"$f":"+Sheet6!G7","v":"ha"}]
[null,null,{"$f":"+Sheet6!D8","v":"(7) - Superfície Agrícola de Regadio"},null,null,null,{"$f":"+Sheet6!G8","v":"ha"}]
[null,null,{"$f":"+Sheet6!D9","v":"(8) - Culturas Temporárias"},null,null,null,{"$f":"+Sheet6!G9","v":"ha"}]
[null,null,{"$f":"+Sheet6!#REF!","v":{"$error":"#REF!"}},null,null,null,{"$f":"+Sheet6!#REF!","v":{"$error":"#REF!"}}]
[null,null,{"$f":"+Sheet6!#REF!","v":{"$error":"#REF!"}},null,null,null,{"$f":"+Sheet6!#REF!","v":{"$error":"#REF!"}}]
[null,null,{"$f":"+Sheet6!D10","v":"(9) - Superfície Forrageira Temporária"},null,null,null,{"$f":"+Sheet6!G10","v":"ha"}]
[null,null,{"$f":"+Sheet6!D11","v":"(10) - Superfície de Pousio"},null,null,null,{"$f":"+Sheet6!G11","v":"ha"}]
[null,null,{"$f":"+Sheet6!D12","v":"(11) - Culturas Permanentes"},null,null,null,{"$f":"+Sheet6!G12","v":"ha"}]
[null,null,{"$f":"+Sheet6!D13","v":"(12) - Superfície de Pastagens Permanentes"},null,null,null,{"$f":"+Sheet6!G13","v":"ha"}]
[null,null,{"$f":"+Sheet6!D14","v":"(13) - Superfície de Pastagens com encabeçamento inferior a 0,2CN/ha de PP"},null,null,null,{"$f":"+Sheet6!G14","v":"ha"}]
[null,null,{"$f":"+Sheet6!D15","v":"(14) - Nº de Cabeças Normais (Cn) de Herbívoros"},null,null,null,{"$f":"+Sheet6!G15","v":"CN"}]
[null,null,{"$f":"+Sheet6!D16","v":"(15) - Nº de Cabeças Normais (Cn) Totais"},null,null,null,{"$f":"+Sheet6!G16","v":"CN"}]
[null,null,{"$f":"+Sheet6!D17","v":"(16) - Superfície Agrícola Declarada para Activar Direitos de RPB"},null,null,null,{"$f":"+Sheet6!G17","v":"ha"}]
[null,null,{"$f":"+Sheet6!D18","v":"(17) - Superfície Agrícola Declarada para Medidas Agroambientais"},null,null,null,{"$f":"+Sheet6!G18","v":"ha"}]
[null,null,{"$f":"+Sheet6!D19","v":"(18) - Superfície Agrícola Declarada para MZDs"},null,null,null,{"$f":"+Sheet6!G19","v":"ha"}]
[null,null,{"$f":"+Sheet6!D20","v":"(19) - Superfície Agrícola Declarada para Ecoregimess"},null,null,null,{"$f":"+Sheet6!G20","v":"ha"}]
[null,null,{"$f":"+Sheet6!D21","v":"(20) - Superfície Agrícola Declarada para Pagamentos Associados"},null,null,null,{"$f":"+Sheet6!G21","v":"ha"}]
[null,null,{"$f":"+Sheet6!D22","v":"(21) - Superfície de Cereais De Outono-Inverno"},null,null,null,{"$f":"+Sheet6!G22","v":"ha"}]
[null,null,{"$f":"+Sheet6!D23","v":"(22) - Superfície de Milho Grão; "},null,null,null,{"$f":"+Sheet6!G23","v":"ha"}]
[null,null,{"$f":"+Sheet6!D24","v":"(23) - Superfície de Arroz; "},null,null,null,{"$f":"+Sheet6!G24","v":"ha"}]
[null,null,{"$f":"+Sheet6!D25","v":"(24) - Superfície de Oleaginosas E Proteaginosas; "},null,null,null,{"$f":"+Sheet6!G25","v":"ha"}]
[null,null,{"$f":"+Sheet6!D26","v":"(25) - Superfície de Hortícolas, Batata, Plantas E Flores; "},null,null,null,{"$f":"+Sheet6!G26","v":"ha"}]
[null,null,{"$f":"+Sheet6!D27","v":"(26) - Superfície de Forragens E Prados Temporários; "},null,null,null,{"$f":"+Sheet6!G27","v":"ha"}]
[null,null,{"$f":"+Sheet6!D28","v":"(27) - Superfície de Pousios; "},null,null,null,{"$f":"+Sheet6!G28","v":"ha"}]
[null,null,{"$f":"+Sheet6!D29","v":"(28) - Superfície de Pomares; "},null,null,null,{"$f":"+Sheet6!G29","v":"ha"}]
[null,null,{"$f":"+Sheet6!D30","v":"(29) - Superfície de Vinha; "},null,null,null,{"$f":"+Sheet6!G30","v":"ha"}]
[null,null,{"$f":"+Sheet6!D31","v":"(30) - Superfície de Olival; "},null,null,null,{"$f":"+Sheet6!G31","v":"ha"}]
[null,null,{"$f":"+Sheet6!D32","v":"(31) - Superfície de Prados E Pastagens Permanentes; "},null,null,null,{"$f":"+Sheet6!G32","v":"ha"}]
[null,null,{"$f":"+Sheet6!D33","v":"(32) - Superfície de Outras Culturas;"},null,null,null,{"$f":"+Sheet6!G33","v":"ha"}]
[null,null,{"$f":"+Sheet6!D34","v":"(33) - Cabeças de Vacas Leiteiras"},null,null,null,{"$f":"+Sheet6!G34","v":"Cab."}]
[null,null,{"$f":"+Sheet6!D35","v":"(34) - Cabeças de Vacas Aleitantes"},null,null,null,{"$f":"+Sheet6!G35","v":"Cab."}]
[null,null,{"$f":"+Sheet6!D36","v":"(35) - Cabeças de Outros Bovinos"},null,null,null,{"$f":"+Sheet6!G36","v":"Cab."}]
[null,null,{"$f":"+Sheet6!D37","v":"(36) - Cabeças de Ovelhas"},null,null,null,{"$f":"+Sheet6!G37","v":"Cab."}]
[null,null,{"$f":"+Sheet6!D38","v":"(37) - Cabeças de Outros Ovinos"},null,null,null,{"$f":"+Sheet6!G38","v":"Cab."}]
[null,null,{"$f":"+Sheet6!D39","v":"(38) - Cabeças de Cabras"},null,null,null,{"$f":"+Sheet6!G39","v":"Cab."}]
[null,null,{"$f":"+Sheet6!D40","v":"(39) - Cabeças de Outros Caprinos"},null,null,null,{"$f":"+Sheet6!G40","v":"Cab."}]
[null,null,{"$f":"+Sheet6!D44","v":"(43) - Pagamentos  Rendimento e resiliência (44+45)"},null,null,null,{"$f":"+Sheet6!G44","v":"1000 €"}]
[null,null,{"$f":"+Sheet6!D45","v":"   (44) - Pagamentos  Apoio ao Rendimento Base "},null,null,null,{"$f":"+Sheet6!G45","v":"1000 €"}]
[null,null,{"$f":"+Sheet6!D46","v":"(45) - Pagamentos  Apoio Associado  (46+…+55)"},null,null,null,{"$f":"+Sheet6!G46","v":"1000 €"}]
[null,null,{"$f":"+Sheet6!D47","v":"   (46) - Pagamentos  Pagamento por vaca em aleitamento "},null,null,null,{"$f":"+Sheet6!G47","v":"1000 €"}]
[null,null,{"$f":"+Sheet6!D48","v":"   (47) - Pagamentos  Pagamento aos pequenos ruminantes "},null,null,null,{"$f":"+Sheet6!G48","v":"1000 €"}]
[null,null,{"$f":"+Sheet6!D49","v":"   (48) - Pagamentos  Pagamento ao leite de vaca "},null,null,null,{"$f":"+Sheet6!G49","v":"1000 €"}]
[null,null,{"$f":"+Sheet6!D50","v":"   (49) - Pagamentos  Pagamento ao arroz "},null,null,null,{"$f":"+Sheet6!G50","v":"1000 €"}]
[null,null,{"$f":"+Sheet6!D51","v":"   (50) - Pagamentos  Pagamento ao tomate para indústria "},null,null,null,{"$f":"+Sheet6!G51","v":"1000 €"}]
[null,null,{"$f":"+Sheet6!D52","v":"   (51) - Pagamentos  Pagamento às proteaginosas "},null,null,null,{"$f":"+Sheet6!G52","v":"1000 €"}]
[null,null,{"$f":"+Sheet6!D53","v":"   (52) - Pagamentos  Pagamento aos cereais praganosos "},null,null,null,{"$f":"+Sheet6!G53","v":"1000 €"}]
[null,null,{"$f":"+Sheet6!D54","v":"   (53) - Pagamentos  Pagamento ao milho grão "},null,null,null,{"$f":"+Sheet6!G54","v":"1000 €"}]
[null,null,{"$f":"+Sheet6!D55","v":"   (54) - Pagamentos  Pagamento ao milho silagem "},null,null,null,{"$f":"+Sheet6!G55","v":"1000 €"}]
[null,null,{"$f":"+Sheet6!D56","v":"   (55) - Pagamentos  Pagamento à multiplicação de sementes certificadas "},null,null,null,{"$f":"+Sheet6!G56","v":"1000 €"}]
[null,null,{"$f":"+Sheet6!D57","v":"(56) - Pagamentos  Equidade (57+58)"},null,null,null,{"$f":"+Sheet6!G57","v":"1000 €"}]
[null,null,{"$f":"+Sheet6!D58","v":"   (57) - Pagamentos  Pagamento aos Pequenos Agricultores "},null,null,null,{"$f":"+Sheet6!G58","v":"1000 €"}]
[null,null,{"$f":"+Sheet6!D59","v":"   (58) - Pagamentos  Apoio Redistributivo Complementar "},null,null,null,{"$f":"+Sheet6!G59","v":"1000 €"}]
[null,null,{"$f":"+Sheet6!D60","v":"(59) - Pagamentos  Sustentabilidade 1º Pilar (60+…+66)"},null,null,null,{"$f":"+Sheet6!G60","v":"1000 €"}]
[null,null,{"$f":"+Sheet6!D61","v":"   (60) - Pagamentos  Agricultura biológica "},null,null,null,{"$f":"+Sheet6!G61","v":"1000 €"}]
[null,null,{"$f":"+Sheet6!D62","v":"   (61) - Pagamentos  Produção integrada – Culturas agrícolas "},null,null,null,{"$f":"+Sheet6!G62","v":"1000 €"}]
[null,null,{"$f":"+Sheet6!D63","v":"   (62) - Pagamentos  Maneio da pastagem permanente "},null,null,null,{"$f":"+Sheet6!G63","v":"1000 €"}]
[null,null,{"$f":"+Sheet6!D64","v":"   (63) - Pagamentos  Promoção da fertilização orgânica "},null,null,null,{"$f":"+Sheet6!G64","v":"1000 €"}]
[null,null,{"$f":"+Sheet6!D65","v":"   (64) - Pagamentos  Melhorar a eficiência alimentar animal "},null,null,null,{"$f":"+Sheet6!G65","v":"1000 €"}]
[null,null,{"$f":"+Sheet6!D66","v":"   (65) - Pagamentos  Bem-estar animal e uso racional de antimicrobianos "},null,null,null,{"$f":"+Sheet6!G66","v":"1000 €"}]
[null,null,{"$f":"+Sheet6!D67","v":"   (66) - Pagamentos  Práticas promotoras da biodiversidade "},null,null,null,{"$f":"+Sheet6!G67","v":"1000 €"}]
[null,null,{"$f":"+Sheet6!D69","v":"(68) - Pagamentos  Compromissos Ambente e Clima 2º Pilar (69+…+76)"},null,null,null,{"$f":"+Sheet6!G69","v":"1000 €"}]
[null,null,{"$f":"+Sheet6!D70","v":"   (69) - Pagamentos  Conservação do solo –  Sementeira direta "},null,null,null,{"$f":"+Sheet6!G70","v":"1000 €"}]
[null,null,{"$f":"+Sheet6!D71","v":"   (70) - Pagamentos  Conservação do solo - Enrelvamento "},null,null,null,{"$f":"+Sheet6!G71","v":"1000 €"}]
[null,null,{"$f":"+Sheet6!D72","v":"   (71) - Pagamentos  Conservação do solo - Pastagens Biodiversas "},null,null,null,{"$f":"+Sheet6!G72","v":"1000 €"}]
[null,null,{"$f":"+Sheet6!D73","v":"   (72) - Pagamentos  Uso eficiente da água "},null,null,null,{"$f":"+Sheet6!G73","v":"1000 €"}]
[null,null,{"$f":"+Sheet6!D74","v":"   (73) - Pagamentos  Montados e lameiros "},null,null,null,{"$f":"+Sheet6!G74","v":"1000 €"}]
[null,null,{"$f":"+Sheet6!D75","v":"   (74) - Pagamentos  Culturas permanentes e paisagens tradicionais "},null,null,null,{"$f":"+Sheet6!G75","v":"1000 €"}]
[null,null,{"$f":"+Sheet6!D76","v":"   (75) - Pagamentos  Mosaico agroflorestal "},null,null,null,{"$f":"+Sheet6!G76","v":"1000 €"}]
[null,null,{"$f":"+Sheet6!D77","v":"   (76) - Pagamentos  Manutenção de raças autóctones "},null,null,null,{"$f":"+Sheet6!G77","v":"1000 €"}]
[null,null,{"$f":"+Sheet6!D78","v":"(77) - Pagamentos  Manutenção da atividade agrícola em zonas com condicionantes (78+79+80)"},null,null,null,{"$f":"+Sheet6!G78","v":"1000 €"}]
[null,null,{"$f":"+Sheet6!D79","v":"   (78) - Pagamentos  Manutenção da atividade agrícola em zonas montanha "},null,null,null,{"$f":"+Sheet6!G79","v":"1000 €"}]
[null,null,{"$f":"+Sheet6!D80","v":"   (79) - Pagamentos  Manutenção da atividade agrícola em zonas específicas "},null,null,null,{"$f":"+Sheet6!G80","v":"1000 €"}]
[null,null,{"$f":"+Sheet6!D81","v":"   (80) - Pagamentos  Manutenção da atividade agrícola em outras zonas "},null,null,null,{"$f":"+Sheet6!G81","v":"1000 €"}]
[null,null,{"$f":"+Sheet6!D82","v":"(81) - Pagamentos  Rede Natura "},null,null,null,{"$f":"+Sheet6!G82","v":"1000 €"}]
[null,null,{"$f":"+Sheet6!#REF!","v":{"$error":"#REF!"}},null,null,null,{"$f":"+Sheet6!#REF!","v":{"$error":"#REF!"}}]
[null,null,{"$f":"+Sheet6!D83","v":"(82) - Pagamentos  Abordagem Territorial (83+…+87)"},null,null,null,{"$f":"+Sheet6!G83","v":"1000 €"}]
[null,null,{"$f":"+Sheet6!D84","v":"   (83) - Pagamentos  Planos Zonais Agroambientais "},null,null,null,{"$f":"+Sheet6!G84","v":"1000 €"}]
[null,null,{"$f":"+Sheet6!D85","v":"   (84) - Pagamentos  Gestão do montado por resultados "},null,null,null,{"$f":"+Sheet6!G85","v":"1000 €"}]
[null,null,{"$f":"+Sheet6!D86","v":"   (85) - Pagamentos  Gestão integrada em zonas críticas "},null,null,null,{"$f":"+Sheet6!G86","v":"1000 €"}]
[null,null,{"$f":"+Sheet6!D87","v":"   (86) - Pagamentos  Proteção de espécies com estatuto – Superfície agrícola "},null,null,null,{"$f":"+Sheet6!G87","v":"1000 €"}]
[null,null,{"$f":"+Sheet6!D88","v":"   (87) - Pagamentos  Proteção de espécies com estatuto – Silvoambientais "},null,null,null,{"$f":"+Sheet6!G88","v":"1000 €"}]
[null,null,{"$f":"+Sheet6!D89","v":"(88) - Unidades Pagas em  Rendimento e resiliência"},null,null,null,{"$f":"+Sheet6!G89","v":"ha"}]
[null,null,{"$f":"+Sheet6!D90","v":"(89) - Unidades Pagas em  Apoio ao Rendimento Base"},null,null,null,{"$f":"+Sheet6!G90","v":"ha"}]
[null,null,{"$f":"+Sheet6!D91","v":"(90) - Unidades Pagas em  Apoio Associado "},null,null,null,{"$f":"+Sheet6!G91","v":"ha"}]
[null,null,{"$f":"+Sheet6!D92","v":"(91) - Unidades Pagas em  Pagamento por vaca em aleitamento"},null,null,null,{"$f":"+Sheet6!G92","v":"Cab."}]
[null,null,{"$f":"+Sheet6!D93","v":"(92) - Unidades Pagas em  Pagamento aos pequenos ruminantes"},null,null,null,{"$f":"+Sheet6!G93","v":"Cab."}]
[null,null,{"$f":"+Sheet6!D94","v":"(93) - Unidades Pagas em  Pagamento ao leite de vaca"},null,null,null,{"$f":"+Sheet6!G94","v":"Cab."}]
[null,null,{"$f":"+Sheet6!D95","v":"(94) - Unidades Pagas em  Pagamento ao arroz"},null,null,null,{"$f":"+Sheet6!G95","v":"ha"}]
[null,null,{"$f":"+Sheet6!D96","v":"(95) - Unidades Pagas em  Pagamento ao tomate para indústria"},null,null,null,{"$f":"+Sheet6!G96","v":"ha"}]
[null,null,{"$f":"+Sheet6!D97","v":"(96) - Unidades Pagas em  Pagamento às proteaginosas"},null,null,null,{"$f":"+Sheet6!G97","v":"ha"}]
[null,null,{"$f":"+Sheet6!D98","v":"(97) - Unidades Pagas em  Pagamento aos cereais praganosos"},null,null,null,{"$f":"+Sheet6!G98","v":"ha"}]
[null,null,{"$f":"+Sheet6!D99","v":"(98) - Unidades Pagas em  Pagamento ao milho grão"},null,null,null,{"$f":"+Sheet6!G99","v":"ha"}]
[null,null,{"$f":"+Sheet6!D100","v":"(99) - Unidades Pagas em  Pagamento ao milho silagem"},null,null,null,{"$f":"+Sheet6!G100","v":"ha"}]
[null,null,{"$f":"+Sheet6!D101","v":"(100) - Unidades Pagas em  Pagamento à multiplicação de sementes certificadas"},null,null,null,{"$f":"+Sheet6!G101","v":"ha"}]
[null,null,{"$f":"+Sheet6!D102","v":"(101) - Unidades Pagas em  Equidade"},null,null,null,{"$f":"+Sheet6!G102","v":"ha"}]
[null,null,{"$f":"+Sheet6!D103","v":"(102) - Unidades Pagas em  Pagamento aos Pequenos Agricultores"},null,null,null,{"$f":"+Sheet6!G103","v":"Benf"}]
[null,null,{"$f":"+Sheet6!D104","v":"(103) - Unidades Pagas em  Apoio Redistributivo Complementar"},null,null,null,{"$f":"+Sheet6!G104","v":"ha"}]
[null,null,{"$f":"+Sheet6!D105","v":"(104) - Unidades Pagas em  Sustentabilidade 1º Pilar"},null,null,null,{"$f":"+Sheet6!G105","v":0}]
[null,null,{"$f":"+Sheet6!D106","v":"(105) - Unidades Pagas em  Agricultura biológica"},null,null,null,{"$f":"+Sheet6!G106","v":"ha"}]
[null,null,{"$f":"+Sheet6!D107","v":"(106) - Unidades Pagas em  Produção integrada – Culturas agrícolas"},null,null,null,{"$f":"+Sheet6!G107","v":"ha"}]
[null,null,{"$f":"+Sheet6!D108","v":"(107) - Unidades Pagas em  Maneio da pastagem permanente"},null,null,null,{"$f":"+Sheet6!G108","v":"ha"}]
[null,null,{"$f":"+Sheet6!D109","v":"(108) - Unidades Pagas em  Promoção da fertilização orgânica"},null,null,null,{"$f":"+Sheet6!G109","v":"ha"}]
[null,null,{"$f":"+Sheet6!D110","v":"(109) - Unidades Pagas em  Melhorar a eficiência alimentar animal"},null,null,null,{"$f":"+Sheet6!G110","v":"Cab."}]
[null,null,{"$f":"+Sheet6!D111","v":"(110) - Unidades Pagas em  Bem-estar animal e uso racional de antimicrobianos"},null,null,null,{"$f":"+Sheet6!G111","v":"Cab."}]
[null,null,{"$f":"+Sheet6!D112","v":"(111) - Unidades Pagas em  Práticas promotoras da biodiversidade"},null,null,null,{"$f":"+Sheet6!G112","v":"ha"}]
[null,null,{"$f":"+Sheet6!D113","v":"(112) - Unidades Pagas em  Compromissos Ambente e Clima 2º Pilar"},null,null,null,{"$f":"+Sheet6!G113","v":"ha"}]
[null,null,{"$f":"+Sheet6!D114","v":"(113) - Unidades Pagas em  Conservação do solo –  Sementeira direta"},null,null,null,{"$f":"+Sheet6!G114","v":"ha"}]
[null,null,{"$f":"+Sheet6!D115","v":"(114) - Unidades Pagas em  Conservação do solo - Enrelvamento"},null,null,null,{"$f":"+Sheet6!G115","v":"ha"}]
[null,null,{"$f":"+Sheet6!D116","v":"(115) - Unidades Pagas em  Conservação do solo - Pastagens Biodiversas"},null,null,null,{"$f":"+Sheet6!G116","v":"ha"}]
[null,null,{"$f":"+Sheet6!D117","v":"(116) - Unidades Pagas em  Uso eficiente da água"},null,null,null,{"$f":"+Sheet6!G117","v":"ha"}]
[null,null,{"$f":"+Sheet6!D118","v":"(117) - Unidades Pagas em  Montados e lameiros"},null,null,null,{"$f":"+Sheet6!G118","v":"ha"}]
[null,null,{"$f":"+Sheet6!D119","v":"(118) - Unidades Pagas em  Culturas permanentes e paisagens tradicionais"},null,null,null,{"$f":"+Sheet6!G119","v":"ha"}]
[null,null,{"$f":"+Sheet6!D120","v":"(119) - Unidades Pagas em  Mosaico agroflorestal"},null,null,null,{"$f":"+Sheet6!G120","v":"ha"}]
[null,null,{"$f":"+Sheet6!D121","v":"(120) - Unidades Pagas em  Manutenção de raças autóctones"},null,null,null,{"$f":"+Sheet6!G121","v":"Cab."}]
[null,null,{"$f":"+Sheet6!D122","v":"(121) - Unidades Pagas em  Manutenção da atividade agrícola em zonas com condicionantes"},null,null,null,{"$f":"+Sheet6!G122","v":"ha"}]
[null,null,{"$f":"+Sheet6!D123","v":"(122) - Unidades Pagas em  Manutenção da atividade agrícola em zonas montanha"},null,null,null,{"$f":"+Sheet6!G123","v":"ha"}]
[null,null,{"$f":"+Sheet6!D124","v":"(123) - Unidades Pagas em  Manutenção da atividade agrícola em zonas específicas"},null,null,null,{"$f":"+Sheet6!G124","v":"ha"}]
[null,null,{"$f":"+Sheet6!D125","v":"(124) - Unidades Pagas em  Manutenção da atividade agrícola em outras zonas"},null,null,null,{"$f":"+Sheet6!G125","v":"ha"}]
[null,null,{"$f":"+Sheet6!D126","v":"(125) - Unidades Pagas em  Rede Natura"},null,null,null,{"$f":"+Sheet6!G126","v":"ha"}]
[null,null,{"$f":"+Sheet6!#REF!","v":{"$error":"#REF!"}},null,null,null,{"$f":"+Sheet6!#REF!","v":{"$error":"#REF!"}}]
[null,null,{"$f":"+Sheet6!D127","v":"(126) - Unidades Pagas em  Abordagem Territorial"},null,null,null,{"$f":"+Sheet6!G127","v":0}]
[null,null,{"$f":"+Sheet6!D128","v":"(127) - Unidades Pagas em  Planos Zonais Agroambientais"},null,null,null,{"$f":"+Sheet6!G128","v":"ha"}]
[null,null,{"$f":"+Sheet6!D129","v":"(128) - Unidades Pagas em  Gestão do montado por resultados"},null,null,null,{"$f":"+Sheet6!G129","v":"ha"}]
[null,null,{"$f":"+Sheet6!D130","v":"(129) - Unidades Pagas em  Gestão integrada em zonas críticas"},null,null,null,{"$f":"+Sheet6!G130","v":"ha"}]
[null,null,{"$f":"+Sheet6!D131","v":"(130) - Unidades Pagas em  Proteção de espécies com estatuto – Superfície agrícola"},null,null,null,{"$f":"+Sheet6!G131","v":"ha"}]
[null,null,{"$f":"+Sheet6!D132","v":"(131) - Unidades Pagas em  Proteção de espécies com estatuto – Silvoambientais"},null,null,null,{"$f":"+Sheet6!G132","v":"ha"}]
[null,null,{"$f":"+Sheet6!D133","v":"(132) - Nº de Beneficiários Apoio ao Rendimento Base"},null,null,null,{"$f":"+Sheet6!G133","v":"Nº "}]
[null,null,{"$f":"+Sheet6!D134","v":"(133) - Nº de Beneficiários Pagamento por vaca em aleitamento"},null,null,null,{"$f":"+Sheet6!G134","v":"Nº "}]
[null,null,{"$f":"+Sheet6!D135","v":"(134) - Nº de Beneficiários Pagamento aos pequenos ruminantes"},null,null,null,{"$f":"+Sheet6!G135","v":"Nº "}]
[null,null,{"$f":"+Sheet6!D136","v":"(135) - Nº de Beneficiários Pagamento ao leite de vaca"},null,null,null,{"$f":"+Sheet6!G136","v":"Nº "}]
[null,null,{"$f":"+Sheet6!D137","v":"(136) - Nº de Beneficiários Pagamento ao arroz"},null,null,null,{"$f":"+Sheet6!G137","v":"Nº "}]
[null,null,{"$f":"+Sheet6!D138","v":"(137) - Nº de Beneficiários Pagamento ao tomate para indústria"},null,null,null,{"$f":"+Sheet6!G138","v":"Nº "}]
[null,null,{"$f":"+Sheet6!D139","v":"(138) - Nº de Beneficiários Pagamento às proteaginosas"},null,null,null,{"$f":"+Sheet6!G139","v":"Nº "}]
[null,null,{"$f":"+Sheet6!D140","v":"(139) - Nº de Beneficiários Pagamento aos cereais praganosos"},null,null,null,{"$f":"+Sheet6!G140","v":"Nº "}]
[null,null,{"$f":"+Sheet6!D141","v":"(140) - Nº de Beneficiários Pagamento ao milho grão"},null,null,null,{"$f":"+Sheet6!G141","v":"Nº "}]
[null,null,{"$f":"+Sheet6!D142","v":"(141) - Nº de Beneficiários Pagamento ao milho silagem"},null,null,null,{"$f":"+Sheet6!G142","v":"Nº "}]
[null,null,{"$f":"+Sheet6!D143","v":"(142) - Nº de Beneficiários Pagamento à multiplicação de sementes certificadas"},null,null,null,{"$f":"+Sheet6!G143","v":"Nº "}]
[null,null,{"$f":"+Sheet6!D144","v":"(143) - Nº de Beneficiários Pagamento aos Pequenos Agricultores"},null,null,null,{"$f":"+Sheet6!G144","v":"Nº "}]
[null,null,{"$f":"+Sheet6!D145","v":"(144) - Nº de Beneficiários Apoio Redistributivo Complementar"},null,null,null,{"$f":"+Sheet6!G145","v":"Nº "}]
[null,null,{"$f":"+Sheet6!D146","v":"(145) - Nº de Beneficiários Agricultura biológica"},null,null,null,{"$f":"+Sheet6!G146","v":"Nº "}]
[null,null,{"$f":"+Sheet6!D147","v":"(146) - Nº de Beneficiários Produção integrada – Culturas agrícolas"},null,null,null,{"$f":"+Sheet6!G147","v":"Nº "}]
[null,null,{"$f":"+Sheet6!D148","v":"(147) - Nº de Beneficiários Maneio da pastagem permanente"},null,null,null,{"$f":"+Sheet6!G148","v":"Nº "}]
[null,null,{"$f":"+Sheet6!D149","v":"(148) - Nº de Beneficiários Promoção da fertilização orgânica"},null,null,null,{"$f":"+Sheet6!G149","v":"Nº "}]
[null,null,{"$f":"+Sheet6!D150","v":"(149) - Nº de Beneficiários Melhorar a eficiência alimentar animal"},null,null,null,{"$f":"+Sheet6!G150","v":"Nº "}]
[null,null,{"$f":"+Sheet6!D151","v":"(150) - Nº de Beneficiários Bem-estar animal e uso racional de antimicrobianos"},null,null,null,{"$f":"+Sheet6!G151","v":"Nº "}]
[null,null,{"$f":"+Sheet6!D152","v":"(151) - Nº de Beneficiários Práticas promotoras da biodiversidade"},null,null,null,{"$f":"+Sheet6!G152","v":"Nº "}]
[null,null,{"$f":"+Sheet6!D153","v":"(152) - Nº de Beneficiários Conservação do solo –  Sementeira direta"},null,null,null,{"$f":"+Sheet6!G153","v":"Nº "}]
[null,null,{"$f":"+Sheet6!D154","v":"(153) - Nº de Beneficiários Conservação do solo - Enrelvamento"},null,null,null,{"$f":"+Sheet6!G154","v":"Nº "}]
[null,null,{"$f":"+Sheet6!D155","v":"(154) - Nº de Beneficiários Conservação do solo - Pastagens Biodiversas"},null,null,null,{"$f":"+Sheet6!G155","v":"Nº "}]
[null,null,{"$f":"+Sheet6!D156","v":"(155) - Nº de Beneficiários Uso eficiente da água"},null,null,null,{"$f":"+Sheet6!G156","v":"Nº "}]
[null,null,{"$f":"+Sheet6!D157","v":"(156) - Nº de Beneficiários Montados e lameiros"},null,null,null,{"$f":"+Sheet6!G157","v":"Nº "}]
[null,null,{"$f":"+Sheet6!D158","v":"(157) - Nº de Beneficiários Culturas permanentes e paisagens tradicionais"},null,null,null,{"$f":"+Sheet6!G158","v":"Nº "}]
[null,null,{"$f":"+Sheet6!D159","v":"(158) - Nº de Beneficiários Mosaico agroflorestal"},null,null,null,{"$f":"+Sheet6!G159","v":"Nº "}]
[null,null,{"$f":"+Sheet6!D160","v":"(159) - Nº de Beneficiários Manutenção de raças autóctones"},null,null,null,{"$f":"+Sheet6!G160","v":"Nº "}]
[null,null,{"$f":"+Sheet6!D161","v":"(160) - Nº de Beneficiários Planos Zonais Agroambientais"},null,null,null,{"$f":"+Sheet6!G161","v":"Nº "}]
[null,null,{"$f":"+Sheet6!D162","v":"(161) - Nº de Beneficiários Gestão do montado por resultados"},null,null,null,{"$f":"+Sheet6!G162","v":"Nº "}]
[null,null,{"$f":"+Sheet6!D163","v":"(162) - Nº de Beneficiários Gestão integrada em zonas críticas"},null,null,null,{"$f":"+Sheet6!G163","v":"Nº "}]
[null,null,{"$f":"+Sheet6!D164","v":"(163) - Nº de Beneficiários Proteção de espécies com estatuto – Superfície agrícola"},null,null,null,{"$f":"+Sheet6!G164","v":"Nº "}]
[null,null,{"$f":"+Sheet6!D165","v":"(164) - Nº de Beneficiários Proteção de espécies com estatuto – Silvoambientais"},null,null,null,{"$f":"+Sheet6!G165","v":"Nº "}]
[null,null,{"$f":"+Sheet6!#REF!","v":{"$error":"#REF!"}},null,null,null,{"$f":"+Sheet6!#REF!","v":{"$error":"#REF!"}}]
[null,null,{"$f":"+Sheet6!D166","v":"(165) - Nº de Beneficiários Rede Natura"},null,null,null,{"$f":"+Sheet6!G166","v":"Nº "}]
[null,null,{"$f":"+Sheet6!D167","v":"(166) - Nº de Beneficiários Manutenção da atividade agrícola em zonas montanha"},null,null,null,{"$f":"+Sheet6!G167","v":"Nº "}]
[null,null,{"$f":"+Sheet6!D168","v":"(167) - Nº de Beneficiários Manutenção da atividade agrícola em zonas específicas"},null,null,null,{"$f":"+Sheet6!G168","v":"Nº "}]
[null,null,{"$f":"+Sheet6!D169","v":"(168) - Nº de Beneficiários Manutenção da atividade agrícola em outras zonas"},null,null,null,{"$f":"+Sheet6!G169","v":"Nº "}]
[]
[]
[null,"Grandes Orientações Produtivas"]
[]
[null,null,"GOP",null,"OTE incluídas"]
[null,null,"Grandes Culturas (Arvenses e Industriais)",null,"Arvenses e Outras Culturas predominantemente de Regadio; Arvenses e Outras Culturas predominantemente de Sequeiro; Arroz; Horticultura e Industriais; Tomate Indústria; Plantas tuberosas"]
[null,null,"Horticultura Intensiva",null,"Horticultura e Floricultura"]
[null,null,"Culturas Permanentes",null,"Vinhos; Fruticultura; Olival"]
[null,null,"Leite",null,"Bovinos Leite"]
[null,null,"Outros herbívoros",null,"Bovinos Carne predominantemente Intensivos; Bovinos Carne predominantemente Extensivos; Outros Ruminantes"]
[null,null,"Mistas",null,"Não classificadas; Policultura; Mistas; Pousio e Pastagem"]
[]
[null,"Mapa das NUTS"]
[]
[null,null,"NUTS II","Código NUTS III","NUTS III"]
[null,null,"Norte ",111,"Alto Minho"]
[null,null,null,112,"Cávado"]
[null,null,null,119,"Ave"]
[null,null,null,"11A","Área Metropolitana do Porto"]
[null,null,null,"11B","Alto Tâmega"]
[null,null,null,"11C","Tâmega e Sousa"]
[null,null,null,"11D","Douro"]
[null,null,null,"11E","Terras de Trás-os-Montes"]
[null,null,"Centro","16B","Oeste"]
[null,null,null,"16D","Região de Aveiro"]
[null,null,null,"16E","Região de Coimbra"]
[null,null,null,"16F","Região de Leiria"]
[null,null,null,"16G","Viseu Dão Lafões"]
[null,null,null,"16H","Beira Baixa"]
[null,null,null,"16I","Médio Tejo"]
[null,null,null,"16J","Beiras e Serra da Estrela"]
[null,null,"AML",170,"Área Metropolitana de Lisboa"]
[null,null,"Alentejo",181,"Alentejo Litoral"]
[null,null,null,184,"Baixo Alentejo"]
[null,null,null,185,"Lezíria do Tejo"]
[null,null,null,186,"Alto Alentejo"]
[null,null,null,187,"Alentejo Central"]
[null,null,"Algarve",150,"Algarve"]
[]
[]
[]
[]
[]
[]
[]
[]
[]
[]
[]
[]
[]
[]
[]
[]
[]
[]
[]
[]
[]
[]
[]
[]
[]
[]
[]
[]
[]
[]
[null,"Alguns conceitos"]
[null,null,"Conceito",null,"Descritivo",null,"Observações"]
[null,null,"VPP - Valores de Produção Padrão",null,"Valores médios de produção, para cada região agrária (7 DRA) e cada atividade (87 rubricas), determinados a partir de recolha de informação realizada pelas DRAPs e GPP de acordo com a regulamentação comunitária. ",null,"Reg. (CE) n.º 1242/2008"]
[null,null,"DE - Dimensão Económica ",null,"VPP total da exploração, expresso em euros, corresponde à soma dos valores obtidos para cada atividade, multiplicando os VPP pelo número de unidades existentes das atividades."]
[null,null,"OTE - Orientação Técnico-Económica",null,"Sistema de produção de uma exploração que se caracteriza pela contribuição relativa dos VPP das atividades para o VPP total da exploração "]
[null,null,"CN - Cabeça Normal",null,"Medida pecuária que relaciona os efetivos, convertidos em cabeças normais, em função das espécies e das idades, através de uma tabela de conversão em que um animal adulto da espécie bovina corresponde a 1 CN.",null,"INE - Conceitos"]
[null,null,"Localização da exploração agrícola",null,"Freguesia onde se situa a maior área declarada da exploração."]
[]
[null,"Estrutura da Base de Dados"]
[]
[null,null,"Em linha",null,null,"Em coluna"]
[null,null,null,null,null,"OTE por Classes de Dimensão    |    OTE    |    Classes de Dimensão"]
[null,null,"NUTS II","Código NUTS III","NUTS III","OTE","Dimensão"]
[null,null,"Norte ",111,"Alto Minho","Explorações não Classificadas","MP – muito pequenas"]
[null,null,null,112,"Cávado","Arvenses e Outras Cult pred. Regadio","P – pequenas"]
[null,null,null,119,"Ave","Arvenses e Outras Cult pred. Sequeiro","M – médias"]
[null,null,null,"11A","Área Metropolitana do Porto","Arroz","G – grandes"]
[null,null,null,"11B","Alto Tâmega","Horticultura e Industriais","MG – muito grandes"]
[null,null,null,"11C","Tâmega e Sousa","Horticultura e Floricultura"]
[null,null,null,"11D","Douro","Vinhos"]
[null,null,null,"11E","Terras de Trás-os-Montes","Fruticultura"]
[null,null,"Centro","16B","Oeste","Olival"]
[null,null,null,"16D","Região de Aveiro","Policultura"]
[null,null,null,"16E","Região de Coimbra","Bovinos Leite"]
[null,null,null,"16F","Região de Leiria","Bovinos Carne predomin. Intensivos"]
[null,null,null,"16G","Viseu Dão Lafões","Bovinos Carne predomin. Extensivos"]
[null,null,null,"16H","Beira Baixa","Outros Ruminantes"]
[null,null,null,"16I","Médio Tejo","Mistas"]
[null,null,null,"16J","Beiras e Serra da Estrela","Pousio e Pastagem"]
[null,null,"AML",170,"Área Metropolitana de Lisboa","Tomate Indústria"]
[null,null,"Alentejo",181,"Alentejo Litoral","Plantas tuberosas"]
[null,null,null,184,"Baixo Alentejo"]
[null,null,null,185,"Lezíria do Tejo"]
[null,null,null,186,"Alto Alentejo"]
[null,null,null,187,"Alentejo Central"]
[null,null,"Algarve",150,"Algarve"]

{"sheet":"EspecificacoesOTE","index":10,"n_rows":71,"n_cols":6,"rows_kept":71,"cut":false,"hidden":true,"merged":[[2,1,9,1],[22,1,29,1],[40,1,46,1],[0,0,0,3],[48,3,55,3],[10,1,19,1],[30,1,32,1],[33,1,38,1],[48,1,51,1],[52,1,55,1],[56,3,68,3],[69,3,70,3],[2,2,9,2],[10,2,14,2],[15,2,19,2],[22,2,29,2],[30,2,32,2],[2,3,9,3],[10,3,21,3],[22,3,29,3],[30,3,39,3],[40,3,46,3],[56,2,67,2],[56,1,67,1],[33,2,38,2],[40,2,46,2],[50,2,51,2],[52,2,55,2]]}
["Agregação de OTE - Orientação Técnico-económica"]
["Descritivo das OTE","Classes OTE","Grupos OTE","GOP - Grande Orientação Produtiva"]
["Explorações não classificadas","Não classificadas","Não Classificadas","Mistas",null,""]
["Expl. especializadas em suínos para criação"]
["Expl. especializadas em suínos de engorda"]
["Expl. combinando criação e engorda de suínos"]
["Expl. espec. de galinhas poedeiras"]
["Expl. espec. em aves de carne"]
["Expl. combinados de galinhas poedeiras e aves de carne"]
["Expl. com diversas combinações de granívoros"]
["Explorações especializadas em cerealiculrura (exceto arroz), plantas oleaginosas e plantas proteínicas","Arvenses e Outras Culturas Extensivas","Arvenses e Outras Cult pred. Regadio*","Grandes Culturas (Arvenses e Industriais)"]
["Explorações que combinam cereais, arroz, plantas oleaginosas e proteínicas"]
["Explorações de culturas de cereais e de plantas tuberosas combinadas"]
["Explorações especializadas em cultura de tabaco"]
["Explorações com combinação de diversas culturas arvenses"]
["Explorações especializadas em cerealiculrura (excepto arroz), plantas oleaginosas e plantas proteínicas",null,"Arvenses e Outras Cult pred. Sequeiro*"]
["Explorações que combinam cereais, arroz, plantas oleaginosas e proteínicas"]
["Explorações de culturas de cereais e de plantas tuberosas combinadas"]
["Explorações especializadas em cultura de tabaco"]
["Explorações com combinação de diversas culturas arvenses"]
["Explorações especializadas orizícolas","Arroz","Arroz"]
["Explorações especializadas em horticultura extensiva","Horticultura e Industriais","Horticultura e Indústria"]
["Expl. espec. em hortícola sob coberto","Horticultura e Floricultura","Horticultura e Floricultura","Horticultura Intensiva"]
["Expl. espec. em floricultura e plantas ornamentais sob coberto"]
["Expl. espec. em horticultura mistas sob coberto"]
["Expl. espec. em horticultura ao ar lvre"]
["Expl. espec. em floricultura e cultura de plantas ornamentais ao ar livre"]
["Expl. espec. em horticultura mistas ao ar livre"]
["Expl. com viveiros especializados"]
["Explorações com diversas culturas hortícolas"]
["Expl. espec. vinícolas produtoras de vinhos de qualidade","Vinhos","Vinhos","Culturas Permanentes"]
["Expl. espec. vinícolas produtoras de vinhos comuns"]
["Outras explorações vitivinícolas"]
["Expl. espec. na produção de uva de mesa","Fruticultura","Fruticultura"]
["Expl. espec.frutícolas (com excepção dos citrinos, frutos tropicais e frutos de casca rija)"]
["Expl. espec. em citrinos"]
["Expl. espec. na produção de frutos secos"]
["Expl. frutícolas especializadas em frutos tropicais"]
["Expl. esp. que combinam a produção de citrinos, frutos tropicais e frutos de casca rija"]
["Expl. olivícolas especializadas","Olival","Olival"]
["Expl. com diversas combinações de culturas permanentes","Policultura","Policultura","Mistas"]
["Expl. combinando horticultura e culturas permanentes"]
["Expl. combinando culturas arvenses e horticultura"]
["Expl. combinando culturas arvenses e vinhas"]
["Expl. combinando culturas arvenses e culturas permanentes"]
["Expl. de policultura orientadas para culturas arvenses"]
["Outras explorações de policultura"]
["Expl. bovinas especializadas - orientação leite","Bovinos Leite","Bovinos Leite","Leite"]
["Expl. bovinas especializadas - orientação criação e carne","Bovinos Carne","Bov. Carne semi-int*","Outros herbívoros"]
["Expl. bovinas - leite, criação e carne combinadas",null,"Bov. Carne Int*"]
["Expl. bovinas especializadas - orientação criação e carne",null,"Bov. Carne Extensivos*"]
["Expl. bovinas - leite, criação e carne combinadas"]
["Expl. com ovinos especializadas","Outros Ruminantes","Outros Ruminantes"]
["Expl. com ovinos e bovinos combinados"]
["Expl. com caprinos especializadas"]
["Expl. com diversos herbívoros"]
["Expl. de polipecuária orientadas para o leite","Mistas","Mistas","Mistas"]
["Expl. de polipecuária orientadas para os herbívoros não leiteiros"]
["Expl. de polipecuária: granívoros e bovinos leiteiros"]
["Expl. de polipecuária: granívoros e herbívoros não leiteiros"]
["Expl. mistas de culturas arvenses com bovinos leiteiros"]
["Expl. mistas de bovinos leiteiros com culturas arvenses"]
["Expl. mistas de culturas arvenses com herbívoros não leiteiros"]
["Expl. mistas de herbívoros não leiteiros com culturas arvenses"]
["Expl. mistas de culturas arvenses e granívoros"]
["Expl. mistas de culturas permanentes e herbívoros"]
["Expl. Apícolas"]
["Expl. com diversas culturas e criações mistas"]
["Explorações Especializadas em Pousio e Pastagem","Pousio e Pastagem","Pousio e Pastagem"]
["Explorações especializadas em Tomate Indústria","Tomate Indústria","Tomate Indústria","Grandes Culturas (Arvenses e Industriais)"]
["Explorações especializadas em cultura de plantas tuberosas","Plantas tuberosas","Plantas Tuberosas"]

{"sheet":"ClassesAnimais","index":11,"n_rows":23,"n_cols":3,"rows_kept":23,"cut":false,"hidden":true,"merged":[[2,5,9,5],[0,0,0,2]]}
["Tabela de conversão em CN - Cabeças Normais"]
["Classe de animais","Coeficiente CN","Herbívoros"]
["Vacas Leiteiras",1,1]
["Bovinos Fêmeas com mais de 2 Anos não leiteiras",1,1]
["Bovinos Fêmeas com menos de 6 meses",0.4,1]
["Bovinos Fêmeas de 6 Meses a 2 Anos",0.6,1]
["Bovinos Machos com mais de 2 Anos",1,1]
["Bovinos Machos com menos de 6 meses",0.4,1]
["Bovinos Machos de 6 Meses a 2 Anos",0.6,1]
["Caprinos Fêmeas com mais de 12 meses",0.15,1]
["Caprinos Femeas de 6 Meses a 12 Meses",0.15,1]
["Caprinos machos com mais de 12 meses",0.15,1]
["Colónias de Abelhas",0,0]
["Equídeos Fêmeas com mais de 6 meses",1,0]
["Equídeos Machos com mais de 6 meses",1,0]
["Galináceos",1.4E-2,0]
["Galinhas Poedeiras",1.4E-2,0]
["Outras Aves de Capoeira",0.03,0]
["Ovinos Fêmeas com mais de 12 Meses",0.15,1]
["Ovinos Femeas de 6 Meses a 12 Meses",0.15,1]
["Ovinos Machos com mais de 12 Meses",0.15,1]
["Porcas Reprodutoras (mais de 50 Kgs)",0.5,0]
["Outros Suínos (+3 meses)",0.3,0]